{"text_format":"1","workbook":"xlsx","n_sheets":17,"sheets":["Quocom Marketing Plan Writer","q&a","help","V","chancom","chancp","chancs","chanpp","chanps","costrank","costsum","strlook","strflag","taglook","tagflag","rawrtf","rtf"],"not_rendered":{"charts":0,"images":0,"macros":1,"external_links":0,"defined_names":0,"comments":0,"pivot_tables":0},"unopened":[],"bounds":{"document_bytes":16777216,"sheet_cells":100000,"rows_first":2000,"rows_last":500,"rows_between":2000,"halvings":0,"cell_chars":16384,"cell_head_chars":4096},"cells_cut":0,"cells_raw":0,"read":"whole","date_system":"1900"}

{"sheet":"Quocom Marketing Plan Writer","index":0,"n_rows":0,"n_cols":0,"rows_kept":0,"cut":false,"hidden":false,"merged":[]}

{"sheet":"q&a","index":1,"n_rows":100,"n_cols":20,"rows_kept":100,"cut":false,"hidden":true,"merged":[]}
["Screen","Form","LastScr","NextScr(Yes)","NextScr(No/Default)","Y/N","Hd","Qst","Ans1","Ans2","Ans3","Ans4","Ans5","Ans6","Ans7","Ans8","Ans9","Ans10","Ans11","Ans12"]
["Begin","FormBegin",null,{"$f":"E2","v":"FirmNam"},"FirmNam",false,"This tool asks a set of simple questions about a business and produces a marketing plan document.  The plan can be a useful starting point when developing a new marketing strategy, briefing agencies or writing a start-up's business plan.  The tool aims to integrate the 'best practice' from across different marketing disciplines.  It does not replicate Quocom's own proprietory integrated communications planning process.",{"$f":"\"If you have any questions, please contact Quocom at info@quocom.biz or via www.facebook.com/quocom.\" &CHAR(13) & CHAR(13)&\"Quocom Ltd provides this program for illustrative purposes only, without warranty either expressed or implied, including, but not limited to, the implied warranties of merchantability and/or fitness for a particular purpose.\"","v":"If you have any questions, please contact Quocom at info@quocom.biz or via www.facebook.com/quocom.\r\rQuocom Ltd provides this program for illustrative purposes only, without warranty either expressed or implied, including, but not limited to, the implied warranties of merchantability and/or fitness for a particular purpose."}]
["FirmNam","Form3","Begin",{"$f":"E3","v":"FirmAdd"},"FirmAdd",false,null,"Please enter the company's name"]
["FirmAdd","Form2","FirmNam","FirmProd","FirmProd",false,null,{"$f":"\"Please enter \"&$I$3&\"'s address.\"","v":"Please enter 's address."}]
["FirmProd","Form2","FirmAdd","BusObj","BusObj",false,null,{"$f":"\"What is \"&$I$3&\"'s main product or service?\"","v":"What is 's main product or service?"}]
["BusObj","Form2","FirmProd","MktObj","MktObj",false,null,{"$f":"\"What are \"&$I$3&\"'s business objectives?\"","v":"What are 's business objectives?"}]
["MktObj","Form2","BusObj","ProjSales","ProjSales",false,null,{"$f":"\"What are \"&$I$3&\"'s sales and marketing objectives?\"","v":"What are 's sales and marketing objectives?"}]
["ProjSales","Form3","MktObj","NewCusts","NewCusts",false,null,"If the sales target is achieved what will be the projected annual turnover (£s)?"]
["NewCusts","Form3",null,"MktCycle","MktCycle",false,null,{"$f":"\"How many new customers will \"&$I$3&\" need to acquire in order to achieve the sales target for the coming year?\"","v":"How many new customers will  need to acquire in order to achieve the sales target for the coming year?"}]
["MktCycle","Form3",null,"Region","Region",false,null,{"$f":"\"On average, over the coming year, on how many occasions will a \"&$I$3&\"'s customer or prospect make a purchase from either \"&$I$3&\" or one of its competitors?  If the average period is greater than a year put the decimal fraction, e.g. if it's every five years enter 0.2\"\"\"","v":"On average, over the coming year, on how many occasions will a 's customer or prospect make a purchase from either  or one of its competitors?  If the average period is greater than a year put the decimal fraction, e.g. if it's every five years enter 0.2\""}]
["Region","Form1",null,"RegSize","MktSize",false,{"$f":"\"Is \"&$I$3&\" a regional business, serving areas that cover less than 50% of the UK population?\"","v":"Is  a regional business, serving areas that cover less than 50% of the UK population?"},{"$f":"\"If \"&$I$3&\" serves one or more regions, that comprise less than 50% of the UK population, then please enter the regions in the box below and tick the \"\"Yes\"\" box.\"","v":"If  serves one or more regions, that comprise less than 50% of the UK population, then please enter the regions in the box below and tick the \"Yes\" box."}]
["RegSize","Form3",null,"MktSize","MktSize",false,null,{"$f":"\"What percentage of the UK population live in the areas \"&$I$3&\" serves? Please enter number without % sign, e.g. 15% as '15'\"","v":"What percentage of the UK population live in the areas  serves? Please enter number without % sign, e.g. 15% as '15'"}]
["MktSize","Form3",null,"MktShare","MktShare",false,null,{"$f":"\"How many individual customers and prospects does \"&$I$3&\" have in the UK (or within the regions serves)?\"","v":"How many individual customers and prospects does  have in the UK (or within the regions serves)?"}]
["MktShare","Form3",null,{"$f":"E14","v":"CompLst1"},"CompLst1",false,null,{"$f":"\"What is \"&$I$3&\"'s % market share in the UK (or within the regions serves)? Please enter number without % sign, e.g. 15% as '15'\"","v":"What is 's % market share in the UK (or within the regions serves)? Please enter number without % sign, e.g. 15% as '15'"}]
["CompLst1","Form5",null,"CompLst2",{"$f":"IF(OR(F16:F$23)=TRUE,D15,\"TargAud\")","v":"TargAud"},false,{"$f":"\"Who are \"&$I$3&\"'s main competitors?\"& CHAR(13) & CHAR(13) & CHAR(13) & CHAR(13) & CHAR(13) & \"To add a competitor, tick the \"\"Yes\"\" box and enter the details below.\"","v":"Who are 's main competitors?\r\r\r\r\rTo add a competitor, tick the \"Yes\" box and enter the details below."},"Put the competitor's name in the left-hand box and their % market share in right-hand box. Please enter number without % sign, e.g. 15% as '15'\""]
["CompLst2","Form5",null,"CompLst3",{"$f":"IF(OR(F17:F$23)=TRUE,D16,\"TargAud\")","v":"TargAud"},false,{"$f":"\"Who are \"&$I$3&\"'s main competitors?\"& CHAR(13) & CHAR(13) & CHAR(13) & CHAR(13) & CHAR(13) & \"To add a competitor, tick the \"\"Yes\"\" box and enter the details below.\"","v":"Who are 's main competitors?\r\r\r\r\rTo add a competitor, tick the \"Yes\" box and enter the details below."},"Put the competitor's name in the left-hand box and their % market share in right-hand box. Please enter number without % sign, e.g. 15% as '15'\""]
["CompLst3","Form5",null,"CompLst4",{"$f":"IF(OR(F18:F$23)=TRUE,D17,\"TargAud\")","v":"TargAud"},false,"Who are 's main competitors?\r\r\r\r\rTo add a competitor, tick the \"Yes\" box and enter the details below.","Put the competitor's name in the left-hand box and their % market share in right-hand box. Please enter number without % sign, e.g. 15% as '15'\""]
["CompLst4","Form5",null,"CompLst5",{"$f":"IF(OR(F19:F$23)=TRUE,D18,\"TargAud\")","v":"TargAud"},false,"Who are 's main competitors?\r\r\r\r\rTo add a competitor, tick the \"Yes\" box and enter the details below.","Put the competitor's name in the left-hand box and their % market share in right-hand box. Please enter number without % sign, e.g. 15% as '15'\""]
["CompLst5","Form5",null,"CompLst6",{"$f":"IF(OR(F20:F$23)=TRUE,D19,\"TargAud\")","v":"TargAud"},false,"Who are 's main competitors?\r\r\r\r\rTo add a competitor, tick the \"Yes\" box and enter the details below.","Put the competitor's name in the left-hand box and their % market share in right-hand box. Please enter number without % sign, e.g. 15% as '15'\""]
["CompLst6","Form5",null,"CompLst7",{"$f":"IF(OR(F21:F$23)=TRUE,D20,\"TargAud\")","v":"TargAud"},false,"Who are 's main competitors?\r\r\r\r\rTo add a competitor, tick the \"Yes\" box and enter the details below.","Put the competitor's name in the left-hand box and their % market share in right-hand box. Please enter number without % sign, e.g. 15% as '15'\""]
["CompLst7","Form5",null,"CompLst8",{"$f":"IF(OR(F22:F$23)=TRUE,D21,\"TargAud\")","v":"TargAud"},false,"Who are 's main competitors?\r\r\r\r\rTo add a competitor, tick the \"Yes\" box and enter the details below.","Put the competitor's name in the left-hand box and their % market share in right-hand box. Please enter number without % sign, e.g. 15% as '15'\""]
["CompLst8","Form5",null,"CompLst9",{"$f":"IF(OR(F23:F$23)=TRUE,D22,\"TargAud\")","v":"TargAud"},false,{"$f":"\"Who are \"&$I$3&\"'s main competitors?\"& CHAR(13) & CHAR(13) & CHAR(13) & CHAR(13) & CHAR(13) & \"To add a competitor, tick the \"\"Yes\"\" box and enter the details below.\"","v":"Who are 's main competitors?\r\r\r\r\rTo add a competitor, tick the \"Yes\" box and enter the details below."},"Put the competitor's name in the left-hand box and their % market share in right-hand box. Please enter number without % sign, e.g. 15% as '15'\""]
["CompLst9","Form5",null,"TargAud","TargAud",false,{"$f":"\"Who are \"&$I$3&\"'s main competitors?\"& CHAR(13) & CHAR(13) & CHAR(13) & CHAR(13) & \"To add a competitor, tick the \"\"Yes\"\" box and enter the details below.  This is the last screen for entering competitor information.\"","v":"Who are 's main competitors?\r\r\r\rTo add a competitor, tick the \"Yes\" box and enter the details below.  This is the last screen for entering competitor information."},"Put the competitor's name in the left-hand box and their % market share in right-hand box. Please enter number without % sign, e.g. 15% as '15'\""]
["TargAud","Form2",null,{"$f":"E24","v":"BusAud"},"BusAud",false,null,"Please describe the key target audience, in the box below."]
["BusAud","Form4",null,"Prop","YngAud",false,{"$f":"\"Are \"&$I$3&\"'s products and services primarily targeted at a trade or business audience?  If yes, please tick the \"\"Yes\"\" box.\"","v":"Are 's products and services primarily targeted at a trade or business audience?  If yes, please tick the \"Yes\" box."}]
["YngAud","Form4",null,"Prop","Prop",false,"Are most of the target market aged between 15 and 45 years?  If yes, please tick the \"Yes\" box."]
["Prop","Form2",null,"Subst","Subst",false,{"$f":"\"Is it possible to successfully summarise the key benefits of \"&$I$3&\"'s \"&$I$5&\" into a single minded selling prosposition?  If it is, tick the \"\"Yes\"\" box and then complete the sentence below.\"","v":"Is it possible to successfully summarise the key benefits of 's  into a single minded selling prosposition?  If it is, tick the \"Yes\" box and then complete the sentence below."},{"$f":"\"Thinking in terms of what ideally the target audience should believe when considering the purchase of  \"&$I$5&\" , complete the following sentence: \"\"If I needed \"&$I$5&\" I would choose \"&$I$3&\" because they…\"\"\"","v":"Thinking in terms of what ideally the target audience should believe when considering the purchase of   , complete the following sentence: \"If I needed  I would choose  because they…\""}]
["Subst","Form2",null,{"$f":"E28","v":"Inform"},"Inform",false,null,{"$f":"\"Below, please write the reasons justifying the claim that \"&$I$3&\"'s \"&$I$5&\" \"&$I$27&\"?\"","v":"Below, please write the reasons justifying the claim that 's  ?"}]
["Inform","Form4",null,"Retail","Retail",false,{"$f":"\"When someone is interested in buying \"&$I$5&\", is it usually a simple choice, or do they tend to require more in-depth information?  If further information is normally needed, please tick the \"\"Yes\"\" box.\"","v":"When someone is interested in buying , is it usually a simple choice, or do they tend to require more in-depth information?  If further information is normally needed, please tick the \"Yes\" box."}]
["Retail","Form4",null,"SalesF","SalesF",false,{"$f":"\"Are \"&$I$5&\" normally bought at a shop or trade outlet?  If yes, please tick the \"\"Yes\"\" box.\"","v":"Are  normally bought at a shop or trade outlet?  If yes, please tick the \"Yes\" box."}]
["SalesF","Form4",null,"SetAppt","SetAppt",false,{"$f":"\"Does (or will) \"&$I$3&\" employ/fund salespeople?  If yes, please tick the \"\"Yes\"\" box.\"","v":"Does (or will)  employ/fund salespeople?  If yes, please tick the \"Yes\" box."}]
["SetAppt","Form4",null,"CatLog","CatLog",false,"When making a sale, is it normally necessary for a prospective customer to meet face-to-face with a salesperson?  If yes, please tick the \"Yes\" box."," "]
["CatLog","Form4",null,"TelIn","TelIn",false,{"$f":"\"Does (or will) \"&$I$3&\" sell via its own ecommerce site?  If yes, please tick the \"\"Yes\"\" box.\"","v":"Does (or will)  sell via its own ecommerce site?  If yes, please tick the \"Yes\" box."}]
["TelIn","Form4",null,"ProspMail","ProspMail",false,{"$f":"\"Does (or will) \"&$I$3&\" take orders over the telephone?  If yes, please tick the \"\"Yes\"\" box.\"","v":"Does (or will)  take orders over the telephone?  If yes, please tick the \"Yes\" box."}]
["ProspMail","Form4",null,"ProspTel","ProspTel",false,"Is it possible to obtain mailing lists targeted at prospects?  If yes, please tick the \"Yes\" box."]
["ProspTel","Form4",null,"ProspEmail","ProspEmail",false,"Is it possible to obtain lists with the telephone numbers of prospects?  If yes, please tick the \"Yes\" box."]
["ProspEmail","Form4",null,"CustMail","CustMail",false,"Is it possible to obtain lists of the email addresses of a significant number of prospects?  If yes, please tick the \"Yes\" box."]
["CustMail","Form4",null,"CustTel","CustTel",false,{"$f":"\"Does \"&$I$3&\" have the names and addresses of most of its customers?  If yes, please tick the \"\"Yes\"\" box.\"","v":"Does  have the names and addresses of most of its customers?  If yes, please tick the \"Yes\" box."}]
["CustTel","Form4",null,"CustEmail","CustEmail",false,{"$f":"\"Does \"&$I$3&\" have the telephone numbers of most customers?  If yes, please tick the \"\"Yes\"\" box.\"","v":"Does  have the telephone numbers of most customers?  If yes, please tick the \"Yes\" box."}]
["CustEmail","Form4",null,"CurrSales","CurrSales",false,{"$f":"\"Does \"&$I$3&\" have the email addresses of most customers?  If yes, please tick the \"\"Yes\"\" box.\"","v":"Does  have the email addresses of most customers?  If yes, please tick the \"Yes\" box."}]
["CurrSales","Form3",null,"CurrCusts","CurrCusts",false,null,{"$f":"\"What was the \"&$I$3&\" turnover over the past year (in £s)?  If there was none put 0 (zero)\"","v":"What was the  turnover over the past year (in £s)?  If there was none put 0 (zero)"}]
["CurrCusts","Form3",null,"CustCycle","CustCycle",false,null,{"$f":"\"How many individual customers did \"&$I$3&\" have last year?  If there were none put 0 (zero)\"","v":"How many individual customers did  have last year?  If there were none put 0 (zero)"}]
["CustCycle","Form3",null,"CPLst1","CPLst1",false,null,{"$f":"\"On average, over the course of a year, on how many separate occasions will a customer make a purchase from \"&$I$3&\"?  If the average period is greater than a year put the decimal fraction, e.g. if it's every five years enter 0.2\"","v":"On average, over the course of a year, on how many separate occasions will a customer make a purchase from ?  If the average period is greater than a year put the decimal fraction, e.g. if it's every five years enter 0.2"}]
["CPLst1","Form5",null,"CPLst2",{"$f":"IF(OR(F45:F$51)=TRUE,D44,\"PPLst1\")","v":"PPLst1"},false,"This tool will seek to identify the marketing activities (within the budget) that should be specifically targeted at existing customers.  However, are there any promotional activities, specifically targeted at existing customers, that need to be identified separately within the sales and marketing plan?  If yes, please tick the \"Yes\" box and enter the details of one below.","Enter the promotion's name in the left-hand box and the time (e.g. month) in right-hand box."]
["CPLst2","Form5",null,"CPLst3",{"$f":"IF(OR(F46:F$51)=TRUE,D45,\"PPLst1\")","v":"PPLst1"},false,"Is there is another promotional activity, specifically aimed at existing customers, that needs to be included the sales and marketing plan?  If yes, please tick the \"Yes\" box and enter the details below.","Enter the promotion's name in the left-hand box and the time (e.g. month) in right-hand box."]
["CPLst3","Form5",null,"CPLst4",{"$f":"IF(OR(F47:F$51)=TRUE,D46,\"PPLst1\")","v":"PPLst1"},false,"Is there is another promotional activity, specifically aimed at existing customers, that needs to be included the sales and marketing plan?  If yes, please tick the \"Yes\" box and enter the details below.","Enter the promotion's name in the left-hand box and the time (e.g. month) in right-hand box."]
["CPLst4","Form5",null,"CPLst5",{"$f":"IF(OR(F48:F$51)=TRUE,D47,\"PPLst1\")","v":"PPLst1"},false,"Is there is another promotional activity, specifically aimed at existing customers, that needs to be included the sales and marketing plan?  If yes, please tick the \"Yes\" box and enter the details below.","Enter the promotion's name in the left-hand box and the time (e.g. month) in right-hand box."]
["CPLst5","Form5",null,"CPLst6",{"$f":"IF(OR(F49:F$51)=TRUE,D48,\"PPLst1\")","v":"PPLst1"},false,"Is there is another promotional activity, specifically aimed at existing customers, that needs to be included the sales and marketing plan?  If yes, please tick the \"Yes\" box and enter the details below.","Enter the promotion's name in the left-hand box and the time (e.g. month) in right-hand box."]
["CPLst6","Form5",null,"CPLst7",{"$f":"IF(OR(F50:F$51)=TRUE,D49,\"PPLst1\")","v":"PPLst1"},false,"Is there is another promotional activity, specifically aimed at existing customers, that needs to be included the sales and marketing plan?  If yes, please tick the \"Yes\" box and enter the details below.","Enter the promotion's name in the left-hand box and the time (e.g. month) in right-hand box."]
["CPLst7","Form5",null,"CPLst8",{"$f":"IF(OR(F51:F$51)=TRUE,D50,\"PPLst1\")","v":"PPLst1"},false,"Is there is another promotional activity, specifically aimed at existing customers, that needs to be included the sales and marketing plan?  If yes, please tick the \"Yes\" box and enter the details below.","Enter the promotion's name in the left-hand box and the time (e.g. month) in right-hand box."]
["CPLst8","Form5",null,"CPLst9",{"$f":"IF(OR(F$51:F52)=TRUE,D51,\"PPLst1\")","v":"PPLst1"},false,"Is there is another promotional activity, specifically aimed at existing customers, that needs to be included the sales and marketing plan?  If yes, please tick the \"Yes\" box and enter the details below.","Enter the promotion's name in the left-hand box and the time (e.g. month) in right-hand box."]
["CPLst9","Form5",null,"PPLst1","PPLst1",false,{"$f":"\"Is there is another promotional activity, specifically aimed at existing customers, that needs to be included the sales and marketing plan?  If yes, please tick the \"\"Yes\"\" box and enter the details below.\"& CHAR(13) & CHAR(13) & CHAR(13) &\"This is the last screen for entering details of customer promotions.\"","v":"Is there is another promotional activity, specifically aimed at existing customers, that needs to be included the sales and marketing plan?  If yes, please tick the \"Yes\" box and enter the details below.\r\r\rThis is the last screen for entering details of customer promotions."},"Enter the promotion's name in the left-hand box and the time (e.g. month) in right-hand box.  Please note, this is the last screen for entering customer promotions."]
["PPLst1","Form5",null,"PPLst2",{"$f":"IF(OR(F53:F$61)=TRUE,D53,\"Budget\")","v":"Budget"},false,{"$f":"\"This tool will also seek to identify the mix of marketing activities that (within the budget) will best enable \"&$I$3&\" to achieve its marketing objectives.  However, are there any promotional activities that need to be identified separately within the sales and marketing plan?  If yes, please tick the \"\"Yes\"\" box and enter the details of one below.\"","v":"This tool will also seek to identify the mix of marketing activities that (within the budget) will best enable  to achieve its marketing objectives.  However, are there any promotional activities that need to be identified separately within the sales and marketing plan?  If yes, please tick the \"Yes\" box and enter the details of one below."},"Put promotion's name in left-hand box and the time (e.g. month) in right-hand box."]
["PPLst2","Form5",null,"PPLst3",{"$f":"IF(OR(F54:F$61)=TRUE,D54,\"Budget\")","v":"Budget"},false,"Is there is another promotional activity that needs to be included the sales and marketing plan?  If yes, please tick the \"Yes\" box and enter the details below.","Put promotion's name in left-hand box and the time (e.g. month) in right-hand box."]
["PPLst3","Form5",null,"PPLst4",{"$f":"IF(OR(F55:F$61)=TRUE,D55,\"Budget\")","v":"Budget"},false,"Is there is another promotional activity that needs to be included the sales and marketing plan?  If yes, please tick the \"Yes\" box and enter the details below.","Put promotion's name in left-hand box and the time (e.g. month) in right-hand box."]
["PPLst4","Form5",null,"PPLst5",{"$f":"IF(OR(F56:F$61)=TRUE,D56,\"Budget\")","v":"Budget"},false,"Is there is another promotional activity that needs to be included the sales and marketing plan?  If yes, please tick the \"Yes\" box and enter the details below.","Put promotion's name in left-hand box and the time (e.g. month) in right-hand box."]
["PPLst5","Form5",null,"PPLst6",{"$f":"IF(OR(F57:F$61)=TRUE,D57,\"Budget\")","v":"Budget"},false,"Is there is another promotional activity that needs to be included the sales and marketing plan?  If yes, please tick the \"Yes\" box and enter the details below.","Put promotion's name in left-hand box and the time (e.g. month) in right-hand box."]
["PPLst6","Form5",null,"PPLst7",{"$f":"IF(OR(F58:F$61)=TRUE,D58,\"Budget\")","v":"Budget"},false,"Is there is another promotional activity that needs to be included the sales and marketing plan?  If yes, please tick the \"Yes\" box and enter the details below.","Put promotion's name in left-hand box and the time (e.g. month) in right-hand box."]
["PPLst7","Form5",null,"PPLst8",{"$f":"IF(OR(F59:F$61)=TRUE,D59,\"Budget\")","v":"Budget"},false,"Is there is another promotional activity that needs to be included the sales and marketing plan?  If yes, please tick the \"Yes\" box and enter the details below.","Put promotion's name in left-hand box and the time (e.g. month) in right-hand box."]
["PPLst8","Form5",null,"PPLst9",{"$f":"IF(OR(F60:F$61)=TRUE,D60,\"Budget\")","v":"Budget"},false,"Is there is another promotional activity that needs to be included the sales and marketing plan?  If yes, please tick the \"Yes\" box and enter the details below.","Put promotion's name in left-hand box and the time (e.g. month) in right-hand box."]
["PPLst9","Form5",null,"Budget",{"$f":"IF(OR($F$45,$F$46,$F$47,$F$48,$F$49,$F$50,$F$51,$F$52),D61,\"PPLst1\")","v":"PPLst1"},false,{"$f":"\"Is there is another promotional activity that needs to be included the sales and marketing plan?  If yes, please tick the \"\"Yes\"\" box and enter the details below.\"& CHAR(13) & CHAR(13) & CHAR(13) &\"This is the last screen for entering the details of promotional actitivites.\"","v":"Is there is another promotional activity that needs to be included the sales and marketing plan?  If yes, please tick the \"Yes\" box and enter the details below.\r\r\rThis is the last screen for entering the details of promotional actitivites."},"Put promotion's name in left-hand box and the time (e.g. month) in right-hand box."]
["Budget","Form3",null,{"$f":"E62","v":"Run"},"Run",false,null,{"$f":"\"Please enter the maximum allowable budget for the next year's sales and marketing communications.  (Suggested amount: £\"&V!B2&\")\"","v":"Please enter the maximum allowable budget for the next year's sales and marketing communications.  (Suggested amount: £0)"}]
["Run","FormRun",null,{"$f":"E63","v":"Begin"},"Begin",false,{"$f":"\"This is the last screen.  Below is a summary of the suggested activities and budgets. \" & \"To change them, go to the previous screen and enter a different budget.  Or, go back a few more screens and adjust the additional activites.\" & CHAR(13) &  CHAR(13) & \"Pressing the \"\"RUN\"\" button produces the marketing plan. It's in a file called 'MarketingPlan.rtf' and is put in the same folder as this app.\"","v":"This is the last screen.  Below is a summary of the suggested activities and budgets. To change them, go to the previous screen and enter a different budget.  Or, go back a few more screens and adjust the additional activites.\r\rPressing the \"RUN\" button produces the marketing plan. It's in a file called 'MarketingPlan.rtf' and is put in the same folder as this app."}]
[null,null,null,null,null,false]
[null,null,null,null,null,false]
[null,null,null,null,null,false]
[null,null,null,null,null,false]
[null,null,null,null,null,false]
[null,null,null,null,null,false]
[null,null,null,null,null,false]
[null,null,null,null,null,false]
[null,null,null,null,null,false]
[null,null,null,null,null,false]
[null,null,null,null,null,false]
[null,null,null,null,null,false]
[null,null,null,null,null,false]
[null,null,null,null,null,false]
[null,null,null,null,null,false]
[null,null,null,null,null,false]
[null,null,null,null,null,false]
[null,null,null,null,null,false]
[null,null,null,null,null,false]
[null,null,null,null,null,false]
[null,null,null,null,null,false]
[null,null,null,null,null,false]
[null,null,null,null,null,false]
[null,null,null,null,null,false]
[null,null,null,null,null,false]
[null,null,null,null,null,false]
[null,null,null,null,null,false]
[null,null,null,null,null,false]
[null,null,null,null,null,false]
[null,null,null,null,null,false]
[null,null,null,null,null,false]
[null,null,null,null,null,false]
[null,null,null,null,null,false]
[null,null,null,null,null,false]
[null,null,null,null,null,false]
[null,null,null,null,null,false]
[null,null,null,null,null,false]

{"sheet":"help","index":2,"n_rows":3,"n_cols":2,"rows_kept":3,"cut":false,"hidden":true,"merged":[]}
["Screen","Str"]
["Begin",{"$f":"\"The first screen has the buttons:\"&CHAR(13)&CHAR(13)&\"\"\"RESET\"\" - clears all the details currently entered.\"& CHAR(13)  &\"\"\"EXIT\"\" - exits Marketing Plan Writer\"& CHAR(13)  &\"\"\"NEXT\"\" - moves to the next screen\"&CHAR(13)&CHAR(13)&\"After the first screen, there are also the buttons:\"&CHAR(13)&CHAR(13)&\"\"\"BEGIN\"\" - moves to the first screen.\"&CHAR(13)&\"\"\"PREV\"\" - moves to the previous screen\"","v":"The first screen has the buttons:\r\r\"RESET\" - clears all the details currently entered.\r\"EXIT\" - exits Marketing Plan Writer\r\"NEXT\" - moves to the next screen\r\rAfter the first screen, there are also the buttons:\r\r\"BEGIN\" - moves to the first screen.\r\"PREV\" - moves to the previous screen"}]
["Run",{"$f":"\"The last screen has the buttons:\"&CHAR(13)&CHAR(13)&\"\"\"RUN\"\" - this produces the marketing plan. This is output in a file called 'MarketingPlan.rtf' and put in the same folder as this app. It is a rich text format file which can be opened in Word and similar word processors\"&CHAR(13)&CHAR(13)&\"\"\"PREV\"\" -  takes you to the previous screen\"&CHAR(13)&CHAR(13)&\"\"\"BEGIN\"\" -  takes you to the first screen\"&CHAR(13)&CHAR(13)&\"\"\"EXIT\"\" - exits Marketing Plan Writer\"","v":"The last screen has the buttons:\r\r\"RUN\" - this produces the marketing plan. This is output in a file called 'MarketingPlan.rtf' and put in the same folder as this app. It is a rich text format file which can be opened in Word and similar word processors\r\r\"PREV\" -  takes you to the previous screen\r\r\"BEGIN\" -  takes you to the first screen\r\r\"EXIT\" - exits Marketing Plan Writer"}]

{"sheet":"V","index":3,"n_rows":6,"n_cols":2,"rows_kept":6,"cut":false,"hidden":true,"merged":[]}
["Label","Value"]
["SUGBUG",{"$f":"IF(ISERROR(INT(('q&a'!$I$8*(0.03+0.01*IF('q&a'!$I$8-'q&a'!$I$41>=0,('q&a'!$I$8-'q&a'!$I$41)/'q&a'!$I$8,0))*IF(OR(chancom!I2=1,chancom!J2=1),2,1))/1000)*1000),0,INT(('q&a'!$I$8*(0.03+0.01*IF('q&a'!$I$8-'q&a'!$I$41>=0,('q&a'!$I$8-'q&a'!$I$41)/'q&a'!$I$8,0))*IF(OR(chancom!I2=1,chancom!J2=1),2,1))/1000)*1000)","v":0}]
["CAlloc",{"$f":"'q&a'!$I$41*(IF('q&a'!$I$43>1,'q&a'!$I$43,1)+costrank!$C$1)/('q&a'!$I$8*(IF('q&a'!$I$10>1,'q&a'!$I$10,1)+costrank!$O$1)*2+'q&a'!$I$41*(IF('q&a'!$I$43>1,'q&a'!$I$43,1)+costrank!$C$1))","v":{"$error":"#DIV/0!"}}]
["PAlloc",{"$f":"'q&a'!$I$8*(IF('q&a'!$I$10>1,'q&a'!$I$10,1)+costrank!$O$1)*2/('q&a'!$I$8*(IF('q&a'!$I$10>1,'q&a'!$I$10,1)+costrank!$O$1)*2+'q&a'!$I$41*(IF('q&a'!$I$43>1,'q&a'!$I$43,1)+costrank!$C$1))","v":{"$error":"#DIV/0!"}}]
["Max P CperC",{"$f":"B4*'q&a'!I62/'q&a'!I13","v":{"$error":"#DIV/0!"}}]
["Max C CperC",{"$f":"B3*'q&a'!I62/'q&a'!I42","v":{"$error":"#DIV/0!"}}]

{"sheet":"chancom","index":4,"n_rows":32,"n_cols":12,"rows_kept":32,"cut":false,"hidden":true,"merged":[]}
["Channel - common","Base Prod","Adj Prod","CPM","Eff Imps","Targ Pen","Alert","Inform","Set Appt","Close Sale","Emotive","Availability"]
[null,null,null,null,null,null,{"$f":"IF('q&a'!$F$27,1,0)","v":0},{"$f":"IF('q&a'!$F$29,1,0)","v":0},{"$f":"IF(AND('q&a'!$F$32,NOT('q&a'!$F$30)),1,0)","v":0},1,1]
["TV advertising",80000,{"$f":"B3*'q&a'!$I$62/(2*B3+'q&a'!$I$62)","v":0},16,{"$f":"50000000*IF('q&a'!$F$12,'q&a'!$I$12,100)/100","v":50000000},{"$f":"'q&a'!$I$13*0.8/E3","v":0},{"$f":"IF(AND(G$2=1,SUM(H3:$J3)=0),1,0)","v":0},0,0,0,1,1]
["Direct Response TV",30000,{"$f":"B4*'q&a'!$I$62/(2*B4+'q&a'!$I$62)","v":0},8,{"$f":"50000000*IF('q&a'!$F$12,'q&a'!$I$12,100)/100","v":50000000},{"$f":"'q&a'!$I$13*0.8/E4","v":0},0,0,{"$f":"IF(AND(I$2=1,SUM(J4:$J4)=0),1,0)","v":0},0,0,{"$f":"IF('q&a'!$F$25,0,1)","v":1}]
["Radio advertising",6000,{"$f":"B5*'q&a'!$I$62/(2*B5+'q&a'!$I$62)","v":0},4,{"$f":"50000000*IF('q&a'!$F$12,'q&a'!$I$12,100)/100","v":50000000},{"$f":"'q&a'!$I$13*0.8/E5","v":0},{"$f":"IF(AND(G$2=1,SUM(H5:$J5)=0),1,0)","v":0},0,0,0,1,1]
["Cinema advertising",80000,{"$f":"B6*'q&a'!$I$62/(2*B6+'q&a'!$I$62)","v":0},20,{"$f":"12000000*IF('q&a'!$F$12,'q&a'!$I$12,100)/100","v":12000000},{"$f":"'q&a'!$I$13*0.8/E6","v":0},{"$f":"IF(AND(G$2=1,SUM(H6:$J6)=0),1,0)","v":0},0,0,0,1,{"$f":"IF('q&a'!$F$26,1,0)","v":0}]
["Outdoor advertising",12000,{"$f":"B7*'q&a'!$I$62/(2*B7+'q&a'!$I$62)","v":0},6,{"$f":"50000000*IF('q&a'!$F$12,'q&a'!$I$12,100)/100","v":50000000},{"$f":"'q&a'!$I$13*0.8/E7","v":0},{"$f":"IF(AND(G$2=1,SUM(H7:$J7)=0),1,0)","v":0},0,0,0,1,1]
["Public Relations",8000,{"$f":"B8*'q&a'!$I$62/(2*B8+'q&a'!$I$62)","v":0},12,{"$f":"'q&a'!$I$13","v":0},0.8,{"$f":"IF(AND(G$2=1,SUM(H8:$J8)=0),1,0)","v":0},0,0,0,0,1]
["Collaterals and ambient",12000,{"$f":"B9*'q&a'!$I$62/(2*B9+'q&a'!$I$62)","v":0},125,{"$f":"'q&a'!$I$13*0.2","v":0},0.2,{"$f":"IF(AND(G$2=1,SUM(H9:$J9)=0),1,0)","v":0},0,0,0,0,{"$f":"IF('q&a'!$F$26,1,0)","v":0}]
["Press ads and web",8000,{"$f":"B10*'q&a'!$I$62/(2*B10+'q&a'!$I$62)","v":0},12,{"$f":"50000000*IF('q&a'!$F$12,'q&a'!$I$12,100)/100","v":50000000},{"$f":"'q&a'!$I$13*0.8/E10","v":0},{"$f":"IF(AND(G$2=1,SUM(H10:$J10)=0),1,0)","v":0},{"$f":"IF(AND(H$2=1,SUM(I10:$J10)=0),1,0)","v":0},0,0,0,1]
["Consumer mags and web ads",8000,{"$f":"B11*'q&a'!$I$62/(2*B11+'q&a'!$I$62)","v":0},24,{"$f":"50000000*IF('q&a'!$F$12,'q&a'!$I$12,100)/100","v":50000000},{"$f":"'q&a'!$I$13*0.8/E11","v":0},{"$f":"IF(AND(G$2=1,SUM(H11:$J11)=0),1,0)","v":0},{"$f":"IF(AND(H$2=1,SUM(I11:$J11)=0),1,0)","v":0},0,0,1,{"$f":"IF('q&a'!$F$25,0,1)","v":1}]
["Specialist mags and web ads",8000,{"$f":"B12*'q&a'!$I$62/(2*B12+'q&a'!$I$62)","v":0},24,{"$f":"'q&a'!$I$13","v":0},0.8,{"$f":"IF(AND(G$2=1,SUM(H12:$J12)=0),1,0)","v":0},{"$f":"IF(AND(H$2=1,SUM(I12:$J12)=0),1,0)","v":0},0,0,0,{"$f":"IF('q&a'!$F$25,1,0)","v":0}]
["Sponsorship",8000,{"$f":"B13*'q&a'!$I$62/(2*B13+'q&a'!$I$62)","v":0},25,{"$f":"'q&a'!$I$13","v":0},0.8,{"$f":"IF(AND(G$2=1,SUM(H13:$J13)=0),1,0)","v":0},0,0,0,0,1]
["Events",1000,{"$f":"B14*'q&a'!$I$62/(2*B14+'q&a'!$I$62)","v":0},8000,{"$f":"'q&a'!$I$13","v":0},0.8,{"$f":"IF(AND(G$2=1,SUM(H14:$J14)=0),1,0)","v":0},{"$f":"IF(AND(H$2=1,SUM(I14:$J14)=0),1,0)","v":0},0,0,0,1]
["Targeted door-drops",6000,{"$f":"B15*'q&a'!$I$62/(2*B15+'q&a'!$I$62)","v":0},100,{"$f":"5000000*IF('q&a'!$F$12,'q&a'!$I$12,100)/100","v":5000000},{"$f":"'q&a'!$I$13*0.8/E15","v":0},{"$f":"IF(AND(G$2=1,SUM(H15:$J15)=0),1,0)","v":0},{"$f":"IF(AND(H$2=1,SUM(I15:$J15)=0),1,0)","v":0},0,0,0,{"$f":"IF('q&a'!$F$25,0,1)","v":1}]
["Facebook/Twitter content",6000,{"$f":"B16*'q&a'!$I$62/(2*B16+'q&a'!$I$62)","v":0},20,{"$f":"MIN('q&a'!$I$42+0.5*'q&a'!$I$9,'q&a'!$I$13)","v":0},0.4,{"$f":"IF(AND(G$2=1,SUM(H16:$J16)=0),1,0)","v":0},0,0,0,1,{"$f":"IF(AND('q&a'!$F$26,'q&a'!$F$39),1,0)","v":0}]
["Develop social conversations",8000,{"$f":"B17*'q&a'!$I$62/(2*B17+'q&a'!$I$62)","v":0},500,{"$f":"'q&a'!$I$13","v":0},0.25,{"$f":"IF(AND(G$2=1,SUM(H17:$J17)=0),1,0)","v":0},0,0,0,1,1]
["Email prospects",2500,{"$f":"B18*'q&a'!$I$62/(2*B18+'q&a'!$I$62)","v":0},100,{"$f":"'q&a'!$I$13","v":0},0.8,{"$f":"IF(AND(G$2=1,SUM(H18:$J18)=0),1,0)","v":0},0,0,0,0,{"$f":"IF('q&a'!$F$37,1,0)","v":0}]
["Email customers",1500,{"$f":"B19*'q&a'!$I$62/(2*B19+'q&a'!$I$62)","v":0},5,{"$f":"MIN('q&a'!$I$42+0.5*'q&a'!$I$9,'q&a'!$I$13)","v":0},0.8,{"$f":"IF(AND(G$2=1,SUM(H19:$J19)=0),1,0)","v":0},0,0,0,0,{"$f":"IF('q&a'!$F$40,1,0)","v":0}]
["Outbound telephone - prospects",6000,{"$f":"B20*'q&a'!$I$62/(2*B20+'q&a'!$I$62)","v":0},3000,{"$f":"'q&a'!$I$13","v":0},0.8,{"$f":"IF(AND(G$2=1,SUM(H20:$J20)=0),1,0)","v":0},{"$f":"IF(AND(H$2=1,SUM(I20:$J20)=0),1,0)","v":0},{"$f":"IF(AND(I$2=1,SUM(J20:$J20)=0),1,0)","v":0},{"$f":"IF(AND(J$2=1,NOT('q&a'!$F$32)),1,0)","v":1},0,{"$f":"IF('q&a'!$F$36,1,0)","v":0}]
["Outbound telephone - customers",3000,{"$f":"B21*'q&a'!$I$62/(2*B21+'q&a'!$I$62)","v":0},3000,{"$f":"MIN('q&a'!$I$42+0.5*'q&a'!$I$9,'q&a'!$I$13)","v":0},0.8,{"$f":"IF(AND(G$2=1,SUM(H21:$J21)=0),1,0)","v":0},{"$f":"IF(AND(H$2=1,SUM(I21:$J21)=0),1,0)","v":0},{"$f":"IF(AND(I$2=1,SUM(J21:$J21)=0),1,0)","v":0},{"$f":"IF(AND(J$2=1,NOT('q&a'!$F$32)),1,0)","v":1},0,{"$f":"IF('q&a'!$F$39,1,0)","v":0}]
["Direct mail - external lists",5000,{"$f":"B22*'q&a'!$I$62/(2*B22+'q&a'!$I$62)","v":0},350,{"$f":"'q&a'!$I$13","v":0},0.8,{"$f":"IF(AND(G$2=1,SUM(H22:$J22)=0),1,0)","v":0},{"$f":"IF(AND(H$2=1,SUM(I22:$J22)=0),1,0)","v":0},0,0,1,{"$f":"IF('q&a'!$F$35,1,0)","v":0}]
["Direct mail - customer database",3000,{"$f":"B23*'q&a'!$I$62/(2*B23+'q&a'!$I$62)","v":0},200,{"$f":"MIN('q&a'!$I$42+0.5*'q&a'!$I$9,'q&a'!$I$13)","v":0},0.8,{"$f":"IF(AND(G$2=1,SUM(H23:$J23)=0),1,0)","v":0},{"$f":"IF(AND(H$2=1,SUM(I23:$J23)=0),1,0)","v":0},0,0,1,{"$f":"IF('q&a'!$F$38,1,0)","v":0}]
["Trade shows and exhibitions",10000,{"$f":"B24*'q&a'!$I$62/(2*B24+'q&a'!$I$62)","v":0},3000,{"$f":"'q&a'!$I$42+3*'q&a'!$I$9","v":0},0.8,{"$f":"IF(AND(G$2=1,SUM(H24:$J24)=0),1,0)","v":0},{"$f":"IF(AND(H$2=1,SUM(I24:$J24)=0),1,0)","v":0},{"$f":"IF(AND(I$2=1,SUM(J24:$J24)=0),1,0)","v":0},0,0,{"$f":"IF('q&a'!$F$25,1,0)","v":0}]
["Produce brochure",6000,{"$f":"B25*'q&a'!$I$62/(2*B25+'q&a'!$I$62)","v":0},1000,{"$f":"MIN('q&a'!$I$42+5*'q&a'!$I$9,'q&a'!$I$13)","v":0},0.8,0,{"$f":"IF(AND(H$2=1,SUM(I25:$J25)=0),1,0)","v":0},0,0,0,{"$f":"IF('q&a'!$F$29,1,0)","v":0}]
["Ecommerce development",12000,{"$f":"B26*'q&a'!$I$62/(2*B26+'q&a'!$I$62)","v":0},100,{"$f":"MIN('q&a'!$I$42+3*'q&a'!$I$9,'q&a'!$I$13)","v":0},0.8,0,{"$f":"IF(AND(H$2=1,SUM(I26:$J26)=0),1,0)","v":0},0,0,0,1]
["Web search term advertising",2000,{"$f":"B27*'q&a'!$I$62/(2*B27+'q&a'!$I$62)","v":0},20,{"$f":"'q&a'!$I$42+0.5*'q&a'!$I$9","v":0},0.8,{"$f":"IF(AND(G$2=1,SUM(H27:$J27)=0),1,0)","v":0},{"$f":"IF(AND(H$2=1,SUM(I27:$J27)=0),1,0)","v":0},{"$f":"IF(AND(I$2=1,SUM(J27:$J27)=0),1,0)","v":0},0,0,{"$f":"IF('q&a'!$F$26,1,0)","v":0}]
["Web advertising",6000,{"$f":"B28*'q&a'!$I$62/(2*B28+'q&a'!$I$62)","v":0},20,{"$f":"'q&a'!$I$13","v":0},0.25,{"$f":"IF(AND(G$2=1,SUM(H28:$J28)=0),1,0)","v":0},0,0,0,0,{"$f":"IF('q&a'!$F$25,0,1)","v":1}]
["Develop website/landing page",8000,{"$f":"B29*'q&a'!$I$62/(2*B29+'q&a'!$I$62)","v":0},5,{"$f":"'q&a'!$I$42+0.5*'q&a'!$I$9","v":0},0.8,0,{"$f":"IF(AND(H$2=1,SUM(I29:$J29)=0),1,0)","v":0},0,{"$f":"IF(AND(J$2=1,NOT('q&a'!$F$32)),1,0)","v":1},1,1]
["Produce point-of-sale materials",4000,{"$f":"B30*'q&a'!$I$62/(2*B30+'q&a'!$I$62)","v":0},125,{"$f":"'q&a'!$I$42+10*'q&a'!$I$9","v":0},0.8,0,0,0,{"$f":"IF(J$2=1,1,0)","v":1},0,{"$f":"IF('q&a'!$F$30,1,0)","v":0}]
["Inbound telephone centre",8000,{"$f":"B31*'q&a'!$I$62/(2*B31+'q&a'!$I$62)","v":0},3000,{"$f":"'q&a'!$I$42+'q&a'!$I$9","v":0},0.8,0,0,{"$f":"IF(AND(I$2=1,SUM(J31:$J31)=0),1,0)","v":0},{"$f":"IF(AND(J$2=1,NOT('q&a'!$F$32)),1,0)","v":1},0,{"$f":"IF('q&a'!$F$34,1,0)","v":0}]
["Employ sales force",12000,{"$f":"B32*'q&a'!$I$62/(2*B32+'q&a'!$I$62)","v":0},4000,{"$f":"'q&a'!$I$42+'q&a'!$I$9","v":0},0.8,0,0,{"$f":"IF(AND(I$2=1,SUM(J32:$J32)=0),1,0)","v":0},{"$f":"IF(J$2=1,1,0)","v":1},1,{"$f":"IF('q&a'!$F$31,1,0)","v":0}]

{"sheet":"chancp","index":5,"n_rows":33,"n_cols":19,"rows_kept":33,"cut":false,"hidden":true,"merged":[]}
["Channel - customer promotion","Core","Perm","Eff Wgt","Adj Wgt","Tot Cost","Cost/Contact","Alert",null,null,"Inform",null,null,"Set Appt",null,null,"Close Sale"]
[null,null,null,null,null,null,null,"core","eligible","rank","core","eligible","rank","core","eligible","rank","core","eligible","rank"]
[{"$f":"chancom!A3","v":"TV advertising"},0,0,8,{"$f":"D3","v":8},{"$f":"C3*(chancom!C3+E3*chancom!D3*chancom!E3/1000)","v":0},{"$f":"IF(F3*chancom!E3*chancom!F3<=0,\"\",F3/(chancom!E3*chancom!F3))","v":""},{"$f":"IF(ISNUMBER($G3),IF(AND(chancom!$G3*chancom!$L3*$B3*$C3,$D3=$E3),$G3,\"\"),\"\")","v":""},{"$f":"IF(ISNUMBER($G3),IF(chancom!$G3*chancom!$L3*$C3,IF(H3<>H$33,$G3,\"\"),\"\"),\"\")","v":""},{"$f":"IF(AND(ISNUMBER(H3),NOT(ISNUMBER(I3))),0,IF(ISNUMBER(I3),RANK(I3,I$3:I$32,1),\"\"))","v":""},{"$f":"IF(ISNUMBER($G3),IF(AND(chancom!$H3*chancom!$L3*$B3*$C3,$D3=$E3),$G3,\"\"),\"\")","v":""},{"$f":"IF(ISNUMBER($G3),IF(chancom!$H3*chancom!$L3*$C3,IF(K3<>K$33,$G3,\"\"),\"\"),\"\")","v":""},{"$f":"IF(AND(ISNUMBER(K3),NOT(ISNUMBER(L3))),0,IF(ISNUMBER(L3),RANK(L3,L$3:L$32,1),\"\"))","v":""},{"$f":"IF(ISNUMBER($G3),IF(AND(chancom!$I3*chancom!$L3*$B3*$C3,$D3=$E3),$G3,\"\"),\"\")","v":""},{"$f":"IF(ISNUMBER($G3),IF(chancom!$I3*chancom!$L3*$C3,IF(N3<>N$33,$G3,\"\"),\"\"),\"\")","v":""},{"$f":"IF(AND(ISNUMBER(N3),NOT(ISNUMBER(O3))),0,IF(ISNUMBER(O3),RANK(O3,O$3:O$32,1),\"\"))","v":""},{"$f":"IF(ISNUMBER($G3),IF(AND(chancom!$J3*chancom!$L3*$B3*$C3,$D3=$E3),$G3,\"\"),\"\")","v":""},{"$f":"IF(ISNUMBER($G3),IF(chancom!$J3*chancom!$L3*$C3,IF(Q3<>Q$33,$G3,\"\"),\"\"),\"\")","v":""},{"$f":"IF(AND(ISNUMBER(Q3),NOT(ISNUMBER(R3))),0,IF(ISNUMBER(R3),RANK(R3,R$3:R$32,1),\"\"))","v":""}]
[{"$f":"chancom!A4","v":"Direct Response TV"},0,0,3,{"$f":"D4","v":3},{"$f":"C4*(chancom!C4+E4*chancom!D4*chancom!E4/1000)","v":0},{"$f":"IF(F4*chancom!E4*chancom!F4<=0,\"\",F4/(chancom!E4*chancom!F4))","v":""},{"$f":"IF(ISNUMBER($G4),IF(AND(chancom!$G4*chancom!$L4*$B4*$C4,$D4=$E4),$G4,\"\"),\"\")","v":""},{"$f":"IF(ISNUMBER($G4),IF(chancom!$G4*chancom!$L4*$C4,IF(H4<>H$33,$G4,\"\"),\"\"),\"\")","v":""},"",{"$f":"IF(ISNUMBER($G4),IF(AND(chancom!$H4*chancom!$L4*$B4*$C4,$D4=$E4),$G4,\"\"),\"\")","v":""},{"$f":"IF(ISNUMBER($G4),IF(chancom!$H4*chancom!$L4*$C4,IF(K4<>K$33,$G4,\"\"),\"\"),\"\")","v":""},"",{"$f":"IF(ISNUMBER($G4),IF(AND(chancom!$I4*chancom!$L4*$B4*$C4,$D4=$E4),$G4,\"\"),\"\")","v":""},{"$f":"IF(ISNUMBER($G4),IF(chancom!$I4*chancom!$L4*$C4,IF(N4<>N$33,$G4,\"\"),\"\"),\"\")","v":""},"",{"$f":"IF(ISNUMBER($G4),IF(AND(chancom!$J4*chancom!$L4*$B4*$C4,$D4=$E4),$G4,\"\"),\"\")","v":""},{"$f":"IF(ISNUMBER($G4),IF(chancom!$J4*chancom!$L4*$C4,IF(Q4<>Q$33,$G4,\"\"),\"\"),\"\")","v":""},""]
[{"$f":"chancom!A5","v":"Radio advertising"},0,0,8,8,{"$f":"C5*(chancom!C5+E5*chancom!D5*chancom!E5/1000)","v":0},{"$f":"IF(F5*chancom!E5*chancom!F5<=0,\"\",F5/(chancom!E5*chancom!F5))","v":""},{"$f":"IF(ISNUMBER($G5),IF(AND(chancom!$G5*chancom!$L5*$B5*$C5,$D5=$E5),$G5,\"\"),\"\")","v":""},{"$f":"IF(ISNUMBER($G5),IF(chancom!$G5*chancom!$L5*$C5,IF(H5<>H$33,$G5,\"\"),\"\"),\"\")","v":""},{"$f":"IF(AND(ISNUMBER(H5),NOT(ISNUMBER(I5))),0,IF(ISNUMBER(I5),RANK(I5,I$3:I$32,1),\"\"))","v":""},{"$f":"IF(ISNUMBER($G5),IF(AND(chancom!$H5*chancom!$L5*$B5*$C5,$D5=$E5),$G5,\"\"),\"\")","v":""},{"$f":"IF(ISNUMBER($G5),IF(chancom!$H5*chancom!$L5*$C5,IF(K5<>K$33,$G5,\"\"),\"\"),\"\")","v":""},{"$f":"IF(AND(ISNUMBER(K5),NOT(ISNUMBER(L5))),0,IF(ISNUMBER(L5),RANK(L5,L$3:L$32,1),\"\"))","v":""},{"$f":"IF(ISNUMBER($G5),IF(AND(chancom!$I5*chancom!$L5*$B5*$C5,$D5=$E5),$G5,\"\"),\"\")","v":""},{"$f":"IF(ISNUMBER($G5),IF(chancom!$I5*chancom!$L5*$C5,IF(N5<>N$33,$G5,\"\"),\"\"),\"\")","v":""},{"$f":"IF(AND(ISNUMBER(N5),NOT(ISNUMBER(O5))),0,IF(ISNUMBER(O5),RANK(O5,O$3:O$32,1),\"\"))","v":""},{"$f":"IF(ISNUMBER($G5),IF(AND(chancom!$J5*chancom!$L5*$B5*$C5,$D5=$E5),$G5,\"\"),\"\")","v":""},{"$f":"IF(ISNUMBER($G5),IF(chancom!$J5*chancom!$L5*$C5,IF(Q5<>Q$33,$G5,\"\"),\"\"),\"\")","v":""},{"$f":"IF(AND(ISNUMBER(Q5),NOT(ISNUMBER(R5))),0,IF(ISNUMBER(R5),RANK(R5,R$3:R$32,1),\"\"))","v":""}]
[{"$f":"chancom!A6","v":"Cinema advertising"},0,0,4,4,{"$f":"C6*(chancom!C6+E6*chancom!D6*chancom!E6/1000)","v":0},{"$f":"IF(F6*chancom!E6*chancom!F6<=0,\"\",F6/(chancom!E6*chancom!F6))","v":""},{"$f":"IF(ISNUMBER($G6),IF(AND(chancom!$G6*chancom!$L6*$B6*$C6,$D6=$E6),$G6,\"\"),\"\")","v":""},{"$f":"IF(ISNUMBER($G6),IF(chancom!$G6*chancom!$L6*$C6,IF(H6<>H$33,$G6,\"\"),\"\"),\"\")","v":""},{"$f":"IF(AND(ISNUMBER(H6),NOT(ISNUMBER(I6))),0,IF(ISNUMBER(I6),RANK(I6,I$3:I$32,1),\"\"))","v":""},{"$f":"IF(ISNUMBER($G6),IF(AND(chancom!$H6*chancom!$L6*$B6*$C6,$D6=$E6),$G6,\"\"),\"\")","v":""},{"$f":"IF(ISNUMBER($G6),IF(chancom!$H6*chancom!$L6*$C6,IF(K6<>K$33,$G6,\"\"),\"\"),\"\")","v":""},{"$f":"IF(AND(ISNUMBER(K6),NOT(ISNUMBER(L6))),0,IF(ISNUMBER(L6),RANK(L6,L$3:L$32,1),\"\"))","v":""},{"$f":"IF(ISNUMBER($G6),IF(AND(chancom!$I6*chancom!$L6*$B6*$C6,$D6=$E6),$G6,\"\"),\"\")","v":""},{"$f":"IF(ISNUMBER($G6),IF(chancom!$I6*chancom!$L6*$C6,IF(N6<>N$33,$G6,\"\"),\"\"),\"\")","v":""},{"$f":"IF(AND(ISNUMBER(N6),NOT(ISNUMBER(O6))),0,IF(ISNUMBER(O6),RANK(O6,O$3:O$32,1),\"\"))","v":""},{"$f":"IF(ISNUMBER($G6),IF(AND(chancom!$J6*chancom!$L6*$B6*$C6,$D6=$E6),$G6,\"\"),\"\")","v":""},{"$f":"IF(ISNUMBER($G6),IF(chancom!$J6*chancom!$L6*$C6,IF(Q6<>Q$33,$G6,\"\"),\"\"),\"\")","v":""},{"$f":"IF(AND(ISNUMBER(Q6),NOT(ISNUMBER(R6))),0,IF(ISNUMBER(R6),RANK(R6,R$3:R$32,1),\"\"))","v":""}]
[{"$f":"chancom!A7","v":"Outdoor advertising"},0,0,4,4,{"$f":"C7*(chancom!C7+E7*chancom!D7*chancom!E7/1000)","v":0},{"$f":"IF(F7*chancom!E7*chancom!F7<=0,\"\",F7/(chancom!E7*chancom!F7))","v":""},{"$f":"IF(ISNUMBER($G7),IF(AND(chancom!$G7*chancom!$L7*$B7*$C7,$D7=$E7),$G7,\"\"),\"\")","v":""},{"$f":"IF(ISNUMBER($G7),IF(chancom!$G7*chancom!$L7*$C7,IF(H7<>H$33,$G7,\"\"),\"\"),\"\")","v":""},"",{"$f":"IF(ISNUMBER($G7),IF(AND(chancom!$H7*chancom!$L7*$B7*$C7,$D7=$E7),$G7,\"\"),\"\")","v":""},{"$f":"IF(ISNUMBER($G7),IF(chancom!$H7*chancom!$L7*$C7,IF(K7<>K$33,$G7,\"\"),\"\"),\"\")","v":""},"",{"$f":"IF(ISNUMBER($G7),IF(AND(chancom!$I7*chancom!$L7*$B7*$C7,$D7=$E7),$G7,\"\"),\"\")","v":""},{"$f":"IF(ISNUMBER($G7),IF(chancom!$I7*chancom!$L7*$C7,IF(N7<>N$33,$G7,\"\"),\"\"),\"\")","v":""},"",{"$f":"IF(ISNUMBER($G7),IF(AND(chancom!$J7*chancom!$L7*$B7*$C7,$D7=$E7),$G7,\"\"),\"\")","v":""},{"$f":"IF(ISNUMBER($G7),IF(chancom!$J7*chancom!$L7*$C7,IF(Q7<>Q$33,$G7,\"\"),\"\"),\"\")","v":""},""]
[{"$f":"chancom!A8","v":"Public Relations"},0,0,4,4,{"$f":"C8*(chancom!C8+E8*chancom!D8*chancom!E8/1000)","v":0},{"$f":"IF(F8*chancom!E8*chancom!F8<=0,\"\",F8/(chancom!E8*chancom!F8))","v":""},{"$f":"IF(ISNUMBER($G8),IF(AND(chancom!$G8*chancom!$L8*$B8*$C8,$D8=$E8),$G8,\"\"),\"\")","v":""},{"$f":"IF(ISNUMBER($G8),IF(chancom!$G8*chancom!$L8*$C8,IF(H8<>H$33,$G8,\"\"),\"\"),\"\")","v":""},"",{"$f":"IF(ISNUMBER($G8),IF(AND(chancom!$H8*chancom!$L8*$B8*$C8,$D8=$E8),$G8,\"\"),\"\")","v":""},{"$f":"IF(ISNUMBER($G8),IF(chancom!$H8*chancom!$L8*$C8,IF(K8<>K$33,$G8,\"\"),\"\"),\"\")","v":""},"",{"$f":"IF(ISNUMBER($G8),IF(AND(chancom!$I8*chancom!$L8*$B8*$C8,$D8=$E8),$G8,\"\"),\"\")","v":""},{"$f":"IF(ISNUMBER($G8),IF(chancom!$I8*chancom!$L8*$C8,IF(N8<>N$33,$G8,\"\"),\"\"),\"\")","v":""},"",{"$f":"IF(ISNUMBER($G8),IF(AND(chancom!$J8*chancom!$L8*$B8*$C8,$D8=$E8),$G8,\"\"),\"\")","v":""},{"$f":"IF(ISNUMBER($G8),IF(chancom!$J8*chancom!$L8*$C8,IF(Q8<>Q$33,$G8,\"\"),\"\"),\"\")","v":""},""]
[{"$f":"chancom!A9","v":"Collaterals and ambient"},0,0,4,4,{"$f":"C9*(chancom!C9+E9*chancom!D9*chancom!E9/1000)","v":0},{"$f":"IF(F9*chancom!E9*chancom!F9<=0,\"\",F9/(chancom!E9*chancom!F9))","v":""},{"$f":"IF(ISNUMBER($G9),IF(AND(chancom!$G9*chancom!$L9*$B9*$C9,$D9=$E9),$G9,\"\"),\"\")","v":""},{"$f":"IF(ISNUMBER($G9),IF(chancom!$G9*chancom!$L9*$C9,IF(H9<>H$33,$G9,\"\"),\"\"),\"\")","v":""},"",{"$f":"IF(ISNUMBER($G9),IF(AND(chancom!$H9*chancom!$L9*$B9*$C9,$D9=$E9),$G9,\"\"),\"\")","v":""},{"$f":"IF(ISNUMBER($G9),IF(chancom!$H9*chancom!$L9*$C9,IF(K9<>K$33,$G9,\"\"),\"\"),\"\")","v":""},"",{"$f":"IF(ISNUMBER($G9),IF(AND(chancom!$I9*chancom!$L9*$B9*$C9,$D9=$E9),$G9,\"\"),\"\")","v":""},{"$f":"IF(ISNUMBER($G9),IF(chancom!$I9*chancom!$L9*$C9,IF(N9<>N$33,$G9,\"\"),\"\"),\"\")","v":""},"",{"$f":"IF(ISNUMBER($G9),IF(AND(chancom!$J9*chancom!$L9*$B9*$C9,$D9=$E9),$G9,\"\"),\"\")","v":""},{"$f":"IF(ISNUMBER($G9),IF(chancom!$J9*chancom!$L9*$C9,IF(Q9<>Q$33,$G9,\"\"),\"\"),\"\")","v":""},""]
[{"$f":"chancom!A10","v":"Press ads and web"},0,0,4,4,{"$f":"C10*(chancom!C10+E10*chancom!D10*chancom!E10/1000)","v":0},{"$f":"IF(F10*chancom!E10*chancom!F10<=0,\"\",F10/(chancom!E10*chancom!F10))","v":""},{"$f":"IF(ISNUMBER($G10),IF(AND(chancom!$G10*chancom!$L10*$B10*$C10,$D10=$E10),$G10,\"\"),\"\")","v":""},{"$f":"IF(ISNUMBER($G10),IF(chancom!$G10*chancom!$L10*$C10,IF(H10<>H$33,$G10,\"\"),\"\"),\"\")","v":""},"",{"$f":"IF(ISNUMBER($G10),IF(AND(chancom!$H10*chancom!$L10*$B10*$C10,$D10=$E10),$G10,\"\"),\"\")","v":""},{"$f":"IF(ISNUMBER($G10),IF(chancom!$H10*chancom!$L10*$C10,IF(K10<>K$33,$G10,\"\"),\"\"),\"\")","v":""},"",{"$f":"IF(ISNUMBER($G10),IF(AND(chancom!$I10*chancom!$L10*$B10*$C10,$D10=$E10),$G10,\"\"),\"\")","v":""},{"$f":"IF(ISNUMBER($G10),IF(chancom!$I10*chancom!$L10*$C10,IF(N10<>N$33,$G10,\"\"),\"\"),\"\")","v":""},"",{"$f":"IF(ISNUMBER($G10),IF(AND(chancom!$J10*chancom!$L10*$B10*$C10,$D10=$E10),$G10,\"\"),\"\")","v":""},{"$f":"IF(ISNUMBER($G10),IF(chancom!$J10*chancom!$L10*$C10,IF(Q10<>Q$33,$G10,\"\"),\"\"),\"\")","v":""},""]
[{"$f":"chancom!A11","v":"Consumer mags and web ads"},0,0,4,4,{"$f":"C11*(chancom!C11+E11*chancom!D11*chancom!E11/1000)","v":0},{"$f":"IF(F11*chancom!E11*chancom!F11<=0,\"\",F11/(chancom!E11*chancom!F11))","v":""},{"$f":"IF(ISNUMBER($G11),IF(AND(chancom!$G11*chancom!$L11*$B11*$C11,$D11=$E11),$G11,\"\"),\"\")","v":""},{"$f":"IF(ISNUMBER($G11),IF(chancom!$G11*chancom!$L11*$C11,IF(H11<>H$33,$G11,\"\"),\"\"),\"\")","v":""},"",{"$f":"IF(ISNUMBER($G11),IF(AND(chancom!$H11*chancom!$L11*$B11*$C11,$D11=$E11),$G11,\"\"),\"\")","v":""},{"$f":"IF(ISNUMBER($G11),IF(chancom!$H11*chancom!$L11*$C11,IF(K11<>K$33,$G11,\"\"),\"\"),\"\")","v":""},"",{"$f":"IF(ISNUMBER($G11),IF(AND(chancom!$I11*chancom!$L11*$B11*$C11,$D11=$E11),$G11,\"\"),\"\")","v":""},{"$f":"IF(ISNUMBER($G11),IF(chancom!$I11*chancom!$L11*$C11,IF(N11<>N$33,$G11,\"\"),\"\"),\"\")","v":""},"",{"$f":"IF(ISNUMBER($G11),IF(AND(chancom!$J11*chancom!$L11*$B11*$C11,$D11=$E11),$G11,\"\"),\"\")","v":""},{"$f":"IF(ISNUMBER($G11),IF(chancom!$J11*chancom!$L11*$C11,IF(Q11<>Q$33,$G11,\"\"),\"\"),\"\")","v":""},""]
[{"$f":"chancom!A12","v":"Specialist mags and web ads"},0,0,4,4,{"$f":"C12*(chancom!C12+E12*chancom!D12*chancom!E12/1000)","v":0},{"$f":"IF(F12*chancom!E12*chancom!F12<=0,\"\",F12/(chancom!E12*chancom!F12))","v":""},{"$f":"IF(ISNUMBER($G12),IF(AND(chancom!$G12*chancom!$L12*$B12*$C12,$D12=$E12),$G12,\"\"),\"\")","v":""},{"$f":"IF(ISNUMBER($G12),IF(chancom!$G12*chancom!$L12*$C12,IF(H12<>H$33,$G12,\"\"),\"\"),\"\")","v":""},"",{"$f":"IF(ISNUMBER($G12),IF(AND(chancom!$H12*chancom!$L12*$B12*$C12,$D12=$E12),$G12,\"\"),\"\")","v":""},{"$f":"IF(ISNUMBER($G12),IF(chancom!$H12*chancom!$L12*$C12,IF(K12<>K$33,$G12,\"\"),\"\"),\"\")","v":""},"",{"$f":"IF(ISNUMBER($G12),IF(AND(chancom!$I12*chancom!$L12*$B12*$C12,$D12=$E12),$G12,\"\"),\"\")","v":""},{"$f":"IF(ISNUMBER($G12),IF(chancom!$I12*chancom!$L12*$C12,IF(N12<>N$33,$G12,\"\"),\"\"),\"\")","v":""},"",{"$f":"IF(ISNUMBER($G12),IF(AND(chancom!$J12*chancom!$L12*$B12*$C12,$D12=$E12),$G12,\"\"),\"\")","v":""},{"$f":"IF(ISNUMBER($G12),IF(chancom!$J12*chancom!$L12*$C12,IF(Q12<>Q$33,$G12,\"\"),\"\"),\"\")","v":""},""]
[{"$f":"chancom!A13","v":"Sponsorship"},0,0,2,2,{"$f":"C13*(chancom!C13+E13*chancom!D13*chancom!E13/1000)","v":0},{"$f":"IF(F13*chancom!E13*chancom!F13<=0,\"\",F13/(chancom!E13*chancom!F13))","v":""},{"$f":"IF(ISNUMBER($G13),IF(AND(chancom!$G13*chancom!$L13*$B13*$C13,$D13=$E13),$G13,\"\"),\"\")","v":""},{"$f":"IF(ISNUMBER($G13),IF(chancom!$G13*chancom!$L13*$C13,IF(H13<>H$33,$G13,\"\"),\"\"),\"\")","v":""},"",{"$f":"IF(ISNUMBER($G13),IF(AND(chancom!$H13*chancom!$L13*$B13*$C13,$D13=$E13),$G13,\"\"),\"\")","v":""},{"$f":"IF(ISNUMBER($G13),IF(chancom!$H13*chancom!$L13*$C13,IF(K13<>K$33,$G13,\"\"),\"\"),\"\")","v":""},"",{"$f":"IF(ISNUMBER($G13),IF(AND(chancom!$I13*chancom!$L13*$B13*$C13,$D13=$E13),$G13,\"\"),\"\")","v":""},{"$f":"IF(ISNUMBER($G13),IF(chancom!$I13*chancom!$L13*$C13,IF(N13<>N$33,$G13,\"\"),\"\"),\"\")","v":""},"",{"$f":"IF(ISNUMBER($G13),IF(AND(chancom!$J13*chancom!$L13*$B13*$C13,$D13=$E13),$G13,\"\"),\"\")","v":""},{"$f":"IF(ISNUMBER($G13),IF(chancom!$J13*chancom!$L13*$C13,IF(Q13<>Q$33,$G13,\"\"),\"\"),\"\")","v":""},""]
[{"$f":"chancom!A14","v":"Events"},0,1,2,2,{"$f":"C14*(chancom!C14+E14*chancom!D14*chancom!E14/1000)","v":0},{"$f":"IF(F14*chancom!E14*chancom!F14<=0,\"\",F14/(chancom!E14*chancom!F14))","v":""},{"$f":"IF(ISNUMBER($G14),IF(AND(chancom!$G14*chancom!$L14*$B14*$C14,$D14=$E14),$G14,\"\"),\"\")","v":""},{"$f":"IF(ISNUMBER($G14),IF(chancom!$G14*chancom!$L14*$C14,IF(H14<>H$33,$G14,\"\"),\"\"),\"\")","v":""},"",{"$f":"IF(ISNUMBER($G14),IF(AND(chancom!$H14*chancom!$L14*$B14*$C14,$D14=$E14),$G14,\"\"),\"\")","v":""},{"$f":"IF(ISNUMBER($G14),IF(chancom!$H14*chancom!$L14*$C14,IF(K14<>K$33,$G14,\"\"),\"\"),\"\")","v":""},"",{"$f":"IF(ISNUMBER($G14),IF(AND(chancom!$I14*chancom!$L14*$B14*$C14,$D14=$E14),$G14,\"\"),\"\")","v":""},{"$f":"IF(ISNUMBER($G14),IF(chancom!$I14*chancom!$L14*$C14,IF(N14<>N$33,$G14,\"\"),\"\"),\"\")","v":""},"",{"$f":"IF(ISNUMBER($G14),IF(AND(chancom!$J14*chancom!$L14*$B14*$C14,$D14=$E14),$G14,\"\"),\"\")","v":""},{"$f":"IF(ISNUMBER($G14),IF(chancom!$J14*chancom!$L14*$C14,IF(Q14<>Q$33,$G14,\"\"),\"\"),\"\")","v":""},""]
[{"$f":"chancom!A15","v":"Targeted door-drops"},0,0,2,2,{"$f":"C15*(chancom!C15+E15*chancom!D15*chancom!E15/1000)","v":0},{"$f":"IF(F15*chancom!E15*chancom!F15<=0,\"\",F15/(chancom!E15*chancom!F15))","v":""},{"$f":"IF(ISNUMBER($G15),IF(AND(chancom!$G15*chancom!$L15*$B15*$C15,$D15=$E15),$G15,\"\"),\"\")","v":""},{"$f":"IF(ISNUMBER($G15),IF(chancom!$G15*chancom!$L15*$C15,IF(H15<>H$33,$G15,\"\"),\"\"),\"\")","v":""},"",{"$f":"IF(ISNUMBER($G15),IF(AND(chancom!$H15*chancom!$L15*$B15*$C15,$D15=$E15),$G15,\"\"),\"\")","v":""},{"$f":"IF(ISNUMBER($G15),IF(chancom!$H15*chancom!$L15*$C15,IF(K15<>K$33,$G15,\"\"),\"\"),\"\")","v":""},"",{"$f":"IF(ISNUMBER($G15),IF(AND(chancom!$I15*chancom!$L15*$B15*$C15,$D15=$E15),$G15,\"\"),\"\")","v":""},{"$f":"IF(ISNUMBER($G15),IF(chancom!$I15*chancom!$L15*$C15,IF(N15<>N$33,$G15,\"\"),\"\"),\"\")","v":""},"",{"$f":"IF(ISNUMBER($G15),IF(AND(chancom!$J15*chancom!$L15*$B15*$C15,$D15=$E15),$G15,\"\"),\"\")","v":""},{"$f":"IF(ISNUMBER($G15),IF(chancom!$J15*chancom!$L15*$C15,IF(Q15<>Q$33,$G15,\"\"),\"\"),\"\")","v":""},""]
[{"$f":"chancom!A16","v":"Facebook/Twitter content"},0,1,6,6,{"$f":"C16*(chancom!C16+E16*chancom!D16*chancom!E16/1000)","v":0},{"$f":"IF(F16*chancom!E16*chancom!F16<=0,\"\",F16/(chancom!E16*chancom!F16))","v":""},{"$f":"IF(ISNUMBER($G16),IF(AND(chancom!$G16*chancom!$L16*$B16*$C16,$D16=$E16),$G16,\"\"),\"\")","v":""},{"$f":"IF(ISNUMBER($G16),IF(chancom!$G16*chancom!$L16*$C16,IF(H16<>H$33,$G16,\"\"),\"\"),\"\")","v":""},"",{"$f":"IF(ISNUMBER($G16),IF(AND(chancom!$H16*chancom!$L16*$B16*$C16,$D16=$E16),$G16,\"\"),\"\")","v":""},{"$f":"IF(ISNUMBER($G16),IF(chancom!$H16*chancom!$L16*$C16,IF(K16<>K$33,$G16,\"\"),\"\"),\"\")","v":""},"",{"$f":"IF(ISNUMBER($G16),IF(AND(chancom!$I16*chancom!$L16*$B16*$C16,$D16=$E16),$G16,\"\"),\"\")","v":""},{"$f":"IF(ISNUMBER($G16),IF(chancom!$I16*chancom!$L16*$C16,IF(N16<>N$33,$G16,\"\"),\"\"),\"\")","v":""},"",{"$f":"IF(ISNUMBER($G16),IF(AND(chancom!$J16*chancom!$L16*$B16*$C16,$D16=$E16),$G16,\"\"),\"\")","v":""},{"$f":"IF(ISNUMBER($G16),IF(chancom!$J16*chancom!$L16*$C16,IF(Q16<>Q$33,$G16,\"\"),\"\"),\"\")","v":""},""]
[{"$f":"chancom!A17","v":"Develop social conversations"},0,0,4,4,{"$f":"C17*(chancom!C17+E17*chancom!D17*chancom!E17/1000)","v":0},{"$f":"IF(F17*chancom!E17*chancom!F17<=0,\"\",F17/(chancom!E17*chancom!F17))","v":""},{"$f":"IF(ISNUMBER($G17),IF(AND(chancom!$G17*chancom!$L17*$B17*$C17,$D17=$E17),$G17,\"\"),\"\")","v":""},{"$f":"IF(ISNUMBER($G17),IF(chancom!$G17*chancom!$L17*$C17,IF(H17<>H$33,$G17,\"\"),\"\"),\"\")","v":""},"",{"$f":"IF(ISNUMBER($G17),IF(AND(chancom!$H17*chancom!$L17*$B17*$C17,$D17=$E17),$G17,\"\"),\"\")","v":""},{"$f":"IF(ISNUMBER($G17),IF(chancom!$H17*chancom!$L17*$C17,IF(K17<>K$33,$G17,\"\"),\"\"),\"\")","v":""},"",{"$f":"IF(ISNUMBER($G17),IF(AND(chancom!$I17*chancom!$L17*$B17*$C17,$D17=$E17),$G17,\"\"),\"\")","v":""},{"$f":"IF(ISNUMBER($G17),IF(chancom!$I17*chancom!$L17*$C17,IF(N17<>N$33,$G17,\"\"),\"\"),\"\")","v":""},"",{"$f":"IF(ISNUMBER($G17),IF(AND(chancom!$J17*chancom!$L17*$B17*$C17,$D17=$E17),$G17,\"\"),\"\")","v":""},{"$f":"IF(ISNUMBER($G17),IF(chancom!$J17*chancom!$L17*$C17,IF(Q17<>Q$33,$G17,\"\"),\"\"),\"\")","v":""},""]
[{"$f":"chancom!A18","v":"Email prospects"},0,0,4,4,{"$f":"C18*(chancom!C18+E18*chancom!D18*chancom!E18/1000)","v":0},{"$f":"IF(F18*chancom!E18*chancom!F18<=0,\"\",F18/(chancom!E18*chancom!F18))","v":""},{"$f":"IF(ISNUMBER($G18),IF(AND(chancom!$G18*chancom!$L18*$B18*$C18,$D18=$E18),$G18,\"\"),\"\")","v":""},{"$f":"IF(ISNUMBER($G18),IF(chancom!$G18*chancom!$L18*$C18,IF(H18<>H$33,$G18,\"\"),\"\"),\"\")","v":""},"",{"$f":"IF(ISNUMBER($G18),IF(AND(chancom!$H18*chancom!$L18*$B18*$C18,$D18=$E18),$G18,\"\"),\"\")","v":""},{"$f":"IF(ISNUMBER($G18),IF(chancom!$H18*chancom!$L18*$C18,IF(K18<>K$33,$G18,\"\"),\"\"),\"\")","v":""},"",{"$f":"IF(ISNUMBER($G18),IF(AND(chancom!$I18*chancom!$L18*$B18*$C18,$D18=$E18),$G18,\"\"),\"\")","v":""},{"$f":"IF(ISNUMBER($G18),IF(chancom!$I18*chancom!$L18*$C18,IF(N18<>N$33,$G18,\"\"),\"\"),\"\")","v":""},"",{"$f":"IF(ISNUMBER($G18),IF(AND(chancom!$J18*chancom!$L18*$B18*$C18,$D18=$E18),$G18,\"\"),\"\")","v":""},{"$f":"IF(ISNUMBER($G18),IF(chancom!$J18*chancom!$L18*$C18,IF(Q18<>Q$33,$G18,\"\"),\"\"),\"\")","v":""},""]
[{"$f":"chancom!A19","v":"Email customers"},0,1,4,4,{"$f":"C19*(chancom!C19+E19*chancom!D19*chancom!E19/1000)","v":0},{"$f":"IF(F19*chancom!E19*chancom!F19<=0,\"\",F19/(chancom!E19*chancom!F19))","v":""},{"$f":"IF(ISNUMBER($G19),IF(AND(chancom!$G19*chancom!$L19*$B19*$C19,$D19=$E19),$G19,\"\"),\"\")","v":""},{"$f":"IF(ISNUMBER($G19),IF(chancom!$G19*chancom!$L19*$C19,IF(H19<>H$33,$G19,\"\"),\"\"),\"\")","v":""},"",{"$f":"IF(ISNUMBER($G19),IF(AND(chancom!$H19*chancom!$L19*$B19*$C19,$D19=$E19),$G19,\"\"),\"\")","v":""},{"$f":"IF(ISNUMBER($G19),IF(chancom!$H19*chancom!$L19*$C19,IF(K19<>K$33,$G19,\"\"),\"\"),\"\")","v":""},"",{"$f":"IF(ISNUMBER($G19),IF(AND(chancom!$I19*chancom!$L19*$B19*$C19,$D19=$E19),$G19,\"\"),\"\")","v":""},{"$f":"IF(ISNUMBER($G19),IF(chancom!$I19*chancom!$L19*$C19,IF(N19<>N$33,$G19,\"\"),\"\"),\"\")","v":""},"",{"$f":"IF(ISNUMBER($G19),IF(AND(chancom!$J19*chancom!$L19*$B19*$C19,$D19=$E19),$G19,\"\"),\"\")","v":""},{"$f":"IF(ISNUMBER($G19),IF(chancom!$J19*chancom!$L19*$C19,IF(Q19<>Q$33,$G19,\"\"),\"\"),\"\")","v":""},""]
[{"$f":"chancom!A20","v":"Outbound telephone - prospects"},0,0,2,2,{"$f":"C20*(chancom!C20+E20*chancom!D20*chancom!E20/1000)","v":0},{"$f":"IF(F20*chancom!E20*chancom!F20<=0,\"\",F20/(chancom!E20*chancom!F20))","v":""},{"$f":"IF(ISNUMBER($G20),IF(AND(chancom!$G20*chancom!$L20*$B20*$C20,$D20=$E20),$G20,\"\"),\"\")","v":""},{"$f":"IF(ISNUMBER($G20),IF(chancom!$G20*chancom!$L20*$C20,IF(H20<>H$33,$G20,\"\"),\"\"),\"\")","v":""},"",{"$f":"IF(ISNUMBER($G20),IF(AND(chancom!$H20*chancom!$L20*$B20*$C20,$D20=$E20),$G20,\"\"),\"\")","v":""},{"$f":"IF(ISNUMBER($G20),IF(chancom!$H20*chancom!$L20*$C20,IF(K20<>K$33,$G20,\"\"),\"\"),\"\")","v":""},"",{"$f":"IF(ISNUMBER($G20),IF(AND(chancom!$I20*chancom!$L20*$B20*$C20,$D20=$E20),$G20,\"\"),\"\")","v":""},{"$f":"IF(ISNUMBER($G20),IF(chancom!$I20*chancom!$L20*$C20,IF(N20<>N$33,$G20,\"\"),\"\"),\"\")","v":""},"",{"$f":"IF(ISNUMBER($G20),IF(AND(chancom!$J20*chancom!$L20*$B20*$C20,$D20=$E20),$G20,\"\"),\"\")","v":""},{"$f":"IF(ISNUMBER($G20),IF(chancom!$J20*chancom!$L20*$C20,IF(Q20<>Q$33,$G20,\"\"),\"\"),\"\")","v":""},""]
[{"$f":"chancom!A21","v":"Outbound telephone - customers"},0,1,2,2,{"$f":"C21*(chancom!C21+E21*chancom!D21*chancom!E21/1000)","v":0},{"$f":"IF(F21*chancom!E21*chancom!F21<=0,\"\",F21/(chancom!E21*chancom!F21))","v":""},{"$f":"IF(ISNUMBER($G21),IF(AND(chancom!$G21*chancom!$L21*$B21*$C21,$D21=$E21),$G21,\"\"),\"\")","v":""},{"$f":"IF(ISNUMBER($G21),IF(chancom!$G21*chancom!$L21*$C21,IF(H21<>H$33,$G21,\"\"),\"\"),\"\")","v":""},"",{"$f":"IF(ISNUMBER($G21),IF(AND(chancom!$H21*chancom!$L21*$B21*$C21,$D21=$E21),$G21,\"\"),\"\")","v":""},{"$f":"IF(ISNUMBER($G21),IF(chancom!$H21*chancom!$L21*$C21,IF(K21<>K$33,$G21,\"\"),\"\"),\"\")","v":""},"",{"$f":"IF(ISNUMBER($G21),IF(AND(chancom!$I21*chancom!$L21*$B21*$C21,$D21=$E21),$G21,\"\"),\"\")","v":""},{"$f":"IF(ISNUMBER($G21),IF(chancom!$I21*chancom!$L21*$C21,IF(N21<>N$33,$G21,\"\"),\"\"),\"\")","v":""},"",{"$f":"IF(ISNUMBER($G21),IF(AND(chancom!$J21*chancom!$L21*$B21*$C21,$D21=$E21),$G21,\"\"),\"\")","v":""},{"$f":"IF(ISNUMBER($G21),IF(chancom!$J21*chancom!$L21*$C21,IF(Q21<>Q$33,$G21,\"\"),\"\"),\"\")","v":""},""]
[{"$f":"chancom!A22","v":"Direct mail - external lists"},0,0,3,3,{"$f":"C22*(chancom!C22+E22*chancom!D22*chancom!E22/1000)","v":0},{"$f":"IF(F22*chancom!E22*chancom!F22<=0,\"\",F22/(chancom!E22*chancom!F22))","v":""},{"$f":"IF(ISNUMBER($G22),IF(AND(chancom!$G22*chancom!$L22*$B22*$C22,$D22=$E22),$G22,\"\"),\"\")","v":""},{"$f":"IF(ISNUMBER($G22),IF(chancom!$G22*chancom!$L22*$C22,IF(H22<>H$33,$G22,\"\"),\"\"),\"\")","v":""},"",{"$f":"IF(ISNUMBER($G22),IF(AND(chancom!$H22*chancom!$L22*$B22*$C22,$D22=$E22),$G22,\"\"),\"\")","v":""},{"$f":"IF(ISNUMBER($G22),IF(chancom!$H22*chancom!$L22*$C22,IF(K22<>K$33,$G22,\"\"),\"\"),\"\")","v":""},"",{"$f":"IF(ISNUMBER($G22),IF(AND(chancom!$I22*chancom!$L22*$B22*$C22,$D22=$E22),$G22,\"\"),\"\")","v":""},{"$f":"IF(ISNUMBER($G22),IF(chancom!$I22*chancom!$L22*$C22,IF(N22<>N$33,$G22,\"\"),\"\"),\"\")","v":""},"",{"$f":"IF(ISNUMBER($G22),IF(AND(chancom!$J22*chancom!$L22*$B22*$C22,$D22=$E22),$G22,\"\"),\"\")","v":""},{"$f":"IF(ISNUMBER($G22),IF(chancom!$J22*chancom!$L22*$C22,IF(Q22<>Q$33,$G22,\"\"),\"\"),\"\")","v":""},""]
[{"$f":"chancom!A23","v":"Direct mail - customer database"},1,1,3,3,{"$f":"C23*(chancom!C23+E23*chancom!D23*chancom!E23/1000)","v":0},{"$f":"IF(F23*chancom!E23*chancom!F23<=0,\"\",F23/(chancom!E23*chancom!F23))","v":""},{"$f":"IF(ISNUMBER($G23),IF(AND(chancom!$G23*chancom!$L23*$B23*$C23,$D23=$E23),$G23,\"\"),\"\")","v":""},{"$f":"IF(ISNUMBER($G23),IF(chancom!$G23*chancom!$L23*$C23,IF(H23<>H$33,$G23,\"\"),\"\"),\"\")","v":""},{"$f":"IF(AND(ISNUMBER(H23),NOT(ISNUMBER(I23))),0,IF(ISNUMBER(I23),RANK(I23,I$3:I$32,1),\"\"))","v":""},{"$f":"IF(ISNUMBER($G23),IF(AND(chancom!$H23*chancom!$L23*$B23*$C23,$D23=$E23),$G23,\"\"),\"\")","v":""},{"$f":"IF(ISNUMBER($G23),IF(chancom!$H23*chancom!$L23*$C23,IF(K23<>K$33,$G23,\"\"),\"\"),\"\")","v":""},{"$f":"IF(AND(ISNUMBER(K23),NOT(ISNUMBER(L23))),0,IF(ISNUMBER(L23),RANK(L23,L$3:L$32,1),\"\"))","v":""},{"$f":"IF(ISNUMBER($G23),IF(AND(chancom!$I23*chancom!$L23*$B23*$C23,$D23=$E23),$G23,\"\"),\"\")","v":""},{"$f":"IF(ISNUMBER($G23),IF(chancom!$I23*chancom!$L23*$C23,IF(N23<>N$33,$G23,\"\"),\"\"),\"\")","v":""},{"$f":"IF(AND(ISNUMBER(N23),NOT(ISNUMBER(O23))),0,IF(ISNUMBER(O23),RANK(O23,O$3:O$32,1),\"\"))","v":""},{"$f":"IF(ISNUMBER($G23),IF(AND(chancom!$J23*chancom!$L23*$B23*$C23,$D23=$E23),$G23,\"\"),\"\")","v":""},{"$f":"IF(ISNUMBER($G23),IF(chancom!$J23*chancom!$L23*$C23,IF(Q23<>Q$33,$G23,\"\"),\"\"),\"\")","v":""},{"$f":"IF(AND(ISNUMBER(Q23),NOT(ISNUMBER(R23))),0,IF(ISNUMBER(R23),RANK(R23,R$3:R$32,1),\"\"))","v":""}]
[{"$f":"chancom!A24","v":"Trade shows and exhibitions"},0,0,1,1,{"$f":"C24*(chancom!C24+E24*chancom!D24*chancom!E24/1000)","v":0},{"$f":"IF(F24*chancom!E24*chancom!F24<=0,\"\",F24/(chancom!E24*chancom!F24))","v":""},{"$f":"IF(ISNUMBER($G24),IF(AND(chancom!$G24*chancom!$L24*$B24*$C24,$D24=$E24),$G24,\"\"),\"\")","v":""},{"$f":"IF(ISNUMBER($G24),IF(chancom!$G24*chancom!$L24*$C24,IF(H24<>H$33,$G24,\"\"),\"\"),\"\")","v":""},{"$f":"IF(AND(ISNUMBER(H24),NOT(ISNUMBER(I24))),0,IF(ISNUMBER(I24),RANK(I24,I$3:I$32,1),\"\"))","v":""},{"$f":"IF(ISNUMBER($G24),IF(AND(chancom!$H24*chancom!$L24*$B24*$C24,$D24=$E24),$G24,\"\"),\"\")","v":""},{"$f":"IF(ISNUMBER($G24),IF(chancom!$H24*chancom!$L24*$C24,IF(K24<>K$33,$G24,\"\"),\"\"),\"\")","v":""},{"$f":"IF(AND(ISNUMBER(K24),NOT(ISNUMBER(L24))),0,IF(ISNUMBER(L24),RANK(L24,L$3:L$32,1),\"\"))","v":""},{"$f":"IF(ISNUMBER($G24),IF(AND(chancom!$I24*chancom!$L24*$B24*$C24,$D24=$E24),$G24,\"\"),\"\")","v":""},{"$f":"IF(ISNUMBER($G24),IF(chancom!$I24*chancom!$L24*$C24,IF(N24<>N$33,$G24,\"\"),\"\"),\"\")","v":""},{"$f":"IF(AND(ISNUMBER(N24),NOT(ISNUMBER(O24))),0,IF(ISNUMBER(O24),RANK(O24,O$3:O$32,1),\"\"))","v":""},{"$f":"IF(ISNUMBER($G24),IF(AND(chancom!$J24*chancom!$L24*$B24*$C24,$D24=$E24),$G24,\"\"),\"\")","v":""},{"$f":"IF(ISNUMBER($G24),IF(chancom!$J24*chancom!$L24*$C24,IF(Q24<>Q$33,$G24,\"\"),\"\"),\"\")","v":""},{"$f":"IF(AND(ISNUMBER(Q24),NOT(ISNUMBER(R24))),0,IF(ISNUMBER(R24),RANK(R24,R$3:R$32,1),\"\"))","v":""}]
[{"$f":"chancom!A25","v":"Produce brochure"},0,0,1,1,{"$f":"C25*(chancom!C25+E25*chancom!D25*chancom!E25/1000)","v":0},{"$f":"IF(F25*chancom!E25*chancom!F25<=0,\"\",F25/(chancom!E25*chancom!F25))","v":""},{"$f":"IF(ISNUMBER($G25),IF(AND(chancom!$G25*chancom!$L25*$B25*$C25,$D25=$E25),$G25,\"\"),\"\")","v":""},{"$f":"IF(ISNUMBER($G25),IF(chancom!$G25*chancom!$L25*$C25,IF(H25<>H$33,$G25,\"\"),\"\"),\"\")","v":""},{"$f":"IF(AND(ISNUMBER(H25),NOT(ISNUMBER(I25))),0,IF(ISNUMBER(I25),RANK(I25,I$3:I$32,1),\"\"))","v":""},{"$f":"IF(ISNUMBER($G25),IF(AND(chancom!$H25*chancom!$L25*$B25*$C25,$D25=$E25),$G25,\"\"),\"\")","v":""},{"$f":"IF(ISNUMBER($G25),IF(chancom!$H25*chancom!$L25*$C25,IF(K25<>K$33,$G25,\"\"),\"\"),\"\")","v":""},{"$f":"IF(AND(ISNUMBER(K25),NOT(ISNUMBER(L25))),0,IF(ISNUMBER(L25),RANK(L25,L$3:L$32,1),\"\"))","v":""},{"$f":"IF(ISNUMBER($G25),IF(AND(chancom!$I25*chancom!$L25*$B25*$C25,$D25=$E25),$G25,\"\"),\"\")","v":""},{"$f":"IF(ISNUMBER($G25),IF(chancom!$I25*chancom!$L25*$C25,IF(N25<>N$33,$G25,\"\"),\"\"),\"\")","v":""},{"$f":"IF(AND(ISNUMBER(N25),NOT(ISNUMBER(O25))),0,IF(ISNUMBER(O25),RANK(O25,O$3:O$32,1),\"\"))","v":""},{"$f":"IF(ISNUMBER($G25),IF(AND(chancom!$J25*chancom!$L25*$B25*$C25,$D25=$E25),$G25,\"\"),\"\")","v":""},{"$f":"IF(ISNUMBER($G25),IF(chancom!$J25*chancom!$L25*$C25,IF(Q25<>Q$33,$G25,\"\"),\"\"),\"\")","v":""},{"$f":"IF(AND(ISNUMBER(Q25),NOT(ISNUMBER(R25))),0,IF(ISNUMBER(R25),RANK(R25,R$3:R$32,1),\"\"))","v":""}]
[{"$f":"chancom!A26","v":"Ecommerce development"},{"$f":"IF('q&a'!$F$33,1,0)","v":0},{"$f":"IF('q&a'!$F$33,1,0)","v":0},1,1,{"$f":"C26*(chancom!C26+E26*chancom!D26*chancom!E26/1000)","v":0},{"$f":"IF(F26*chancom!E26*chancom!F26<=0,\"\",F26/(chancom!E26*chancom!F26))","v":""},{"$f":"IF(ISNUMBER($G26),IF(AND(chancom!$G26*chancom!$L26*$B26*$C26,$D26=$E26),$G26,\"\"),\"\")","v":""},{"$f":"IF(ISNUMBER($G26),IF(chancom!$G26*chancom!$L26*$C26,IF(H26<>H$33,$G26,\"\"),\"\"),\"\")","v":""},"",{"$f":"IF(ISNUMBER($G26),IF(AND(chancom!$H26*chancom!$L26*$B26*$C26,$D26=$E26),$G26,\"\"),\"\")","v":""},{"$f":"IF(ISNUMBER($G26),IF(chancom!$H26*chancom!$L26*$C26,IF(K26<>K$33,$G26,\"\"),\"\"),\"\")","v":""},"",{"$f":"IF(ISNUMBER($G26),IF(AND(chancom!$I26*chancom!$L26*$B26*$C26,$D26=$E26),$G26,\"\"),\"\")","v":""},{"$f":"IF(ISNUMBER($G26),IF(chancom!$I26*chancom!$L26*$C26,IF(N26<>N$33,$G26,\"\"),\"\"),\"\")","v":""},"",{"$f":"IF(ISNUMBER($G26),IF(AND(chancom!$J26*chancom!$L26*$B26*$C26,$D26=$E26),$G26,\"\"),\"\")","v":""},{"$f":"IF(ISNUMBER($G26),IF(chancom!$J26*chancom!$L26*$C26,IF(Q26<>Q$33,$G26,\"\"),\"\"),\"\")","v":""},""]
[{"$f":"chancom!A27","v":"Web search term advertising"},0,0,3,3,{"$f":"C27*(chancom!C27+E27*chancom!D27*chancom!E27/1000)","v":0},{"$f":"IF(F27*chancom!E27*chancom!F27<=0,\"\",F27/(chancom!E27*chancom!F27))","v":""},{"$f":"IF(ISNUMBER($G27),IF(AND(chancom!$G27*chancom!$L27*$B27*$C27,$D27=$E27),$G27,\"\"),\"\")","v":""},{"$f":"IF(ISNUMBER($G27),IF(chancom!$G27*chancom!$L27*$C27,IF(H27<>H$33,$G27,\"\"),\"\"),\"\")","v":""},"",{"$f":"IF(ISNUMBER($G27),IF(AND(chancom!$H27*chancom!$L27*$B27*$C27,$D27=$E27),$G27,\"\"),\"\")","v":""},{"$f":"IF(ISNUMBER($G27),IF(chancom!$H27*chancom!$L27*$C27,IF(K27<>K$33,$G27,\"\"),\"\"),\"\")","v":""},"",{"$f":"IF(ISNUMBER($G27),IF(AND(chancom!$I27*chancom!$L27*$B27*$C27,$D27=$E27),$G27,\"\"),\"\")","v":""},{"$f":"IF(ISNUMBER($G27),IF(chancom!$I27*chancom!$L27*$C27,IF(N27<>N$33,$G27,\"\"),\"\"),\"\")","v":""},"",{"$f":"IF(ISNUMBER($G27),IF(AND(chancom!$J27*chancom!$L27*$B27*$C27,$D27=$E27),$G27,\"\"),\"\")","v":""},{"$f":"IF(ISNUMBER($G27),IF(chancom!$J27*chancom!$L27*$C27,IF(Q27<>Q$33,$G27,\"\"),\"\"),\"\")","v":""},""]
[{"$f":"chancom!A28","v":"Web advertising"},0,0,4,4,{"$f":"C28*(chancom!C28+E28*chancom!D28*chancom!E28/1000)","v":0},{"$f":"IF(F28*chancom!E28*chancom!F28<=0,\"\",F28/(chancom!E28*chancom!F28))","v":""},{"$f":"IF(ISNUMBER($G28),IF(AND(chancom!$G28*chancom!$L28*$B28*$C28,$D28=$E28),$G28,\"\"),\"\")","v":""},{"$f":"IF(ISNUMBER($G28),IF(chancom!$G28*chancom!$L28*$C28,IF(H28<>H$33,$G28,\"\"),\"\"),\"\")","v":""},"",{"$f":"IF(ISNUMBER($G28),IF(AND(chancom!$H28*chancom!$L28*$B28*$C28,$D28=$E28),$G28,\"\"),\"\")","v":""},{"$f":"IF(ISNUMBER($G28),IF(chancom!$H28*chancom!$L28*$C28,IF(K28<>K$33,$G28,\"\"),\"\"),\"\")","v":""},"",{"$f":"IF(ISNUMBER($G28),IF(AND(chancom!$I28*chancom!$L28*$B28*$C28,$D28=$E28),$G28,\"\"),\"\")","v":""},{"$f":"IF(ISNUMBER($G28),IF(chancom!$I28*chancom!$L28*$C28,IF(N28<>N$33,$G28,\"\"),\"\"),\"\")","v":""},"",{"$f":"IF(ISNUMBER($G28),IF(AND(chancom!$J28*chancom!$L28*$B28*$C28,$D28=$E28),$G28,\"\"),\"\")","v":""},{"$f":"IF(ISNUMBER($G28),IF(chancom!$J28*chancom!$L28*$C28,IF(Q28<>Q$33,$G28,\"\"),\"\"),\"\")","v":""},""]
[{"$f":"chancom!A29","v":"Develop website/landing page"},0,0,1,1,{"$f":"C29*(chancom!C29+E29*chancom!D29*chancom!E29/1000)","v":0},{"$f":"IF(F29*chancom!E29*chancom!F29<=0,\"\",F29/(chancom!E29*chancom!F29))","v":""},{"$f":"IF(ISNUMBER($G29),IF(AND(chancom!$G29*chancom!$L29*$B29*$C29,$D29=$E29),$G29,\"\"),\"\")","v":""},{"$f":"IF(ISNUMBER($G29),IF(chancom!$G29*chancom!$L29*$C29,IF(H29<>H$33,$G29,\"\"),\"\"),\"\")","v":""},"",{"$f":"IF(ISNUMBER($G29),IF(AND(chancom!$H29*chancom!$L29*$B29*$C29,$D29=$E29),$G29,\"\"),\"\")","v":""},{"$f":"IF(ISNUMBER($G29),IF(chancom!$H29*chancom!$L29*$C29,IF(K29<>K$33,$G29,\"\"),\"\"),\"\")","v":""},"",{"$f":"IF(ISNUMBER($G29),IF(AND(chancom!$I29*chancom!$L29*$B29*$C29,$D29=$E29),$G29,\"\"),\"\")","v":""},{"$f":"IF(ISNUMBER($G29),IF(chancom!$I29*chancom!$L29*$C29,IF(N29<>N$33,$G29,\"\"),\"\"),\"\")","v":""},"",{"$f":"IF(ISNUMBER($G29),IF(AND(chancom!$J29*chancom!$L29*$B29*$C29,$D29=$E29),$G29,\"\"),\"\")","v":""},{"$f":"IF(ISNUMBER($G29),IF(chancom!$J29*chancom!$L29*$C29,IF(Q29<>Q$33,$G29,\"\"),\"\"),\"\")","v":""},""]
[{"$f":"chancom!A30","v":"Produce point-of-sale materials"},0,0,1,1,{"$f":"C30*(chancom!C30+E30*chancom!D30*chancom!E30/1000)","v":0},{"$f":"IF(F30*chancom!E30*chancom!F30<=0,\"\",F30/(chancom!E30*chancom!F30))","v":""},{"$f":"IF(ISNUMBER($G30),IF(AND(chancom!$G30*chancom!$L30*$B30*$C30,$D30=$E30),$G30,\"\"),\"\")","v":""},{"$f":"IF(ISNUMBER($G30),IF(chancom!$G30*chancom!$L30*$C30,IF(H30<>H$33,$G30,\"\"),\"\"),\"\")","v":""},"",{"$f":"IF(ISNUMBER($G30),IF(AND(chancom!$H30*chancom!$L30*$B30*$C30,$D30=$E30),$G30,\"\"),\"\")","v":""},{"$f":"IF(ISNUMBER($G30),IF(chancom!$H30*chancom!$L30*$C30,IF(K30<>K$33,$G30,\"\"),\"\"),\"\")","v":""},"",{"$f":"IF(ISNUMBER($G30),IF(AND(chancom!$I30*chancom!$L30*$B30*$C30,$D30=$E30),$G30,\"\"),\"\")","v":""},{"$f":"IF(ISNUMBER($G30),IF(chancom!$I30*chancom!$L30*$C30,IF(N30<>N$33,$G30,\"\"),\"\"),\"\")","v":""},"",{"$f":"IF(ISNUMBER($G30),IF(AND(chancom!$J30*chancom!$L30*$B30*$C30,$D30=$E30),$G30,\"\"),\"\")","v":""},{"$f":"IF(ISNUMBER($G30),IF(chancom!$J30*chancom!$L30*$C30,IF(Q30<>Q$33,$G30,\"\"),\"\"),\"\")","v":""},""]
[{"$f":"chancom!A31","v":"Inbound telephone centre"},0,0,2,2,{"$f":"C31*(chancom!C31+E31*chancom!D31*chancom!E31/1000)","v":0},{"$f":"IF(F31*chancom!E31*chancom!F31<=0,\"\",F31/(chancom!E31*chancom!F31))","v":""},{"$f":"IF(ISNUMBER($G31),IF(AND(chancom!$G31*chancom!$L31*$B31*$C31,$D31=$E31),$G31,\"\"),\"\")","v":""},{"$f":"IF(ISNUMBER($G31),IF(chancom!$G31*chancom!$L31*$C31,IF(H31<>H$33,$G31,\"\"),\"\"),\"\")","v":""},"",{"$f":"IF(ISNUMBER($G31),IF(AND(chancom!$H31*chancom!$L31*$B31*$C31,$D31=$E31),$G31,\"\"),\"\")","v":""},{"$f":"IF(ISNUMBER($G31),IF(chancom!$H31*chancom!$L31*$C31,IF(K31<>K$33,$G31,\"\"),\"\"),\"\")","v":""},"",{"$f":"IF(ISNUMBER($G31),IF(AND(chancom!$I31*chancom!$L31*$B31*$C31,$D31=$E31),$G31,\"\"),\"\")","v":""},{"$f":"IF(ISNUMBER($G31),IF(chancom!$I31*chancom!$L31*$C31,IF(N31<>N$33,$G31,\"\"),\"\"),\"\")","v":""},"",{"$f":"IF(ISNUMBER($G31),IF(AND(chancom!$J31*chancom!$L31*$B31*$C31,$D31=$E31),$G31,\"\"),\"\")","v":""},{"$f":"IF(ISNUMBER($G31),IF(chancom!$J31*chancom!$L31*$C31,IF(Q31<>Q$33,$G31,\"\"),\"\"),\"\")","v":""},""]
[{"$f":"chancom!A32","v":"Employ sales force"},{"$f":"IF('q&a'!$F$31,1,0)","v":0},{"$f":"IF('q&a'!$F$31,1,0)","v":0},1,1,{"$f":"C32*(chancom!C32+E32*chancom!D32*chancom!E32/1000)","v":0},{"$f":"IF(F32*chancom!E32*chancom!F32<=0,\"\",F32/(chancom!E32*chancom!F32))","v":""},{"$f":"IF(ISNUMBER($G32),IF(AND(chancom!$G32*chancom!$L32*$B32*$C32,$D32=$E32),$G32,\"\"),\"\")","v":""},{"$f":"IF(ISNUMBER($G32),IF(chancom!$G32*chancom!$L32*$C32,IF(H32<>H$33,$G32,\"\"),\"\"),\"\")","v":""},"",{"$f":"IF(ISNUMBER($G32),IF(AND(chancom!$H32*chancom!$L32*$B32*$C32,$D32=$E32),$G32,\"\"),\"\")","v":""},{"$f":"IF(ISNUMBER($G32),IF(chancom!$H32*chancom!$L32*$C32,IF(K32<>K$33,$G32,\"\"),\"\"),\"\")","v":""},"",{"$f":"IF(ISNUMBER($G32),IF(AND(chancom!$I32*chancom!$L32*$B32*$C32,$D32=$E32),$G32,\"\"),\"\")","v":""},{"$f":"IF(ISNUMBER($G32),IF(chancom!$I32*chancom!$L32*$C32,IF(N32<>N$33,$G32,\"\"),\"\"),\"\")","v":""},"",{"$f":"IF(ISNUMBER($G32),IF(AND(chancom!$J32*chancom!$L32*$B32*$C32,$D32=$E32),$G32,\"\"),\"\")","v":""},{"$f":"IF(ISNUMBER($G32),IF(chancom!$J32*chancom!$L32*$C32,IF(Q32<>Q$33,$G32,\"\"),\"\"),\"\")","v":""},""]
[null,null,null,null,null,null,null,{"$f":"MIN(H3:H32)","v":0},null,null,{"$f":"MIN(K3:K32)","v":0},null,null,{"$f":"MIN(N3:N32)","v":0},null,null,{"$f":"MIN(Q3:Q32)","v":0}]

{"sheet":"chancs","index":6,"n_rows":33,"n_cols":19,"rows_kept":33,"cut":false,"hidden":true,"merged":[]}
["Channel - customer sustain","Core","Perm","Eff Wgt","Adj Wgt","Tot Cost","Cost/Contact","Alert",null,null,"Inform",null,null,"Set Appt",null,null,"Close Sale"]
[null,null,null,null,null,null,null,"core","eligible","rank","core","eligible","rank","core","eligible","rank","core","eligible","rank"]
[{"$f":"chancom!A3","v":"TV advertising"},0,{"$f":"IF('q&a'!$I$43<1,0,0)","v":0},{"$f":"IF('q&a'!$I$43>1,'q&a'!$I$43,1)*chancp!D3","v":8},{"$f":"IF(AND((chancom!C3+D3*chancom!D3*chancom!E3/1000)/(chancom!E3*chancom!F3)>V!$B$5,B3=1),chanpp!E3,D3)","v":{"$error":"#DIV/0!"}},{"$f":"C3*(chancom!C3+E3*chancom!D3*chancom!E3/1000)","v":{"$error":"#DIV/0!"}},{"$f":"IF(F3*chancom!E3*chancom!F3<=0,\"\",F3/(chancom!E3*chancom!F3))","v":{"$error":"#DIV/0!"}},{"$f":"IF(ISNUMBER($G3),IF(AND(chancom!$G3*chancom!$L3*$B3*$C3,$D3=$E3),$G3,\"\"),\"\")","v":""},{"$f":"IF(ISNUMBER($G3),IF(chancom!$G3*chancom!$L3*$C3,IF(H3<>H$33,$G3,\"\"),\"\"),\"\")","v":""},{"$f":"IF(AND(ISNUMBER(H3),NOT(ISNUMBER(I3))),0,IF(ISNUMBER(I3),RANK(I3,I$3:I$32,1),\"\"))","v":""},{"$f":"IF(ISNUMBER($G3),IF(AND(chancom!$H3*chancom!$L3*$B3*$C3,$D3=$E3),$G3,\"\"),\"\")","v":""},{"$f":"IF(ISNUMBER($G3),IF(chancom!$H3*chancom!$L3*$C3,IF(K3<>K$33,$G3,\"\"),\"\"),\"\")","v":""},{"$f":"IF(AND(ISNUMBER(K3),NOT(ISNUMBER(L3))),0,IF(ISNUMBER(L3),RANK(L3,L$3:L$32,1),\"\"))","v":""},{"$f":"IF(ISNUMBER($G3),IF(AND(chancom!$I3*chancom!$L3*$B3*$C3,$D3=$E3),$G3,\"\"),\"\")","v":""},{"$f":"IF(ISNUMBER($G3),IF(chancom!$I3*chancom!$L3*$C3,IF(N3<>N$33,$G3,\"\"),\"\"),\"\")","v":""},{"$f":"IF(AND(ISNUMBER(N3),NOT(ISNUMBER(O3))),0,IF(ISNUMBER(O3),RANK(O3,O$3:O$32,1),\"\"))","v":""},{"$f":"IF(ISNUMBER($G3),IF(AND(chancom!$J3*chancom!$L3*$B3*$C3,$D3=$E3),$G3,\"\"),\"\")","v":""},{"$f":"IF(ISNUMBER($G3),IF(chancom!$J3*chancom!$L3*$C3,IF(Q3<>Q$33,$G3,\"\"),\"\"),\"\")","v":""},{"$f":"IF(AND(ISNUMBER(Q3),NOT(ISNUMBER(R3))),0,IF(ISNUMBER(R3),RANK(R3,R$3:R$32,1),\"\"))","v":""}]
[{"$f":"chancom!A4","v":"Direct Response TV"},0,{"$f":"IF('q&a'!$I$43<1,0,0)","v":0},{"$f":"IF('q&a'!$I$43>1,'q&a'!$I$43,1)*chancp!D4","v":3},{"$f":"IF(AND((chancom!C4+D4*chancom!D4*chancom!E4/1000)/(chancom!E4*chancom!F4)>V!$B$6,B4=1),chancp!E4,D4)","v":{"$error":"#DIV/0!"}},{"$f":"C4*(chancom!C4+E4*chancom!D4*chancom!E4/1000)","v":{"$error":"#DIV/0!"}},{"$f":"IF(F4*chancom!E4*chancom!F4<=0,\"\",F4/(chancom!E4*chancom!F4))","v":{"$error":"#DIV/0!"}},{"$f":"IF(ISNUMBER($G4),IF(AND(chancom!$G4*chancom!$L4*$B4*$C4,$D4=$E4),$G4,\"\"),\"\")","v":""},{"$f":"IF(ISNUMBER($G4),IF(chancom!$G4*chancom!$L4*$C4,IF(H4<>H$33,$G4,\"\"),\"\"),\"\")","v":""},"",{"$f":"IF(ISNUMBER($G4),IF(AND(chancom!$H4*chancom!$L4*$B4*$C4,$D4=$E4),$G4,\"\"),\"\")","v":""},{"$f":"IF(ISNUMBER($G4),IF(chancom!$H4*chancom!$L4*$C4,IF(K4<>K$33,$G4,\"\"),\"\"),\"\")","v":""},"",{"$f":"IF(ISNUMBER($G4),IF(AND(chancom!$I4*chancom!$L4*$B4*$C4,$D4=$E4),$G4,\"\"),\"\")","v":""},{"$f":"IF(ISNUMBER($G4),IF(chancom!$I4*chancom!$L4*$C4,IF(N4<>N$33,$G4,\"\"),\"\"),\"\")","v":""},"",{"$f":"IF(ISNUMBER($G4),IF(AND(chancom!$J4*chancom!$L4*$B4*$C4,$D4=$E4),$G4,\"\"),\"\")","v":""},{"$f":"IF(ISNUMBER($G4),IF(chancom!$J4*chancom!$L4*$C4,IF(Q4<>Q$33,$G4,\"\"),\"\"),\"\")","v":""},""]
[{"$f":"chancom!A5","v":"Radio advertising"},0,{"$f":"IF('q&a'!$I$43<1,0,0)","v":0},{"$f":"IF('q&a'!$I$43>1,'q&a'!$I$43,1)*chancp!D5","v":8},{"$f":"IF(AND((chancom!C5+D5*chancom!D5*chancom!E5/1000)/(chancom!E5*chancom!F5)>V!$B$6,B5=1),chancp!E5,D5)","v":{"$error":"#DIV/0!"}},{"$f":"C5*(chancom!C5+E5*chancom!D5*chancom!E5/1000)","v":{"$error":"#DIV/0!"}},{"$f":"IF(F5*chancom!E5*chancom!F5<=0,\"\",F5/(chancom!E5*chancom!F5))","v":{"$error":"#DIV/0!"}},{"$f":"IF(ISNUMBER($G5),IF(AND(chancom!$G5*chancom!$L5*$B5*$C5,$D5=$E5),$G5,\"\"),\"\")","v":""},{"$f":"IF(ISNUMBER($G5),IF(chancom!$G5*chancom!$L5*$C5,IF(H5<>H$33,$G5,\"\"),\"\"),\"\")","v":""},"",{"$f":"IF(ISNUMBER($G5),IF(AND(chancom!$H5*chancom!$L5*$B5*$C5,$D5=$E5),$G5,\"\"),\"\")","v":""},{"$f":"IF(ISNUMBER($G5),IF(chancom!$H5*chancom!$L5*$C5,IF(K5<>K$33,$G5,\"\"),\"\"),\"\")","v":""},"",{"$f":"IF(ISNUMBER($G5),IF(AND(chancom!$I5*chancom!$L5*$B5*$C5,$D5=$E5),$G5,\"\"),\"\")","v":""},{"$f":"IF(ISNUMBER($G5),IF(chancom!$I5*chancom!$L5*$C5,IF(N5<>N$33,$G5,\"\"),\"\"),\"\")","v":""},"",{"$f":"IF(ISNUMBER($G5),IF(AND(chancom!$J5*chancom!$L5*$B5*$C5,$D5=$E5),$G5,\"\"),\"\")","v":""},{"$f":"IF(ISNUMBER($G5),IF(chancom!$J5*chancom!$L5*$C5,IF(Q5<>Q$33,$G5,\"\"),\"\"),\"\")","v":""},""]
[{"$f":"chancom!A6","v":"Cinema advertising"},0,0,{"$f":"IF('q&a'!$I$43>1,'q&a'!$I$43,1)*chancp!D6","v":4},{"$f":"IF(AND((chancom!C6+D6*chancom!D6*chancom!E6/1000)/(chancom!E6*chancom!F6)>V!$B$6,B6=1),chancp!E6,D6)","v":{"$error":"#DIV/0!"}},{"$f":"C6*(chancom!C6+E6*chancom!D6*chancom!E6/1000)","v":{"$error":"#DIV/0!"}},{"$f":"IF(F6*chancom!E6*chancom!F6<=0,\"\",F6/(chancom!E6*chancom!F6))","v":{"$error":"#DIV/0!"}},{"$f":"IF(ISNUMBER($G6),IF(AND(chancom!$G6*chancom!$L6*$B6*$C6,$D6=$E6),$G6,\"\"),\"\")","v":""},{"$f":"IF(ISNUMBER($G6),IF(chancom!$G6*chancom!$L6*$C6,IF(H6<>H$33,$G6,\"\"),\"\"),\"\")","v":""},{"$f":"IF(AND(ISNUMBER(H6),NOT(ISNUMBER(I6))),0,IF(ISNUMBER(I6),RANK(I6,I$3:I$32,1),\"\"))","v":""},{"$f":"IF(ISNUMBER($G6),IF(AND(chancom!$H6*chancom!$L6*$B6*$C6,$D6=$E6),$G6,\"\"),\"\")","v":""},{"$f":"IF(ISNUMBER($G6),IF(chancom!$H6*chancom!$L6*$C6,IF(K6<>K$33,$G6,\"\"),\"\"),\"\")","v":""},{"$f":"IF(AND(ISNUMBER(K6),NOT(ISNUMBER(L6))),0,IF(ISNUMBER(L6),RANK(L6,L$3:L$32,1),\"\"))","v":""},{"$f":"IF(ISNUMBER($G6),IF(AND(chancom!$I6*chancom!$L6*$B6*$C6,$D6=$E6),$G6,\"\"),\"\")","v":""},{"$f":"IF(ISNUMBER($G6),IF(chancom!$I6*chancom!$L6*$C6,IF(N6<>N$33,$G6,\"\"),\"\"),\"\")","v":""},{"$f":"IF(AND(ISNUMBER(N6),NOT(ISNUMBER(O6))),0,IF(ISNUMBER(O6),RANK(O6,O$3:O$32,1),\"\"))","v":""},{"$f":"IF(ISNUMBER($G6),IF(AND(chancom!$J6*chancom!$L6*$B6*$C6,$D6=$E6),$G6,\"\"),\"\")","v":""},{"$f":"IF(ISNUMBER($G6),IF(chancom!$J6*chancom!$L6*$C6,IF(Q6<>Q$33,$G6,\"\"),\"\"),\"\")","v":""},{"$f":"IF(AND(ISNUMBER(Q6),NOT(ISNUMBER(R6))),0,IF(ISNUMBER(R6),RANK(R6,R$3:R$32,1),\"\"))","v":""}]
[{"$f":"chancom!A7","v":"Outdoor advertising"},0,{"$f":"IF('q&a'!$I$43<1,0,0)","v":0},{"$f":"IF('q&a'!$I$43>1,'q&a'!$I$43,1)*chancp!D7","v":4},{"$f":"IF(AND((chancom!C7+D7*chancom!D7*chancom!E7/1000)/(chancom!E7*chancom!F7)>V!$B$6,B7=1),chancp!E7,D7)","v":{"$error":"#DIV/0!"}},{"$f":"C7*(chancom!C7+E7*chancom!D7*chancom!E7/1000)","v":{"$error":"#DIV/0!"}},{"$f":"IF(F7*chancom!E7*chancom!F7<=0,\"\",F7/(chancom!E7*chancom!F7))","v":{"$error":"#DIV/0!"}},{"$f":"IF(ISNUMBER($G7),IF(AND(chancom!$G7*chancom!$L7*$B7*$C7,$D7=$E7),$G7,\"\"),\"\")","v":""},{"$f":"IF(ISNUMBER($G7),IF(chancom!$G7*chancom!$L7*$C7,IF(H7<>H$33,$G7,\"\"),\"\"),\"\")","v":""},"",{"$f":"IF(ISNUMBER($G7),IF(AND(chancom!$H7*chancom!$L7*$B7*$C7,$D7=$E7),$G7,\"\"),\"\")","v":""},{"$f":"IF(ISNUMBER($G7),IF(chancom!$H7*chancom!$L7*$C7,IF(K7<>K$33,$G7,\"\"),\"\"),\"\")","v":""},"",{"$f":"IF(ISNUMBER($G7),IF(AND(chancom!$I7*chancom!$L7*$B7*$C7,$D7=$E7),$G7,\"\"),\"\")","v":""},{"$f":"IF(ISNUMBER($G7),IF(chancom!$I7*chancom!$L7*$C7,IF(N7<>N$33,$G7,\"\"),\"\"),\"\")","v":""},"",{"$f":"IF(ISNUMBER($G7),IF(AND(chancom!$J7*chancom!$L7*$B7*$C7,$D7=$E7),$G7,\"\"),\"\")","v":""},{"$f":"IF(ISNUMBER($G7),IF(chancom!$J7*chancom!$L7*$C7,IF(Q7<>Q$33,$G7,\"\"),\"\"),\"\")","v":""},""]
[{"$f":"chancom!A8","v":"Public Relations"},0,{"$f":"IF('q&a'!$I$43<1,0,0)","v":0},{"$f":"IF('q&a'!$I$43>1,'q&a'!$I$43,1)*chancp!D8","v":4},{"$f":"IF(AND((chancom!C8+D8*chancom!D8*chancom!E8/1000)/(chancom!E8*chancom!F8)>V!$B$6,B8=1),chancp!E8,D8)","v":{"$error":"#DIV/0!"}},{"$f":"C8*(chancom!C8+E8*chancom!D8*chancom!E8/1000)","v":{"$error":"#DIV/0!"}},{"$f":"IF(F8*chancom!E8*chancom!F8<=0,\"\",F8/(chancom!E8*chancom!F8))","v":{"$error":"#DIV/0!"}},{"$f":"IF(ISNUMBER($G8),IF(AND(chancom!$G8*chancom!$L8*$B8*$C8,$D8=$E8),$G8,\"\"),\"\")","v":""},{"$f":"IF(ISNUMBER($G8),IF(chancom!$G8*chancom!$L8*$C8,IF(H8<>H$33,$G8,\"\"),\"\"),\"\")","v":""},"",{"$f":"IF(ISNUMBER($G8),IF(AND(chancom!$H8*chancom!$L8*$B8*$C8,$D8=$E8),$G8,\"\"),\"\")","v":""},{"$f":"IF(ISNUMBER($G8),IF(chancom!$H8*chancom!$L8*$C8,IF(K8<>K$33,$G8,\"\"),\"\"),\"\")","v":""},"",{"$f":"IF(ISNUMBER($G8),IF(AND(chancom!$I8*chancom!$L8*$B8*$C8,$D8=$E8),$G8,\"\"),\"\")","v":""},{"$f":"IF(ISNUMBER($G8),IF(chancom!$I8*chancom!$L8*$C8,IF(N8<>N$33,$G8,\"\"),\"\"),\"\")","v":""},"",{"$f":"IF(ISNUMBER($G8),IF(AND(chancom!$J8*chancom!$L8*$B8*$C8,$D8=$E8),$G8,\"\"),\"\")","v":""},{"$f":"IF(ISNUMBER($G8),IF(chancom!$J8*chancom!$L8*$C8,IF(Q8<>Q$33,$G8,\"\"),\"\"),\"\")","v":""},""]
[{"$f":"chancom!A9","v":"Collaterals and ambient"},0,{"$f":"IF('q&a'!$I$43<1,0,0)","v":0},{"$f":"IF('q&a'!$I$43>1,'q&a'!$I$43,1)*chancp!D9","v":4},{"$f":"IF(AND((chancom!C9+D9*chancom!D9*chancom!E9/1000)/(chancom!E9*chancom!F9)>V!$B$6,B9=1),chancp!E9,D9)","v":{"$error":"#DIV/0!"}},{"$f":"C9*(chancom!C9+E9*chancom!D9*chancom!E9/1000)","v":{"$error":"#DIV/0!"}},{"$f":"IF(F9*chancom!E9*chancom!F9<=0,\"\",F9/(chancom!E9*chancom!F9))","v":{"$error":"#DIV/0!"}},{"$f":"IF(ISNUMBER($G9),IF(AND(chancom!$G9*chancom!$L9*$B9*$C9,$D9=$E9),$G9,\"\"),\"\")","v":""},{"$f":"IF(ISNUMBER($G9),IF(chancom!$G9*chancom!$L9*$C9,IF(H9<>H$33,$G9,\"\"),\"\"),\"\")","v":""},"",{"$f":"IF(ISNUMBER($G9),IF(AND(chancom!$H9*chancom!$L9*$B9*$C9,$D9=$E9),$G9,\"\"),\"\")","v":""},{"$f":"IF(ISNUMBER($G9),IF(chancom!$H9*chancom!$L9*$C9,IF(K9<>K$33,$G9,\"\"),\"\"),\"\")","v":""},"",{"$f":"IF(ISNUMBER($G9),IF(AND(chancom!$I9*chancom!$L9*$B9*$C9,$D9=$E9),$G9,\"\"),\"\")","v":""},{"$f":"IF(ISNUMBER($G9),IF(chancom!$I9*chancom!$L9*$C9,IF(N9<>N$33,$G9,\"\"),\"\"),\"\")","v":""},"",{"$f":"IF(ISNUMBER($G9),IF(AND(chancom!$J9*chancom!$L9*$B9*$C9,$D9=$E9),$G9,\"\"),\"\")","v":""},{"$f":"IF(ISNUMBER($G9),IF(chancom!$J9*chancom!$L9*$C9,IF(Q9<>Q$33,$G9,\"\"),\"\"),\"\")","v":""},""]
[{"$f":"chancom!A10","v":"Press ads and web"},0,{"$f":"IF('q&a'!$I$43<1,0,0)","v":0},{"$f":"IF('q&a'!$I$43>1,'q&a'!$I$43,1)*chancp!D10","v":4},{"$f":"IF(AND((chancom!C10+D10*chancom!D10*chancom!E10/1000)/(chancom!E10*chancom!F10)>V!$B$6,B10=1),chancp!E10,D10)","v":{"$error":"#DIV/0!"}},{"$f":"C10*(chancom!C10+E10*chancom!D10*chancom!E10/1000)","v":{"$error":"#DIV/0!"}},{"$f":"IF(F10*chancom!E10*chancom!F10<=0,\"\",F10/(chancom!E10*chancom!F10))","v":{"$error":"#DIV/0!"}},{"$f":"IF(ISNUMBER($G10),IF(AND(chancom!$G10*chancom!$L10*$B10*$C10,$D10=$E10),$G10,\"\"),\"\")","v":""},{"$f":"IF(ISNUMBER($G10),IF(chancom!$G10*chancom!$L10*$C10,IF(H10<>H$33,$G10,\"\"),\"\"),\"\")","v":""},"",{"$f":"IF(ISNUMBER($G10),IF(AND(chancom!$H10*chancom!$L10*$B10*$C10,$D10=$E10),$G10,\"\"),\"\")","v":""},{"$f":"IF(ISNUMBER($G10),IF(chancom!$H10*chancom!$L10*$C10,IF(K10<>K$33,$G10,\"\"),\"\"),\"\")","v":""},"",{"$f":"IF(ISNUMBER($G10),IF(AND(chancom!$I10*chancom!$L10*$B10*$C10,$D10=$E10),$G10,\"\"),\"\")","v":""},{"$f":"IF(ISNUMBER($G10),IF(chancom!$I10*chancom!$L10*$C10,IF(N10<>N$33,$G10,\"\"),\"\"),\"\")","v":""},"",{"$f":"IF(ISNUMBER($G10),IF(AND(chancom!$J10*chancom!$L10*$B10*$C10,$D10=$E10),$G10,\"\"),\"\")","v":""},{"$f":"IF(ISNUMBER($G10),IF(chancom!$J10*chancom!$L10*$C10,IF(Q10<>Q$33,$G10,\"\"),\"\"),\"\")","v":""},""]
[{"$f":"chancom!A11","v":"Consumer mags and web ads"},0,{"$f":"IF('q&a'!$I$43<1,0,0)","v":0},{"$f":"IF('q&a'!$I$43>1,'q&a'!$I$43,1)*chancp!D11","v":4},{"$f":"IF(AND((chancom!C11+D11*chancom!D11*chancom!E11/1000)/(chancom!E11*chancom!F11)>V!$B$6,B11=1),chancp!E11,D11)","v":{"$error":"#DIV/0!"}},{"$f":"C11*(chancom!C11+E11*chancom!D11*chancom!E11/1000)","v":{"$error":"#DIV/0!"}},{"$f":"IF(F11*chancom!E11*chancom!F11<=0,\"\",F11/(chancom!E11*chancom!F11))","v":{"$error":"#DIV/0!"}},{"$f":"IF(ISNUMBER($G11),IF(AND(chancom!$G11*chancom!$L11*$B11*$C11,$D11=$E11),$G11,\"\"),\"\")","v":""},{"$f":"IF(ISNUMBER($G11),IF(chancom!$G11*chancom!$L11*$C11,IF(H11<>H$33,$G11,\"\"),\"\"),\"\")","v":""},"",{"$f":"IF(ISNUMBER($G11),IF(AND(chancom!$H11*chancom!$L11*$B11*$C11,$D11=$E11),$G11,\"\"),\"\")","v":""},{"$f":"IF(ISNUMBER($G11),IF(chancom!$H11*chancom!$L11*$C11,IF(K11<>K$33,$G11,\"\"),\"\"),\"\")","v":""},"",{"$f":"IF(ISNUMBER($G11),IF(AND(chancom!$I11*chancom!$L11*$B11*$C11,$D11=$E11),$G11,\"\"),\"\")","v":""},{"$f":"IF(ISNUMBER($G11),IF(chancom!$I11*chancom!$L11*$C11,IF(N11<>N$33,$G11,\"\"),\"\"),\"\")","v":""},"",{"$f":"IF(ISNUMBER($G11),IF(AND(chancom!$J11*chancom!$L11*$B11*$C11,$D11=$E11),$G11,\"\"),\"\")","v":""},{"$f":"IF(ISNUMBER($G11),IF(chancom!$J11*chancom!$L11*$C11,IF(Q11<>Q$33,$G11,\"\"),\"\"),\"\")","v":""},""]
[{"$f":"chancom!A12","v":"Specialist mags and web ads"},0,{"$f":"IF('q&a'!$I$43<1,0,0)","v":0},{"$f":"IF('q&a'!$I$43>1,'q&a'!$I$43,1)*chancp!D12","v":4},{"$f":"IF(AND((chancom!C12+D12*chancom!D12*chancom!E12/1000)/(chancom!E12*chancom!F12)>V!$B$6,B12=1),chancp!E12,D12)","v":{"$error":"#DIV/0!"}},{"$f":"C12*(chancom!C12+E12*chancom!D12*chancom!E12/1000)","v":{"$error":"#DIV/0!"}},{"$f":"IF(F12*chancom!E12*chancom!F12<=0,\"\",F12/(chancom!E12*chancom!F12))","v":{"$error":"#DIV/0!"}},{"$f":"IF(ISNUMBER($G12),IF(AND(chancom!$G12*chancom!$L12*$B12*$C12,$D12=$E12),$G12,\"\"),\"\")","v":""},{"$f":"IF(ISNUMBER($G12),IF(chancom!$G12*chancom!$L12*$C12,IF(H12<>H$33,$G12,\"\"),\"\"),\"\")","v":""},"",{"$f":"IF(ISNUMBER($G12),IF(AND(chancom!$H12*chancom!$L12*$B12*$C12,$D12=$E12),$G12,\"\"),\"\")","v":""},{"$f":"IF(ISNUMBER($G12),IF(chancom!$H12*chancom!$L12*$C12,IF(K12<>K$33,$G12,\"\"),\"\"),\"\")","v":""},"",{"$f":"IF(ISNUMBER($G12),IF(AND(chancom!$I12*chancom!$L12*$B12*$C12,$D12=$E12),$G12,\"\"),\"\")","v":""},{"$f":"IF(ISNUMBER($G12),IF(chancom!$I12*chancom!$L12*$C12,IF(N12<>N$33,$G12,\"\"),\"\"),\"\")","v":""},"",{"$f":"IF(ISNUMBER($G12),IF(AND(chancom!$J12*chancom!$L12*$B12*$C12,$D12=$E12),$G12,\"\"),\"\")","v":""},{"$f":"IF(ISNUMBER($G12),IF(chancom!$J12*chancom!$L12*$C12,IF(Q12<>Q$33,$G12,\"\"),\"\"),\"\")","v":""},""]
[{"$f":"chancom!A13","v":"Sponsorship"},0,{"$f":"IF('q&a'!$I$43<1,0,0)","v":0},{"$f":"IF('q&a'!$I$43>1,'q&a'!$I$43,1)*chancp!D13","v":2},{"$f":"IF(AND((chancom!C13+D13*chancom!D13*chancom!E13/1000)/(chancom!E13*chancom!F13)>V!$B$6,B13=1),chancp!E13,D13)","v":{"$error":"#DIV/0!"}},{"$f":"C13*(chancom!C13+E13*chancom!D13*chancom!E13/1000)","v":{"$error":"#DIV/0!"}},{"$f":"IF(F13*chancom!E13*chancom!F13<=0,\"\",F13/(chancom!E13*chancom!F13))","v":{"$error":"#DIV/0!"}},{"$f":"IF(ISNUMBER($G13),IF(AND(chancom!$G13*chancom!$L13*$B13*$C13,$D13=$E13),$G13,\"\"),\"\")","v":""},{"$f":"IF(ISNUMBER($G13),IF(chancom!$G13*chancom!$L13*$C13,IF(H13<>H$33,$G13,\"\"),\"\"),\"\")","v":""},"",{"$f":"IF(ISNUMBER($G13),IF(AND(chancom!$H13*chancom!$L13*$B13*$C13,$D13=$E13),$G13,\"\"),\"\")","v":""},{"$f":"IF(ISNUMBER($G13),IF(chancom!$H13*chancom!$L13*$C13,IF(K13<>K$33,$G13,\"\"),\"\"),\"\")","v":""},"",{"$f":"IF(ISNUMBER($G13),IF(AND(chancom!$I13*chancom!$L13*$B13*$C13,$D13=$E13),$G13,\"\"),\"\")","v":""},{"$f":"IF(ISNUMBER($G13),IF(chancom!$I13*chancom!$L13*$C13,IF(N13<>N$33,$G13,\"\"),\"\"),\"\")","v":""},"",{"$f":"IF(ISNUMBER($G13),IF(AND(chancom!$J13*chancom!$L13*$B13*$C13,$D13=$E13),$G13,\"\"),\"\")","v":""},{"$f":"IF(ISNUMBER($G13),IF(chancom!$J13*chancom!$L13*$C13,IF(Q13<>Q$33,$G13,\"\"),\"\"),\"\")","v":""},""]
[{"$f":"chancom!A14","v":"Events"},0,{"$f":"IF('q&a'!$I$43<1,0,1)","v":0},{"$f":"IF('q&a'!$I$43>1,'q&a'!$I$43,1)*chancp!D14","v":2},{"$f":"IF(AND((chancom!C14+D14*chancom!D14*chancom!E14/1000)/(chancom!E14*chancom!F14)>V!$B$6,B14=1),chancp!E14,D14)","v":{"$error":"#DIV/0!"}},{"$f":"C14*(chancom!C14+E14*chancom!D14*chancom!E14/1000)","v":{"$error":"#DIV/0!"}},{"$f":"IF(F14*chancom!E14*chancom!F14<=0,\"\",F14/(chancom!E14*chancom!F14))","v":{"$error":"#DIV/0!"}},{"$f":"IF(ISNUMBER($G14),IF(AND(chancom!$G14*chancom!$L14*$B14*$C14,$D14=$E14),$G14,\"\"),\"\")","v":""},{"$f":"IF(ISNUMBER($G14),IF(chancom!$G14*chancom!$L14*$C14,IF(H14<>H$33,$G14,\"\"),\"\"),\"\")","v":""},"",{"$f":"IF(ISNUMBER($G14),IF(AND(chancom!$H14*chancom!$L14*$B14*$C14,$D14=$E14),$G14,\"\"),\"\")","v":""},{"$f":"IF(ISNUMBER($G14),IF(chancom!$H14*chancom!$L14*$C14,IF(K14<>K$33,$G14,\"\"),\"\"),\"\")","v":""},"",{"$f":"IF(ISNUMBER($G14),IF(AND(chancom!$I14*chancom!$L14*$B14*$C14,$D14=$E14),$G14,\"\"),\"\")","v":""},{"$f":"IF(ISNUMBER($G14),IF(chancom!$I14*chancom!$L14*$C14,IF(N14<>N$33,$G14,\"\"),\"\"),\"\")","v":""},"",{"$f":"IF(ISNUMBER($G14),IF(AND(chancom!$J14*chancom!$L14*$B14*$C14,$D14=$E14),$G14,\"\"),\"\")","v":""},{"$f":"IF(ISNUMBER($G14),IF(chancom!$J14*chancom!$L14*$C14,IF(Q14<>Q$33,$G14,\"\"),\"\"),\"\")","v":""},""]
[{"$f":"chancom!A15","v":"Targeted door-drops"},0,{"$f":"IF('q&a'!$I$43<1,0,0)","v":0},{"$f":"IF('q&a'!$I$43>1,'q&a'!$I$43,1)*chancp!D15","v":2},{"$f":"IF(AND((chancom!C15+D15*chancom!D15*chancom!E15/1000)/(chancom!E15*chancom!F15)>V!$B$6,B15=1),chancp!E15,D15)","v":{"$error":"#DIV/0!"}},{"$f":"C15*(chancom!C15+E15*chancom!D15*chancom!E15/1000)","v":{"$error":"#DIV/0!"}},{"$f":"IF(F15*chancom!E15*chancom!F15<=0,\"\",F15/(chancom!E15*chancom!F15))","v":{"$error":"#DIV/0!"}},{"$f":"IF(ISNUMBER($G15),IF(AND(chancom!$G15*chancom!$L15*$B15*$C15,$D15=$E15),$G15,\"\"),\"\")","v":""},{"$f":"IF(ISNUMBER($G15),IF(chancom!$G15*chancom!$L15*$C15,IF(H15<>H$33,$G15,\"\"),\"\"),\"\")","v":""},"",{"$f":"IF(ISNUMBER($G15),IF(AND(chancom!$H15*chancom!$L15*$B15*$C15,$D15=$E15),$G15,\"\"),\"\")","v":""},{"$f":"IF(ISNUMBER($G15),IF(chancom!$H15*chancom!$L15*$C15,IF(K15<>K$33,$G15,\"\"),\"\"),\"\")","v":""},"",{"$f":"IF(ISNUMBER($G15),IF(AND(chancom!$I15*chancom!$L15*$B15*$C15,$D15=$E15),$G15,\"\"),\"\")","v":""},{"$f":"IF(ISNUMBER($G15),IF(chancom!$I15*chancom!$L15*$C15,IF(N15<>N$33,$G15,\"\"),\"\"),\"\")","v":""},"",{"$f":"IF(ISNUMBER($G15),IF(AND(chancom!$J15*chancom!$L15*$B15*$C15,$D15=$E15),$G15,\"\"),\"\")","v":""},{"$f":"IF(ISNUMBER($G15),IF(chancom!$J15*chancom!$L15*$C15,IF(Q15<>Q$33,$G15,\"\"),\"\"),\"\")","v":""},""]
[{"$f":"chancom!A16","v":"Facebook/Twitter content"},0,{"$f":"IF('q&a'!$I$43<1,0,1)","v":0},{"$f":"IF('q&a'!$I$43>1,'q&a'!$I$43,1)*chancp!D16","v":6},{"$f":"IF(AND((chancom!C16+D16*chancom!D16*chancom!E16/1000)/(chancom!E16*chancom!F16)>V!$B$6,B16=1),chancp!E16,D16)","v":{"$error":"#DIV/0!"}},{"$f":"C16*(chancom!C16+E16*chancom!D16*chancom!E16/1000)","v":{"$error":"#DIV/0!"}},{"$f":"IF(F16*chancom!E16*chancom!F16<=0,\"\",F16/(chancom!E16*chancom!F16))","v":{"$error":"#DIV/0!"}},{"$f":"IF(ISNUMBER($G16),IF(AND(chancom!$G16*chancom!$L16*$B16*$C16,$D16=$E16),$G16,\"\"),\"\")","v":""},{"$f":"IF(ISNUMBER($G16),IF(chancom!$G16*chancom!$L16*$C16,IF(H16<>H$33,$G16,\"\"),\"\"),\"\")","v":""},"",{"$f":"IF(ISNUMBER($G16),IF(AND(chancom!$H16*chancom!$L16*$B16*$C16,$D16=$E16),$G16,\"\"),\"\")","v":""},{"$f":"IF(ISNUMBER($G16),IF(chancom!$H16*chancom!$L16*$C16,IF(K16<>K$33,$G16,\"\"),\"\"),\"\")","v":""},"",{"$f":"IF(ISNUMBER($G16),IF(AND(chancom!$I16*chancom!$L16*$B16*$C16,$D16=$E16),$G16,\"\"),\"\")","v":""},{"$f":"IF(ISNUMBER($G16),IF(chancom!$I16*chancom!$L16*$C16,IF(N16<>N$33,$G16,\"\"),\"\"),\"\")","v":""},"",{"$f":"IF(ISNUMBER($G16),IF(AND(chancom!$J16*chancom!$L16*$B16*$C16,$D16=$E16),$G16,\"\"),\"\")","v":""},{"$f":"IF(ISNUMBER($G16),IF(chancom!$J16*chancom!$L16*$C16,IF(Q16<>Q$33,$G16,\"\"),\"\"),\"\")","v":""},""]
[{"$f":"chancom!A17","v":"Develop social conversations"},0,{"$f":"IF('q&a'!$I$43<1,0,0)","v":0},{"$f":"IF('q&a'!$I$43>1,'q&a'!$I$43,1)*chancp!D17","v":4},{"$f":"IF(AND((chancom!C17+D17*chancom!D17*chancom!E17/1000)/(chancom!E17*chancom!F17)>V!$B$6,B17=1),chancp!E17,D17)","v":{"$error":"#DIV/0!"}},{"$f":"C17*(chancom!C17+E17*chancom!D17*chancom!E17/1000)","v":{"$error":"#DIV/0!"}},{"$f":"IF(F17*chancom!E17*chancom!F17<=0,\"\",F17/(chancom!E17*chancom!F17))","v":{"$error":"#DIV/0!"}},{"$f":"IF(ISNUMBER($G17),IF(AND(chancom!$G17*chancom!$L17*$B17*$C17,$D17=$E17),$G17,\"\"),\"\")","v":""},{"$f":"IF(ISNUMBER($G17),IF(chancom!$G17*chancom!$L17*$C17,IF(H17<>H$33,$G17,\"\"),\"\"),\"\")","v":""},"",{"$f":"IF(ISNUMBER($G17),IF(AND(chancom!$H17*chancom!$L17*$B17*$C17,$D17=$E17),$G17,\"\"),\"\")","v":""},{"$f":"IF(ISNUMBER($G17),IF(chancom!$H17*chancom!$L17*$C17,IF(K17<>K$33,$G17,\"\"),\"\"),\"\")","v":""},"",{"$f":"IF(ISNUMBER($G17),IF(AND(chancom!$I17*chancom!$L17*$B17*$C17,$D17=$E17),$G17,\"\"),\"\")","v":""},{"$f":"IF(ISNUMBER($G17),IF(chancom!$I17*chancom!$L17*$C17,IF(N17<>N$33,$G17,\"\"),\"\"),\"\")","v":""},"",{"$f":"IF(ISNUMBER($G17),IF(AND(chancom!$J17*chancom!$L17*$B17*$C17,$D17=$E17),$G17,\"\"),\"\")","v":""},{"$f":"IF(ISNUMBER($G17),IF(chancom!$J17*chancom!$L17*$C17,IF(Q17<>Q$33,$G17,\"\"),\"\"),\"\")","v":""},""]
[{"$f":"chancom!A18","v":"Email prospects"},0,{"$f":"IF('q&a'!$I$43<1,0,0)","v":0},{"$f":"IF('q&a'!$I$43>1,'q&a'!$I$43,1)*chancp!D18","v":4},{"$f":"IF(AND((chancom!C18+D18*chancom!D18*chancom!E18/1000)/(chancom!E18*chancom!F18)>V!$B$6,B18=1),chancp!E18,D18)","v":{"$error":"#DIV/0!"}},{"$f":"C18*(chancom!C18+E18*chancom!D18*chancom!E18/1000)","v":{"$error":"#DIV/0!"}},{"$f":"IF(F18*chancom!E18*chancom!F18<=0,\"\",F18/(chancom!E18*chancom!F18))","v":{"$error":"#DIV/0!"}},{"$f":"IF(ISNUMBER($G18),IF(AND(chancom!$G18*chancom!$L18*$B18*$C18,$D18=$E18),$G18,\"\"),\"\")","v":""},{"$f":"IF(ISNUMBER($G18),IF(chancom!$G18*chancom!$L18*$C18,IF(H18<>H$33,$G18,\"\"),\"\"),\"\")","v":""},"",{"$f":"IF(ISNUMBER($G18),IF(AND(chancom!$H18*chancom!$L18*$B18*$C18,$D18=$E18),$G18,\"\"),\"\")","v":""},{"$f":"IF(ISNUMBER($G18),IF(chancom!$H18*chancom!$L18*$C18,IF(K18<>K$33,$G18,\"\"),\"\"),\"\")","v":""},"",{"$f":"IF(ISNUMBER($G18),IF(AND(chancom!$I18*chancom!$L18*$B18*$C18,$D18=$E18),$G18,\"\"),\"\")","v":""},{"$f":"IF(ISNUMBER($G18),IF(chancom!$I18*chancom!$L18*$C18,IF(N18<>N$33,$G18,\"\"),\"\"),\"\")","v":""},"",{"$f":"IF(ISNUMBER($G18),IF(AND(chancom!$J18*chancom!$L18*$B18*$C18,$D18=$E18),$G18,\"\"),\"\")","v":""},{"$f":"IF(ISNUMBER($G18),IF(chancom!$J18*chancom!$L18*$C18,IF(Q18<>Q$33,$G18,\"\"),\"\"),\"\")","v":""},""]
[{"$f":"chancom!A19","v":"Email customers"},0,{"$f":"IF('q&a'!$I$43<1,0,1)","v":0},{"$f":"IF('q&a'!$I$43>1,'q&a'!$I$43,1)*chancp!D19","v":4},{"$f":"IF(AND((chancom!C19+D19*chancom!D19*chancom!E19/1000)/(chancom!E19*chancom!F19)>V!$B$6,B19=1),chancp!E19,D19)","v":{"$error":"#DIV/0!"}},{"$f":"C19*(chancom!C19+E19*chancom!D19*chancom!E19/1000)","v":{"$error":"#DIV/0!"}},{"$f":"IF(F19*chancom!E19*chancom!F19<=0,\"\",F19/(chancom!E19*chancom!F19))","v":{"$error":"#DIV/0!"}},{"$f":"IF(ISNUMBER($G19),IF(AND(chancom!$G19*chancom!$L19*$B19*$C19,$D19=$E19),$G19,\"\"),\"\")","v":""},{"$f":"IF(ISNUMBER($G19),IF(chancom!$G19*chancom!$L19*$C19,IF(H19<>H$33,$G19,\"\"),\"\"),\"\")","v":""},"",{"$f":"IF(ISNUMBER($G19),IF(AND(chancom!$H19*chancom!$L19*$B19*$C19,$D19=$E19),$G19,\"\"),\"\")","v":""},{"$f":"IF(ISNUMBER($G19),IF(chancom!$H19*chancom!$L19*$C19,IF(K19<>K$33,$G19,\"\"),\"\"),\"\")","v":""},"",{"$f":"IF(ISNUMBER($G19),IF(AND(chancom!$I19*chancom!$L19*$B19*$C19,$D19=$E19),$G19,\"\"),\"\")","v":""},{"$f":"IF(ISNUMBER($G19),IF(chancom!$I19*chancom!$L19*$C19,IF(N19<>N$33,$G19,\"\"),\"\"),\"\")","v":""},"",{"$f":"IF(ISNUMBER($G19),IF(AND(chancom!$J19*chancom!$L19*$B19*$C19,$D19=$E19),$G19,\"\"),\"\")","v":""},{"$f":"IF(ISNUMBER($G19),IF(chancom!$J19*chancom!$L19*$C19,IF(Q19<>Q$33,$G19,\"\"),\"\"),\"\")","v":""},""]
[{"$f":"chancom!A20","v":"Outbound telephone - prospects"},0,{"$f":"IF('q&a'!$I$43<1,0,0)","v":0},{"$f":"IF('q&a'!$I$43>1,'q&a'!$I$43,1)*chancp!D20","v":2},{"$f":"IF(AND((chancom!C20+D20*chancom!D20*chancom!E20/1000)/(chancom!E20*chancom!F20)>V!$B$6,B20=1),chancp!E20,D20)","v":{"$error":"#DIV/0!"}},{"$f":"C20*(chancom!C20+E20*chancom!D20*chancom!E20/1000)","v":{"$error":"#DIV/0!"}},{"$f":"IF(F20*chancom!E20*chancom!F20<=0,\"\",F20/(chancom!E20*chancom!F20))","v":{"$error":"#DIV/0!"}},{"$f":"IF(ISNUMBER($G20),IF(AND(chancom!$G20*chancom!$L20*$B20*$C20,$D20=$E20),$G20,\"\"),\"\")","v":""},{"$f":"IF(ISNUMBER($G20),IF(chancom!$G20*chancom!$L20*$C20,IF(H20<>H$33,$G20,\"\"),\"\"),\"\")","v":""},"",{"$f":"IF(ISNUMBER($G20),IF(AND(chancom!$H20*chancom!$L20*$B20*$C20,$D20=$E20),$G20,\"\"),\"\")","v":""},{"$f":"IF(ISNUMBER($G20),IF(chancom!$H20*chancom!$L20*$C20,IF(K20<>K$33,$G20,\"\"),\"\"),\"\")","v":""},"",{"$f":"IF(ISNUMBER($G20),IF(AND(chancom!$I20*chancom!$L20*$B20*$C20,$D20=$E20),$G20,\"\"),\"\")","v":""},{"$f":"IF(ISNUMBER($G20),IF(chancom!$I20*chancom!$L20*$C20,IF(N20<>N$33,$G20,\"\"),\"\"),\"\")","v":""},"",{"$f":"IF(ISNUMBER($G20),IF(AND(chancom!$J20*chancom!$L20*$B20*$C20,$D20=$E20),$G20,\"\"),\"\")","v":""},{"$f":"IF(ISNUMBER($G20),IF(chancom!$J20*chancom!$L20*$C20,IF(Q20<>Q$33,$G20,\"\"),\"\"),\"\")","v":""},""]
[{"$f":"chancom!A21","v":"Outbound telephone - customers"},0,{"$f":"IF('q&a'!$I$43<1,0,1)","v":0},{"$f":"IF('q&a'!$I$43>1,'q&a'!$I$43,1)*chancp!D21","v":2},{"$f":"IF(AND((chancom!C21+D21*chancom!D21*chancom!E21/1000)/(chancom!E21*chancom!F21)>V!$B$6,B21=1),chancp!E21,D21)","v":{"$error":"#DIV/0!"}},{"$f":"C21*(chancom!C21+E21*chancom!D21*chancom!E21/1000)","v":{"$error":"#DIV/0!"}},{"$f":"IF(F21*chancom!E21*chancom!F21<=0,\"\",F21/(chancom!E21*chancom!F21))","v":{"$error":"#DIV/0!"}},{"$f":"IF(ISNUMBER($G21),IF(AND(chancom!$G21*chancom!$L21*$B21*$C21,$D21=$E21),$G21,\"\"),\"\")","v":""},{"$f":"IF(ISNUMBER($G21),IF(chancom!$G21*chancom!$L21*$C21,IF(H21<>H$33,$G21,\"\"),\"\"),\"\")","v":""},"",{"$f":"IF(ISNUMBER($G21),IF(AND(chancom!$H21*chancom!$L21*$B21*$C21,$D21=$E21),$G21,\"\"),\"\")","v":""},{"$f":"IF(ISNUMBER($G21),IF(chancom!$H21*chancom!$L21*$C21,IF(K21<>K$33,$G21,\"\"),\"\"),\"\")","v":""},"",{"$f":"IF(ISNUMBER($G21),IF(AND(chancom!$I21*chancom!$L21*$B21*$C21,$D21=$E21),$G21,\"\"),\"\")","v":""},{"$f":"IF(ISNUMBER($G21),IF(chancom!$I21*chancom!$L21*$C21,IF(N21<>N$33,$G21,\"\"),\"\"),\"\")","v":""},"",{"$f":"IF(ISNUMBER($G21),IF(AND(chancom!$J21*chancom!$L21*$B21*$C21,$D21=$E21),$G21,\"\"),\"\")","v":""},{"$f":"IF(ISNUMBER($G21),IF(chancom!$J21*chancom!$L21*$C21,IF(Q21<>Q$33,$G21,\"\"),\"\"),\"\")","v":""},""]
[{"$f":"chancom!A22","v":"Direct mail - external lists"},0,{"$f":"IF('q&a'!$I$43<1,0,0)","v":0},{"$f":"IF('q&a'!$I$43>1,'q&a'!$I$43,1)*chancp!D22","v":3},{"$f":"IF(AND((chancom!C22+D22*chancom!D22*chancom!E22/1000)/(chancom!E22*chancom!F22)>V!$B$6,B22=1),chancp!E22,D22)","v":{"$error":"#DIV/0!"}},{"$f":"C22*(chancom!C22+E22*chancom!D22*chancom!E22/1000)","v":{"$error":"#DIV/0!"}},{"$f":"IF(F22*chancom!E22*chancom!F22<=0,\"\",F22/(chancom!E22*chancom!F22))","v":{"$error":"#DIV/0!"}},{"$f":"IF(ISNUMBER($G22),IF(AND(chancom!$G22*chancom!$L22*$B22*$C22,$D22=$E22),$G22,\"\"),\"\")","v":""},{"$f":"IF(ISNUMBER($G22),IF(chancom!$G22*chancom!$L22*$C22,IF(H22<>H$33,$G22,\"\"),\"\"),\"\")","v":""},"",{"$f":"IF(ISNUMBER($G22),IF(AND(chancom!$H22*chancom!$L22*$B22*$C22,$D22=$E22),$G22,\"\"),\"\")","v":""},{"$f":"IF(ISNUMBER($G22),IF(chancom!$H22*chancom!$L22*$C22,IF(K22<>K$33,$G22,\"\"),\"\"),\"\")","v":""},"",{"$f":"IF(ISNUMBER($G22),IF(AND(chancom!$I22*chancom!$L22*$B22*$C22,$D22=$E22),$G22,\"\"),\"\")","v":""},{"$f":"IF(ISNUMBER($G22),IF(chancom!$I22*chancom!$L22*$C22,IF(N22<>N$33,$G22,\"\"),\"\"),\"\")","v":""},"",{"$f":"IF(ISNUMBER($G22),IF(AND(chancom!$J22*chancom!$L22*$B22*$C22,$D22=$E22),$G22,\"\"),\"\")","v":""},{"$f":"IF(ISNUMBER($G22),IF(chancom!$J22*chancom!$L22*$C22,IF(Q22<>Q$33,$G22,\"\"),\"\"),\"\")","v":""},""]
[{"$f":"chancom!A23","v":"Direct mail - customer database"},1,{"$f":"IF('q&a'!$I$43<1,0,1)","v":0},{"$f":"IF('q&a'!$I$43>1,'q&a'!$I$43,1)*chancp!D23","v":3},{"$f":"IF(AND((chancom!C23+D23*chancom!D23*chancom!E23/1000)/(chancom!E23*chancom!F23)>V!$B$6,B23=1),chancp!E23,D23)","v":{"$error":"#DIV/0!"}},{"$f":"C23*(chancom!C23+E23*chancom!D23*chancom!E23/1000)","v":{"$error":"#DIV/0!"}},{"$f":"IF(F23*chancom!E23*chancom!F23<=0,\"\",F23/(chancom!E23*chancom!F23))","v":{"$error":"#DIV/0!"}},{"$f":"IF(ISNUMBER($G23),IF(AND(chancom!$G23*chancom!$L23*$B23*$C23,$D23=$E23),$G23,\"\"),\"\")","v":""},{"$f":"IF(ISNUMBER($G23),IF(chancom!$G23*chancom!$L23*$C23,IF(H23<>H$33,$G23,\"\"),\"\"),\"\")","v":""},{"$f":"IF(AND(ISNUMBER(H23),NOT(ISNUMBER(I23))),0,IF(ISNUMBER(I23),RANK(I23,I$3:I$32,1),\"\"))","v":""},{"$f":"IF(ISNUMBER($G23),IF(AND(chancom!$H23*chancom!$L23*$B23*$C23,$D23=$E23),$G23,\"\"),\"\")","v":""},{"$f":"IF(ISNUMBER($G23),IF(chancom!$H23*chancom!$L23*$C23,IF(K23<>K$33,$G23,\"\"),\"\"),\"\")","v":""},{"$f":"IF(AND(ISNUMBER(K23),NOT(ISNUMBER(L23))),0,IF(ISNUMBER(L23),RANK(L23,L$3:L$32,1),\"\"))","v":""},{"$f":"IF(ISNUMBER($G23),IF(AND(chancom!$I23*chancom!$L23*$B23*$C23,$D23=$E23),$G23,\"\"),\"\")","v":""},{"$f":"IF(ISNUMBER($G23),IF(chancom!$I23*chancom!$L23*$C23,IF(N23<>N$33,$G23,\"\"),\"\"),\"\")","v":""},{"$f":"IF(AND(ISNUMBER(N23),NOT(ISNUMBER(O23))),0,IF(ISNUMBER(O23),RANK(O23,O$3:O$32,1),\"\"))","v":""},{"$f":"IF(ISNUMBER($G23),IF(AND(chancom!$J23*chancom!$L23*$B23*$C23,$D23=$E23),$G23,\"\"),\"\")","v":""},{"$f":"IF(ISNUMBER($G23),IF(chancom!$J23*chancom!$L23*$C23,IF(Q23<>Q$33,$G23,\"\"),\"\"),\"\")","v":""},{"$f":"IF(AND(ISNUMBER(Q23),NOT(ISNUMBER(R23))),0,IF(ISNUMBER(R23),RANK(R23,R$3:R$32,1),\"\"))","v":""}]
[{"$f":"chancom!A24","v":"Trade shows and exhibitions"},0,0,{"$f":"IF('q&a'!$I$43>1,'q&a'!$I$43,1)*chancp!D24","v":1},{"$f":"IF(AND((chancom!C24+D24*chancom!D24*chancom!E24/1000)/(chancom!E24*chancom!F24)>V!$B$6,B24=1),chancp!E24,D24)","v":{"$error":"#DIV/0!"}},{"$f":"C24*(chancom!C24+E24*chancom!D24*chancom!E24/1000)","v":{"$error":"#DIV/0!"}},{"$f":"IF(F24*chancom!E24*chancom!F24<=0,\"\",F24/(chancom!E24*chancom!F24))","v":{"$error":"#DIV/0!"}},{"$f":"IF(ISNUMBER($G24),IF(AND(chancom!$G24*chancom!$L24*$B24*$C24,$D24=$E24),$G24,\"\"),\"\")","v":""},{"$f":"IF(ISNUMBER($G24),IF(chancom!$G24*chancom!$L24*$C24,IF(H24<>H$33,$G24,\"\"),\"\"),\"\")","v":""},{"$f":"IF(AND(ISNUMBER(H24),NOT(ISNUMBER(I24))),0,IF(ISNUMBER(I24),RANK(I24,I$3:I$32,1),\"\"))","v":""},{"$f":"IF(ISNUMBER($G24),IF(AND(chancom!$H24*chancom!$L24*$B24*$C24,$D24=$E24),$G24,\"\"),\"\")","v":""},{"$f":"IF(ISNUMBER($G24),IF(chancom!$H24*chancom!$L24*$C24,IF(K24<>K$33,$G24,\"\"),\"\"),\"\")","v":""},{"$f":"IF(AND(ISNUMBER(K24),NOT(ISNUMBER(L24))),0,IF(ISNUMBER(L24),RANK(L24,L$3:L$32,1),\"\"))","v":""},{"$f":"IF(ISNUMBER($G24),IF(AND(chancom!$I24*chancom!$L24*$B24*$C24,$D24=$E24),$G24,\"\"),\"\")","v":""},{"$f":"IF(ISNUMBER($G24),IF(chancom!$I24*chancom!$L24*$C24,IF(N24<>N$33,$G24,\"\"),\"\"),\"\")","v":""},{"$f":"IF(AND(ISNUMBER(N24),NOT(ISNUMBER(O24))),0,IF(ISNUMBER(O24),RANK(O24,O$3:O$32,1),\"\"))","v":""},{"$f":"IF(ISNUMBER($G24),IF(AND(chancom!$J24*chancom!$L24*$B24*$C24,$D24=$E24),$G24,\"\"),\"\")","v":""},{"$f":"IF(ISNUMBER($G24),IF(chancom!$J24*chancom!$L24*$C24,IF(Q24<>Q$33,$G24,\"\"),\"\"),\"\")","v":""},{"$f":"IF(AND(ISNUMBER(Q24),NOT(ISNUMBER(R24))),0,IF(ISNUMBER(R24),RANK(R24,R$3:R$32,1),\"\"))","v":""}]
[{"$f":"chancom!A25","v":"Produce brochure"},0,{"$f":"IF('q&a'!$I$43<1,0,0)","v":0},{"$f":"IF('q&a'!$I$43>1,'q&a'!$I$43,1)*chancp!D25","v":1},{"$f":"IF(AND((chancom!C25+D25*chancom!D25*chancom!E25/1000)/(chancom!E25*chancom!F25)>V!$B$6,B25=1),chancp!E25,D25)","v":{"$error":"#DIV/0!"}},{"$f":"C25*(chancom!C25+E25*chancom!D25*chancom!E25/1000)","v":{"$error":"#DIV/0!"}},{"$f":"IF(F25*chancom!E25*chancom!F25<=0,\"\",F25/(chancom!E25*chancom!F25))","v":{"$error":"#DIV/0!"}},{"$f":"IF(ISNUMBER($G25),IF(AND(chancom!$G25*chancom!$L25*$B25*$C25,$D25=$E25),$G25,\"\"),\"\")","v":""},{"$f":"IF(ISNUMBER($G25),IF(chancom!$G25*chancom!$L25*$C25,IF(H25<>H$33,$G25,\"\"),\"\"),\"\")","v":""},{"$f":"IF(AND(ISNUMBER(H25),NOT(ISNUMBER(I25))),0,IF(ISNUMBER(I25),RANK(I25,I$3:I$32,1),\"\"))","v":""},{"$f":"IF(ISNUMBER($G25),IF(AND(chancom!$H25*chancom!$L25*$B25*$C25,$D25=$E25),$G25,\"\"),\"\")","v":""},{"$f":"IF(ISNUMBER($G25),IF(chancom!$H25*chancom!$L25*$C25,IF(K25<>K$33,$G25,\"\"),\"\"),\"\")","v":""},{"$f":"IF(AND(ISNUMBER(K25),NOT(ISNUMBER(L25))),0,IF(ISNUMBER(L25),RANK(L25,L$3:L$32,1),\"\"))","v":""},{"$f":"IF(ISNUMBER($G25),IF(AND(chancom!$I25*chancom!$L25*$B25*$C25,$D25=$E25),$G25,\"\"),\"\")","v":""},{"$f":"IF(ISNUMBER($G25),IF(chancom!$I25*chancom!$L25*$C25,IF(N25<>N$33,$G25,\"\"),\"\"),\"\")","v":""},{"$f":"IF(AND(ISNUMBER(N25),NOT(ISNUMBER(O25))),0,IF(ISNUMBER(O25),RANK(O25,O$3:O$32,1),\"\"))","v":""},{"$f":"IF(ISNUMBER($G25),IF(AND(chancom!$J25*chancom!$L25*$B25*$C25,$D25=$E25),$G25,\"\"),\"\")","v":""},{"$f":"IF(ISNUMBER($G25),IF(chancom!$J25*chancom!$L25*$C25,IF(Q25<>Q$33,$G25,\"\"),\"\"),\"\")","v":""},{"$f":"IF(AND(ISNUMBER(Q25),NOT(ISNUMBER(R25))),0,IF(ISNUMBER(R25),RANK(R25,R$3:R$32,1),\"\"))","v":""}]
[{"$f":"chancom!A26","v":"Ecommerce development"},{"$f":"IF('q&a'!$F$33,1,0)","v":0},{"$f":"IF('q&a'!$F$33,1,0)","v":0},{"$f":"IF('q&a'!$I$43>1,'q&a'!$I$43,1)*chancp!D26","v":1},{"$f":"IF(AND((chancom!C26+D26*chancom!D26*chancom!E26/1000)/(chancom!E26*chancom!F26)>V!$B$6,B26=1),chancp!E26,D26)","v":{"$error":"#DIV/0!"}},{"$f":"C26*(chancom!C26+E26*chancom!D26*chancom!E26/1000)","v":{"$error":"#DIV/0!"}},{"$f":"IF(F26*chancom!E26*chancom!F26<=0,\"\",F26/(chancom!E26*chancom!F26))","v":{"$error":"#DIV/0!"}},{"$f":"IF(ISNUMBER($G26),IF(AND(chancom!$G26*chancom!$L26*$B26*$C26,$D26=$E26),$G26,\"\"),\"\")","v":""},{"$f":"IF(ISNUMBER($G26),IF(chancom!$G26*chancom!$L26*$C26,IF(H26<>H$33,$G26,\"\"),\"\"),\"\")","v":""},"",{"$f":"IF(ISNUMBER($G26),IF(AND(chancom!$H26*chancom!$L26*$B26*$C26,$D26=$E26),$G26,\"\"),\"\")","v":""},{"$f":"IF(ISNUMBER($G26),IF(chancom!$H26*chancom!$L26*$C26,IF(K26<>K$33,$G26,\"\"),\"\"),\"\")","v":""},"",{"$f":"IF(ISNUMBER($G26),IF(AND(chancom!$I26*chancom!$L26*$B26*$C26,$D26=$E26),$G26,\"\"),\"\")","v":""},{"$f":"IF(ISNUMBER($G26),IF(chancom!$I26*chancom!$L26*$C26,IF(N26<>N$33,$G26,\"\"),\"\"),\"\")","v":""},"",{"$f":"IF(ISNUMBER($G26),IF(AND(chancom!$J26*chancom!$L26*$B26*$C26,$D26=$E26),$G26,\"\"),\"\")","v":""},{"$f":"IF(ISNUMBER($G26),IF(chancom!$J26*chancom!$L26*$C26,IF(Q26<>Q$33,$G26,\"\"),\"\"),\"\")","v":""},""]
[{"$f":"chancom!A27","v":"Web search term advertising"},0,{"$f":"IF('q&a'!$I$43<1,0,0)","v":0},{"$f":"IF('q&a'!$I$43>1,'q&a'!$I$43,1)*chancp!D27","v":3},{"$f":"IF(AND((chancom!C27+D27*chancom!D27*chancom!E27/1000)/(chancom!E27*chancom!F27)>V!$B$6,B27=1),chancp!E27,D27)","v":{"$error":"#DIV/0!"}},{"$f":"C27*(chancom!C27+E27*chancom!D27*chancom!E27/1000)","v":{"$error":"#DIV/0!"}},{"$f":"IF(F27*chancom!E27*chancom!F27<=0,\"\",F27/(chancom!E27*chancom!F27))","v":{"$error":"#DIV/0!"}},{"$f":"IF(ISNUMBER($G27),IF(AND(chancom!$G27*chancom!$L27*$B27*$C27,$D27=$E27),$G27,\"\"),\"\")","v":""},{"$f":"IF(ISNUMBER($G27),IF(chancom!$G27*chancom!$L27*$C27,IF(H27<>H$33,$G27,\"\"),\"\"),\"\")","v":""},"",{"$f":"IF(ISNUMBER($G27),IF(AND(chancom!$H27*chancom!$L27*$B27*$C27,$D27=$E27),$G27,\"\"),\"\")","v":""},{"$f":"IF(ISNUMBER($G27),IF(chancom!$H27*chancom!$L27*$C27,IF(K27<>K$33,$G27,\"\"),\"\"),\"\")","v":""},"",{"$f":"IF(ISNUMBER($G27),IF(AND(chancom!$I27*chancom!$L27*$B27*$C27,$D27=$E27),$G27,\"\"),\"\")","v":""},{"$f":"IF(ISNUMBER($G27),IF(chancom!$I27*chancom!$L27*$C27,IF(N27<>N$33,$G27,\"\"),\"\"),\"\")","v":""},"",{"$f":"IF(ISNUMBER($G27),IF(AND(chancom!$J27*chancom!$L27*$B27*$C27,$D27=$E27),$G27,\"\"),\"\")","v":""},{"$f":"IF(ISNUMBER($G27),IF(chancom!$J27*chancom!$L27*$C27,IF(Q27<>Q$33,$G27,\"\"),\"\"),\"\")","v":""},""]
[{"$f":"chancom!A28","v":"Web advertising"},0,{"$f":"IF('q&a'!$I$43<1,0,0)","v":0},{"$f":"IF('q&a'!$I$43>1,'q&a'!$I$43,1)*chancp!D28","v":4},{"$f":"IF(AND((chancom!C28+D28*chancom!D28*chancom!E28/1000)/(chancom!E28*chancom!F28)>V!$B$6,B28=1),chancp!E28,D28)","v":{"$error":"#DIV/0!"}},{"$f":"C28*(chancom!C28+E28*chancom!D28*chancom!E28/1000)","v":{"$error":"#DIV/0!"}},{"$f":"IF(F28*chancom!E28*chancom!F28<=0,\"\",F28/(chancom!E28*chancom!F28))","v":{"$error":"#DIV/0!"}},{"$f":"IF(ISNUMBER($G28),IF(AND(chancom!$G28*chancom!$L28*$B28*$C28,$D28=$E28),$G28,\"\"),\"\")","v":""},{"$f":"IF(ISNUMBER($G28),IF(chancom!$G28*chancom!$L28*$C28,IF(H28<>H$33,$G28,\"\"),\"\"),\"\")","v":""},"",{"$f":"IF(ISNUMBER($G28),IF(AND(chancom!$H28*chancom!$L28*$B28*$C28,$D28=$E28),$G28,\"\"),\"\")","v":""},{"$f":"IF(ISNUMBER($G28),IF(chancom!$H28*chancom!$L28*$C28,IF(K28<>K$33,$G28,\"\"),\"\"),\"\")","v":""},"",{"$f":"IF(ISNUMBER($G28),IF(AND(chancom!$I28*chancom!$L28*$B28*$C28,$D28=$E28),$G28,\"\"),\"\")","v":""},{"$f":"IF(ISNUMBER($G28),IF(chancom!$I28*chancom!$L28*$C28,IF(N28<>N$33,$G28,\"\"),\"\"),\"\")","v":""},"",{"$f":"IF(ISNUMBER($G28),IF(AND(chancom!$J28*chancom!$L28*$B28*$C28,$D28=$E28),$G28,\"\"),\"\")","v":""},{"$f":"IF(ISNUMBER($G28),IF(chancom!$J28*chancom!$L28*$C28,IF(Q28<>Q$33,$G28,\"\"),\"\"),\"\")","v":""},""]
[{"$f":"chancom!A29","v":"Develop website/landing page"},0,{"$f":"IF('q&a'!$I$43<1,0,0)","v":0},{"$f":"IF('q&a'!$I$43>1,'q&a'!$I$43,1)*chancp!D29","v":1},{"$f":"IF(AND((chancom!C29+D29*chancom!D29*chancom!E29/1000)/(chancom!E29*chancom!F29)>V!$B$6,B29=1),chancp!E29,D29)","v":{"$error":"#DIV/0!"}},{"$f":"C29*(chancom!C29+E29*chancom!D29*chancom!E29/1000)","v":{"$error":"#DIV/0!"}},{"$f":"IF(F29*chancom!E29*chancom!F29<=0,\"\",F29/(chancom!E29*chancom!F29))","v":{"$error":"#DIV/0!"}},{"$f":"IF(ISNUMBER($G29),IF(AND(chancom!$G29*chancom!$L29*$B29*$C29,$D29=$E29),$G29,\"\"),\"\")","v":""},{"$f":"IF(ISNUMBER($G29),IF(chancom!$G29*chancom!$L29*$C29,IF(H29<>H$33,$G29,\"\"),\"\"),\"\")","v":""},"",{"$f":"IF(ISNUMBER($G29),IF(AND(chancom!$H29*chancom!$L29*$B29*$C29,$D29=$E29),$G29,\"\"),\"\")","v":""},{"$f":"IF(ISNUMBER($G29),IF(chancom!$H29*chancom!$L29*$C29,IF(K29<>K$33,$G29,\"\"),\"\"),\"\")","v":""},"",{"$f":"IF(ISNUMBER($G29),IF(AND(chancom!$I29*chancom!$L29*$B29*$C29,$D29=$E29),$G29,\"\"),\"\")","v":""},{"$f":"IF(ISNUMBER($G29),IF(chancom!$I29*chancom!$L29*$C29,IF(N29<>N$33,$G29,\"\"),\"\"),\"\")","v":""},"",{"$f":"IF(ISNUMBER($G29),IF(AND(chancom!$J29*chancom!$L29*$B29*$C29,$D29=$E29),$G29,\"\"),\"\")","v":""},{"$f":"IF(ISNUMBER($G29),IF(chancom!$J29*chancom!$L29*$C29,IF(Q29<>Q$33,$G29,\"\"),\"\"),\"\")","v":""},""]
[{"$f":"chancom!A30","v":"Produce point-of-sale materials"},0,{"$f":"IF('q&a'!$I$43<1,0,0)","v":0},{"$f":"IF('q&a'!$I$43>1,'q&a'!$I$43,1)*chancp!D30","v":1},{"$f":"IF(AND((chancom!C30+D30*chancom!D30*chancom!E30/1000)/(chancom!E30*chancom!F30)>V!$B$6,B30=1),chancp!E30,D30)","v":{"$error":"#DIV/0!"}},{"$f":"C30*(chancom!C30+E30*chancom!D30*chancom!E30/1000)","v":{"$error":"#DIV/0!"}},{"$f":"IF(F30*chancom!E30*chancom!F30<=0,\"\",F30/(chancom!E30*chancom!F30))","v":{"$error":"#DIV/0!"}},{"$f":"IF(ISNUMBER($G30),IF(AND(chancom!$G30*chancom!$L30*$B30*$C30,$D30=$E30),$G30,\"\"),\"\")","v":""},{"$f":"IF(ISNUMBER($G30),IF(chancom!$G30*chancom!$L30*$C30,IF(H30<>H$33,$G30,\"\"),\"\"),\"\")","v":""},"",{"$f":"IF(ISNUMBER($G30),IF(AND(chancom!$H30*chancom!$L30*$B30*$C30,$D30=$E30),$G30,\"\"),\"\")","v":""},{"$f":"IF(ISNUMBER($G30),IF(chancom!$H30*chancom!$L30*$C30,IF(K30<>K$33,$G30,\"\"),\"\"),\"\")","v":""},"",{"$f":"IF(ISNUMBER($G30),IF(AND(chancom!$I30*chancom!$L30*$B30*$C30,$D30=$E30),$G30,\"\"),\"\")","v":""},{"$f":"IF(ISNUMBER($G30),IF(chancom!$I30*chancom!$L30*$C30,IF(N30<>N$33,$G30,\"\"),\"\"),\"\")","v":""},"",{"$f":"IF(ISNUMBER($G30),IF(AND(chancom!$J30*chancom!$L30*$B30*$C30,$D30=$E30),$G30,\"\"),\"\")","v":""},{"$f":"IF(ISNUMBER($G30),IF(chancom!$J30*chancom!$L30*$C30,IF(Q30<>Q$33,$G30,\"\"),\"\"),\"\")","v":""},""]
[{"$f":"chancom!A31","v":"Inbound telephone centre"},0,{"$f":"IF('q&a'!$I$43<1,0,0)","v":0},{"$f":"IF('q&a'!$I$43>1,'q&a'!$I$43,1)*chancp!D31","v":2},{"$f":"IF(AND((chancom!C31+D31*chancom!D31*chancom!E31/1000)/(chancom!E31*chancom!F31)>V!$B$6,B31=1),chancp!E31,D31)","v":{"$error":"#DIV/0!"}},{"$f":"C31*(chancom!C31+E31*chancom!D31*chancom!E31/1000)","v":{"$error":"#DIV/0!"}},{"$f":"IF(F31*chancom!E31*chancom!F31<=0,\"\",F31/(chancom!E31*chancom!F31))","v":{"$error":"#DIV/0!"}},{"$f":"IF(ISNUMBER($G31),IF(AND(chancom!$G31*chancom!$L31*$B31*$C31,$D31=$E31),$G31,\"\"),\"\")","v":""},{"$f":"IF(ISNUMBER($G31),IF(chancom!$G31*chancom!$L31*$C31,IF(H31<>H$33,$G31,\"\"),\"\"),\"\")","v":""},"",{"$f":"IF(ISNUMBER($G31),IF(AND(chancom!$H31*chancom!$L31*$B31*$C31,$D31=$E31),$G31,\"\"),\"\")","v":""},{"$f":"IF(ISNUMBER($G31),IF(chancom!$H31*chancom!$L31*$C31,IF(K31<>K$33,$G31,\"\"),\"\"),\"\")","v":""},"",{"$f":"IF(ISNUMBER($G31),IF(AND(chancom!$I31*chancom!$L31*$B31*$C31,$D31=$E31),$G31,\"\"),\"\")","v":""},{"$f":"IF(ISNUMBER($G31),IF(chancom!$I31*chancom!$L31*$C31,IF(N31<>N$33,$G31,\"\"),\"\"),\"\")","v":""},"",{"$f":"IF(ISNUMBER($G31),IF(AND(chancom!$J31*chancom!$L31*$B31*$C31,$D31=$E31),$G31,\"\"),\"\")","v":""},{"$f":"IF(ISNUMBER($G31),IF(chancom!$J31*chancom!$L31*$C31,IF(Q31<>Q$33,$G31,\"\"),\"\"),\"\")","v":""},""]
[{"$f":"chancom!A32","v":"Employ sales force"},{"$f":"IF('q&a'!$F$31,1,0)","v":0},{"$f":"IF('q&a'!$F$31,1,0)","v":0},{"$f":"IF('q&a'!$I$43>1,'q&a'!$I$43,1)*chancp!D32","v":1},{"$f":"IF(AND((chancom!C32+D32*chancom!D32*chancom!E32/1000)/(chancom!E32*chancom!F32)>V!$B$6,B32=1),chancp!E32,D32)","v":{"$error":"#DIV/0!"}},{"$f":"C32*(chancom!C32+E32*chancom!D32*chancom!E32/1000)","v":{"$error":"#DIV/0!"}},{"$f":"IF(F32*chancom!E32*chancom!F32<=0,\"\",F32/(chancom!E32*chancom!F32))","v":{"$error":"#DIV/0!"}},{"$f":"IF(ISNUMBER($G32),IF(AND(chancom!$G32*chancom!$L32*$B32*$C32,$D32=$E32),$G32,\"\"),\"\")","v":""},{"$f":"IF(ISNUMBER($G32),IF(chancom!$G32*chancom!$L32*$C32,IF(H32<>H$33,$G32,\"\"),\"\"),\"\")","v":""},"",{"$f":"IF(ISNUMBER($G32),IF(AND(chancom!$H32*chancom!$L32*$B32*$C32,$D32=$E32),$G32,\"\"),\"\")","v":""},{"$f":"IF(ISNUMBER($G32),IF(chancom!$H32*chancom!$L32*$C32,IF(K32<>K$33,$G32,\"\"),\"\"),\"\")","v":""},"",{"$f":"IF(ISNUMBER($G32),IF(AND(chancom!$I32*chancom!$L32*$B32*$C32,$D32=$E32),$G32,\"\"),\"\")","v":""},{"$f":"IF(ISNUMBER($G32),IF(chancom!$I32*chancom!$L32*$C32,IF(N32<>N$33,$G32,\"\"),\"\"),\"\")","v":""},"",{"$f":"IF(ISNUMBER($G32),IF(AND(chancom!$J32*chancom!$L32*$B32*$C32,$D32=$E32),$G32,\"\"),\"\")","v":""},{"$f":"IF(ISNUMBER($G32),IF(chancom!$J32*chancom!$L32*$C32,IF(Q32<>Q$33,$G32,\"\"),\"\"),\"\")","v":""},""]
[null,null,null,null,null,null,null,{"$f":"MIN(H3:H32)","v":0},null,null,{"$f":"MIN(K3:K32)","v":0},null,null,{"$f":"MIN(N3:N32)","v":0},null,null,{"$f":"MIN(Q3:Q32)","v":0}]

{"sheet":"chanpp","index":7,"n_rows":33,"n_cols":19,"rows_kept":33,"cut":false,"hidden":true,"merged":[]}
["Channel - prospect promotion","Core","Perm","Eff Wgt","Adj Wgt","Tot Cost","Cost/Contact","Alert",null,null,"Inform",null,null,"Set Appt",null,null,"Close Sale"]
[null,null,null,null,null,null,null,"core","eligible","rank","core","eligible","rank","core","eligible","rank","core","eligible","rank"]
[{"$f":"chancom!A3","v":"TV advertising"},1,1,8,{"$f":"D3","v":8},{"$f":"C3*(chancom!C3+E3*chancom!D3*chancom!E3/1000)","v":6400000},{"$f":"IF(F3*chancom!E3*chancom!F3<=0,\"\",F3/(chancom!E3*chancom!F3))","v":""},{"$f":"IF(ISNUMBER($G3),IF(AND(chancom!$G3*chancom!$L3*$B3*$C3,$D3=$E3),$G3,\"\"),\"\")","v":""},{"$f":"IF(ISNUMBER($G3),IF(chancom!$G3*chancom!$L3*$C3,IF(H3<>H$33,$G3,\"\"),\"\"),\"\")","v":""},{"$f":"IF(AND(ISNUMBER(H3),NOT(ISNUMBER(I3))),0,IF(ISNUMBER(I3),RANK(I3,I$3:I$32,1),\"\"))","v":""},{"$f":"IF(ISNUMBER($G3),IF(AND(chancom!$H3*chancom!$L3*$B3*$C3,$D3=$E3),$G3,\"\"),\"\")","v":""},{"$f":"IF(ISNUMBER($G3),IF(chancom!$H3*chancom!$L3*$C3,IF(K3<>K$33,$G3,\"\"),\"\"),\"\")","v":""},{"$f":"IF(AND(ISNUMBER(K3),NOT(ISNUMBER(L3))),0,IF(ISNUMBER(L3),RANK(L3,L$3:L$32,1),\"\"))","v":""},{"$f":"IF(ISNUMBER($G3),IF(AND(chancom!$I3*chancom!$L3*$B3*$C3,$D3=$E3),$G3,\"\"),\"\")","v":""},{"$f":"IF(ISNUMBER($G3),IF(chancom!$I3*chancom!$L3*$C3,IF(N3<>N$33,$G3,\"\"),\"\"),\"\")","v":""},{"$f":"IF(AND(ISNUMBER(N3),NOT(ISNUMBER(O3))),0,IF(ISNUMBER(O3),RANK(O3,O$3:O$32,1),\"\"))","v":""},{"$f":"IF(ISNUMBER($G3),IF(AND(chancom!$J3*chancom!$L3*$B3*$C3,$D3=$E3),$G3,\"\"),\"\")","v":""},{"$f":"IF(ISNUMBER($G3),IF(chancom!$J3*chancom!$L3*$C3,IF(Q3<>Q$33,$G3,\"\"),\"\"),\"\")","v":""},{"$f":"IF(AND(ISNUMBER(Q3),NOT(ISNUMBER(R3))),0,IF(ISNUMBER(R3),RANK(R3,R$3:R$32,1),\"\"))","v":""}]
[{"$f":"chancom!A4","v":"Direct Response TV"},0,1,3,{"$f":"D4","v":3},{"$f":"C4*(chancom!C4+E4*chancom!D4*chancom!E4/1000)","v":1200000},{"$f":"IF(F4*chancom!E4*chancom!F4<=0,\"\",F4/(chancom!E4*chancom!F4))","v":""},{"$f":"IF(ISNUMBER($G4),IF(AND(chancom!$G4*chancom!$L4*$B4*$C4,$D4=$E4),$G4,\"\"),\"\")","v":""},{"$f":"IF(ISNUMBER($G4),IF(chancom!$G4*chancom!$L4*$C4,IF(H4<>H$33,$G4,\"\"),\"\"),\"\")","v":""},"",{"$f":"IF(ISNUMBER($G4),IF(AND(chancom!$H4*chancom!$L4*$B4*$C4,$D4=$E4),$G4,\"\"),\"\")","v":""},{"$f":"IF(ISNUMBER($G4),IF(chancom!$H4*chancom!$L4*$C4,IF(K4<>K$33,$G4,\"\"),\"\"),\"\")","v":""},"",{"$f":"IF(ISNUMBER($G4),IF(AND(chancom!$I4*chancom!$L4*$B4*$C4,$D4=$E4),$G4,\"\"),\"\")","v":""},{"$f":"IF(ISNUMBER($G4),IF(chancom!$I4*chancom!$L4*$C4,IF(N4<>N$33,$G4,\"\"),\"\"),\"\")","v":""},"",{"$f":"IF(ISNUMBER($G4),IF(AND(chancom!$J4*chancom!$L4*$B4*$C4,$D4=$E4),$G4,\"\"),\"\")","v":""},{"$f":"IF(ISNUMBER($G4),IF(chancom!$J4*chancom!$L4*$C4,IF(Q4<>Q$33,$G4,\"\"),\"\"),\"\")","v":""},""]
[{"$f":"chancom!A5","v":"Radio advertising"},0,1,8,8,{"$f":"C5*(chancom!C5+E5*chancom!D5*chancom!E5/1000)","v":1600000},{"$f":"IF(F5*chancom!E5*chancom!F5<=0,\"\",F5/(chancom!E5*chancom!F5))","v":""},{"$f":"IF(ISNUMBER($G5),IF(AND(chancom!$G5*chancom!$L5*$B5*$C5,$D5=$E5),$G5,\"\"),\"\")","v":""},{"$f":"IF(ISNUMBER($G5),IF(chancom!$G5*chancom!$L5*$C5,IF(H5<>H$33,$G5,\"\"),\"\"),\"\")","v":""},"",{"$f":"IF(ISNUMBER($G5),IF(AND(chancom!$H5*chancom!$L5*$B5*$C5,$D5=$E5),$G5,\"\"),\"\")","v":""},{"$f":"IF(ISNUMBER($G5),IF(chancom!$H5*chancom!$L5*$C5,IF(K5<>K$33,$G5,\"\"),\"\"),\"\")","v":""},"",{"$f":"IF(ISNUMBER($G5),IF(AND(chancom!$I5*chancom!$L5*$B5*$C5,$D5=$E5),$G5,\"\"),\"\")","v":""},{"$f":"IF(ISNUMBER($G5),IF(chancom!$I5*chancom!$L5*$C5,IF(N5<>N$33,$G5,\"\"),\"\"),\"\")","v":""},"",{"$f":"IF(ISNUMBER($G5),IF(AND(chancom!$J5*chancom!$L5*$B5*$C5,$D5=$E5),$G5,\"\"),\"\")","v":""},{"$f":"IF(ISNUMBER($G5),IF(chancom!$J5*chancom!$L5*$C5,IF(Q5<>Q$33,$G5,\"\"),\"\"),\"\")","v":""},""]
[{"$f":"chancom!A6","v":"Cinema advertising"},0,1,4,4,{"$f":"C6*(chancom!C6+E6*chancom!D6*chancom!E6/1000)","v":960000},{"$f":"IF(F6*chancom!E6*chancom!F6<=0,\"\",F6/(chancom!E6*chancom!F6))","v":""},{"$f":"IF(ISNUMBER($G6),IF(AND(chancom!$G6*chancom!$L6*$B6*$C6,$D6=$E6),$G6,\"\"),\"\")","v":""},{"$f":"IF(ISNUMBER($G6),IF(chancom!$G6*chancom!$L6*$C6,IF(H6<>H$33,$G6,\"\"),\"\"),\"\")","v":""},{"$f":"IF(AND(ISNUMBER(H6),NOT(ISNUMBER(I6))),0,IF(ISNUMBER(I6),RANK(I6,I$3:I$32,1),\"\"))","v":""},{"$f":"IF(ISNUMBER($G6),IF(AND(chancom!$H6*chancom!$L6*$B6*$C6,$D6=$E6),$G6,\"\"),\"\")","v":""},{"$f":"IF(ISNUMBER($G6),IF(chancom!$H6*chancom!$L6*$C6,IF(K6<>K$33,$G6,\"\"),\"\"),\"\")","v":""},{"$f":"IF(AND(ISNUMBER(K6),NOT(ISNUMBER(L6))),0,IF(ISNUMBER(L6),RANK(L6,L$3:L$32,1),\"\"))","v":""},{"$f":"IF(ISNUMBER($G6),IF(AND(chancom!$I6*chancom!$L6*$B6*$C6,$D6=$E6),$G6,\"\"),\"\")","v":""},{"$f":"IF(ISNUMBER($G6),IF(chancom!$I6*chancom!$L6*$C6,IF(N6<>N$33,$G6,\"\"),\"\"),\"\")","v":""},{"$f":"IF(AND(ISNUMBER(N6),NOT(ISNUMBER(O6))),0,IF(ISNUMBER(O6),RANK(O6,O$3:O$32,1),\"\"))","v":""},{"$f":"IF(ISNUMBER($G6),IF(AND(chancom!$J6*chancom!$L6*$B6*$C6,$D6=$E6),$G6,\"\"),\"\")","v":""},{"$f":"IF(ISNUMBER($G6),IF(chancom!$J6*chancom!$L6*$C6,IF(Q6<>Q$33,$G6,\"\"),\"\"),\"\")","v":""},{"$f":"IF(AND(ISNUMBER(Q6),NOT(ISNUMBER(R6))),0,IF(ISNUMBER(R6),RANK(R6,R$3:R$32,1),\"\"))","v":""}]
[{"$f":"chancom!A7","v":"Outdoor advertising"},0,1,4,4,{"$f":"C7*(chancom!C7+E7*chancom!D7*chancom!E7/1000)","v":1200000},{"$f":"IF(F7*chancom!E7*chancom!F7<=0,\"\",F7/(chancom!E7*chancom!F7))","v":""},{"$f":"IF(ISNUMBER($G7),IF(AND(chancom!$G7*chancom!$L7*$B7*$C7,$D7=$E7),$G7,\"\"),\"\")","v":""},{"$f":"IF(ISNUMBER($G7),IF(chancom!$G7*chancom!$L7*$C7,IF(H7<>H$33,$G7,\"\"),\"\"),\"\")","v":""},"",{"$f":"IF(ISNUMBER($G7),IF(AND(chancom!$H7*chancom!$L7*$B7*$C7,$D7=$E7),$G7,\"\"),\"\")","v":""},{"$f":"IF(ISNUMBER($G7),IF(chancom!$H7*chancom!$L7*$C7,IF(K7<>K$33,$G7,\"\"),\"\"),\"\")","v":""},"",{"$f":"IF(ISNUMBER($G7),IF(AND(chancom!$I7*chancom!$L7*$B7*$C7,$D7=$E7),$G7,\"\"),\"\")","v":""},{"$f":"IF(ISNUMBER($G7),IF(chancom!$I7*chancom!$L7*$C7,IF(N7<>N$33,$G7,\"\"),\"\"),\"\")","v":""},"",{"$f":"IF(ISNUMBER($G7),IF(AND(chancom!$J7*chancom!$L7*$B7*$C7,$D7=$E7),$G7,\"\"),\"\")","v":""},{"$f":"IF(ISNUMBER($G7),IF(chancom!$J7*chancom!$L7*$C7,IF(Q7<>Q$33,$G7,\"\"),\"\"),\"\")","v":""},""]
[{"$f":"chancom!A8","v":"Public Relations"},0,0,4,4,{"$f":"C8*(chancom!C8+E8*chancom!D8*chancom!E8/1000)","v":0},{"$f":"IF(F8*chancom!E8*chancom!F8<=0,\"\",F8/(chancom!E8*chancom!F8))","v":""},{"$f":"IF(ISNUMBER($G8),IF(AND(chancom!$G8*chancom!$L8*$B8*$C8,$D8=$E8),$G8,\"\"),\"\")","v":""},{"$f":"IF(ISNUMBER($G8),IF(chancom!$G8*chancom!$L8*$C8,IF(H8<>H$33,$G8,\"\"),\"\"),\"\")","v":""},"",{"$f":"IF(ISNUMBER($G8),IF(AND(chancom!$H8*chancom!$L8*$B8*$C8,$D8=$E8),$G8,\"\"),\"\")","v":""},{"$f":"IF(ISNUMBER($G8),IF(chancom!$H8*chancom!$L8*$C8,IF(K8<>K$33,$G8,\"\"),\"\"),\"\")","v":""},"",{"$f":"IF(ISNUMBER($G8),IF(AND(chancom!$I8*chancom!$L8*$B8*$C8,$D8=$E8),$G8,\"\"),\"\")","v":""},{"$f":"IF(ISNUMBER($G8),IF(chancom!$I8*chancom!$L8*$C8,IF(N8<>N$33,$G8,\"\"),\"\"),\"\")","v":""},"",{"$f":"IF(ISNUMBER($G8),IF(AND(chancom!$J8*chancom!$L8*$B8*$C8,$D8=$E8),$G8,\"\"),\"\")","v":""},{"$f":"IF(ISNUMBER($G8),IF(chancom!$J8*chancom!$L8*$C8,IF(Q8<>Q$33,$G8,\"\"),\"\"),\"\")","v":""},""]
[{"$f":"chancom!A9","v":"Collaterals and ambient"},0,0,2,2,{"$f":"C9*(chancom!C9+E9*chancom!D9*chancom!E9/1000)","v":0},{"$f":"IF(F9*chancom!E9*chancom!F9<=0,\"\",F9/(chancom!E9*chancom!F9))","v":""},{"$f":"IF(ISNUMBER($G9),IF(AND(chancom!$G9*chancom!$L9*$B9*$C9,$D9=$E9),$G9,\"\"),\"\")","v":""},{"$f":"IF(ISNUMBER($G9),IF(chancom!$G9*chancom!$L9*$C9,IF(H9<>H$33,$G9,\"\"),\"\"),\"\")","v":""},"",{"$f":"IF(ISNUMBER($G9),IF(AND(chancom!$H9*chancom!$L9*$B9*$C9,$D9=$E9),$G9,\"\"),\"\")","v":""},{"$f":"IF(ISNUMBER($G9),IF(chancom!$H9*chancom!$L9*$C9,IF(K9<>K$33,$G9,\"\"),\"\"),\"\")","v":""},"",{"$f":"IF(ISNUMBER($G9),IF(AND(chancom!$I9*chancom!$L9*$B9*$C9,$D9=$E9),$G9,\"\"),\"\")","v":""},{"$f":"IF(ISNUMBER($G9),IF(chancom!$I9*chancom!$L9*$C9,IF(N9<>N$33,$G9,\"\"),\"\"),\"\")","v":""},"",{"$f":"IF(ISNUMBER($G9),IF(AND(chancom!$J9*chancom!$L9*$B9*$C9,$D9=$E9),$G9,\"\"),\"\")","v":""},{"$f":"IF(ISNUMBER($G9),IF(chancom!$J9*chancom!$L9*$C9,IF(Q9<>Q$33,$G9,\"\"),\"\"),\"\")","v":""},""]
[{"$f":"chancom!A10","v":"Press ads and web"},1,1,4,4,{"$f":"C10*(chancom!C10+E10*chancom!D10*chancom!E10/1000)","v":2400000},{"$f":"IF(F10*chancom!E10*chancom!F10<=0,\"\",F10/(chancom!E10*chancom!F10))","v":""},{"$f":"IF(ISNUMBER($G10),IF(AND(chancom!$G10*chancom!$L10*$B10*$C10,$D10=$E10),$G10,\"\"),\"\")","v":""},{"$f":"IF(ISNUMBER($G10),IF(chancom!$G10*chancom!$L10*$C10,IF(H10<>H$33,$G10,\"\"),\"\"),\"\")","v":""},"",{"$f":"IF(ISNUMBER($G10),IF(AND(chancom!$H10*chancom!$L10*$B10*$C10,$D10=$E10),$G10,\"\"),\"\")","v":""},{"$f":"IF(ISNUMBER($G10),IF(chancom!$H10*chancom!$L10*$C10,IF(K10<>K$33,$G10,\"\"),\"\"),\"\")","v":""},"",{"$f":"IF(ISNUMBER($G10),IF(AND(chancom!$I10*chancom!$L10*$B10*$C10,$D10=$E10),$G10,\"\"),\"\")","v":""},{"$f":"IF(ISNUMBER($G10),IF(chancom!$I10*chancom!$L10*$C10,IF(N10<>N$33,$G10,\"\"),\"\"),\"\")","v":""},"",{"$f":"IF(ISNUMBER($G10),IF(AND(chancom!$J10*chancom!$L10*$B10*$C10,$D10=$E10),$G10,\"\"),\"\")","v":""},{"$f":"IF(ISNUMBER($G10),IF(chancom!$J10*chancom!$L10*$C10,IF(Q10<>Q$33,$G10,\"\"),\"\"),\"\")","v":""},""]
[{"$f":"chancom!A11","v":"Consumer mags and web ads"},0,0,4,4,{"$f":"C11*(chancom!C11+E11*chancom!D11*chancom!E11/1000)","v":0},{"$f":"IF(F11*chancom!E11*chancom!F11<=0,\"\",F11/(chancom!E11*chancom!F11))","v":""},{"$f":"IF(ISNUMBER($G11),IF(AND(chancom!$G11*chancom!$L11*$B11*$C11,$D11=$E11),$G11,\"\"),\"\")","v":""},{"$f":"IF(ISNUMBER($G11),IF(chancom!$G11*chancom!$L11*$C11,IF(H11<>H$33,$G11,\"\"),\"\"),\"\")","v":""},"",{"$f":"IF(ISNUMBER($G11),IF(AND(chancom!$H11*chancom!$L11*$B11*$C11,$D11=$E11),$G11,\"\"),\"\")","v":""},{"$f":"IF(ISNUMBER($G11),IF(chancom!$H11*chancom!$L11*$C11,IF(K11<>K$33,$G11,\"\"),\"\"),\"\")","v":""},"",{"$f":"IF(ISNUMBER($G11),IF(AND(chancom!$I11*chancom!$L11*$B11*$C11,$D11=$E11),$G11,\"\"),\"\")","v":""},{"$f":"IF(ISNUMBER($G11),IF(chancom!$I11*chancom!$L11*$C11,IF(N11<>N$33,$G11,\"\"),\"\"),\"\")","v":""},"",{"$f":"IF(ISNUMBER($G11),IF(AND(chancom!$J11*chancom!$L11*$B11*$C11,$D11=$E11),$G11,\"\"),\"\")","v":""},{"$f":"IF(ISNUMBER($G11),IF(chancom!$J11*chancom!$L11*$C11,IF(Q11<>Q$33,$G11,\"\"),\"\"),\"\")","v":""},""]
[{"$f":"chancom!A12","v":"Specialist mags and web ads"},1,1,4,4,{"$f":"C12*(chancom!C12+E12*chancom!D12*chancom!E12/1000)","v":0},{"$f":"IF(F12*chancom!E12*chancom!F12<=0,\"\",F12/(chancom!E12*chancom!F12))","v":""},{"$f":"IF(ISNUMBER($G12),IF(AND(chancom!$G12*chancom!$L12*$B12*$C12,$D12=$E12),$G12,\"\"),\"\")","v":""},{"$f":"IF(ISNUMBER($G12),IF(chancom!$G12*chancom!$L12*$C12,IF(H12<>H$33,$G12,\"\"),\"\"),\"\")","v":""},"",{"$f":"IF(ISNUMBER($G12),IF(AND(chancom!$H12*chancom!$L12*$B12*$C12,$D12=$E12),$G12,\"\"),\"\")","v":""},{"$f":"IF(ISNUMBER($G12),IF(chancom!$H12*chancom!$L12*$C12,IF(K12<>K$33,$G12,\"\"),\"\"),\"\")","v":""},"",{"$f":"IF(ISNUMBER($G12),IF(AND(chancom!$I12*chancom!$L12*$B12*$C12,$D12=$E12),$G12,\"\"),\"\")","v":""},{"$f":"IF(ISNUMBER($G12),IF(chancom!$I12*chancom!$L12*$C12,IF(N12<>N$33,$G12,\"\"),\"\"),\"\")","v":""},"",{"$f":"IF(ISNUMBER($G12),IF(AND(chancom!$J12*chancom!$L12*$B12*$C12,$D12=$E12),$G12,\"\"),\"\")","v":""},{"$f":"IF(ISNUMBER($G12),IF(chancom!$J12*chancom!$L12*$C12,IF(Q12<>Q$33,$G12,\"\"),\"\"),\"\")","v":""},""]
[{"$f":"chancom!A13","v":"Sponsorship"},0,0,2,2,{"$f":"C13*(chancom!C13+E13*chancom!D13*chancom!E13/1000)","v":0},{"$f":"IF(F13*chancom!E13*chancom!F13<=0,\"\",F13/(chancom!E13*chancom!F13))","v":""},{"$f":"IF(ISNUMBER($G13),IF(AND(chancom!$G13*chancom!$L13*$B13*$C13,$D13=$E13),$G13,\"\"),\"\")","v":""},{"$f":"IF(ISNUMBER($G13),IF(chancom!$G13*chancom!$L13*$C13,IF(H13<>H$33,$G13,\"\"),\"\"),\"\")","v":""},"",{"$f":"IF(ISNUMBER($G13),IF(AND(chancom!$H13*chancom!$L13*$B13*$C13,$D13=$E13),$G13,\"\"),\"\")","v":""},{"$f":"IF(ISNUMBER($G13),IF(chancom!$H13*chancom!$L13*$C13,IF(K13<>K$33,$G13,\"\"),\"\"),\"\")","v":""},"",{"$f":"IF(ISNUMBER($G13),IF(AND(chancom!$I13*chancom!$L13*$B13*$C13,$D13=$E13),$G13,\"\"),\"\")","v":""},{"$f":"IF(ISNUMBER($G13),IF(chancom!$I13*chancom!$L13*$C13,IF(N13<>N$33,$G13,\"\"),\"\"),\"\")","v":""},"",{"$f":"IF(ISNUMBER($G13),IF(AND(chancom!$J13*chancom!$L13*$B13*$C13,$D13=$E13),$G13,\"\"),\"\")","v":""},{"$f":"IF(ISNUMBER($G13),IF(chancom!$J13*chancom!$L13*$C13,IF(Q13<>Q$33,$G13,\"\"),\"\"),\"\")","v":""},""]
[{"$f":"chancom!A14","v":"Events"},0,0,2,2,{"$f":"C14*(chancom!C14+E14*chancom!D14*chancom!E14/1000)","v":0},{"$f":"IF(F14*chancom!E14*chancom!F14<=0,\"\",F14/(chancom!E14*chancom!F14))","v":""},{"$f":"IF(ISNUMBER($G14),IF(AND(chancom!$G14*chancom!$L14*$B14*$C14,$D14=$E14),$G14,\"\"),\"\")","v":""},{"$f":"IF(ISNUMBER($G14),IF(chancom!$G14*chancom!$L14*$C14,IF(H14<>H$33,$G14,\"\"),\"\"),\"\")","v":""},"",{"$f":"IF(ISNUMBER($G14),IF(AND(chancom!$H14*chancom!$L14*$B14*$C14,$D14=$E14),$G14,\"\"),\"\")","v":""},{"$f":"IF(ISNUMBER($G14),IF(chancom!$H14*chancom!$L14*$C14,IF(K14<>K$33,$G14,\"\"),\"\"),\"\")","v":""},"",{"$f":"IF(ISNUMBER($G14),IF(AND(chancom!$I14*chancom!$L14*$B14*$C14,$D14=$E14),$G14,\"\"),\"\")","v":""},{"$f":"IF(ISNUMBER($G14),IF(chancom!$I14*chancom!$L14*$C14,IF(N14<>N$33,$G14,\"\"),\"\"),\"\")","v":""},"",{"$f":"IF(ISNUMBER($G14),IF(AND(chancom!$J14*chancom!$L14*$B14*$C14,$D14=$E14),$G14,\"\"),\"\")","v":""},{"$f":"IF(ISNUMBER($G14),IF(chancom!$J14*chancom!$L14*$C14,IF(Q14<>Q$33,$G14,\"\"),\"\"),\"\")","v":""},""]
[{"$f":"chancom!A15","v":"Targeted door-drops"},0,1,2,2,{"$f":"C15*(chancom!C15+E15*chancom!D15*chancom!E15/1000)","v":1000000},{"$f":"IF(F15*chancom!E15*chancom!F15<=0,\"\",F15/(chancom!E15*chancom!F15))","v":""},{"$f":"IF(ISNUMBER($G15),IF(AND(chancom!$G15*chancom!$L15*$B15*$C15,$D15=$E15),$G15,\"\"),\"\")","v":""},{"$f":"IF(ISNUMBER($G15),IF(chancom!$G15*chancom!$L15*$C15,IF(H15<>H$33,$G15,\"\"),\"\"),\"\")","v":""},"",{"$f":"IF(ISNUMBER($G15),IF(AND(chancom!$H15*chancom!$L15*$B15*$C15,$D15=$E15),$G15,\"\"),\"\")","v":""},{"$f":"IF(ISNUMBER($G15),IF(chancom!$H15*chancom!$L15*$C15,IF(K15<>K$33,$G15,\"\"),\"\"),\"\")","v":""},"",{"$f":"IF(ISNUMBER($G15),IF(AND(chancom!$I15*chancom!$L15*$B15*$C15,$D15=$E15),$G15,\"\"),\"\")","v":""},{"$f":"IF(ISNUMBER($G15),IF(chancom!$I15*chancom!$L15*$C15,IF(N15<>N$33,$G15,\"\"),\"\"),\"\")","v":""},"",{"$f":"IF(ISNUMBER($G15),IF(AND(chancom!$J15*chancom!$L15*$B15*$C15,$D15=$E15),$G15,\"\"),\"\")","v":""},{"$f":"IF(ISNUMBER($G15),IF(chancom!$J15*chancom!$L15*$C15,IF(Q15<>Q$33,$G15,\"\"),\"\"),\"\")","v":""},""]
[{"$f":"chancom!A16","v":"Facebook/Twitter content"},0,0,4,4,{"$f":"C16*(chancom!C16+E16*chancom!D16*chancom!E16/1000)","v":0},{"$f":"IF(F16*chancom!E16*chancom!F16<=0,\"\",F16/(chancom!E16*chancom!F16))","v":""},{"$f":"IF(ISNUMBER($G16),IF(AND(chancom!$G16*chancom!$L16*$B16*$C16,$D16=$E16),$G16,\"\"),\"\")","v":""},{"$f":"IF(ISNUMBER($G16),IF(chancom!$G16*chancom!$L16*$C16,IF(H16<>H$33,$G16,\"\"),\"\"),\"\")","v":""},"",{"$f":"IF(ISNUMBER($G16),IF(AND(chancom!$H16*chancom!$L16*$B16*$C16,$D16=$E16),$G16,\"\"),\"\")","v":""},{"$f":"IF(ISNUMBER($G16),IF(chancom!$H16*chancom!$L16*$C16,IF(K16<>K$33,$G16,\"\"),\"\"),\"\")","v":""},"",{"$f":"IF(ISNUMBER($G16),IF(AND(chancom!$I16*chancom!$L16*$B16*$C16,$D16=$E16),$G16,\"\"),\"\")","v":""},{"$f":"IF(ISNUMBER($G16),IF(chancom!$I16*chancom!$L16*$C16,IF(N16<>N$33,$G16,\"\"),\"\"),\"\")","v":""},"",{"$f":"IF(ISNUMBER($G16),IF(AND(chancom!$J16*chancom!$L16*$B16*$C16,$D16=$E16),$G16,\"\"),\"\")","v":""},{"$f":"IF(ISNUMBER($G16),IF(chancom!$J16*chancom!$L16*$C16,IF(Q16<>Q$33,$G16,\"\"),\"\"),\"\")","v":""},""]
[{"$f":"chancom!A17","v":"Develop social conversations"},0,1,4,4,{"$f":"C17*(chancom!C17+E17*chancom!D17*chancom!E17/1000)","v":0},{"$f":"IF(F17*chancom!E17*chancom!F17<=0,\"\",F17/(chancom!E17*chancom!F17))","v":""},{"$f":"IF(ISNUMBER($G17),IF(AND(chancom!$G17*chancom!$L17*$B17*$C17,$D17=$E17),$G17,\"\"),\"\")","v":""},{"$f":"IF(ISNUMBER($G17),IF(chancom!$G17*chancom!$L17*$C17,IF(H17<>H$33,$G17,\"\"),\"\"),\"\")","v":""},"",{"$f":"IF(ISNUMBER($G17),IF(AND(chancom!$H17*chancom!$L17*$B17*$C17,$D17=$E17),$G17,\"\"),\"\")","v":""},{"$f":"IF(ISNUMBER($G17),IF(chancom!$H17*chancom!$L17*$C17,IF(K17<>K$33,$G17,\"\"),\"\"),\"\")","v":""},"",{"$f":"IF(ISNUMBER($G17),IF(AND(chancom!$I17*chancom!$L17*$B17*$C17,$D17=$E17),$G17,\"\"),\"\")","v":""},{"$f":"IF(ISNUMBER($G17),IF(chancom!$I17*chancom!$L17*$C17,IF(N17<>N$33,$G17,\"\"),\"\"),\"\")","v":""},"",{"$f":"IF(ISNUMBER($G17),IF(AND(chancom!$J17*chancom!$L17*$B17*$C17,$D17=$E17),$G17,\"\"),\"\")","v":""},{"$f":"IF(ISNUMBER($G17),IF(chancom!$J17*chancom!$L17*$C17,IF(Q17<>Q$33,$G17,\"\"),\"\"),\"\")","v":""},""]
[{"$f":"chancom!A18","v":"Email prospects"},0,1,4,4,{"$f":"C18*(chancom!C18+E18*chancom!D18*chancom!E18/1000)","v":0},{"$f":"IF(F18*chancom!E18*chancom!F18<=0,\"\",F18/(chancom!E18*chancom!F18))","v":""},{"$f":"IF(ISNUMBER($G18),IF(AND(chancom!$G18*chancom!$L18*$B18*$C18,$D18=$E18),$G18,\"\"),\"\")","v":""},{"$f":"IF(ISNUMBER($G18),IF(chancom!$G18*chancom!$L18*$C18,IF(H18<>H$33,$G18,\"\"),\"\"),\"\")","v":""},"",{"$f":"IF(ISNUMBER($G18),IF(AND(chancom!$H18*chancom!$L18*$B18*$C18,$D18=$E18),$G18,\"\"),\"\")","v":""},{"$f":"IF(ISNUMBER($G18),IF(chancom!$H18*chancom!$L18*$C18,IF(K18<>K$33,$G18,\"\"),\"\"),\"\")","v":""},"",{"$f":"IF(ISNUMBER($G18),IF(AND(chancom!$I18*chancom!$L18*$B18*$C18,$D18=$E18),$G18,\"\"),\"\")","v":""},{"$f":"IF(ISNUMBER($G18),IF(chancom!$I18*chancom!$L18*$C18,IF(N18<>N$33,$G18,\"\"),\"\"),\"\")","v":""},"",{"$f":"IF(ISNUMBER($G18),IF(AND(chancom!$J18*chancom!$L18*$B18*$C18,$D18=$E18),$G18,\"\"),\"\")","v":""},{"$f":"IF(ISNUMBER($G18),IF(chancom!$J18*chancom!$L18*$C18,IF(Q18<>Q$33,$G18,\"\"),\"\"),\"\")","v":""},""]
[{"$f":"chancom!A19","v":"Email customers"},0,0,4,4,{"$f":"C19*(chancom!C19+E19*chancom!D19*chancom!E19/1000)","v":0},{"$f":"IF(F19*chancom!E19*chancom!F19<=0,\"\",F19/(chancom!E19*chancom!F19))","v":""},{"$f":"IF(ISNUMBER($G19),IF(AND(chancom!$G19*chancom!$L19*$B19*$C19,$D19=$E19),$G19,\"\"),\"\")","v":""},{"$f":"IF(ISNUMBER($G19),IF(chancom!$G19*chancom!$L19*$C19,IF(H19<>H$33,$G19,\"\"),\"\"),\"\")","v":""},"",{"$f":"IF(ISNUMBER($G19),IF(AND(chancom!$H19*chancom!$L19*$B19*$C19,$D19=$E19),$G19,\"\"),\"\")","v":""},{"$f":"IF(ISNUMBER($G19),IF(chancom!$H19*chancom!$L19*$C19,IF(K19<>K$33,$G19,\"\"),\"\"),\"\")","v":""},"",{"$f":"IF(ISNUMBER($G19),IF(AND(chancom!$I19*chancom!$L19*$B19*$C19,$D19=$E19),$G19,\"\"),\"\")","v":""},{"$f":"IF(ISNUMBER($G19),IF(chancom!$I19*chancom!$L19*$C19,IF(N19<>N$33,$G19,\"\"),\"\"),\"\")","v":""},"",{"$f":"IF(ISNUMBER($G19),IF(AND(chancom!$J19*chancom!$L19*$B19*$C19,$D19=$E19),$G19,\"\"),\"\")","v":""},{"$f":"IF(ISNUMBER($G19),IF(chancom!$J19*chancom!$L19*$C19,IF(Q19<>Q$33,$G19,\"\"),\"\"),\"\")","v":""},""]
[{"$f":"chancom!A20","v":"Outbound telephone - prospects"},0,1,2,2,{"$f":"C20*(chancom!C20+E20*chancom!D20*chancom!E20/1000)","v":0},{"$f":"IF(F20*chancom!E20*chancom!F20<=0,\"\",F20/(chancom!E20*chancom!F20))","v":""},{"$f":"IF(ISNUMBER($G20),IF(AND(chancom!$G20*chancom!$L20*$B20*$C20,$D20=$E20),$G20,\"\"),\"\")","v":""},{"$f":"IF(ISNUMBER($G20),IF(chancom!$G20*chancom!$L20*$C20,IF(H20<>H$33,$G20,\"\"),\"\"),\"\")","v":""},"",{"$f":"IF(ISNUMBER($G20),IF(AND(chancom!$H20*chancom!$L20*$B20*$C20,$D20=$E20),$G20,\"\"),\"\")","v":""},{"$f":"IF(ISNUMBER($G20),IF(chancom!$H20*chancom!$L20*$C20,IF(K20<>K$33,$G20,\"\"),\"\"),\"\")","v":""},"",{"$f":"IF(ISNUMBER($G20),IF(AND(chancom!$I20*chancom!$L20*$B20*$C20,$D20=$E20),$G20,\"\"),\"\")","v":""},{"$f":"IF(ISNUMBER($G20),IF(chancom!$I20*chancom!$L20*$C20,IF(N20<>N$33,$G20,\"\"),\"\"),\"\")","v":""},"",{"$f":"IF(ISNUMBER($G20),IF(AND(chancom!$J20*chancom!$L20*$B20*$C20,$D20=$E20),$G20,\"\"),\"\")","v":""},{"$f":"IF(ISNUMBER($G20),IF(chancom!$J20*chancom!$L20*$C20,IF(Q20<>Q$33,$G20,\"\"),\"\"),\"\")","v":""},""]
[{"$f":"chancom!A21","v":"Outbound telephone - customers"},0,0,2,2,{"$f":"C21*(chancom!C21+E21*chancom!D21*chancom!E21/1000)","v":0},{"$f":"IF(F21*chancom!E21*chancom!F21<=0,\"\",F21/(chancom!E21*chancom!F21))","v":""},{"$f":"IF(ISNUMBER($G21),IF(AND(chancom!$G21*chancom!$L21*$B21*$C21,$D21=$E21),$G21,\"\"),\"\")","v":""},{"$f":"IF(ISNUMBER($G21),IF(chancom!$G21*chancom!$L21*$C21,IF(H21<>H$33,$G21,\"\"),\"\"),\"\")","v":""},"",{"$f":"IF(ISNUMBER($G21),IF(AND(chancom!$H21*chancom!$L21*$B21*$C21,$D21=$E21),$G21,\"\"),\"\")","v":""},{"$f":"IF(ISNUMBER($G21),IF(chancom!$H21*chancom!$L21*$C21,IF(K21<>K$33,$G21,\"\"),\"\"),\"\")","v":""},"",{"$f":"IF(ISNUMBER($G21),IF(AND(chancom!$I21*chancom!$L21*$B21*$C21,$D21=$E21),$G21,\"\"),\"\")","v":""},{"$f":"IF(ISNUMBER($G21),IF(chancom!$I21*chancom!$L21*$C21,IF(N21<>N$33,$G21,\"\"),\"\"),\"\")","v":""},"",{"$f":"IF(ISNUMBER($G21),IF(AND(chancom!$J21*chancom!$L21*$B21*$C21,$D21=$E21),$G21,\"\"),\"\")","v":""},{"$f":"IF(ISNUMBER($G21),IF(chancom!$J21*chancom!$L21*$C21,IF(Q21<>Q$33,$G21,\"\"),\"\"),\"\")","v":""},""]
[{"$f":"chancom!A22","v":"Direct mail - external lists"},1,1,3,3,{"$f":"C22*(chancom!C22+E22*chancom!D22*chancom!E22/1000)","v":0},{"$f":"IF(F22*chancom!E22*chancom!F22<=0,\"\",F22/(chancom!E22*chancom!F22))","v":""},{"$f":"IF(ISNUMBER($G22),IF(AND(chancom!$G22*chancom!$L22*$B22*$C22,$D22=$E22),$G22,\"\"),\"\")","v":""},{"$f":"IF(ISNUMBER($G22),IF(chancom!$G22*chancom!$L22*$C22,IF(H22<>H$33,$G22,\"\"),\"\"),\"\")","v":""},"",{"$f":"IF(ISNUMBER($G22),IF(AND(chancom!$H22*chancom!$L22*$B22*$C22,$D22=$E22),$G22,\"\"),\"\")","v":""},{"$f":"IF(ISNUMBER($G22),IF(chancom!$H22*chancom!$L22*$C22,IF(K22<>K$33,$G22,\"\"),\"\"),\"\")","v":""},"",{"$f":"IF(ISNUMBER($G22),IF(AND(chancom!$I22*chancom!$L22*$B22*$C22,$D22=$E22),$G22,\"\"),\"\")","v":""},{"$f":"IF(ISNUMBER($G22),IF(chancom!$I22*chancom!$L22*$C22,IF(N22<>N$33,$G22,\"\"),\"\"),\"\")","v":""},"",{"$f":"IF(ISNUMBER($G22),IF(AND(chancom!$J22*chancom!$L22*$B22*$C22,$D22=$E22),$G22,\"\"),\"\")","v":""},{"$f":"IF(ISNUMBER($G22),IF(chancom!$J22*chancom!$L22*$C22,IF(Q22<>Q$33,$G22,\"\"),\"\"),\"\")","v":""},""]
[{"$f":"chancom!A23","v":"Direct mail - customer database"},0,0,3,3,{"$f":"C23*(chancom!C23+E23*chancom!D23*chancom!E23/1000)","v":0},{"$f":"IF(F23*chancom!E23*chancom!F23<=0,\"\",F23/(chancom!E23*chancom!F23))","v":""},{"$f":"IF(ISNUMBER($G23),IF(AND(chancom!$G23*chancom!$L23*$B23*$C23,$D23=$E23),$G23,\"\"),\"\")","v":""},{"$f":"IF(ISNUMBER($G23),IF(chancom!$G23*chancom!$L23*$C23,IF(H23<>H$33,$G23,\"\"),\"\"),\"\")","v":""},{"$f":"IF(AND(ISNUMBER(H23),NOT(ISNUMBER(I23))),0,IF(ISNUMBER(I23),RANK(I23,I$3:I$32,1),\"\"))","v":""},{"$f":"IF(ISNUMBER($G23),IF(AND(chancom!$H23*chancom!$L23*$B23*$C23,$D23=$E23),$G23,\"\"),\"\")","v":""},{"$f":"IF(ISNUMBER($G23),IF(chancom!$H23*chancom!$L23*$C23,IF(K23<>K$33,$G23,\"\"),\"\"),\"\")","v":""},{"$f":"IF(AND(ISNUMBER(K23),NOT(ISNUMBER(L23))),0,IF(ISNUMBER(L23),RANK(L23,L$3:L$32,1),\"\"))","v":""},{"$f":"IF(ISNUMBER($G23),IF(AND(chancom!$I23*chancom!$L23*$B23*$C23,$D23=$E23),$G23,\"\"),\"\")","v":""},{"$f":"IF(ISNUMBER($G23),IF(chancom!$I23*chancom!$L23*$C23,IF(N23<>N$33,$G23,\"\"),\"\"),\"\")","v":""},{"$f":"IF(AND(ISNUMBER(N23),NOT(ISNUMBER(O23))),0,IF(ISNUMBER(O23),RANK(O23,O$3:O$32,1),\"\"))","v":""},{"$f":"IF(ISNUMBER($G23),IF(AND(chancom!$J23*chancom!$L23*$B23*$C23,$D23=$E23),$G23,\"\"),\"\")","v":""},{"$f":"IF(ISNUMBER($G23),IF(chancom!$J23*chancom!$L23*$C23,IF(Q23<>Q$33,$G23,\"\"),\"\"),\"\")","v":""},{"$f":"IF(AND(ISNUMBER(Q23),NOT(ISNUMBER(R23))),0,IF(ISNUMBER(R23),RANK(R23,R$3:R$32,1),\"\"))","v":""}]
[{"$f":"chancom!A24","v":"Trade shows and exhibitions"},0,0,1,1,{"$f":"C24*(chancom!C24+E24*chancom!D24*chancom!E24/1000)","v":0},{"$f":"IF(F24*chancom!E24*chancom!F24<=0,\"\",F24/(chancom!E24*chancom!F24))","v":""},{"$f":"IF(ISNUMBER($G24),IF(AND(chancom!$G24*chancom!$L24*$B24*$C24,$D24=$E24),$G24,\"\"),\"\")","v":""},{"$f":"IF(ISNUMBER($G24),IF(chancom!$G24*chancom!$L24*$C24,IF(H24<>H$33,$G24,\"\"),\"\"),\"\")","v":""},{"$f":"IF(AND(ISNUMBER(H24),NOT(ISNUMBER(I24))),0,IF(ISNUMBER(I24),RANK(I24,I$3:I$32,1),\"\"))","v":""},{"$f":"IF(ISNUMBER($G24),IF(AND(chancom!$H24*chancom!$L24*$B24*$C24,$D24=$E24),$G24,\"\"),\"\")","v":""},{"$f":"IF(ISNUMBER($G24),IF(chancom!$H24*chancom!$L24*$C24,IF(K24<>K$33,$G24,\"\"),\"\"),\"\")","v":""},{"$f":"IF(AND(ISNUMBER(K24),NOT(ISNUMBER(L24))),0,IF(ISNUMBER(L24),RANK(L24,L$3:L$32,1),\"\"))","v":""},{"$f":"IF(ISNUMBER($G24),IF(AND(chancom!$I24*chancom!$L24*$B24*$C24,$D24=$E24),$G24,\"\"),\"\")","v":""},{"$f":"IF(ISNUMBER($G24),IF(chancom!$I24*chancom!$L24*$C24,IF(N24<>N$33,$G24,\"\"),\"\"),\"\")","v":""},{"$f":"IF(AND(ISNUMBER(N24),NOT(ISNUMBER(O24))),0,IF(ISNUMBER(O24),RANK(O24,O$3:O$32,1),\"\"))","v":""},{"$f":"IF(ISNUMBER($G24),IF(AND(chancom!$J24*chancom!$L24*$B24*$C24,$D24=$E24),$G24,\"\"),\"\")","v":""},{"$f":"IF(ISNUMBER($G24),IF(chancom!$J24*chancom!$L24*$C24,IF(Q24<>Q$33,$G24,\"\"),\"\"),\"\")","v":""},{"$f":"IF(AND(ISNUMBER(Q24),NOT(ISNUMBER(R24))),0,IF(ISNUMBER(R24),RANK(R24,R$3:R$32,1),\"\"))","v":""}]
[{"$f":"chancom!A25","v":"Produce brochure"},0,0,1,1,{"$f":"C25*(chancom!C25+E25*chancom!D25*chancom!E25/1000)","v":0},{"$f":"IF(F25*chancom!E25*chancom!F25<=0,\"\",F25/(chancom!E25*chancom!F25))","v":""},{"$f":"IF(ISNUMBER($G25),IF(AND(chancom!$G25*chancom!$L25*$B25*$C25,$D25=$E25),$G25,\"\"),\"\")","v":""},{"$f":"IF(ISNUMBER($G25),IF(chancom!$G25*chancom!$L25*$C25,IF(H25<>H$33,$G25,\"\"),\"\"),\"\")","v":""},{"$f":"IF(AND(ISNUMBER(H25),NOT(ISNUMBER(I25))),0,IF(ISNUMBER(I25),RANK(I25,I$3:I$32,1),\"\"))","v":""},{"$f":"IF(ISNUMBER($G25),IF(AND(chancom!$H25*chancom!$L25*$B25*$C25,$D25=$E25),$G25,\"\"),\"\")","v":""},{"$f":"IF(ISNUMBER($G25),IF(chancom!$H25*chancom!$L25*$C25,IF(K25<>K$33,$G25,\"\"),\"\"),\"\")","v":""},{"$f":"IF(AND(ISNUMBER(K25),NOT(ISNUMBER(L25))),0,IF(ISNUMBER(L25),RANK(L25,L$3:L$32,1),\"\"))","v":""},{"$f":"IF(ISNUMBER($G25),IF(AND(chancom!$I25*chancom!$L25*$B25*$C25,$D25=$E25),$G25,\"\"),\"\")","v":""},{"$f":"IF(ISNUMBER($G25),IF(chancom!$I25*chancom!$L25*$C25,IF(N25<>N$33,$G25,\"\"),\"\"),\"\")","v":""},{"$f":"IF(AND(ISNUMBER(N25),NOT(ISNUMBER(O25))),0,IF(ISNUMBER(O25),RANK(O25,O$3:O$32,1),\"\"))","v":""},{"$f":"IF(ISNUMBER($G25),IF(AND(chancom!$J25*chancom!$L25*$B25*$C25,$D25=$E25),$G25,\"\"),\"\")","v":""},{"$f":"IF(ISNUMBER($G25),IF(chancom!$J25*chancom!$L25*$C25,IF(Q25<>Q$33,$G25,\"\"),\"\"),\"\")","v":""},{"$f":"IF(AND(ISNUMBER(Q25),NOT(ISNUMBER(R25))),0,IF(ISNUMBER(R25),RANK(R25,R$3:R$32,1),\"\"))","v":""}]
[{"$f":"chancom!A26","v":"Ecommerce development"},{"$f":"IF('q&a'!$F$33,1,0)","v":0},{"$f":"IF('q&a'!$F$33,1,0)","v":0},1,1,{"$f":"C26*(chancom!C26+E26*chancom!D26*chancom!E26/1000)","v":0},{"$f":"IF(F26*chancom!E26*chancom!F26<=0,\"\",F26/(chancom!E26*chancom!F26))","v":""},{"$f":"IF(ISNUMBER($G26),IF(AND(chancom!$G26*chancom!$L26*$B26*$C26,$D26=$E26),$G26,\"\"),\"\")","v":""},{"$f":"IF(ISNUMBER($G26),IF(chancom!$G26*chancom!$L26*$C26,IF(H26<>H$33,$G26,\"\"),\"\"),\"\")","v":""},"",{"$f":"IF(ISNUMBER($G26),IF(AND(chancom!$H26*chancom!$L26*$B26*$C26,$D26=$E26),$G26,\"\"),\"\")","v":""},{"$f":"IF(ISNUMBER($G26),IF(chancom!$H26*chancom!$L26*$C26,IF(K26<>K$33,$G26,\"\"),\"\"),\"\")","v":""},"",{"$f":"IF(ISNUMBER($G26),IF(AND(chancom!$I26*chancom!$L26*$B26*$C26,$D26=$E26),$G26,\"\"),\"\")","v":""},{"$f":"IF(ISNUMBER($G26),IF(chancom!$I26*chancom!$L26*$C26,IF(N26<>N$33,$G26,\"\"),\"\"),\"\")","v":""},"",{"$f":"IF(ISNUMBER($G26),IF(AND(chancom!$J26*chancom!$L26*$B26*$C26,$D26=$E26),$G26,\"\"),\"\")","v":""},{"$f":"IF(ISNUMBER($G26),IF(chancom!$J26*chancom!$L26*$C26,IF(Q26<>Q$33,$G26,\"\"),\"\"),\"\")","v":""},""]
[{"$f":"chancom!A27","v":"Web search term advertising"},0,1,3,3,{"$f":"C27*(chancom!C27+E27*chancom!D27*chancom!E27/1000)","v":0},{"$f":"IF(F27*chancom!E27*chancom!F27<=0,\"\",F27/(chancom!E27*chancom!F27))","v":""},{"$f":"IF(ISNUMBER($G27),IF(AND(chancom!$G27*chancom!$L27*$B27*$C27,$D27=$E27),$G27,\"\"),\"\")","v":""},{"$f":"IF(ISNUMBER($G27),IF(chancom!$G27*chancom!$L27*$C27,IF(H27<>H$33,$G27,\"\"),\"\"),\"\")","v":""},"",{"$f":"IF(ISNUMBER($G27),IF(AND(chancom!$H27*chancom!$L27*$B27*$C27,$D27=$E27),$G27,\"\"),\"\")","v":""},{"$f":"IF(ISNUMBER($G27),IF(chancom!$H27*chancom!$L27*$C27,IF(K27<>K$33,$G27,\"\"),\"\"),\"\")","v":""},"",{"$f":"IF(ISNUMBER($G27),IF(AND(chancom!$I27*chancom!$L27*$B27*$C27,$D27=$E27),$G27,\"\"),\"\")","v":""},{"$f":"IF(ISNUMBER($G27),IF(chancom!$I27*chancom!$L27*$C27,IF(N27<>N$33,$G27,\"\"),\"\"),\"\")","v":""},"",{"$f":"IF(ISNUMBER($G27),IF(AND(chancom!$J27*chancom!$L27*$B27*$C27,$D27=$E27),$G27,\"\"),\"\")","v":""},{"$f":"IF(ISNUMBER($G27),IF(chancom!$J27*chancom!$L27*$C27,IF(Q27<>Q$33,$G27,\"\"),\"\"),\"\")","v":""},""]
[{"$f":"chancom!A28","v":"Web advertising"},0,1,4,4,{"$f":"C28*(chancom!C28+E28*chancom!D28*chancom!E28/1000)","v":0},{"$f":"IF(F28*chancom!E28*chancom!F28<=0,\"\",F28/(chancom!E28*chancom!F28))","v":""},{"$f":"IF(ISNUMBER($G28),IF(AND(chancom!$G28*chancom!$L28*$B28*$C28,$D28=$E28),$G28,\"\"),\"\")","v":""},{"$f":"IF(ISNUMBER($G28),IF(chancom!$G28*chancom!$L28*$C28,IF(H28<>H$33,$G28,\"\"),\"\"),\"\")","v":""},"",{"$f":"IF(ISNUMBER($G28),IF(AND(chancom!$H28*chancom!$L28*$B28*$C28,$D28=$E28),$G28,\"\"),\"\")","v":""},{"$f":"IF(ISNUMBER($G28),IF(chancom!$H28*chancom!$L28*$C28,IF(K28<>K$33,$G28,\"\"),\"\"),\"\")","v":""},"",{"$f":"IF(ISNUMBER($G28),IF(AND(chancom!$I28*chancom!$L28*$B28*$C28,$D28=$E28),$G28,\"\"),\"\")","v":""},{"$f":"IF(ISNUMBER($G28),IF(chancom!$I28*chancom!$L28*$C28,IF(N28<>N$33,$G28,\"\"),\"\"),\"\")","v":""},"",{"$f":"IF(ISNUMBER($G28),IF(AND(chancom!$J28*chancom!$L28*$B28*$C28,$D28=$E28),$G28,\"\"),\"\")","v":""},{"$f":"IF(ISNUMBER($G28),IF(chancom!$J28*chancom!$L28*$C28,IF(Q28<>Q$33,$G28,\"\"),\"\"),\"\")","v":""},""]
[{"$f":"chancom!A29","v":"Develop website/landing page"},0,1,1,1,{"$f":"C29*(chancom!C29+E29*chancom!D29*chancom!E29/1000)","v":0},{"$f":"IF(F29*chancom!E29*chancom!F29<=0,\"\",F29/(chancom!E29*chancom!F29))","v":""},{"$f":"IF(ISNUMBER($G29),IF(AND(chancom!$G29*chancom!$L29*$B29*$C29,$D29=$E29),$G29,\"\"),\"\")","v":""},{"$f":"IF(ISNUMBER($G29),IF(chancom!$G29*chancom!$L29*$C29,IF(H29<>H$33,$G29,\"\"),\"\"),\"\")","v":""},"",{"$f":"IF(ISNUMBER($G29),IF(AND(chancom!$H29*chancom!$L29*$B29*$C29,$D29=$E29),$G29,\"\"),\"\")","v":""},{"$f":"IF(ISNUMBER($G29),IF(chancom!$H29*chancom!$L29*$C29,IF(K29<>K$33,$G29,\"\"),\"\"),\"\")","v":""},"",{"$f":"IF(ISNUMBER($G29),IF(AND(chancom!$I29*chancom!$L29*$B29*$C29,$D29=$E29),$G29,\"\"),\"\")","v":""},{"$f":"IF(ISNUMBER($G29),IF(chancom!$I29*chancom!$L29*$C29,IF(N29<>N$33,$G29,\"\"),\"\"),\"\")","v":""},"",{"$f":"IF(ISNUMBER($G29),IF(AND(chancom!$J29*chancom!$L29*$B29*$C29,$D29=$E29),$G29,\"\"),\"\")","v":""},{"$f":"IF(ISNUMBER($G29),IF(chancom!$J29*chancom!$L29*$C29,IF(Q29<>Q$33,$G29,\"\"),\"\"),\"\")","v":""},""]
[{"$f":"chancom!A30","v":"Produce point-of-sale materials"},1,1,1,1,{"$f":"C30*(chancom!C30+E30*chancom!D30*chancom!E30/1000)","v":0},{"$f":"IF(F30*chancom!E30*chancom!F30<=0,\"\",F30/(chancom!E30*chancom!F30))","v":""},{"$f":"IF(ISNUMBER($G30),IF(AND(chancom!$G30*chancom!$L30*$B30*$C30,$D30=$E30),$G30,\"\"),\"\")","v":""},{"$f":"IF(ISNUMBER($G30),IF(chancom!$G30*chancom!$L30*$C30,IF(H30<>H$33,$G30,\"\"),\"\"),\"\")","v":""},"",{"$f":"IF(ISNUMBER($G30),IF(AND(chancom!$H30*chancom!$L30*$B30*$C30,$D30=$E30),$G30,\"\"),\"\")","v":""},{"$f":"IF(ISNUMBER($G30),IF(chancom!$H30*chancom!$L30*$C30,IF(K30<>K$33,$G30,\"\"),\"\"),\"\")","v":""},"",{"$f":"IF(ISNUMBER($G30),IF(AND(chancom!$I30*chancom!$L30*$B30*$C30,$D30=$E30),$G30,\"\"),\"\")","v":""},{"$f":"IF(ISNUMBER($G30),IF(chancom!$I30*chancom!$L30*$C30,IF(N30<>N$33,$G30,\"\"),\"\"),\"\")","v":""},"",{"$f":"IF(ISNUMBER($G30),IF(AND(chancom!$J30*chancom!$L30*$B30*$C30,$D30=$E30),$G30,\"\"),\"\")","v":""},{"$f":"IF(ISNUMBER($G30),IF(chancom!$J30*chancom!$L30*$C30,IF(Q30<>Q$33,$G30,\"\"),\"\"),\"\")","v":""},""]
[{"$f":"chancom!A31","v":"Inbound telephone centre"},1,1,1,1,{"$f":"C31*(chancom!C31+E31*chancom!D31*chancom!E31/1000)","v":0},{"$f":"IF(F31*chancom!E31*chancom!F31<=0,\"\",F31/(chancom!E31*chancom!F31))","v":""},{"$f":"IF(ISNUMBER($G31),IF(AND(chancom!$G31*chancom!$L31*$B31*$C31,$D31=$E31),$G31,\"\"),\"\")","v":""},{"$f":"IF(ISNUMBER($G31),IF(chancom!$G31*chancom!$L31*$C31,IF(H31<>H$33,$G31,\"\"),\"\"),\"\")","v":""},"",{"$f":"IF(ISNUMBER($G31),IF(AND(chancom!$H31*chancom!$L31*$B31*$C31,$D31=$E31),$G31,\"\"),\"\")","v":""},{"$f":"IF(ISNUMBER($G31),IF(chancom!$H31*chancom!$L31*$C31,IF(K31<>K$33,$G31,\"\"),\"\"),\"\")","v":""},"",{"$f":"IF(ISNUMBER($G31),IF(AND(chancom!$I31*chancom!$L31*$B31*$C31,$D31=$E31),$G31,\"\"),\"\")","v":""},{"$f":"IF(ISNUMBER($G31),IF(chancom!$I31*chancom!$L31*$C31,IF(N31<>N$33,$G31,\"\"),\"\"),\"\")","v":""},"",{"$f":"IF(ISNUMBER($G31),IF(AND(chancom!$J31*chancom!$L31*$B31*$C31,$D31=$E31),$G31,\"\"),\"\")","v":""},{"$f":"IF(ISNUMBER($G31),IF(chancom!$J31*chancom!$L31*$C31,IF(Q31<>Q$33,$G31,\"\"),\"\"),\"\")","v":""},""]
[{"$f":"chancom!A32","v":"Employ sales force"},{"$f":"IF('q&a'!$F$31,1,0)","v":0},{"$f":"IF('q&a'!$F$31,1,0)","v":0},1,1,{"$f":"C32*(chancom!C32+E32*chancom!D32*chancom!E32/1000)","v":0},{"$f":"IF(F32*chancom!E32*chancom!F32<=0,\"\",F32/(chancom!E32*chancom!F32))","v":""},{"$f":"IF(ISNUMBER($G32),IF(AND(chancom!$G32*chancom!$L32*$B32*$C32,$D32=$E32),$G32,\"\"),\"\")","v":""},{"$f":"IF(ISNUMBER($G32),IF(chancom!$G32*chancom!$L32*$C32,IF(H32<>H$33,$G32,\"\"),\"\"),\"\")","v":""},"",{"$f":"IF(ISNUMBER($G32),IF(AND(chancom!$H32*chancom!$L32*$B32*$C32,$D32=$E32),$G32,\"\"),\"\")","v":""},{"$f":"IF(ISNUMBER($G32),IF(chancom!$H32*chancom!$L32*$C32,IF(K32<>K$33,$G32,\"\"),\"\"),\"\")","v":""},"",{"$f":"IF(ISNUMBER($G32),IF(AND(chancom!$I32*chancom!$L32*$B32*$C32,$D32=$E32),$G32,\"\"),\"\")","v":""},{"$f":"IF(ISNUMBER($G32),IF(chancom!$I32*chancom!$L32*$C32,IF(N32<>N$33,$G32,\"\"),\"\"),\"\")","v":""},"",{"$f":"IF(ISNUMBER($G32),IF(AND(chancom!$J32*chancom!$L32*$B32*$C32,$D32=$E32),$G32,\"\"),\"\")","v":""},{"$f":"IF(ISNUMBER($G32),IF(chancom!$J32*chancom!$L32*$C32,IF(Q32<>Q$33,$G32,\"\"),\"\"),\"\")","v":""},""]
[null,null,null,null,null,null,null,{"$f":"MIN(H3:H32)","v":0},null,null,{"$f":"MIN(K3:K32)","v":0},null,null,{"$f":"MIN(N3:N32)","v":0},null,null,{"$f":"MIN(Q3:Q32)","v":0}]

{"sheet":"chanps","index":8,"n_rows":33,"n_cols":19,"rows_kept":33,"cut":false,"hidden":true,"merged":[]}
["Channel - prospect sustain","Core","Perm","Eff Wgt","Adj Wgt","Tot Cost","Cost/Contact","Alert",null,null,"Inform",null,null,"Set Appt",null,null,"Close Sale"]
[null,null,null,null,null,null,null,"core","eligible","rank","core","eligible","rank","core","eligible","rank","core","eligible","rank"]
[{"$f":"chancom!A3","v":"TV advertising"},1,1,{"$f":"(('q&a'!$I$8-'q&a'!$I$41)*IF('q&a'!$I$10>1,'q&a'!$I$10,1)*chanpp!D3+'q&a'!$I$41*IF('q&a'!$I$43>1,'q&a'!$I$43,1)*chancp!D3)/'q&a'!$I$8","v":{"$error":"#DIV/0!"}},{"$f":"IF(AND((chancom!C3+D3*chancom!D3*chancom!E3/1000)/(chancom!E3*chancom!F3)>V!$B$5,B3=1),chanpp!E3,D3)","v":{"$error":"#DIV/0!"}},{"$f":"C3*(chancom!C3+E3*chancom!D3*chancom!E3/1000)","v":{"$error":"#DIV/0!"}},{"$f":"IF(F3*chancom!E3*chancom!F3<=0,\"\",F3/(chancom!E3*chancom!F3))","v":{"$error":"#DIV/0!"}},{"$f":"IF(ISNUMBER($G3),IF(AND(chancom!$G3*chancom!$L3*$B3*$C3,$D3=$E3),$G3,\"\"),\"\")","v":""},{"$f":"IF(ISNUMBER($G3),IF(chancom!$G3*chancom!$L3*$C3,IF(H3<>H$33,$G3,\"\"),\"\"),\"\")","v":""},{"$f":"IF(AND(ISNUMBER(H3),NOT(ISNUMBER(I3))),0,IF(ISNUMBER(I3),RANK(I3,I$3:I$32,1),\"\"))","v":""},{"$f":"IF(ISNUMBER($G3),IF(AND(chancom!$H3*chancom!$L3*$B3*$C3,$D3=$E3),$G3,\"\"),\"\")","v":""},{"$f":"IF(ISNUMBER($G3),IF(chancom!$H3*chancom!$L3*$C3,IF(K3<>K$33,$G3,\"\"),\"\"),\"\")","v":""},{"$f":"IF(AND(ISNUMBER(K3),NOT(ISNUMBER(L3))),0,IF(ISNUMBER(L3),RANK(L3,L$3:L$32,1),\"\"))","v":""},{"$f":"IF(ISNUMBER($G3),IF(AND(chancom!$I3*chancom!$L3*$B3*$C3,$D3=$E3),$G3,\"\"),\"\")","v":""},{"$f":"IF(ISNUMBER($G3),IF(chancom!$I3*chancom!$L3*$C3,IF(N3<>N$33,$G3,\"\"),\"\"),\"\")","v":""},{"$f":"IF(AND(ISNUMBER(N3),NOT(ISNUMBER(O3))),0,IF(ISNUMBER(O3),RANK(O3,O$3:O$32,1),\"\"))","v":""},{"$f":"IF(ISNUMBER($G3),IF(AND(chancom!$J3*chancom!$L3*$B3*$C3,$D3=$E3),$G3,\"\"),\"\")","v":""},{"$f":"IF(ISNUMBER($G3),IF(chancom!$J3*chancom!$L3*$C3,IF(Q3<>Q$33,$G3,\"\"),\"\"),\"\")","v":""},{"$f":"IF(AND(ISNUMBER(Q3),NOT(ISNUMBER(R3))),0,IF(ISNUMBER(R3),RANK(R3,R$3:R$32,1),\"\"))","v":""}]
[{"$f":"chancom!A4","v":"Direct Response TV"},0,0,{"$f":"(('q&a'!$I$8-'q&a'!$I$41)*IF('q&a'!$I$10>1,'q&a'!$I$10,1)*chanpp!D4+'q&a'!$I$41*IF('q&a'!$I$43>1,'q&a'!$I$43,1)*chancp!D4)/'q&a'!$I$8","v":{"$error":"#DIV/0!"}},{"$f":"IF(AND((chancom!C4+D4*chancom!D4*chancom!E4/1000)/(chancom!E4*chancom!F4)>V!$B$5,B4=1),chanpp!E4,D4)","v":{"$error":"#DIV/0!"}},{"$f":"C4*(chancom!C4+E4*chancom!D4*chancom!E4/1000)","v":{"$error":"#DIV/0!"}},{"$f":"IF(F4*chancom!E4*chancom!F4<=0,\"\",F4/(chancom!E4*chancom!F4))","v":{"$error":"#DIV/0!"}},{"$f":"IF(ISNUMBER($G4),IF(AND(chancom!$G4*chancom!$L4*$B4*$C4,$D4=$E4),$G4,\"\"),\"\")","v":""},{"$f":"IF(ISNUMBER($G4),IF(chancom!$G4*chancom!$L4*$C4,IF(H4<>H$33,$G4,\"\"),\"\"),\"\")","v":""},{"$f":"IF(AND(ISNUMBER(H4),NOT(ISNUMBER(I4))),0,IF(ISNUMBER(I4),RANK(I4,I$3:I$32,1),\"\"))","v":""},{"$f":"IF(ISNUMBER($G4),IF(AND(chancom!$H4*chancom!$L4*$B4*$C4,$D4=$E4),$G4,\"\"),\"\")","v":""},{"$f":"IF(ISNUMBER($G4),IF(chancom!$H4*chancom!$L4*$C4,IF(K4<>K$33,$G4,\"\"),\"\"),\"\")","v":""},"",{"$f":"IF(ISNUMBER($G4),IF(AND(chancom!$I4*chancom!$L4*$B4*$C4,$D4=$E4),$G4,\"\"),\"\")","v":""},{"$f":"IF(ISNUMBER($G4),IF(chancom!$I4*chancom!$L4*$C4,IF(N4<>N$33,$G4,\"\"),\"\"),\"\")","v":""},"",{"$f":"IF(ISNUMBER($G4),IF(AND(chancom!$J4*chancom!$L4*$B4*$C4,$D4=$E4),$G4,\"\"),\"\")","v":""},{"$f":"IF(ISNUMBER($G4),IF(chancom!$J4*chancom!$L4*$C4,IF(Q4<>Q$33,$G4,\"\"),\"\"),\"\")","v":""},""]
[{"$f":"chancom!A5","v":"Radio advertising"},0,1,{"$f":"(('q&a'!$I$8-'q&a'!$I$41)*IF('q&a'!$I$10>1,'q&a'!$I$10,1)*chanpp!D5+'q&a'!$I$41*IF('q&a'!$I$43>1,'q&a'!$I$43,1)*chancp!D5)/'q&a'!$I$8","v":{"$error":"#DIV/0!"}},{"$f":"IF(AND((chancom!C5+D5*chancom!D5*chancom!E5/1000)/(chancom!E5*chancom!F5)>V!$B$5,B5=1),chanpp!E5,D5)","v":{"$error":"#DIV/0!"}},{"$f":"C5*(chancom!C5+E5*chancom!D5*chancom!E5/1000)","v":{"$error":"#DIV/0!"}},{"$f":"IF(F5*chancom!E5*chancom!F5<=0,\"\",F5/(chancom!E5*chancom!F5))","v":{"$error":"#DIV/0!"}},{"$f":"IF(ISNUMBER($G5),IF(AND(chancom!$G5*chancom!$L5*$B5*$C5,$D5=$E5),$G5,\"\"),\"\")","v":""},{"$f":"IF(ISNUMBER($G5),IF(chancom!$G5*chancom!$L5*$C5,IF(H5<>H$33,$G5,\"\"),\"\"),\"\")","v":""},"",{"$f":"IF(ISNUMBER($G5),IF(AND(chancom!$H5*chancom!$L5*$B5*$C5,$D5=$E5),$G5,\"\"),\"\")","v":""},{"$f":"IF(ISNUMBER($G5),IF(chancom!$H5*chancom!$L5*$C5,IF(K5<>K$33,$G5,\"\"),\"\"),\"\")","v":""},"",{"$f":"IF(ISNUMBER($G5),IF(AND(chancom!$I5*chancom!$L5*$B5*$C5,$D5=$E5),$G5,\"\"),\"\")","v":""},{"$f":"IF(ISNUMBER($G5),IF(chancom!$I5*chancom!$L5*$C5,IF(N5<>N$33,$G5,\"\"),\"\"),\"\")","v":""},"",{"$f":"IF(ISNUMBER($G5),IF(AND(chancom!$J5*chancom!$L5*$B5*$C5,$D5=$E5),$G5,\"\"),\"\")","v":""},{"$f":"IF(ISNUMBER($G5),IF(chancom!$J5*chancom!$L5*$C5,IF(Q5<>Q$33,$G5,\"\"),\"\"),\"\")","v":""},""]
[{"$f":"chancom!A6","v":"Cinema advertising"},0,1,{"$f":"(('q&a'!$I$8-'q&a'!$I$41)*IF('q&a'!$I$10>1,'q&a'!$I$10,1)*chanpp!D6+'q&a'!$I$41*IF('q&a'!$I$43>1,'q&a'!$I$43,1)*chancp!D6)/'q&a'!$I$8","v":{"$error":"#DIV/0!"}},{"$f":"IF(AND((chancom!C6+D6*chancom!D6*chancom!E6/1000)/(chancom!E6*chancom!F6)>V!$B$5,B6=1),chanpp!E6,D6)","v":{"$error":"#DIV/0!"}},{"$f":"C6*(chancom!C6+E6*chancom!D6*chancom!E6/1000)","v":{"$error":"#DIV/0!"}},{"$f":"IF(F6*chancom!E6*chancom!F6<=0,\"\",F6/(chancom!E6*chancom!F6))","v":{"$error":"#DIV/0!"}},{"$f":"IF(ISNUMBER($G6),IF(AND(chancom!$G6*chancom!$L6*$B6*$C6,$D6=$E6),$G6,\"\"),\"\")","v":""},{"$f":"IF(ISNUMBER($G6),IF(chancom!$G6*chancom!$L6*$C6,IF(H6<>H$33,$G6,\"\"),\"\"),\"\")","v":""},{"$f":"IF(AND(ISNUMBER(H6),NOT(ISNUMBER(I6))),0,IF(ISNUMBER(I6),RANK(I6,I$3:I$32,1),\"\"))","v":""},{"$f":"IF(ISNUMBER($G6),IF(AND(chancom!$H6*chancom!$L6*$B6*$C6,$D6=$E6),$G6,\"\"),\"\")","v":""},{"$f":"IF(ISNUMBER($G6),IF(chancom!$H6*chancom!$L6*$C6,IF(K6<>K$33,$G6,\"\"),\"\"),\"\")","v":""},{"$f":"IF(AND(ISNUMBER(K6),NOT(ISNUMBER(L6))),0,IF(ISNUMBER(L6),RANK(L6,L$3:L$32,1),\"\"))","v":""},{"$f":"IF(ISNUMBER($G6),IF(AND(chancom!$I6*chancom!$L6*$B6*$C6,$D6=$E6),$G6,\"\"),\"\")","v":""},{"$f":"IF(ISNUMBER($G6),IF(chancom!$I6*chancom!$L6*$C6,IF(N6<>N$33,$G6,\"\"),\"\"),\"\")","v":""},{"$f":"IF(AND(ISNUMBER(N6),NOT(ISNUMBER(O6))),0,IF(ISNUMBER(O6),RANK(O6,O$3:O$32,1),\"\"))","v":""},{"$f":"IF(ISNUMBER($G6),IF(AND(chancom!$J6*chancom!$L6*$B6*$C6,$D6=$E6),$G6,\"\"),\"\")","v":""},{"$f":"IF(ISNUMBER($G6),IF(chancom!$J6*chancom!$L6*$C6,IF(Q6<>Q$33,$G6,\"\"),\"\"),\"\")","v":""},{"$f":"IF(AND(ISNUMBER(Q6),NOT(ISNUMBER(R6))),0,IF(ISNUMBER(R6),RANK(R6,R$3:R$32,1),\"\"))","v":""}]
[{"$f":"chancom!A7","v":"Outdoor advertising"},0,1,{"$f":"chanpp!D7","v":4},{"$f":"IF(AND((chancom!C7+D7*chancom!D7*chancom!E7/1000)/(chancom!E7*chancom!F7)>V!$B$5,B7=1),chanpp!E7,D7)","v":{"$error":"#DIV/0!"}},{"$f":"C7*(chancom!C7+E7*chancom!D7*chancom!E7/1000)","v":{"$error":"#DIV/0!"}},{"$f":"IF(F7*chancom!E7*chancom!F7<=0,\"\",F7/(chancom!E7*chancom!F7))","v":{"$error":"#DIV/0!"}},{"$f":"IF(ISNUMBER($G7),IF(AND(chancom!$G7*chancom!$L7*$B7*$C7,$D7=$E7),$G7,\"\"),\"\")","v":""},{"$f":"IF(ISNUMBER($G7),IF(chancom!$G7*chancom!$L7*$C7,IF(H7<>H$33,$G7,\"\"),\"\"),\"\")","v":""},"",{"$f":"IF(ISNUMBER($G7),IF(AND(chancom!$H7*chancom!$L7*$B7*$C7,$D7=$E7),$G7,\"\"),\"\")","v":""},{"$f":"IF(ISNUMBER($G7),IF(chancom!$H7*chancom!$L7*$C7,IF(K7<>K$33,$G7,\"\"),\"\"),\"\")","v":""},"",{"$f":"IF(ISNUMBER($G7),IF(AND(chancom!$I7*chancom!$L7*$B7*$C7,$D7=$E7),$G7,\"\"),\"\")","v":""},{"$f":"IF(ISNUMBER($G7),IF(chancom!$I7*chancom!$L7*$C7,IF(N7<>N$33,$G7,\"\"),\"\"),\"\")","v":""},"",{"$f":"IF(ISNUMBER($G7),IF(AND(chancom!$J7*chancom!$L7*$B7*$C7,$D7=$E7),$G7,\"\"),\"\")","v":""},{"$f":"IF(ISNUMBER($G7),IF(chancom!$J7*chancom!$L7*$C7,IF(Q7<>Q$33,$G7,\"\"),\"\"),\"\")","v":""},""]
[{"$f":"chancom!A8","v":"Public Relations"},0,1,{"$f":"chanpp!D8","v":4},{"$f":"IF(AND((chancom!C8+D8*chancom!D8*chancom!E8/1000)/(chancom!E8*chancom!F8)>V!$B$5,B8=1),chanpp!E8,D8)","v":{"$error":"#DIV/0!"}},{"$f":"C8*(chancom!C8+E8*chancom!D8*chancom!E8/1000)","v":{"$error":"#DIV/0!"}},{"$f":"IF(F8*chancom!E8*chancom!F8<=0,\"\",F8/(chancom!E8*chancom!F8))","v":{"$error":"#DIV/0!"}},{"$f":"IF(ISNUMBER($G8),IF(AND(chancom!$G8*chancom!$L8*$B8*$C8,$D8=$E8),$G8,\"\"),\"\")","v":""},{"$f":"IF(ISNUMBER($G8),IF(chancom!$G8*chancom!$L8*$C8,IF(H8<>H$33,$G8,\"\"),\"\"),\"\")","v":""},"",{"$f":"IF(ISNUMBER($G8),IF(AND(chancom!$H8*chancom!$L8*$B8*$C8,$D8=$E8),$G8,\"\"),\"\")","v":""},{"$f":"IF(ISNUMBER($G8),IF(chancom!$H8*chancom!$L8*$C8,IF(K8<>K$33,$G8,\"\"),\"\"),\"\")","v":""},"",{"$f":"IF(ISNUMBER($G8),IF(AND(chancom!$I8*chancom!$L8*$B8*$C8,$D8=$E8),$G8,\"\"),\"\")","v":""},{"$f":"IF(ISNUMBER($G8),IF(chancom!$I8*chancom!$L8*$C8,IF(N8<>N$33,$G8,\"\"),\"\"),\"\")","v":""},"",{"$f":"IF(ISNUMBER($G8),IF(AND(chancom!$J8*chancom!$L8*$B8*$C8,$D8=$E8),$G8,\"\"),\"\")","v":""},{"$f":"IF(ISNUMBER($G8),IF(chancom!$J8*chancom!$L8*$C8,IF(Q8<>Q$33,$G8,\"\"),\"\"),\"\")","v":""},""]
[{"$f":"chancom!A9","v":"Collaterals and ambient"},0,1,{"$f":"chanpp!D9","v":2},{"$f":"IF(AND((chancom!C9+D9*chancom!D9*chancom!E9/1000)/(chancom!E9*chancom!F9)>V!$B$5,B9=1),chanpp!E9,D9)","v":{"$error":"#DIV/0!"}},{"$f":"C9*(chancom!C9+E9*chancom!D9*chancom!E9/1000)","v":{"$error":"#DIV/0!"}},{"$f":"IF(F9*chancom!E9*chancom!F9<=0,\"\",F9/(chancom!E9*chancom!F9))","v":{"$error":"#DIV/0!"}},{"$f":"IF(ISNUMBER($G9),IF(AND(chancom!$G9*chancom!$L9*$B9*$C9,$D9=$E9),$G9,\"\"),\"\")","v":""},{"$f":"IF(ISNUMBER($G9),IF(chancom!$G9*chancom!$L9*$C9,IF(H9<>H$33,$G9,\"\"),\"\"),\"\")","v":""},"",{"$f":"IF(ISNUMBER($G9),IF(AND(chancom!$H9*chancom!$L9*$B9*$C9,$D9=$E9),$G9,\"\"),\"\")","v":""},{"$f":"IF(ISNUMBER($G9),IF(chancom!$H9*chancom!$L9*$C9,IF(K9<>K$33,$G9,\"\"),\"\"),\"\")","v":""},"",{"$f":"IF(ISNUMBER($G9),IF(AND(chancom!$I9*chancom!$L9*$B9*$C9,$D9=$E9),$G9,\"\"),\"\")","v":""},{"$f":"IF(ISNUMBER($G9),IF(chancom!$I9*chancom!$L9*$C9,IF(N9<>N$33,$G9,\"\"),\"\"),\"\")","v":""},"",{"$f":"IF(ISNUMBER($G9),IF(AND(chancom!$J9*chancom!$L9*$B9*$C9,$D9=$E9),$G9,\"\"),\"\")","v":""},{"$f":"IF(ISNUMBER($G9),IF(chancom!$J9*chancom!$L9*$C9,IF(Q9<>Q$33,$G9,\"\"),\"\"),\"\")","v":""},""]
[{"$f":"chancom!A10","v":"Press ads and web"},0,1,{"$f":"(('q&a'!$I$8-'q&a'!$I$41)*IF('q&a'!$I$10>1,'q&a'!$I$10,1)*chanpp!D10+'q&a'!$I$41*IF('q&a'!$I$43>1,'q&a'!$I$43,1)*chancp!D10)/'q&a'!$I$8","v":{"$error":"#DIV/0!"}},{"$f":"IF(AND((chancom!C10+D10*chancom!D10*chancom!E10/1000)/(chancom!E10*chancom!F10)>V!$B$5,B10=1),chanpp!E10,D10)","v":{"$error":"#DIV/0!"}},{"$f":"C10*(chancom!C10+E10*chancom!D10*chancom!E10/1000)","v":{"$error":"#DIV/0!"}},{"$f":"IF(F10*chancom!E10*chancom!F10<=0,\"\",F10/(chancom!E10*chancom!F10))","v":{"$error":"#DIV/0!"}},{"$f":"IF(ISNUMBER($G10),IF(AND(chancom!$G10*chancom!$L10*$B10*$C10,$D10=$E10),$G10,\"\"),\"\")","v":""},{"$f":"IF(ISNUMBER($G10),IF(chancom!$G10*chancom!$L10*$C10,IF(H10<>H$33,$G10,\"\"),\"\"),\"\")","v":""},"",{"$f":"IF(ISNUMBER($G10),IF(AND(chancom!$H10*chancom!$L10*$B10*$C10,$D10=$E10),$G10,\"\"),\"\")","v":""},{"$f":"IF(ISNUMBER($G10),IF(chancom!$H10*chancom!$L10*$C10,IF(K10<>K$33,$G10,\"\"),\"\"),\"\")","v":""},"",{"$f":"IF(ISNUMBER($G10),IF(AND(chancom!$I10*chancom!$L10*$B10*$C10,$D10=$E10),$G10,\"\"),\"\")","v":""},{"$f":"IF(ISNUMBER($G10),IF(chancom!$I10*chancom!$L10*$C10,IF(N10<>N$33,$G10,\"\"),\"\"),\"\")","v":""},"",{"$f":"IF(ISNUMBER($G10),IF(AND(chancom!$J10*chancom!$L10*$B10*$C10,$D10=$E10),$G10,\"\"),\"\")","v":""},{"$f":"IF(ISNUMBER($G10),IF(chancom!$J10*chancom!$L10*$C10,IF(Q10<>Q$33,$G10,\"\"),\"\"),\"\")","v":""},""]
[{"$f":"chancom!A11","v":"Consumer mags and web ads"},1,1,{"$f":"(('q&a'!$I$8-'q&a'!$I$41)*IF('q&a'!$I$10>1,'q&a'!$I$10,1)*chanpp!D11+'q&a'!$I$41*IF('q&a'!$I$43>1,'q&a'!$I$43,1)*chancp!D11)/'q&a'!$I$8","v":{"$error":"#DIV/0!"}},{"$f":"IF(AND((chancom!C11+D11*chancom!D11*chancom!E11/1000)/(chancom!E11*chancom!F11)>V!$B$5,B11=1),chanpp!E11,D11)","v":{"$error":"#DIV/0!"}},{"$f":"C11*(chancom!C11+E11*chancom!D11*chancom!E11/1000)","v":{"$error":"#DIV/0!"}},{"$f":"IF(F11*chancom!E11*chancom!F11<=0,\"\",F11/(chancom!E11*chancom!F11))","v":{"$error":"#DIV/0!"}},{"$f":"IF(ISNUMBER($G11),IF(AND(chancom!$G11*chancom!$L11*$B11*$C11,$D11=$E11),$G11,\"\"),\"\")","v":""},{"$f":"IF(ISNUMBER($G11),IF(chancom!$G11*chancom!$L11*$C11,IF(H11<>H$33,$G11,\"\"),\"\"),\"\")","v":""},"",{"$f":"IF(ISNUMBER($G11),IF(AND(chancom!$H11*chancom!$L11*$B11*$C11,$D11=$E11),$G11,\"\"),\"\")","v":""},{"$f":"IF(ISNUMBER($G11),IF(chancom!$H11*chancom!$L11*$C11,IF(K11<>K$33,$G11,\"\"),\"\"),\"\")","v":""},"",{"$f":"IF(ISNUMBER($G11),IF(AND(chancom!$I11*chancom!$L11*$B11*$C11,$D11=$E11),$G11,\"\"),\"\")","v":""},{"$f":"IF(ISNUMBER($G11),IF(chancom!$I11*chancom!$L11*$C11,IF(N11<>N$33,$G11,\"\"),\"\"),\"\")","v":""},"",{"$f":"IF(ISNUMBER($G11),IF(AND(chancom!$J11*chancom!$L11*$B11*$C11,$D11=$E11),$G11,\"\"),\"\")","v":""},{"$f":"IF(ISNUMBER($G11),IF(chancom!$J11*chancom!$L11*$C11,IF(Q11<>Q$33,$G11,\"\"),\"\"),\"\")","v":""},""]
[{"$f":"chancom!A12","v":"Specialist mags and web ads"},1,1,{"$f":"(('q&a'!$I$8-'q&a'!$I$41)*IF('q&a'!$I$10>1,'q&a'!$I$10,1)*chanpp!D12+'q&a'!$I$41*IF('q&a'!$I$43>1,'q&a'!$I$43,1)*chancp!D12)/'q&a'!$I$8","v":{"$error":"#DIV/0!"}},{"$f":"IF(AND((chancom!C12+D12*chancom!D12*chancom!E12/1000)/(chancom!E12*chancom!F12)>V!$B$5,B12=1),chanpp!E12,D12)","v":{"$error":"#DIV/0!"}},{"$f":"C12*(chancom!C12+E12*chancom!D12*chancom!E12/1000)","v":{"$error":"#DIV/0!"}},{"$f":"IF(F12*chancom!E12*chancom!F12<=0,\"\",F12/(chancom!E12*chancom!F12))","v":{"$error":"#DIV/0!"}},{"$f":"IF(ISNUMBER($G12),IF(AND(chancom!$G12*chancom!$L12*$B12*$C12,$D12=$E12),$G12,\"\"),\"\")","v":""},{"$f":"IF(ISNUMBER($G12),IF(chancom!$G12*chancom!$L12*$C12,IF(H12<>H$33,$G12,\"\"),\"\"),\"\")","v":""},"",{"$f":"IF(ISNUMBER($G12),IF(AND(chancom!$H12*chancom!$L12*$B12*$C12,$D12=$E12),$G12,\"\"),\"\")","v":""},{"$f":"IF(ISNUMBER($G12),IF(chancom!$H12*chancom!$L12*$C12,IF(K12<>K$33,$G12,\"\"),\"\"),\"\")","v":""},"",{"$f":"IF(ISNUMBER($G12),IF(AND(chancom!$I12*chancom!$L12*$B12*$C12,$D12=$E12),$G12,\"\"),\"\")","v":""},{"$f":"IF(ISNUMBER($G12),IF(chancom!$I12*chancom!$L12*$C12,IF(N12<>N$33,$G12,\"\"),\"\"),\"\")","v":""},"",{"$f":"IF(ISNUMBER($G12),IF(AND(chancom!$J12*chancom!$L12*$B12*$C12,$D12=$E12),$G12,\"\"),\"\")","v":""},{"$f":"IF(ISNUMBER($G12),IF(chancom!$J12*chancom!$L12*$C12,IF(Q12<>Q$33,$G12,\"\"),\"\"),\"\")","v":""},""]
[{"$f":"chancom!A13","v":"Sponsorship"},0,1,{"$f":"chanpp!D13","v":2},{"$f":"IF(AND((chancom!C13+D13*chancom!D13*chancom!E13/1000)/(chancom!E13*chancom!F13)>V!$B$5,B13=1),chanpp!E13,D13)","v":{"$error":"#DIV/0!"}},{"$f":"C13*(chancom!C13+E13*chancom!D13*chancom!E13/1000)","v":{"$error":"#DIV/0!"}},{"$f":"IF(F13*chancom!E13*chancom!F13<=0,\"\",F13/(chancom!E13*chancom!F13))","v":{"$error":"#DIV/0!"}},{"$f":"IF(ISNUMBER($G13),IF(AND(chancom!$G13*chancom!$L13*$B13*$C13,$D13=$E13),$G13,\"\"),\"\")","v":""},{"$f":"IF(ISNUMBER($G13),IF(chancom!$G13*chancom!$L13*$C13,IF(H13<>H$33,$G13,\"\"),\"\"),\"\")","v":""},"",{"$f":"IF(ISNUMBER($G13),IF(AND(chancom!$H13*chancom!$L13*$B13*$C13,$D13=$E13),$G13,\"\"),\"\")","v":""},{"$f":"IF(ISNUMBER($G13),IF(chancom!$H13*chancom!$L13*$C13,IF(K13<>K$33,$G13,\"\"),\"\"),\"\")","v":""},"",{"$f":"IF(ISNUMBER($G13),IF(AND(chancom!$I13*chancom!$L13*$B13*$C13,$D13=$E13),$G13,\"\"),\"\")","v":""},{"$f":"IF(ISNUMBER($G13),IF(chancom!$I13*chancom!$L13*$C13,IF(N13<>N$33,$G13,\"\"),\"\"),\"\")","v":""},"",{"$f":"IF(ISNUMBER($G13),IF(AND(chancom!$J13*chancom!$L13*$B13*$C13,$D13=$E13),$G13,\"\"),\"\")","v":""},{"$f":"IF(ISNUMBER($G13),IF(chancom!$J13*chancom!$L13*$C13,IF(Q13<>Q$33,$G13,\"\"),\"\"),\"\")","v":""},""]
[{"$f":"chancom!A14","v":"Events"},0,1,{"$f":"chanpp!D14","v":2},{"$f":"IF(AND((chancom!C14+D14*chancom!D14*chancom!E14/1000)/(chancom!E14*chancom!F14)>V!$B$5,B14=1),chanpp!E14,D14)","v":{"$error":"#DIV/0!"}},{"$f":"C14*(chancom!C14+E14*chancom!D14*chancom!E14/1000)","v":{"$error":"#DIV/0!"}},{"$f":"IF(F14*chancom!E14*chancom!F14<=0,\"\",F14/(chancom!E14*chancom!F14))","v":{"$error":"#DIV/0!"}},{"$f":"IF(ISNUMBER($G14),IF(AND(chancom!$G14*chancom!$L14*$B14*$C14,$D14=$E14),$G14,\"\"),\"\")","v":""},{"$f":"IF(ISNUMBER($G14),IF(chancom!$G14*chancom!$L14*$C14,IF(H14<>H$33,$G14,\"\"),\"\"),\"\")","v":""},"",{"$f":"IF(ISNUMBER($G14),IF(AND(chancom!$H14*chancom!$L14*$B14*$C14,$D14=$E14),$G14,\"\"),\"\")","v":""},{"$f":"IF(ISNUMBER($G14),IF(chancom!$H14*chancom!$L14*$C14,IF(K14<>K$33,$G14,\"\"),\"\"),\"\")","v":""},"",{"$f":"IF(ISNUMBER($G14),IF(AND(chancom!$I14*chancom!$L14*$B14*$C14,$D14=$E14),$G14,\"\"),\"\")","v":""},{"$f":"IF(ISNUMBER($G14),IF(chancom!$I14*chancom!$L14*$C14,IF(N14<>N$33,$G14,\"\"),\"\"),\"\")","v":""},"",{"$f":"IF(ISNUMBER($G14),IF(AND(chancom!$J14*chancom!$L14*$B14*$C14,$D14=$E14),$G14,\"\"),\"\")","v":""},{"$f":"IF(ISNUMBER($G14),IF(chancom!$J14*chancom!$L14*$C14,IF(Q14<>Q$33,$G14,\"\"),\"\"),\"\")","v":""},""]
[{"$f":"chancom!A15","v":"Targeted door-drops"},0,1,{"$f":"(('q&a'!$I$8-'q&a'!$I$41)*IF('q&a'!$I$10>1,'q&a'!$I$10,1)*chanpp!D15+'q&a'!$I$41*IF('q&a'!$I$43>1,'q&a'!$I$43,1)*chancp!D15)/'q&a'!$I$8","v":{"$error":"#DIV/0!"}},{"$f":"IF(AND((chancom!C15+D15*chancom!D15*chancom!E15/1000)/(chancom!E15*chancom!F15)>V!$B$5,B15=1),chanpp!E15,D15)","v":{"$error":"#DIV/0!"}},{"$f":"C15*(chancom!C15+E15*chancom!D15*chancom!E15/1000)","v":{"$error":"#DIV/0!"}},{"$f":"IF(F15*chancom!E15*chancom!F15<=0,\"\",F15/(chancom!E15*chancom!F15))","v":{"$error":"#DIV/0!"}},{"$f":"IF(ISNUMBER($G15),IF(AND(chancom!$G15*chancom!$L15*$B15*$C15,$D15=$E15),$G15,\"\"),\"\")","v":""},{"$f":"IF(ISNUMBER($G15),IF(chancom!$G15*chancom!$L15*$C15,IF(H15<>H$33,$G15,\"\"),\"\"),\"\")","v":""},"",{"$f":"IF(ISNUMBER($G15),IF(AND(chancom!$H15*chancom!$L15*$B15*$C15,$D15=$E15),$G15,\"\"),\"\")","v":""},{"$f":"IF(ISNUMBER($G15),IF(chancom!$H15*chancom!$L15*$C15,IF(K15<>K$33,$G15,\"\"),\"\"),\"\")","v":""},"",{"$f":"IF(ISNUMBER($G15),IF(AND(chancom!$I15*chancom!$L15*$B15*$C15,$D15=$E15),$G15,\"\"),\"\")","v":""},{"$f":"IF(ISNUMBER($G15),IF(chancom!$I15*chancom!$L15*$C15,IF(N15<>N$33,$G15,\"\"),\"\"),\"\")","v":""},"",{"$f":"IF(ISNUMBER($G15),IF(AND(chancom!$J15*chancom!$L15*$B15*$C15,$D15=$E15),$G15,\"\"),\"\")","v":""},{"$f":"IF(ISNUMBER($G15),IF(chancom!$J15*chancom!$L15*$C15,IF(Q15<>Q$33,$G15,\"\"),\"\"),\"\")","v":""},""]
[{"$f":"chancom!A16","v":"Facebook/Twitter content"},0,0,{"$f":"(('q&a'!$I$8-'q&a'!$I$41)*IF('q&a'!$I$10>1,'q&a'!$I$10,1)*chanpp!D16+'q&a'!$I$41*IF('q&a'!$I$43>1,'q&a'!$I$43,1)*chancp!D16)/'q&a'!$I$8","v":{"$error":"#DIV/0!"}},{"$f":"IF(AND((chancom!C16+D16*chancom!D16*chancom!E16/1000)/(chancom!E16*chancom!F16)>V!$B$5,B16=1),chanpp!E16,D16)","v":{"$error":"#DIV/0!"}},{"$f":"C16*(chancom!C16+E16*chancom!D16*chancom!E16/1000)","v":{"$error":"#DIV/0!"}},{"$f":"IF(F16*chancom!E16*chancom!F16<=0,\"\",F16/(chancom!E16*chancom!F16))","v":{"$error":"#DIV/0!"}},{"$f":"IF(ISNUMBER($G16),IF(AND(chancom!$G16*chancom!$L16*$B16*$C16,$D16=$E16),$G16,\"\"),\"\")","v":""},{"$f":"IF(ISNUMBER($G16),IF(chancom!$G16*chancom!$L16*$C16,IF(H16<>H$33,$G16,\"\"),\"\"),\"\")","v":""},"",{"$f":"IF(ISNUMBER($G16),IF(AND(chancom!$H16*chancom!$L16*$B16*$C16,$D16=$E16),$G16,\"\"),\"\")","v":""},{"$f":"IF(ISNUMBER($G16),IF(chancom!$H16*chancom!$L16*$C16,IF(K16<>K$33,$G16,\"\"),\"\"),\"\")","v":""},"",{"$f":"IF(ISNUMBER($G16),IF(AND(chancom!$I16*chancom!$L16*$B16*$C16,$D16=$E16),$G16,\"\"),\"\")","v":""},{"$f":"IF(ISNUMBER($G16),IF(chancom!$I16*chancom!$L16*$C16,IF(N16<>N$33,$G16,\"\"),\"\"),\"\")","v":""},"",{"$f":"IF(ISNUMBER($G16),IF(AND(chancom!$J16*chancom!$L16*$B16*$C16,$D16=$E16),$G16,\"\"),\"\")","v":""},{"$f":"IF(ISNUMBER($G16),IF(chancom!$J16*chancom!$L16*$C16,IF(Q16<>Q$33,$G16,\"\"),\"\"),\"\")","v":""},""]
[{"$f":"chancom!A17","v":"Develop social conversations"},0,0,{"$f":"(('q&a'!$I$8-'q&a'!$I$41)*IF('q&a'!$I$10>1,'q&a'!$I$10,1)*chanpp!D17+'q&a'!$I$41*IF('q&a'!$I$43>1,'q&a'!$I$43,1)*chancp!D17)/'q&a'!$I$8","v":{"$error":"#DIV/0!"}},{"$f":"IF(AND((chancom!C17+D17*chancom!D17*chancom!E17/1000)/(chancom!E17*chancom!F17)>V!$B$5,B17=1),chanpp!E17,D17)","v":{"$error":"#DIV/0!"}},{"$f":"C17*(chancom!C17+E17*chancom!D17*chancom!E17/1000)","v":{"$error":"#DIV/0!"}},{"$f":"IF(F17*chancom!E17*chancom!F17<=0,\"\",F17/(chancom!E17*chancom!F17))","v":{"$error":"#DIV/0!"}},{"$f":"IF(ISNUMBER($G17),IF(AND(chancom!$G17*chancom!$L17*$B17*$C17,$D17=$E17),$G17,\"\"),\"\")","v":""},{"$f":"IF(ISNUMBER($G17),IF(chancom!$G17*chancom!$L17*$C17,IF(H17<>H$33,$G17,\"\"),\"\"),\"\")","v":""},"",{"$f":"IF(ISNUMBER($G17),IF(AND(chancom!$H17*chancom!$L17*$B17*$C17,$D17=$E17),$G17,\"\"),\"\")","v":""},{"$f":"IF(ISNUMBER($G17),IF(chancom!$H17*chancom!$L17*$C17,IF(K17<>K$33,$G17,\"\"),\"\"),\"\")","v":""},"",{"$f":"IF(ISNUMBER($G17),IF(AND(chancom!$I17*chancom!$L17*$B17*$C17,$D17=$E17),$G17,\"\"),\"\")","v":""},{"$f":"IF(ISNUMBER($G17),IF(chancom!$I17*chancom!$L17*$C17,IF(N17<>N$33,$G17,\"\"),\"\"),\"\")","v":""},"",{"$f":"IF(ISNUMBER($G17),IF(AND(chancom!$J17*chancom!$L17*$B17*$C17,$D17=$E17),$G17,\"\"),\"\")","v":""},{"$f":"IF(ISNUMBER($G17),IF(chancom!$J17*chancom!$L17*$C17,IF(Q17<>Q$33,$G17,\"\"),\"\"),\"\")","v":""},""]
[{"$f":"chancom!A18","v":"Email prospects"},0,1,{"$f":"(('q&a'!$I$8-'q&a'!$I$41)*IF('q&a'!$I$10>1,'q&a'!$I$10,1)*chanpp!D18+'q&a'!$I$41*IF('q&a'!$I$43>1,'q&a'!$I$43,1)*chancp!D18)/'q&a'!$I$8","v":{"$error":"#DIV/0!"}},{"$f":"IF(AND((chancom!C18+D18*chancom!D18*chancom!E18/1000)/(chancom!E18*chancom!F18)>V!$B$5,B18=1),chanpp!E18,D18)","v":{"$error":"#DIV/0!"}},{"$f":"C18*(chancom!C18+E18*chancom!D18*chancom!E18/1000)","v":{"$error":"#DIV/0!"}},{"$f":"IF(F18*chancom!E18*chancom!F18<=0,\"\",F18/(chancom!E18*chancom!F18))","v":{"$error":"#DIV/0!"}},{"$f":"IF(ISNUMBER($G18),IF(AND(chancom!$G18*chancom!$L18*$B18*$C18,$D18=$E18),$G18,\"\"),\"\")","v":""},{"$f":"IF(ISNUMBER($G18),IF(chancom!$G18*chancom!$L18*$C18,IF(H18<>H$33,$G18,\"\"),\"\"),\"\")","v":""},"",{"$f":"IF(ISNUMBER($G18),IF(AND(chancom!$H18*chancom!$L18*$B18*$C18,$D18=$E18),$G18,\"\"),\"\")","v":""},{"$f":"IF(ISNUMBER($G18),IF(chancom!$H18*chancom!$L18*$C18,IF(K18<>K$33,$G18,\"\"),\"\"),\"\")","v":""},"",{"$f":"IF(ISNUMBER($G18),IF(AND(chancom!$I18*chancom!$L18*$B18*$C18,$D18=$E18),$G18,\"\"),\"\")","v":""},{"$f":"IF(ISNUMBER($G18),IF(chancom!$I18*chancom!$L18*$C18,IF(N18<>N$33,$G18,\"\"),\"\"),\"\")","v":""},"",{"$f":"IF(ISNUMBER($G18),IF(AND(chancom!$J18*chancom!$L18*$B18*$C18,$D18=$E18),$G18,\"\"),\"\")","v":""},{"$f":"IF(ISNUMBER($G18),IF(chancom!$J18*chancom!$L18*$C18,IF(Q18<>Q$33,$G18,\"\"),\"\"),\"\")","v":""},""]
[{"$f":"chancom!A19","v":"Email customers"},0,0,{"$f":"(('q&a'!$I$8-'q&a'!$I$41)*IF('q&a'!$I$10>1,'q&a'!$I$10,1)*chanpp!D19+'q&a'!$I$41*IF('q&a'!$I$43>1,'q&a'!$I$43,1)*chancp!D19)/'q&a'!$I$8","v":{"$error":"#DIV/0!"}},{"$f":"IF(AND((chancom!C19+D19*chancom!D19*chancom!E19/1000)/(chancom!E19*chancom!F19)>V!$B$5,B19=1),chanpp!E19,D19)","v":{"$error":"#DIV/0!"}},{"$f":"C19*(chancom!C19+E19*chancom!D19*chancom!E19/1000)","v":{"$error":"#DIV/0!"}},{"$f":"IF(F19*chancom!E19*chancom!F19<=0,\"\",F19/(chancom!E19*chancom!F19))","v":{"$error":"#DIV/0!"}},{"$f":"IF(ISNUMBER($G19),IF(AND(chancom!$G19*chancom!$L19*$B19*$C19,$D19=$E19),$G19,\"\"),\"\")","v":""},{"$f":"IF(ISNUMBER($G19),IF(chancom!$G19*chancom!$L19*$C19,IF(H19<>H$33,$G19,\"\"),\"\"),\"\")","v":""},"",{"$f":"IF(ISNUMBER($G19),IF(AND(chancom!$H19*chancom!$L19*$B19*$C19,$D19=$E19),$G19,\"\"),\"\")","v":""},{"$f":"IF(ISNUMBER($G19),IF(chancom!$H19*chancom!$L19*$C19,IF(K19<>K$33,$G19,\"\"),\"\"),\"\")","v":""},"",{"$f":"IF(ISNUMBER($G19),IF(AND(chancom!$I19*chancom!$L19*$B19*$C19,$D19=$E19),$G19,\"\"),\"\")","v":""},{"$f":"IF(ISNUMBER($G19),IF(chancom!$I19*chancom!$L19*$C19,IF(N19<>N$33,$G19,\"\"),\"\"),\"\")","v":""},"",{"$f":"IF(ISNUMBER($G19),IF(AND(chancom!$J19*chancom!$L19*$B19*$C19,$D19=$E19),$G19,\"\"),\"\")","v":""},{"$f":"IF(ISNUMBER($G19),IF(chancom!$J19*chancom!$L19*$C19,IF(Q19<>Q$33,$G19,\"\"),\"\"),\"\")","v":""},""]
[{"$f":"chancom!A20","v":"Outbound telephone - prospects"},0,1,{"$f":"chanpp!D20","v":2},{"$f":"IF(AND((chancom!C20+D20*chancom!D20*chancom!E20/1000)/(chancom!E20*chancom!F20)>V!$B$5,B20=1),chanpp!E20,D20)","v":{"$error":"#DIV/0!"}},{"$f":"C20*(chancom!C20+E20*chancom!D20*chancom!E20/1000)","v":{"$error":"#DIV/0!"}},{"$f":"IF(F20*chancom!E20*chancom!F20<=0,\"\",F20/(chancom!E20*chancom!F20))","v":{"$error":"#DIV/0!"}},{"$f":"IF(ISNUMBER($G20),IF(AND(chancom!$G20*chancom!$L20*$B20*$C20,$D20=$E20),$G20,\"\"),\"\")","v":""},{"$f":"IF(ISNUMBER($G20),IF(chancom!$G20*chancom!$L20*$C20,IF(H20<>H$33,$G20,\"\"),\"\"),\"\")","v":""},"",{"$f":"IF(ISNUMBER($G20),IF(AND(chancom!$H20*chancom!$L20*$B20*$C20,$D20=$E20),$G20,\"\"),\"\")","v":""},{"$f":"IF(ISNUMBER($G20),IF(chancom!$H20*chancom!$L20*$C20,IF(K20<>K$33,$G20,\"\"),\"\"),\"\")","v":""},"",{"$f":"IF(ISNUMBER($G20),IF(AND(chancom!$I20*chancom!$L20*$B20*$C20,$D20=$E20),$G20,\"\"),\"\")","v":""},{"$f":"IF(ISNUMBER($G20),IF(chancom!$I20*chancom!$L20*$C20,IF(N20<>N$33,$G20,\"\"),\"\"),\"\")","v":""},"",{"$f":"IF(ISNUMBER($G20),IF(AND(chancom!$J20*chancom!$L20*$B20*$C20,$D20=$E20),$G20,\"\"),\"\")","v":""},{"$f":"IF(ISNUMBER($G20),IF(chancom!$J20*chancom!$L20*$C20,IF(Q20<>Q$33,$G20,\"\"),\"\"),\"\")","v":""},""]
[{"$f":"chancom!A21","v":"Outbound telephone - customers"},0,0,{"$f":"chanpp!D21","v":2},{"$f":"IF(AND((chancom!C21+D21*chancom!D21*chancom!E21/1000)/(chancom!E21*chancom!F21)>V!$B$5,B21=1),chanpp!E21,D21)","v":{"$error":"#DIV/0!"}},{"$f":"C21*(chancom!C21+E21*chancom!D21*chancom!E21/1000)","v":{"$error":"#DIV/0!"}},{"$f":"IF(F21*chancom!E21*chancom!F21<=0,\"\",F21/(chancom!E21*chancom!F21))","v":{"$error":"#DIV/0!"}},{"$f":"IF(ISNUMBER($G21),IF(AND(chancom!$G21*chancom!$L21*$B21*$C21,$D21=$E21),$G21,\"\"),\"\")","v":""},{"$f":"IF(ISNUMBER($G21),IF(chancom!$G21*chancom!$L21*$C21,IF(H21<>H$33,$G21,\"\"),\"\"),\"\")","v":""},"",{"$f":"IF(ISNUMBER($G21),IF(AND(chancom!$H21*chancom!$L21*$B21*$C21,$D21=$E21),$G21,\"\"),\"\")","v":""},{"$f":"IF(ISNUMBER($G21),IF(chancom!$H21*chancom!$L21*$C21,IF(K21<>K$33,$G21,\"\"),\"\"),\"\")","v":""},"",{"$f":"IF(ISNUMBER($G21),IF(AND(chancom!$I21*chancom!$L21*$B21*$C21,$D21=$E21),$G21,\"\"),\"\")","v":""},{"$f":"IF(ISNUMBER($G21),IF(chancom!$I21*chancom!$L21*$C21,IF(N21<>N$33,$G21,\"\"),\"\"),\"\")","v":""},"",{"$f":"IF(ISNUMBER($G21),IF(AND(chancom!$J21*chancom!$L21*$B21*$C21,$D21=$E21),$G21,\"\"),\"\")","v":""},{"$f":"IF(ISNUMBER($G21),IF(chancom!$J21*chancom!$L21*$C21,IF(Q21<>Q$33,$G21,\"\"),\"\"),\"\")","v":""},""]
[{"$f":"chancom!A22","v":"Direct mail - external lists"},0,1,{"$f":"(('q&a'!$I$8-'q&a'!$I$41)*IF('q&a'!$I$10>1,'q&a'!$I$10,1)*chanpp!D22+'q&a'!$I$41*IF('q&a'!$I$43>1,'q&a'!$I$43,1)*chancp!D22)/'q&a'!$I$8","v":{"$error":"#DIV/0!"}},{"$f":"IF(AND((chancom!C22+D22*chancom!D22*chancom!E22/1000)/(chancom!E22*chancom!F22)>V!$B$5,B22=1),chanpp!E22,D22)","v":{"$error":"#DIV/0!"}},{"$f":"C22*(chancom!C22+E22*chancom!D22*chancom!E22/1000)","v":{"$error":"#DIV/0!"}},{"$f":"IF(F22*chancom!E22*chancom!F22<=0,\"\",F22/(chancom!E22*chancom!F22))","v":{"$error":"#DIV/0!"}},{"$f":"IF(ISNUMBER($G22),IF(AND(chancom!$G22*chancom!$L22*$B22*$C22,$D22=$E22),$G22,\"\"),\"\")","v":""},{"$f":"IF(ISNUMBER($G22),IF(chancom!$G22*chancom!$L22*$C22,IF(H22<>H$33,$G22,\"\"),\"\"),\"\")","v":""},"",{"$f":"IF(ISNUMBER($G22),IF(AND(chancom!$H22*chancom!$L22*$B22*$C22,$D22=$E22),$G22,\"\"),\"\")","v":""},{"$f":"IF(ISNUMBER($G22),IF(chancom!$H22*chancom!$L22*$C22,IF(K22<>K$33,$G22,\"\"),\"\"),\"\")","v":""},"",{"$f":"IF(ISNUMBER($G22),IF(AND(chancom!$I22*chancom!$L22*$B22*$C22,$D22=$E22),$G22,\"\"),\"\")","v":""},{"$f":"IF(ISNUMBER($G22),IF(chancom!$I22*chancom!$L22*$C22,IF(N22<>N$33,$G22,\"\"),\"\"),\"\")","v":""},"",{"$f":"IF(ISNUMBER($G22),IF(AND(chancom!$J22*chancom!$L22*$B22*$C22,$D22=$E22),$G22,\"\"),\"\")","v":""},{"$f":"IF(ISNUMBER($G22),IF(chancom!$J22*chancom!$L22*$C22,IF(Q22<>Q$33,$G22,\"\"),\"\"),\"\")","v":""},""]
[{"$f":"chancom!A23","v":"Direct mail - customer database"},0,0,{"$f":"(('q&a'!$I$8-'q&a'!$I$41)*IF('q&a'!$I$10>1,'q&a'!$I$10,1)*chanpp!D23+'q&a'!$I$41*IF('q&a'!$I$43>1,'q&a'!$I$43,1)*chancp!D23)/'q&a'!$I$8","v":{"$error":"#DIV/0!"}},{"$f":"IF(AND((chancom!C23+D23*chancom!D23*chancom!E23/1000)/(chancom!E23*chancom!F23)>V!$B$5,B23=1),chanpp!E23,D23)","v":{"$error":"#DIV/0!"}},{"$f":"C23*(chancom!C23+E23*chancom!D23*chancom!E23/1000)","v":{"$error":"#DIV/0!"}},{"$f":"IF(F23*chancom!E23*chancom!F23<=0,\"\",F23/(chancom!E23*chancom!F23))","v":{"$error":"#DIV/0!"}},{"$f":"IF(ISNUMBER($G23),IF(AND(chancom!$G23*chancom!$L23*$B23*$C23,$D23=$E23),$G23,\"\"),\"\")","v":""},{"$f":"IF(ISNUMBER($G23),IF(chancom!$G23*chancom!$L23*$C23,IF(H23<>H$33,$G23,\"\"),\"\"),\"\")","v":""},{"$f":"IF(AND(ISNUMBER(H23),NOT(ISNUMBER(I23))),0,IF(ISNUMBER(I23),RANK(I23,I$3:I$32,1),\"\"))","v":""},{"$f":"IF(ISNUMBER($G23),IF(AND(chancom!$H23*chancom!$L23*$B23*$C23,$D23=$E23),$G23,\"\"),\"\")","v":""},{"$f":"IF(ISNUMBER($G23),IF(chancom!$H23*chancom!$L23*$C23,IF(K23<>K$33,$G23,\"\"),\"\"),\"\")","v":""},{"$f":"IF(AND(ISNUMBER(K23),NOT(ISNUMBER(L23))),0,IF(ISNUMBER(L23),RANK(L23,L$3:L$32,1),\"\"))","v":""},{"$f":"IF(ISNUMBER($G23),IF(AND(chancom!$I23*chancom!$L23*$B23*$C23,$D23=$E23),$G23,\"\"),\"\")","v":""},{"$f":"IF(ISNUMBER($G23),IF(chancom!$I23*chancom!$L23*$C23,IF(N23<>N$33,$G23,\"\"),\"\"),\"\")","v":""},{"$f":"IF(AND(ISNUMBER(N23),NOT(ISNUMBER(O23))),0,IF(ISNUMBER(O23),RANK(O23,O$3:O$32,1),\"\"))","v":""},{"$f":"IF(ISNUMBER($G23),IF(AND(chancom!$J23*chancom!$L23*$B23*$C23,$D23=$E23),$G23,\"\"),\"\")","v":""},{"$f":"IF(ISNUMBER($G23),IF(chancom!$J23*chancom!$L23*$C23,IF(Q23<>Q$33,$G23,\"\"),\"\"),\"\")","v":""},{"$f":"IF(AND(ISNUMBER(Q23),NOT(ISNUMBER(R23))),0,IF(ISNUMBER(R23),RANK(R23,R$3:R$32,1),\"\"))","v":""}]
[{"$f":"chancom!A24","v":"Trade shows and exhibitions"},1,1,{"$f":"chanpp!D24","v":1},{"$f":"IF(AND((chancom!C24+D24*chancom!D24*chancom!E24/1000)/(chancom!E24*chancom!F24)>V!$B$5,B24=1),chanpp!E24,D24)","v":{"$error":"#DIV/0!"}},{"$f":"C24*(chancom!C24+E24*chancom!D24*chancom!E24/1000)","v":{"$error":"#DIV/0!"}},{"$f":"IF(F24*chancom!E24*chancom!F24<=0,\"\",F24/(chancom!E24*chancom!F24))","v":{"$error":"#DIV/0!"}},{"$f":"IF(ISNUMBER($G24),IF(AND(chancom!$G24*chancom!$L24*$B24*$C24,$D24=$E24),$G24,\"\"),\"\")","v":""},{"$f":"IF(ISNUMBER($G24),IF(chancom!$G24*chancom!$L24*$C24,IF(H24<>H$33,$G24,\"\"),\"\"),\"\")","v":""},{"$f":"IF(AND(ISNUMBER(H24),NOT(ISNUMBER(I24))),0,IF(ISNUMBER(I24),RANK(I24,I$3:I$32,1),\"\"))","v":""},{"$f":"IF(ISNUMBER($G24),IF(AND(chancom!$H24*chancom!$L24*$B24*$C24,$D24=$E24),$G24,\"\"),\"\")","v":""},{"$f":"IF(ISNUMBER($G24),IF(chancom!$H24*chancom!$L24*$C24,IF(K24<>K$33,$G24,\"\"),\"\"),\"\")","v":""},{"$f":"IF(AND(ISNUMBER(K24),NOT(ISNUMBER(L24))),0,IF(ISNUMBER(L24),RANK(L24,L$3:L$32,1),\"\"))","v":""},{"$f":"IF(ISNUMBER($G24),IF(AND(chancom!$I24*chancom!$L24*$B24*$C24,$D24=$E24),$G24,\"\"),\"\")","v":""},{"$f":"IF(ISNUMBER($G24),IF(chancom!$I24*chancom!$L24*$C24,IF(N24<>N$33,$G24,\"\"),\"\"),\"\")","v":""},{"$f":"IF(AND(ISNUMBER(N24),NOT(ISNUMBER(O24))),0,IF(ISNUMBER(O24),RANK(O24,O$3:O$32,1),\"\"))","v":""},{"$f":"IF(ISNUMBER($G24),IF(AND(chancom!$J24*chancom!$L24*$B24*$C24,$D24=$E24),$G24,\"\"),\"\")","v":""},{"$f":"IF(ISNUMBER($G24),IF(chancom!$J24*chancom!$L24*$C24,IF(Q24<>Q$33,$G24,\"\"),\"\"),\"\")","v":""},{"$f":"IF(AND(ISNUMBER(Q24),NOT(ISNUMBER(R24))),0,IF(ISNUMBER(R24),RANK(R24,R$3:R$32,1),\"\"))","v":""}]
[{"$f":"chancom!A25","v":"Produce brochure"},0,1,{"$f":"chanpp!D25","v":1},{"$f":"IF(AND((chancom!C25+D25*chancom!D25*chancom!E25/1000)/(chancom!E25*chancom!F25)>V!$B$5,B25=1),chanpp!E25,D25)","v":{"$error":"#DIV/0!"}},{"$f":"C25*(chancom!C25+E25*chancom!D25*chancom!E25/1000)","v":{"$error":"#DIV/0!"}},{"$f":"IF(F25*chancom!E25*chancom!F25<=0,\"\",F25/(chancom!E25*chancom!F25))","v":{"$error":"#DIV/0!"}},{"$f":"IF(ISNUMBER($G25),IF(AND(chancom!$G25*chancom!$L25*$B25*$C25,$D25=$E25),$G25,\"\"),\"\")","v":""},{"$f":"IF(ISNUMBER($G25),IF(chancom!$G25*chancom!$L25*$C25,IF(H25<>H$33,$G25,\"\"),\"\"),\"\")","v":""},{"$f":"IF(AND(ISNUMBER(H25),NOT(ISNUMBER(I25))),0,IF(ISNUMBER(I25),RANK(I25,I$3:I$32,1),\"\"))","v":""},{"$f":"IF(ISNUMBER($G25),IF(AND(chancom!$H25*chancom!$L25*$B25*$C25,$D25=$E25),$G25,\"\"),\"\")","v":""},{"$f":"IF(ISNUMBER($G25),IF(chancom!$H25*chancom!$L25*$C25,IF(K25<>K$33,$G25,\"\"),\"\"),\"\")","v":""},{"$f":"IF(AND(ISNUMBER(K25),NOT(ISNUMBER(L25))),0,IF(ISNUMBER(L25),RANK(L25,L$3:L$32,1),\"\"))","v":""},{"$f":"IF(ISNUMBER($G25),IF(AND(chancom!$I25*chancom!$L25*$B25*$C25,$D25=$E25),$G25,\"\"),\"\")","v":""},{"$f":"IF(ISNUMBER($G25),IF(chancom!$I25*chancom!$L25*$C25,IF(N25<>N$33,$G25,\"\"),\"\"),\"\")","v":""},{"$f":"IF(AND(ISNUMBER(N25),NOT(ISNUMBER(O25))),0,IF(ISNUMBER(O25),RANK(O25,O$3:O$32,1),\"\"))","v":""},{"$f":"IF(ISNUMBER($G25),IF(AND(chancom!$J25*chancom!$L25*$B25*$C25,$D25=$E25),$G25,\"\"),\"\")","v":""},{"$f":"IF(ISNUMBER($G25),IF(chancom!$J25*chancom!$L25*$C25,IF(Q25<>Q$33,$G25,\"\"),\"\"),\"\")","v":""},{"$f":"IF(AND(ISNUMBER(Q25),NOT(ISNUMBER(R25))),0,IF(ISNUMBER(R25),RANK(R25,R$3:R$32,1),\"\"))","v":""}]
[{"$f":"chancom!A26","v":"Ecommerce development"},{"$f":"IF('q&a'!$F$33,1,0)","v":0},1,{"$f":"chanpp!D26","v":1},{"$f":"IF(AND((chancom!C26+D26*chancom!D26*chancom!E26/1000)/(chancom!E26*chancom!F26)>V!$B$5,B26=1),chanpp!E26,D26)","v":{"$error":"#DIV/0!"}},{"$f":"C26*(chancom!C26+E26*chancom!D26*chancom!E26/1000)","v":{"$error":"#DIV/0!"}},{"$f":"IF(F26*chancom!E26*chancom!F26<=0,\"\",F26/(chancom!E26*chancom!F26))","v":{"$error":"#DIV/0!"}},{"$f":"IF(ISNUMBER($G26),IF(AND(chancom!$G26*chancom!$L26*$B26*$C26,$D26=$E26),$G26,\"\"),\"\")","v":""},{"$f":"IF(ISNUMBER($G26),IF(chancom!$G26*chancom!$L26*$C26,IF(H26<>H$33,$G26,\"\"),\"\"),\"\")","v":""},"",{"$f":"IF(ISNUMBER($G26),IF(AND(chancom!$H26*chancom!$L26*$B26*$C26,$D26=$E26),$G26,\"\"),\"\")","v":""},{"$f":"IF(ISNUMBER($G26),IF(chancom!$H26*chancom!$L26*$C26,IF(K26<>K$33,$G26,\"\"),\"\"),\"\")","v":""},"",{"$f":"IF(ISNUMBER($G26),IF(AND(chancom!$I26*chancom!$L26*$B26*$C26,$D26=$E26),$G26,\"\"),\"\")","v":""},{"$f":"IF(ISNUMBER($G26),IF(chancom!$I26*chancom!$L26*$C26,IF(N26<>N$33,$G26,\"\"),\"\"),\"\")","v":""},"",{"$f":"IF(ISNUMBER($G26),IF(AND(chancom!$J26*chancom!$L26*$B26*$C26,$D26=$E26),$G26,\"\"),\"\")","v":""},{"$f":"IF(ISNUMBER($G26),IF(chancom!$J26*chancom!$L26*$C26,IF(Q26<>Q$33,$G26,\"\"),\"\"),\"\")","v":""},""]
[{"$f":"chancom!A27","v":"Web search term advertising"},0,1,{"$f":"chanpp!D27","v":3},{"$f":"IF(AND((chancom!C27+D27*chancom!D27*chancom!E27/1000)/(chancom!E27*chancom!F27)>V!$B$5,B27=1),chanpp!E27,D27)","v":{"$error":"#DIV/0!"}},{"$f":"C27*(chancom!C27+E27*chancom!D27*chancom!E27/1000)","v":{"$error":"#DIV/0!"}},{"$f":"IF(F27*chancom!E27*chancom!F27<=0,\"\",F27/(chancom!E27*chancom!F27))","v":{"$error":"#DIV/0!"}},{"$f":"IF(ISNUMBER($G27),IF(AND(chancom!$G27*chancom!$L27*$B27*$C27,$D27=$E27),$G27,\"\"),\"\")","v":""},{"$f":"IF(ISNUMBER($G27),IF(chancom!$G27*chancom!$L27*$C27,IF(H27<>H$33,$G27,\"\"),\"\"),\"\")","v":""},"",{"$f":"IF(ISNUMBER($G27),IF(AND(chancom!$H27*chancom!$L27*$B27*$C27,$D27=$E27),$G27,\"\"),\"\")","v":""},{"$f":"IF(ISNUMBER($G27),IF(chancom!$H27*chancom!$L27*$C27,IF(K27<>K$33,$G27,\"\"),\"\"),\"\")","v":""},"",{"$f":"IF(ISNUMBER($G27),IF(AND(chancom!$I27*chancom!$L27*$B27*$C27,$D27=$E27),$G27,\"\"),\"\")","v":""},{"$f":"IF(ISNUMBER($G27),IF(chancom!$I27*chancom!$L27*$C27,IF(N27<>N$33,$G27,\"\"),\"\"),\"\")","v":""},"",{"$f":"IF(ISNUMBER($G27),IF(AND(chancom!$J27*chancom!$L27*$B27*$C27,$D27=$E27),$G27,\"\"),\"\")","v":""},{"$f":"IF(ISNUMBER($G27),IF(chancom!$J27*chancom!$L27*$C27,IF(Q27<>Q$33,$G27,\"\"),\"\"),\"\")","v":""},""]
[{"$f":"chancom!A28","v":"Web advertising"},0,1,{"$f":"(('q&a'!$I$8-'q&a'!$I$41)*IF('q&a'!$I$10>1,'q&a'!$I$10,1)*chanpp!D28+'q&a'!$I$41*IF('q&a'!$I$43>1,'q&a'!$I$43,1)*chancp!D28)/'q&a'!$I$8","v":{"$error":"#DIV/0!"}},{"$f":"IF(AND((chancom!C28+D28*chancom!D28*chancom!E28/1000)/(chancom!E28*chancom!F28)>V!$B$5,B28=1),chanpp!E28,D28)","v":{"$error":"#DIV/0!"}},{"$f":"C28*(chancom!C28+E28*chancom!D28*chancom!E28/1000)","v":{"$error":"#DIV/0!"}},{"$f":"IF(F28*chancom!E28*chancom!F28<=0,\"\",F28/(chancom!E28*chancom!F28))","v":{"$error":"#DIV/0!"}},{"$f":"IF(ISNUMBER($G28),IF(AND(chancom!$G28*chancom!$L28*$B28*$C28,$D28=$E28),$G28,\"\"),\"\")","v":""},{"$f":"IF(ISNUMBER($G28),IF(chancom!$G28*chancom!$L28*$C28,IF(H28<>H$33,$G28,\"\"),\"\"),\"\")","v":""},"",{"$f":"IF(ISNUMBER($G28),IF(AND(chancom!$H28*chancom!$L28*$B28*$C28,$D28=$E28),$G28,\"\"),\"\")","v":""},{"$f":"IF(ISNUMBER($G28),IF(chancom!$H28*chancom!$L28*$C28,IF(K28<>K$33,$G28,\"\"),\"\"),\"\")","v":""},"",{"$f":"IF(ISNUMBER($G28),IF(AND(chancom!$I28*chancom!$L28*$B28*$C28,$D28=$E28),$G28,\"\"),\"\")","v":""},{"$f":"IF(ISNUMBER($G28),IF(chancom!$I28*chancom!$L28*$C28,IF(N28<>N$33,$G28,\"\"),\"\"),\"\")","v":""},"",{"$f":"IF(ISNUMBER($G28),IF(AND(chancom!$J28*chancom!$L28*$B28*$C28,$D28=$E28),$G28,\"\"),\"\")","v":""},{"$f":"IF(ISNUMBER($G28),IF(chancom!$J28*chancom!$L28*$C28,IF(Q28<>Q$33,$G28,\"\"),\"\"),\"\")","v":""},""]
[{"$f":"chancom!A29","v":"Develop website/landing page"},1,1,{"$f":"chanpp!D29","v":1},{"$f":"IF(AND((chancom!C29+D29*chancom!D29*chancom!E29/1000)/(chancom!E29*chancom!F29)>V!$B$5,B29=1),chanpp!E29,D29)","v":{"$error":"#DIV/0!"}},{"$f":"C29*(chancom!C29+E29*chancom!D29*chancom!E29/1000)","v":{"$error":"#DIV/0!"}},{"$f":"IF(F29*chancom!E29*chancom!F29<=0,\"\",F29/(chancom!E29*chancom!F29))","v":{"$error":"#DIV/0!"}},{"$f":"IF(ISNUMBER($G29),IF(AND(chancom!$G29*chancom!$L29*$B29*$C29,$D29=$E29),$G29,\"\"),\"\")","v":""},{"$f":"IF(ISNUMBER($G29),IF(chancom!$G29*chancom!$L29*$C29,IF(H29<>H$33,$G29,\"\"),\"\"),\"\")","v":""},"",{"$f":"IF(ISNUMBER($G29),IF(AND(chancom!$H29*chancom!$L29*$B29*$C29,$D29=$E29),$G29,\"\"),\"\")","v":""},{"$f":"IF(ISNUMBER($G29),IF(chancom!$H29*chancom!$L29*$C29,IF(K29<>K$33,$G29,\"\"),\"\"),\"\")","v":""},"",{"$f":"IF(ISNUMBER($G29),IF(AND(chancom!$I29*chancom!$L29*$B29*$C29,$D29=$E29),$G29,\"\"),\"\")","v":""},{"$f":"IF(ISNUMBER($G29),IF(chancom!$I29*chancom!$L29*$C29,IF(N29<>N$33,$G29,\"\"),\"\"),\"\")","v":""},"",{"$f":"IF(ISNUMBER($G29),IF(AND(chancom!$J29*chancom!$L29*$B29*$C29,$D29=$E29),$G29,\"\"),\"\")","v":""},{"$f":"IF(ISNUMBER($G29),IF(chancom!$J29*chancom!$L29*$C29,IF(Q29<>Q$33,$G29,\"\"),\"\"),\"\")","v":""},""]
[{"$f":"chancom!A30","v":"Produce point-of-sale materials"},0,1,{"$f":"chanpp!D30","v":1},{"$f":"IF(AND((chancom!C30+D30*chancom!D30*chancom!E30/1000)/(chancom!E30*chancom!F30)>V!$B$5,B30=1),chanpp!E30,D30)","v":{"$error":"#DIV/0!"}},{"$f":"C30*(chancom!C30+E30*chancom!D30*chancom!E30/1000)","v":{"$error":"#DIV/0!"}},{"$f":"IF(F30*chancom!E30*chancom!F30<=0,\"\",F30/(chancom!E30*chancom!F30))","v":{"$error":"#DIV/0!"}},{"$f":"IF(ISNUMBER($G30),IF(AND(chancom!$G30*chancom!$L30*$B30*$C30,$D30=$E30),$G30,\"\"),\"\")","v":""},{"$f":"IF(ISNUMBER($G30),IF(chancom!$G30*chancom!$L30*$C30,IF(H30<>H$33,$G30,\"\"),\"\"),\"\")","v":""},"",{"$f":"IF(ISNUMBER($G30),IF(AND(chancom!$H30*chancom!$L30*$B30*$C30,$D30=$E30),$G30,\"\"),\"\")","v":""},{"$f":"IF(ISNUMBER($G30),IF(chancom!$H30*chancom!$L30*$C30,IF(K30<>K$33,$G30,\"\"),\"\"),\"\")","v":""},"",{"$f":"IF(ISNUMBER($G30),IF(AND(chancom!$I30*chancom!$L30*$B30*$C30,$D30=$E30),$G30,\"\"),\"\")","v":""},{"$f":"IF(ISNUMBER($G30),IF(chancom!$I30*chancom!$L30*$C30,IF(N30<>N$33,$G30,\"\"),\"\"),\"\")","v":""},"",{"$f":"IF(ISNUMBER($G30),IF(AND(chancom!$J30*chancom!$L30*$B30*$C30,$D30=$E30),$G30,\"\"),\"\")","v":""},{"$f":"IF(ISNUMBER($G30),IF(chancom!$J30*chancom!$L30*$C30,IF(Q30<>Q$33,$G30,\"\"),\"\"),\"\")","v":""},""]
[{"$f":"chancom!A31","v":"Inbound telephone centre"},1,1,{"$f":"chanpp!D31","v":1},{"$f":"IF(AND((chancom!C31+D31*chancom!D31*chancom!E31/1000)/(chancom!E31*chancom!F31)>V!$B$5,B31=1),chanpp!E31,D31)","v":{"$error":"#DIV/0!"}},{"$f":"C31*(chancom!C31+E31*chancom!D31*chancom!E31/1000)","v":{"$error":"#DIV/0!"}},{"$f":"IF(F31*chancom!E31*chancom!F31<=0,\"\",F31/(chancom!E31*chancom!F31))","v":{"$error":"#DIV/0!"}},{"$f":"IF(ISNUMBER($G31),IF(AND(chancom!$G31*chancom!$L31*$B31*$C31,$D31=$E31),$G31,\"\"),\"\")","v":""},{"$f":"IF(ISNUMBER($G31),IF(chancom!$G31*chancom!$L31*$C31,IF(H31<>H$33,$G31,\"\"),\"\"),\"\")","v":""},"",{"$f":"IF(ISNUMBER($G31),IF(AND(chancom!$H31*chancom!$L31*$B31*$C31,$D31=$E31),$G31,\"\"),\"\")","v":""},{"$f":"IF(ISNUMBER($G31),IF(chancom!$H31*chancom!$L31*$C31,IF(K31<>K$33,$G31,\"\"),\"\"),\"\")","v":""},"",{"$f":"IF(ISNUMBER($G31),IF(AND(chancom!$I31*chancom!$L31*$B31*$C31,$D31=$E31),$G31,\"\"),\"\")","v":""},{"$f":"IF(ISNUMBER($G31),IF(chancom!$I31*chancom!$L31*$C31,IF(N31<>N$33,$G31,\"\"),\"\"),\"\")","v":""},"",{"$f":"IF(ISNUMBER($G31),IF(AND(chancom!$J31*chancom!$L31*$B31*$C31,$D31=$E31),$G31,\"\"),\"\")","v":""},{"$f":"IF(ISNUMBER($G31),IF(chancom!$J31*chancom!$L31*$C31,IF(Q31<>Q$33,$G31,\"\"),\"\"),\"\")","v":""},""]
[{"$f":"chancom!A32","v":"Employ sales force"},1,1,{"$f":"chanpp!D32","v":1},{"$f":"IF(AND((chancom!C32+D32*chancom!D32*chancom!E32/1000)/(chancom!E32*chancom!F32)>V!$B$5,B32=1),chanpp!E32,D32)","v":{"$error":"#DIV/0!"}},{"$f":"C32*(chancom!C32+E32*chancom!D32*chancom!E32/1000)","v":{"$error":"#DIV/0!"}},{"$f":"IF(F32*chancom!E32*chancom!F32<=0,\"\",F32/(chancom!E32*chancom!F32))","v":{"$error":"#DIV/0!"}},{"$f":"IF(ISNUMBER($G32),IF(AND(chancom!$G32*chancom!$L32*$B32*$C32,$D32=$E32),$G32,\"\"),\"\")","v":""},{"$f":"IF(ISNUMBER($G32),IF(chancom!$G32*chancom!$L32*$C32,IF(H32<>H$33,$G32,\"\"),\"\"),\"\")","v":""},"",{"$f":"IF(ISNUMBER($G32),IF(AND(chancom!$H32*chancom!$L32*$B32*$C32,$D32=$E32),$G32,\"\"),\"\")","v":""},{"$f":"IF(ISNUMBER($G32),IF(chancom!$H32*chancom!$L32*$C32,IF(K32<>K$33,$G32,\"\"),\"\"),\"\")","v":""},"",{"$f":"IF(ISNUMBER($G32),IF(AND(chancom!$I32*chancom!$L32*$B32*$C32,$D32=$E32),$G32,\"\"),\"\")","v":""},{"$f":"IF(ISNUMBER($G32),IF(chancom!$I32*chancom!$L32*$C32,IF(N32<>N$33,$G32,\"\"),\"\"),\"\")","v":""},"",{"$f":"IF(ISNUMBER($G32),IF(AND(chancom!$J32*chancom!$L32*$B32*$C32,$D32=$E32),$G32,\"\"),\"\")","v":""},{"$f":"IF(ISNUMBER($G32),IF(chancom!$J32*chancom!$L32*$C32,IF(Q32<>Q$33,$G32,\"\"),\"\"),\"\")","v":""},""]
[null,null,null,null,null,null,null,{"$f":"MIN(H3:H32)","v":0},null,null,{"$f":"MIN(K3:K32)","v":0},null,null,{"$f":"MIN(N3:N32)","v":0},null,null,{"$f":"MIN(Q3:Q32)","v":0}]

{"sheet":"costrank","index":9,"n_rows":100,"n_cols":25,"rows_kept":100,"cut":false,"hidden":true,"merged":[]}
[null,"customer promotion",{"$f":"IF('q&a'!$F$44,1,0)+IF('q&a'!$F$45,1,0)+IF('q&a'!$F$46,1,0)+IF('q&a'!$F$47,1,0)+IF('q&a'!$F$48,1,0)+IF('q&a'!$F$49,1,0)+IF('q&a'!$F$50,1,0)+IF('q&a'!$F$51,1,0)+IF('q&a'!$F$52,1,0)","v":0},null,"Budget=",{"$f":"'q&a'!$I$62","v":0},null,"customer sustain",null,null,null,null,null,"prospect promotion",{"$f":"IF('q&a'!$F$53,1,0)+IF('q&a'!$F$54,1,0)+IF('q&a'!$F$55,1,0)+IF('q&a'!$F$56,1,0)+IF('q&a'!$F$57,1,0)+IF('q&a'!$F$58,1,0)+IF('q&a'!$F$59,1,0)+IF('q&a'!$F$60,1,0)+IF('q&a'!$F$61,1,0)","v":0},null,null,null,null,"prospect sustain"]
["core","Alert",{"$f":"INDEX(chancp!$A$1:$A$32,MATCH($A5,chancp!$J$1:$J$32,0))","v":{"$error":"#N/A"}},{"$f":"IF(ISNA(C2),\"\",$C$1*INDEX(chancp!$F$1:$F$32,MATCH($A5,chancp!$J$1:$J$32,0)))","v":""},{"$f":"IF(ISNUMBER(G2),RANK(G2,G$2:G$100,1),\"\")","v":""},{"$f":"IF(ISNUMBER(G2),F1-D2,F1)","v":0},{"$f":"IF(AND(D2>0,D2<$F$1*V!$B$3,D2<F1),10+$A5,\"\")","v":{"$error":"#DIV/0!"}},"Close Sale",{"$f":"INDEX(chancs!$A$1:$A$32,MATCH($A5,chancs!$S$1:$S$32,0))","v":{"$error":"#N/A"}},{"$f":"IF(ISNA(I2),\"\",INDEX(chancs!$F$1:$F$32,MATCH($A5,chancs!$S$1:$S$32,0)))","v":""},{"$f":"IF(ISNUMBER(M2),RANK(M2,M$2:M$100,1),\"\")","v":""},{"$f":"IF(ISNUMBER(M2),F5-J2,F5)","v":0},{"$f":"IF(AND(J2>0,J2<$F$1*V!$B$3,J2<F5),40+$A5,\"\")","v":{"$error":"#DIV/0!"}},"Alert",{"$f":"INDEX(chanpp!$A$1:$A$32,MATCH($A5,chanpp!$J$1:$J$32,0))","v":{"$error":"#N/A"}},{"$f":"IF(ISNA(O2),\"\",$O$1*INDEX(chanpp!$F$1:$F$32,MATCH($A5,chanpp!$J$1:$J$32,0)))","v":""},{"$f":"IF(ISNUMBER(S2),RANK(S2,S$2:S$100,1),\"\")","v":""},{"$f":"IF(ISNUMBER(S2),L5-P2,L5)","v":0},{"$f":"IF(AND(P2>0,P2<$F$1*V!$B$4,P2<L5),10+$A5,\"\")","v":{"$error":"#DIV/0!"}},"Close Sale",{"$f":"INDEX(chanps!$A$1:$A$32,MATCH($A5,chanps!$S$1:$S$32,0))","v":{"$error":"#N/A"}},{"$f":"IF(ISNA(U2),\"\",INDEX(chanps!$F$1:$F$32,MATCH($A5,chanps!$S$1:$S$32,0)))","v":""},{"$f":"IF(ISNUMBER(Y2),RANK(Y2,Y$2:Y$100,1),\"\")","v":""},{"$f":"IF(ISNUMBER(Y2),R5-V2,R5)","v":0},{"$f":"IF(AND(V2>0,V2<$F$1*V!$B$4,V2<R5),40+$A5,\"\")","v":{"$error":"#DIV/0!"}}]
[null,"Inform",{"$f":"INDEX(chancp!$A$1:$A$32,MATCH($A5,chancp!$M$1:$M$32,0))","v":{"$error":"#N/A"}},{"$f":"IF(ISNA(C3),\"\",$C$1*INDEX(chancp!$F$1:$F$32,MATCH($A5,chancp!$M$1:$M$32,0)))","v":""},{"$f":"IF(ISNUMBER(G3),RANK(G3,G$2:G$100,1),\"\")","v":""},{"$f":"IF(ISNUMBER(G3),F2-D3,F2)","v":0},{"$f":"IF(AND(D3>0,D3<$F$1*V!$B$3,D3<F2),20+$A5,\"\")","v":{"$error":"#DIV/0!"}},"Set App",{"$f":"INDEX(chancs!$A$1:$A$32,MATCH($A5,chancs!$P$1:$P$32,0))","v":{"$error":"#N/A"}},{"$f":"IF(ISNA(I3),\"\",INDEX(chancs!$F$1:$F$32,MATCH($A5,chancs!$P$1:$P$32,0)))","v":""},{"$f":"IF(ISNUMBER(M3),RANK(M3,M$2:M$100,1),\"\")","v":""},{"$f":"IF(ISNUMBER(M3),L2-J3,L2)","v":0},{"$f":"IF(AND(J3>0,J3<$F$1*V!$B$3,J3<L2),30+$A5,\"\")","v":{"$error":"#DIV/0!"}},"Inform",{"$f":"INDEX(chanpp!$A$1:$A$32,MATCH($A5,chanpp!$M$1:$M$32,0))","v":{"$error":"#N/A"}},{"$f":"IF(ISNA(O3),\"\",$O$1*INDEX(chanpp!$F$1:$F$32,MATCH($A5,chanpp!$M$1:$M$32,0)))","v":""},{"$f":"IF(ISNUMBER(S3),RANK(S3,S$2:S$100,1),\"\")","v":""},{"$f":"IF(ISNUMBER(S3),R2-P3,R2)","v":0},{"$f":"IF(AND(P3>0,P3<$F$1*V!$B$4,P3<R2),20+$A5,\"\")","v":{"$error":"#DIV/0!"}},"Set App",{"$f":"INDEX(chanps!$A$1:$A$32,MATCH($A5,chanps!$P$1:$P$32,0))","v":{"$error":"#N/A"}},{"$f":"IF(ISNA(U3),\"\",INDEX(chanps!$F$1:$F$32,MATCH($A5,chanps!$P$1:$P$32,0)))","v":""},{"$f":"IF(ISNUMBER(Y3),RANK(Y3,Y$2:Y$100,1),\"\")","v":""},{"$f":"IF(ISNUMBER(Y3),X2-V3,X2)","v":0},{"$f":"IF(AND(V3>0,V3<$F$1*V!$B$4,V3<X2),30+$A5,\"\")","v":{"$error":"#DIV/0!"}}]
["rank=","Set App",{"$f":"INDEX(chancp!$A$1:$A$32,MATCH($A5,chancp!$P$1:$P$32,0))","v":{"$error":"#N/A"}},{"$f":"IF(ISNA(C4),\"\",$C$1*INDEX(chancp!$F$1:$F$32,MATCH($A5,chancp!$P$1:$P$32,0)))","v":""},{"$f":"IF(ISNUMBER(G4),RANK(G4,G$2:G$100,1),\"\")","v":""},{"$f":"IF(ISNUMBER(G4),F3-D4,F3)","v":0},{"$f":"IF(AND(D4>0,D4<$F$1*V!$B$3,D4<F3),30+$A5,\"\")","v":{"$error":"#DIV/0!"}},"Inform",{"$f":"INDEX(chancs!$A$1:$A$32,MATCH($A5,chancs!$M$1:$M$32,0))","v":{"$error":"#N/A"}},{"$f":"IF(ISNA(I4),\"\",INDEX(chancs!$F$1:$F$32,MATCH($A5,chancs!$M$1:$M$32,0)))","v":""},{"$f":"IF(ISNUMBER(M4),RANK(M4,M$2:M$100,1),\"\")","v":""},{"$f":"IF(ISNUMBER(M4),L3-J4,L3)","v":0},{"$f":"IF(AND(J4>0,J4<$F$1*V!$B$3,J4<L3),20+$A5,\"\")","v":{"$error":"#DIV/0!"}},"Set App",{"$f":"INDEX(chanpp!$A$1:$A$32,MATCH($A5,chanpp!$P$1:$P$32,0))","v":{"$error":"#N/A"}},{"$f":"IF(ISNA(O4),\"\",$O$1*INDEX(chanpp!$F$1:$F$32,MATCH($A5,chanpp!$P$1:$P$32,0)))","v":""},{"$f":"IF(ISNUMBER(S4),RANK(S4,S$2:S$100,1),\"\")","v":""},{"$f":"IF(ISNUMBER(S4),R3-P4,R3)","v":0},{"$f":"IF(AND(P4>0,P4<$F$1*V!$B$4,P4<R3),30+$A5,\"\")","v":{"$error":"#DIV/0!"}},"Inform",{"$f":"INDEX(chanps!$A$1:$A$32,MATCH($A5,chanps!$M$1:$M$32,0))","v":{"$error":"#N/A"}},{"$f":"IF(ISNA(U4),\"\",INDEX(chanps!$F$1:$F$32,MATCH($A5,chanps!$M$1:$M$32,0)))","v":""},{"$f":"IF(ISNUMBER(Y4),RANK(Y4,Y$2:Y$100,1),\"\")","v":""},{"$f":"IF(ISNUMBER(Y4),X3-V4,X3)","v":0},{"$f":"IF(AND(V4>0,V4<$F$1*V!$B$4,V4<X3),20+$A5,\"\")","v":{"$error":"#DIV/0!"}}]
[0,"Close Sale",{"$f":"INDEX(chancp!$A$1:$A$32,MATCH($A5,chancp!$S$1:$S$32,0))","v":{"$error":"#N/A"}},{"$f":"IF(ISNA(C5),\"\",$C$1*INDEX(chancp!$F$1:$F$32,MATCH($A5,chancp!$S$1:$S$32,0)))","v":""},{"$f":"IF(ISNUMBER(G5),RANK(G5,G$2:G$100,1),\"\")","v":""},{"$f":"IF(ISNUMBER(G5),F4-D5,F4)","v":0},{"$f":"IF(AND(D5>0,D5<$F$1*V!$B$3,D5<F4),40+$A5,\"\")","v":{"$error":"#DIV/0!"}},"Alert",{"$f":"INDEX(chancs!$A$1:$A$32,MATCH($A5,chancs!$J$1:$J$32,0))","v":{"$error":"#N/A"}},{"$f":"IF(ISNA(I5),\"\",INDEX(chancs!$F$1:$F$32,MATCH($A5,chancs!$J$1:$J$32,0)))","v":""},{"$f":"IF(ISNUMBER(M5),RANK(M5,M$2:M$100,1),\"\")","v":""},{"$f":"IF(ISNUMBER(M5),L4-J5,L4)","v":0},{"$f":"IF(AND(J5>0,J5<$F$1*V!$B$3,J5<L4),10+$A5,\"\")","v":{"$error":"#DIV/0!"}},"Close Sale",{"$f":"INDEX(chanpp!$A$1:$A$32,MATCH($A5,chanpp!$S$1:$S$32,0))","v":{"$error":"#N/A"}},{"$f":"IF(ISNA(O5),\"\",$O$1*INDEX(chanpp!$F$1:$F$32,MATCH($A5,chanpp!$S$1:$S$32,0)))","v":""},{"$f":"IF(ISNUMBER(S5),RANK(S5,S$2:S$100,1),\"\")","v":""},{"$f":"IF(ISNUMBER(S5),R4-P5,R4)","v":0},{"$f":"IF(AND(P5>0,P5<$F$1*V!$B$4,P5<R4),40+$A5,\"\")","v":{"$error":"#DIV/0!"}},"Alert",{"$f":"INDEX(chanps!$A$1:$A$32,MATCH($A5,chanps!$J$1:$J$32,0))","v":{"$error":"#N/A"}},{"$f":"IF(ISNA(U5),\"\",INDEX(chanps!$F$1:$F$32,MATCH($A5,chanps!$J$1:$J$32,0)))","v":""},{"$f":"IF(ISNUMBER(Y5),RANK(Y5,Y$2:Y$100,1),\"\")","v":""},{"$f":"IF(ISNUMBER(Y5),X4-V5,X4)","v":0},{"$f":"IF(AND(V5>0,V5<$F$1*V!$B$4,V5<X4),10+$A5,\"\")","v":{"$error":"#DIV/0!"}}]
[]
[null,"Alert",{"$f":"INDEX(chancp!$A$1:$A$32,MATCH($A10,chancp!$J$1:$J$32,0))","v":{"$error":"#N/A"}},{"$f":"IF(ISNA(C7),\"\",$C$1*INDEX(chancp!$F$1:$F$32,MATCH($A10,chancp!$J$1:$J$32,0)))","v":""},{"$f":"IF(ISNUMBER(G7),RANK(G7,G$2:G$100,1),\"\")","v":""},{"$f":"IF(ISNUMBER(G7),X5-D7,X5)","v":0},{"$f":"IF(AND(D7>0,D7<$F$1*V!$B$3,D7<X5),10+$A10,\"\")","v":{"$error":"#DIV/0!"}},"Close Sale",{"$f":"INDEX(chancs!$A$1:$A$32,MATCH($A10,chancs!$S$1:$S$32,0))","v":{"$error":"#N/A"}},{"$f":"IF(ISNA(I7),\"\",INDEX(chancs!$F$1:$F$32,MATCH($A10,chancs!$S$1:$S$32,0)))","v":""},{"$f":"IF(ISNUMBER(M7),RANK(M7,M$2:M$100,1),\"\")","v":""},{"$f":"IF(ISNUMBER(M7),F7-J7,F7)","v":0},{"$f":"IF(AND(J7>0,J7<$F$1*V!$B$3,J7<F7),40+$A10,\"\")","v":{"$error":"#DIV/0!"}},"Alert",{"$f":"INDEX(chanpp!$A$1:$A$32,MATCH($A10,chanpp!$J$1:$J$32,0))","v":{"$error":"#N/A"}},{"$f":"IF(ISNA(O7),\"\",$O$1*INDEX(chanpp!$F$1:$F$32,MATCH($A10,chanpp!$J$1:$J$32,0)))","v":""},{"$f":"IF(ISNUMBER(S7),RANK(S7,S$2:S$100,1),\"\")","v":""},{"$f":"IF(ISNUMBER(S7),L7-P7,L7)","v":0},{"$f":"IF(AND(P7>0,P7<$F$1*V!$B$4,P7<L7),10+$A10,\"\")","v":{"$error":"#DIV/0!"}},"Close Sale",{"$f":"INDEX(chanps!$A$1:$A$32,MATCH($A10,chanps!$S$1:$S$32,0))","v":{"$error":"#N/A"}},{"$f":"IF(ISNA(U7),\"\",INDEX(chanps!$F$1:$F$32,MATCH($A10,chanps!$S$1:$S$32,0)))","v":""},{"$f":"IF(ISNUMBER(Y7),RANK(Y7,Y$2:Y$100,1),\"\")","v":""},{"$f":"IF(ISNUMBER(Y7),R7-V7,R7)","v":0},{"$f":"IF(AND(V7>0,V7<$F$1*V!$B$4,V7<R7),40+$A10,\"\")","v":{"$error":"#DIV/0!"}}]
[null,"Inform",{"$f":"INDEX(chancp!$A$1:$A$32,MATCH($A10,chancp!$M$1:$M$32,0))","v":{"$error":"#N/A"}},{"$f":"IF(ISNA(C8),\"\",$C$1*INDEX(chancp!$F$1:$F$32,MATCH($A10,chancp!$M$1:$M$32,0)))","v":""},{"$f":"IF(ISNUMBER(G8),RANK(G8,G$2:G$100,1),\"\")","v":""},{"$f":"IF(ISNUMBER(G8),X7-D8,X7)","v":0},{"$f":"IF(AND(D8>0,D8<$F$1*V!$B$3,D8<X7),20+$A10,\"\")","v":{"$error":"#DIV/0!"}},"Set App",{"$f":"INDEX(chancs!$A$1:$A$32,MATCH($A10,chancs!$P$1:$P$32,0))","v":{"$error":"#N/A"}},{"$f":"IF(ISNA(I8),\"\",INDEX(chancs!$F$1:$F$32,MATCH($A10,chancs!$P$1:$P$32,0)))","v":""},{"$f":"IF(ISNUMBER(M8),RANK(M8,M$2:M$100,1),\"\")","v":""},{"$f":"IF(ISNUMBER(M8),F8-J8,F8)","v":0},{"$f":"IF(AND(J8>0,J8<$F$1*V!$B$3,J8<F8),30+$A10,\"\")","v":{"$error":"#DIV/0!"}},"Inform",{"$f":"INDEX(chanpp!$A$1:$A$32,MATCH($A10,chanpp!$M$1:$M$32,0))","v":{"$error":"#N/A"}},{"$f":"IF(ISNA(O8),\"\",$O$1*INDEX(chanpp!$F$1:$F$32,MATCH($A10,chanpp!$M$1:$M$32,0)))","v":""},{"$f":"IF(ISNUMBER(S8),RANK(S8,S$2:S$100,1),\"\")","v":""},{"$f":"IF(ISNUMBER(S8),L8-P8,L8)","v":0},{"$f":"IF(AND(P8>0,P8<$F$1*V!$B$4,P8<L8),20+$A10,\"\")","v":{"$error":"#DIV/0!"}},"Set App",{"$f":"INDEX(chanps!$A$1:$A$32,MATCH($A10,chanps!$P$1:$P$32,0))","v":{"$error":"#N/A"}},{"$f":"IF(ISNA(U8),\"\",INDEX(chanps!$F$1:$F$32,MATCH($A10,chanps!$P$1:$P$32,0)))","v":""},{"$f":"IF(ISNUMBER(Y8),RANK(Y8,Y$2:Y$100,1),\"\")","v":""},{"$f":"IF(ISNUMBER(Y8),R8-V8,R8)","v":0},{"$f":"IF(AND(V8>0,V8<$F$1*V!$B$4,V8<R8),30+$A10,\"\")","v":{"$error":"#DIV/0!"}}]
["rank=","Set App",{"$f":"INDEX(chancp!$A$1:$A$32,MATCH($A10,chancp!$P$1:$P$32,0))","v":{"$error":"#N/A"}},{"$f":"IF(ISNA(C9),\"\",$C$1*INDEX(chancp!$F$1:$F$32,MATCH($A10,chancp!$P$1:$P$32,0)))","v":""},{"$f":"IF(ISNUMBER(G9),RANK(G9,G$2:G$100,1),\"\")","v":""},{"$f":"IF(ISNUMBER(G9),X8-D9,X8)","v":0},{"$f":"IF(AND(D9>0,D9<$F$1*V!$B$3,D9<X8),30+$A10,\"\")","v":{"$error":"#DIV/0!"}},"Inform",{"$f":"INDEX(chancs!$A$1:$A$32,MATCH($A10,chancs!$M$1:$M$32,0))","v":{"$error":"#N/A"}},{"$f":"IF(ISNA(I9),\"\",INDEX(chancs!$F$1:$F$32,MATCH($A10,chancs!$M$1:$M$32,0)))","v":""},{"$f":"IF(ISNUMBER(M9),RANK(M9,M$2:M$100,1),\"\")","v":""},{"$f":"IF(ISNUMBER(M9),F9-J9,F9)","v":0},{"$f":"IF(AND(J9>0,J9<$F$1*V!$B$3,J9<F9),20+$A10,\"\")","v":{"$error":"#DIV/0!"}},"Set App",{"$f":"INDEX(chanpp!$A$1:$A$32,MATCH($A10,chanpp!$P$1:$P$32,0))","v":{"$error":"#N/A"}},{"$f":"IF(ISNA(O9),\"\",$O$1*INDEX(chanpp!$F$1:$F$32,MATCH($A10,chanpp!$P$1:$P$32,0)))","v":""},{"$f":"IF(ISNUMBER(S9),RANK(S9,S$2:S$100,1),\"\")","v":""},{"$f":"IF(ISNUMBER(S9),L9-P9,L9)","v":0},{"$f":"IF(AND(P9>0,P9<$F$1*V!$B$4,P9<L9),30+$A10,\"\")","v":{"$error":"#DIV/0!"}},"Inform",{"$f":"INDEX(chanps!$A$1:$A$32,MATCH($A10,chanps!$M$1:$M$32,0))","v":{"$error":"#N/A"}},{"$f":"IF(ISNA(U9),\"\",INDEX(chanps!$F$1:$F$32,MATCH($A10,chanps!$M$1:$M$32,0)))","v":""},{"$f":"IF(ISNUMBER(Y9),RANK(Y9,Y$2:Y$100,1),\"\")","v":""},{"$f":"IF(ISNUMBER(Y9),R9-V9,R9)","v":0},{"$f":"IF(AND(V9>0,V9<$F$1*V!$B$4,V9<R9),20+$A10,\"\")","v":{"$error":"#DIV/0!"}}]
[{"$f":"A5+1","v":1},"Close Sale",{"$f":"INDEX(chancp!$A$1:$A$32,MATCH($A10,chancp!$S$1:$S$32,0))","v":{"$error":"#N/A"}},{"$f":"IF(ISNA(C10),\"\",$C$1*INDEX(chancp!$F$1:$F$32,MATCH($A10,chancp!$S$1:$S$32,0)))","v":""},{"$f":"IF(ISNUMBER(G10),RANK(G10,G$2:G$100,1),\"\")","v":""},{"$f":"IF(ISNUMBER(G10),X9-D10,X9)","v":0},{"$f":"IF(AND(D10>0,D10<$F$1*V!$B$3,D10<X9),40+$A10,\"\")","v":{"$error":"#DIV/0!"}},"Alert",{"$f":"INDEX(chancs!$A$1:$A$32,MATCH($A10,chancs!$J$1:$J$32,0))","v":{"$error":"#N/A"}},{"$f":"IF(ISNA(I10),\"\",INDEX(chancs!$F$1:$F$32,MATCH($A10,chancs!$J$1:$J$32,0)))","v":""},{"$f":"IF(ISNUMBER(M10),RANK(M10,M$2:M$100,1),\"\")","v":""},{"$f":"IF(ISNUMBER(M10),F10-J10,F10)","v":0},{"$f":"IF(AND(J10>0,J10<$F$1*V!$B$3,J10<F10),10+$A10,\"\")","v":{"$error":"#DIV/0!"}},"Close Sale",{"$f":"INDEX(chanpp!$A$1:$A$32,MATCH($A10,chanpp!$S$1:$S$32,0))","v":{"$error":"#N/A"}},{"$f":"IF(ISNA(O10),\"\",$O$1*INDEX(chanpp!$F$1:$F$32,MATCH($A10,chanpp!$S$1:$S$32,0)))","v":""},{"$f":"IF(ISNUMBER(S10),RANK(S10,S$2:S$100,1),\"\")","v":""},{"$f":"IF(ISNUMBER(S10),L10-P10,L10)","v":0},{"$f":"IF(AND(P10>0,P10<$F$1*V!$B$4,P10<L10),40+$A10,\"\")","v":{"$error":"#DIV/0!"}},"Alert",{"$f":"INDEX(chanps!$A$1:$A$32,MATCH($A10,chanps!$J$1:$J$32,0))","v":{"$error":"#N/A"}},{"$f":"IF(ISNA(U10),\"\",INDEX(chanps!$F$1:$F$32,MATCH($A10,chanps!$J$1:$J$32,0)))","v":""},{"$f":"IF(ISNUMBER(Y10),RANK(Y10,Y$2:Y$100,1),\"\")","v":""},{"$f":"IF(ISNUMBER(Y10),R10-V10,R10)","v":0},{"$f":"IF(AND(V10>0,V10<$F$1*V!$B$4,V10<R10),10+$A10,\"\")","v":{"$error":"#DIV/0!"}}]
[]
[null,"Alert",{"$f":"INDEX(chancp!$A$1:$A$32,MATCH($A15,chancp!$J$1:$J$32,0))","v":{"$error":"#N/A"}},{"$f":"IF(ISNA(C12),\"\",$C$1*INDEX(chancp!$F$1:$F$32,MATCH($A15,chancp!$J$1:$J$32,0)))","v":""},{"$f":"IF(ISNUMBER(G12),RANK(G12,G$2:G$100,1),\"\")","v":""},{"$f":"IF(ISNUMBER(G12),X10-D12,X10)","v":0},{"$f":"IF(AND(D12>0,D12<$F$1*V!$B$3,D12<X10),10+$A15,\"\")","v":{"$error":"#DIV/0!"}},"Close Sale",{"$f":"INDEX(chancs!$A$1:$A$32,MATCH($A15,chancs!$S$1:$S$32,0))","v":{"$error":"#N/A"}},{"$f":"IF(ISNA(I12),\"\",INDEX(chancs!$F$1:$F$32,MATCH($A15,chancs!$S$1:$S$32,0)))","v":""},{"$f":"IF(ISNUMBER(M12),RANK(M12,M$2:M$100,1),\"\")","v":""},{"$f":"IF(ISNUMBER(M12),F12-J12,F12)","v":0},{"$f":"IF(AND(J12>0,J12<$F$1*V!$B$3,J12<F12),40+$A15,\"\")","v":{"$error":"#DIV/0!"}},"Alert",{"$f":"INDEX(chanpp!$A$1:$A$32,MATCH($A15,chanpp!$J$1:$J$32,0))","v":{"$error":"#N/A"}},{"$f":"IF(ISNA(O12),\"\",$O$1*INDEX(chanpp!$F$1:$F$32,MATCH($A15,chanpp!$J$1:$J$32,0)))","v":""},{"$f":"IF(ISNUMBER(S12),RANK(S12,S$2:S$100,1),\"\")","v":""},{"$f":"IF(ISNUMBER(S12),L12-P12,L12)","v":0},{"$f":"IF(AND(P12>0,P12<$F$1*V!$B$4,P12<L12),10+$A15,\"\")","v":{"$error":"#DIV/0!"}},"Close Sale",{"$f":"INDEX(chanps!$A$1:$A$32,MATCH($A15,chanps!$S$1:$S$32,0))","v":{"$error":"#N/A"}},{"$f":"IF(ISNA(U12),\"\",INDEX(chanps!$F$1:$F$32,MATCH($A15,chanps!$S$1:$S$32,0)))","v":""},{"$f":"IF(ISNUMBER(Y12),RANK(Y12,Y$2:Y$100,1),\"\")","v":""},{"$f":"IF(ISNUMBER(Y12),R12-V12,R12)","v":0},{"$f":"IF(AND(V12>0,V12<$F$1*V!$B$4,V12<R12),40+$A15,\"\")","v":{"$error":"#DIV/0!"}}]
[null,"Inform",{"$f":"INDEX(chancp!$A$1:$A$32,MATCH($A15,chancp!$M$1:$M$32,0))","v":{"$error":"#N/A"}},{"$f":"IF(ISNA(C13),\"\",$C$1*INDEX(chancp!$F$1:$F$32,MATCH($A15,chancp!$M$1:$M$32,0)))","v":""},{"$f":"IF(ISNUMBER(G13),RANK(G13,G$2:G$100,1),\"\")","v":""},{"$f":"IF(ISNUMBER(G13),X12-D13,X12)","v":0},{"$f":"IF(AND(D13>0,D13<$F$1*V!$B$3,D13<X12),20+$A15,\"\")","v":{"$error":"#DIV/0!"}},"Set App",{"$f":"INDEX(chancs!$A$1:$A$32,MATCH($A15,chancs!$P$1:$P$32,0))","v":{"$error":"#N/A"}},{"$f":"IF(ISNA(I13),\"\",INDEX(chancs!$F$1:$F$32,MATCH($A15,chancs!$P$1:$P$32,0)))","v":""},{"$f":"IF(ISNUMBER(M13),RANK(M13,M$2:M$100,1),\"\")","v":""},{"$f":"IF(ISNUMBER(M13),F13-J13,F13)","v":0},{"$f":"IF(AND(J13>0,J13<$F$1*V!$B$3,J13<F13),30+$A15,\"\")","v":{"$error":"#DIV/0!"}},"Inform",{"$f":"INDEX(chanpp!$A$1:$A$32,MATCH($A15,chanpp!$M$1:$M$32,0))","v":{"$error":"#N/A"}},{"$f":"IF(ISNA(O13),\"\",$O$1*INDEX(chanpp!$F$1:$F$32,MATCH($A15,chanpp!$M$1:$M$32,0)))","v":""},{"$f":"IF(ISNUMBER(S13),RANK(S13,S$2:S$100,1),\"\")","v":""},{"$f":"IF(ISNUMBER(S13),L13-P13,L13)","v":0},{"$f":"IF(AND(P13>0,P13<$F$1*V!$B$4,P13<L13),20+$A15,\"\")","v":{"$error":"#DIV/0!"}},"Set App",{"$f":"INDEX(chanps!$A$1:$A$32,MATCH($A15,chanps!$P$1:$P$32,0))","v":{"$error":"#N/A"}},{"$f":"IF(ISNA(U13),\"\",INDEX(chanps!$F$1:$F$32,MATCH($A15,chanps!$P$1:$P$32,0)))","v":""},{"$f":"IF(ISNUMBER(Y13),RANK(Y13,Y$2:Y$100,1),\"\")","v":""},{"$f":"IF(ISNUMBER(Y13),R13-V13,R13)","v":0},{"$f":"IF(AND(V13>0,V13<$F$1*V!$B$4,V13<R13),30+$A15,\"\")","v":{"$error":"#DIV/0!"}}]
["rank=","Set App",{"$f":"INDEX(chancp!$A$1:$A$32,MATCH($A15,chancp!$P$1:$P$32,0))","v":{"$error":"#N/A"}},{"$f":"IF(ISNA(C14),\"\",$C$1*INDEX(chancp!$F$1:$F$32,MATCH($A15,chancp!$P$1:$P$32,0)))","v":""},{"$f":"IF(ISNUMBER(G14),RANK(G14,G$2:G$100,1),\"\")","v":""},{"$f":"IF(ISNUMBER(G14),X13-D14,X13)","v":0},{"$f":"IF(AND(D14>0,D14<$F$1*V!$B$3,D14<X13),30+$A15,\"\")","v":{"$error":"#DIV/0!"}},"Inform",{"$f":"INDEX(chancs!$A$1:$A$32,MATCH($A15,chancs!$M$1:$M$32,0))","v":{"$error":"#N/A"}},{"$f":"IF(ISNA(I14),\"\",INDEX(chancs!$F$1:$F$32,MATCH($A15,chancs!$M$1:$M$32,0)))","v":""},{"$f":"IF(ISNUMBER(M14),RANK(M14,M$2:M$100,1),\"\")","v":""},{"$f":"IF(ISNUMBER(M14),F14-J14,F14)","v":0},{"$f":"IF(AND(J14>0,J14<$F$1*V!$B$3,J14<F14),20+$A15,\"\")","v":{"$error":"#DIV/0!"}},"Set App",{"$f":"INDEX(chanpp!$A$1:$A$32,MATCH($A15,chanpp!$P$1:$P$32,0))","v":{"$error":"#N/A"}},{"$f":"IF(ISNA(O14),\"\",$O$1*INDEX(chanpp!$F$1:$F$32,MATCH($A15,chanpp!$P$1:$P$32,0)))","v":""},{"$f":"IF(ISNUMBER(S14),RANK(S14,S$2:S$100,1),\"\")","v":""},{"$f":"IF(ISNUMBER(S14),L14-P14,L14)","v":0},{"$f":"IF(AND(P14>0,P14<$F$1*V!$B$4,P14<L14),30+$A15,\"\")","v":{"$error":"#DIV/0!"}},"Inform",{"$f":"INDEX(chanps!$A$1:$A$32,MATCH($A15,chanps!$M$1:$M$32,0))","v":{"$error":"#N/A"}},{"$f":"IF(ISNA(U14),\"\",INDEX(chanps!$F$1:$F$32,MATCH($A15,chanps!$M$1:$M$32,0)))","v":""},{"$f":"IF(ISNUMBER(Y14),RANK(Y14,Y$2:Y$100,1),\"\")","v":""},{"$f":"IF(ISNUMBER(Y14),R14-V14,R14)","v":0},{"$f":"IF(AND(V14>0,V14<$F$1*V!$B$4,V14<R14),20+$A15,\"\")","v":{"$error":"#DIV/0!"}}]
[{"$f":"A10+1","v":2},"Close Sale",{"$f":"INDEX(chancp!$A$1:$A$32,MATCH($A15,chancp!$S$1:$S$32,0))","v":{"$error":"#N/A"}},{"$f":"IF(ISNA(C15),\"\",$C$1*INDEX(chancp!$F$1:$F$32,MATCH($A15,chancp!$S$1:$S$32,0)))","v":""},{"$f":"IF(ISNUMBER(G15),RANK(G15,G$2:G$100,1),\"\")","v":""},{"$f":"IF(ISNUMBER(G15),X14-D15,X14)","v":0},{"$f":"IF(AND(D15>0,D15<$F$1*V!$B$3,D15<X14),40+$A15,\"\")","v":{"$error":"#DIV/0!"}},"Alert",{"$f":"INDEX(chancs!$A$1:$A$32,MATCH($A15,chancs!$J$1:$J$32,0))","v":{"$error":"#N/A"}},{"$f":"IF(ISNA(I15),\"\",INDEX(chancs!$F$1:$F$32,MATCH($A15,chancs!$J$1:$J$32,0)))","v":""},{"$f":"IF(ISNUMBER(M15),RANK(M15,M$2:M$100,1),\"\")","v":""},{"$f":"IF(ISNUMBER(M15),F15-J15,F15)","v":0},{"$f":"IF(AND(J15>0,J15<$F$1*V!$B$3,J15<F15),10+$A15,\"\")","v":{"$error":"#DIV/0!"}},"Close Sale",{"$f":"INDEX(chanpp!$A$1:$A$32,MATCH($A15,chanpp!$S$1:$S$32,0))","v":{"$error":"#N/A"}},{"$f":"IF(ISNA(O15),\"\",$O$1*INDEX(chanpp!$F$1:$F$32,MATCH($A15,chanpp!$S$1:$S$32,0)))","v":""},{"$f":"IF(ISNUMBER(S15),RANK(S15,S$2:S$100,1),\"\")","v":""},{"$f":"IF(ISNUMBER(S15),L15-P15,L15)","v":0},{"$f":"IF(AND(P15>0,P15<$F$1*V!$B$4,P15<L15),40+$A15,\"\")","v":{"$error":"#DIV/0!"}},"Alert",{"$f":"INDEX(chanps!$A$1:$A$32,MATCH($A15,chanps!$J$1:$J$32,0))","v":{"$error":"#N/A"}},{"$f":"IF(ISNA(U15),\"\",INDEX(chanps!$F$1:$F$32,MATCH($A15,chanps!$J$1:$J$32,0)))","v":""},{"$f":"IF(ISNUMBER(Y15),RANK(Y15,Y$2:Y$100,1),\"\")","v":""},{"$f":"IF(ISNUMBER(Y15),R15-V15,R15)","v":0},{"$f":"IF(AND(V15>0,V15<$F$1*V!$B$4,V15<R15),10+$A15,\"\")","v":{"$error":"#DIV/0!"}}]
[]
[null,"Alert",{"$f":"INDEX(chancp!$A$1:$A$32,MATCH($A20,chancp!$J$1:$J$32,0))","v":{"$error":"#N/A"}},{"$f":"IF(ISNA(C17),\"\",$C$1*INDEX(chancp!$F$1:$F$32,MATCH($A20,chancp!$J$1:$J$32,0)))","v":""},{"$f":"IF(ISNUMBER(G17),RANK(G17,G$2:G$100,1),\"\")","v":""},{"$f":"IF(ISNUMBER(G17),X15-D17,X15)","v":0},{"$f":"IF(AND(D17>0,D17<$F$1*V!$B$3,D17<X15),10+$A20,\"\")","v":{"$error":"#DIV/0!"}},"Close Sale",{"$f":"INDEX(chancs!$A$1:$A$32,MATCH($A20,chancs!$S$1:$S$32,0))","v":{"$error":"#N/A"}},{"$f":"IF(ISNA(I17),\"\",INDEX(chancs!$F$1:$F$32,MATCH($A20,chancs!$S$1:$S$32,0)))","v":""},{"$f":"IF(ISNUMBER(M17),RANK(M17,M$2:M$100,1),\"\")","v":""},{"$f":"IF(ISNUMBER(M17),F17-J17,F17)","v":0},{"$f":"IF(AND(J17>0,J17<$F$1*V!$B$3,J17<F17),40+$A20,\"\")","v":{"$error":"#DIV/0!"}},"Alert",{"$f":"INDEX(chanpp!$A$1:$A$32,MATCH($A20,chanpp!$J$1:$J$32,0))","v":{"$error":"#N/A"}},{"$f":"IF(ISNA(O17),\"\",$O$1*INDEX(chanpp!$F$1:$F$32,MATCH($A20,chanpp!$J$1:$J$32,0)))","v":""},{"$f":"IF(ISNUMBER(S17),RANK(S17,S$2:S$100,1),\"\")","v":""},{"$f":"IF(ISNUMBER(S17),L17-P17,L17)","v":0},{"$f":"IF(AND(P17>0,P17<$F$1*V!$B$4,P17<L17),10+$A20,\"\")","v":{"$error":"#DIV/0!"}},"Close Sale",{"$f":"INDEX(chanps!$A$1:$A$32,MATCH($A20,chanps!$S$1:$S$32,0))","v":{"$error":"#N/A"}},{"$f":"IF(ISNA(U17),\"\",INDEX(chanps!$F$1:$F$32,MATCH($A20,chanps!$S$1:$S$32,0)))","v":""},{"$f":"IF(ISNUMBER(Y17),RANK(Y17,Y$2:Y$100,1),\"\")","v":""},{"$f":"IF(ISNUMBER(Y17),R17-V17,R17)","v":0},{"$f":"IF(AND(V17>0,V17<$F$1*V!$B$4,V17<R17),40+$A20,\"\")","v":{"$error":"#DIV/0!"}}]
[null,"Inform",{"$f":"INDEX(chancp!$A$1:$A$32,MATCH($A20,chancp!$M$1:$M$32,0))","v":{"$error":"#N/A"}},{"$f":"IF(ISNA(C18),\"\",$C$1*INDEX(chancp!$F$1:$F$32,MATCH($A20,chancp!$M$1:$M$32,0)))","v":""},{"$f":"IF(ISNUMBER(G18),RANK(G18,G$2:G$100,1),\"\")","v":""},{"$f":"IF(ISNUMBER(G18),X17-D18,X17)","v":0},{"$f":"IF(AND(D18>0,D18<$F$1*V!$B$3,D18<X17),20+$A20,\"\")","v":{"$error":"#DIV/0!"}},"Set App",{"$f":"INDEX(chancs!$A$1:$A$32,MATCH($A20,chancs!$P$1:$P$32,0))","v":{"$error":"#N/A"}},{"$f":"IF(ISNA(I18),\"\",INDEX(chancs!$F$1:$F$32,MATCH($A20,chancs!$P$1:$P$32,0)))","v":""},{"$f":"IF(ISNUMBER(M18),RANK(M18,M$2:M$100,1),\"\")","v":""},{"$f":"IF(ISNUMBER(M18),F18-J18,F18)","v":0},{"$f":"IF(AND(J18>0,J18<$F$1*V!$B$3,J18<F18),30+$A20,\"\")","v":{"$error":"#DIV/0!"}},"Inform",{"$f":"INDEX(chanpp!$A$1:$A$32,MATCH($A20,chanpp!$M$1:$M$32,0))","v":{"$error":"#N/A"}},{"$f":"IF(ISNA(O18),\"\",$O$1*INDEX(chanpp!$F$1:$F$32,MATCH($A20,chanpp!$M$1:$M$32,0)))","v":""},{"$f":"IF(ISNUMBER(S18),RANK(S18,S$2:S$100,1),\"\")","v":""},{"$f":"IF(ISNUMBER(S18),L18-P18,L18)","v":0},{"$f":"IF(AND(P18>0,P18<$F$1*V!$B$4,P18<L18),20+$A20,\"\")","v":{"$error":"#DIV/0!"}},"Set App",{"$f":"INDEX(chanps!$A$1:$A$32,MATCH($A20,chanps!$P$1:$P$32,0))","v":{"$error":"#N/A"}},{"$f":"IF(ISNA(U18),\"\",INDEX(chanps!$F$1:$F$32,MATCH($A20,chanps!$P$1:$P$32,0)))","v":""},{"$f":"IF(ISNUMBER(Y18),RANK(Y18,Y$2:Y$100,1),\"\")","v":""},{"$f":"IF(ISNUMBER(Y18),R18-V18,R18)","v":0},{"$f":"IF(AND(V18>0,V18<$F$1*V!$B$4,V18<R18),30+$A20,\"\")","v":{"$error":"#DIV/0!"}}]
["rank=","Set App",{"$f":"INDEX(chancp!$A$1:$A$32,MATCH($A20,chancp!$P$1:$P$32,0))","v":{"$error":"#N/A"}},{"$f":"IF(ISNA(C19),\"\",$C$1*INDEX(chancp!$F$1:$F$32,MATCH($A20,chancp!$P$1:$P$32,0)))","v":""},{"$f":"IF(ISNUMBER(G19),RANK(G19,G$2:G$100,1),\"\")","v":""},{"$f":"IF(ISNUMBER(G19),X18-D19,X18)","v":0},{"$f":"IF(AND(D19>0,D19<$F$1*V!$B$3,D19<X18),30+$A20,\"\")","v":{"$error":"#DIV/0!"}},"Inform",{"$f":"INDEX(chancs!$A$1:$A$32,MATCH($A20,chancs!$M$1:$M$32,0))","v":{"$error":"#N/A"}},{"$f":"IF(ISNA(I19),\"\",INDEX(chancs!$F$1:$F$32,MATCH($A20,chancs!$M$1:$M$32,0)))","v":""},{"$f":"IF(ISNUMBER(M19),RANK(M19,M$2:M$100,1),\"\")","v":""},{"$f":"IF(ISNUMBER(M19),F19-J19,F19)","v":0},{"$f":"IF(AND(J19>0,J19<$F$1*V!$B$3,J19<F19),20+$A20,\"\")","v":{"$error":"#DIV/0!"}},"Set App",{"$f":"INDEX(chanpp!$A$1:$A$32,MATCH($A20,chanpp!$P$1:$P$32,0))","v":{"$error":"#N/A"}},{"$f":"IF(ISNA(O19),\"\",$O$1*INDEX(chanpp!$F$1:$F$32,MATCH($A20,chanpp!$P$1:$P$32,0)))","v":""},{"$f":"IF(ISNUMBER(S19),RANK(S19,S$2:S$100,1),\"\")","v":""},{"$f":"IF(ISNUMBER(S19),L19-P19,L19)","v":0},{"$f":"IF(AND(P19>0,P19<$F$1*V!$B$4,P19<L19),30+$A20,\"\")","v":{"$error":"#DIV/0!"}},"Inform",{"$f":"INDEX(chanps!$A$1:$A$32,MATCH($A20,chanps!$M$1:$M$32,0))","v":{"$error":"#N/A"}},{"$f":"IF(ISNA(U19),\"\",INDEX(chanps!$F$1:$F$32,MATCH($A20,chanps!$M$1:$M$32,0)))","v":""},{"$f":"IF(ISNUMBER(Y19),RANK(Y19,Y$2:Y$100,1),\"\")","v":""},{"$f":"IF(ISNUMBER(Y19),R19-V19,R19)","v":0},{"$f":"IF(AND(V19>0,V19<$F$1*V!$B$4,V19<R19),20+$A20,\"\")","v":{"$error":"#DIV/0!"}}]
[{"$f":"A15+1","v":3},"Close Sale",{"$f":"INDEX(chancp!$A$1:$A$32,MATCH($A20,chancp!$S$1:$S$32,0))","v":{"$error":"#N/A"}},{"$f":"IF(ISNA(C20),\"\",$C$1*INDEX(chancp!$F$1:$F$32,MATCH($A20,chancp!$S$1:$S$32,0)))","v":""},{"$f":"IF(ISNUMBER(G20),RANK(G20,G$2:G$100,1),\"\")","v":""},{"$f":"IF(ISNUMBER(G20),X19-D20,X19)","v":0},{"$f":"IF(AND(D20>0,D20<$F$1*V!$B$3,D20<X19),40+$A20,\"\")","v":{"$error":"#DIV/0!"}},"Alert",{"$f":"INDEX(chancs!$A$1:$A$32,MATCH($A20,chancs!$J$1:$J$32,0))","v":{"$error":"#N/A"}},{"$f":"IF(ISNA(I20),\"\",INDEX(chancs!$F$1:$F$32,MATCH($A20,chancs!$J$1:$J$32,0)))","v":""},{"$f":"IF(ISNUMBER(M20),RANK(M20,M$2:M$100,1),\"\")","v":""},{"$f":"IF(ISNUMBER(M20),F20-J20,F20)","v":0},{"$f":"IF(AND(J20>0,J20<$F$1*V!$B$3,J20<F20),10+$A20,\"\")","v":{"$error":"#DIV/0!"}},"Close Sale",{"$f":"INDEX(chanpp!$A$1:$A$32,MATCH($A20,chanpp!$S$1:$S$32,0))","v":{"$error":"#N/A"}},{"$f":"IF(ISNA(O20),\"\",$O$1*INDEX(chanpp!$F$1:$F$32,MATCH($A20,chanpp!$S$1:$S$32,0)))","v":""},{"$f":"IF(ISNUMBER(S20),RANK(S20,S$2:S$100,1),\"\")","v":""},{"$f":"IF(ISNUMBER(S20),L20-P20,L20)","v":0},{"$f":"IF(AND(P20>0,P20<$F$1*V!$B$4,P20<L20),40+$A20,\"\")","v":{"$error":"#DIV/0!"}},"Alert",{"$f":"INDEX(chanps!$A$1:$A$32,MATCH($A20,chanps!$J$1:$J$32,0))","v":{"$error":"#N/A"}},{"$f":"IF(ISNA(U20),\"\",INDEX(chanps!$F$1:$F$32,MATCH($A20,chanps!$J$1:$J$32,0)))","v":""},{"$f":"IF(ISNUMBER(Y20),RANK(Y20,Y$2:Y$100,1),\"\")","v":""},{"$f":"IF(ISNUMBER(Y20),R20-V20,R20)","v":0},{"$f":"IF(AND(V20>0,V20<$F$1*V!$B$4,V20<R20),10+$A20,\"\")","v":{"$error":"#DIV/0!"}}]
[]
[null,"Alert",{"$f":"INDEX(chancp!$A$1:$A$32,MATCH($A25,chancp!$J$1:$J$32,0))","v":{"$error":"#N/A"}},{"$f":"IF(ISNA(C22),\"\",$C$1*INDEX(chancp!$F$1:$F$32,MATCH($A25,chancp!$J$1:$J$32,0)))","v":""},{"$f":"IF(ISNUMBER(G22),RANK(G22,G$2:G$100,1),\"\")","v":""},{"$f":"IF(ISNUMBER(G22),X20-D22,X20)","v":0},{"$f":"IF(AND(D22>0,D22<$F$1*V!$B$3,D22<X20),10+$A25,\"\")","v":{"$error":"#DIV/0!"}},"Close Sale",{"$f":"INDEX(chancs!$A$1:$A$32,MATCH($A25,chancs!$S$1:$S$32,0))","v":{"$error":"#N/A"}},{"$f":"IF(ISNA(I22),\"\",INDEX(chancs!$F$1:$F$32,MATCH($A25,chancs!$S$1:$S$32,0)))","v":""},{"$f":"IF(ISNUMBER(M22),RANK(M22,M$2:M$100,1),\"\")","v":""},{"$f":"IF(ISNUMBER(M22),F22-J22,F22)","v":0},{"$f":"IF(AND(J22>0,J22<$F$1*V!$B$3,J22<F22),40+$A25,\"\")","v":{"$error":"#DIV/0!"}},"Alert",{"$f":"INDEX(chanpp!$A$1:$A$32,MATCH($A25,chanpp!$J$1:$J$32,0))","v":{"$error":"#N/A"}},{"$f":"IF(ISNA(O22),\"\",$O$1*INDEX(chanpp!$F$1:$F$32,MATCH($A25,chanpp!$J$1:$J$32,0)))","v":""},{"$f":"IF(ISNUMBER(S22),RANK(S22,S$2:S$100,1),\"\")","v":""},{"$f":"IF(ISNUMBER(S22),L22-P22,L22)","v":0},{"$f":"IF(AND(P22>0,P22<$F$1*V!$B$4,P22<L22),10+$A25,\"\")","v":{"$error":"#DIV/0!"}},"Close Sale",{"$f":"INDEX(chanps!$A$1:$A$32,MATCH($A25,chanps!$S$1:$S$32,0))","v":{"$error":"#N/A"}},{"$f":"IF(ISNA(U22),\"\",INDEX(chanps!$F$1:$F$32,MATCH($A25,chanps!$S$1:$S$32,0)))","v":""},{"$f":"IF(ISNUMBER(Y22),RANK(Y22,Y$2:Y$100,1),\"\")","v":""},{"$f":"IF(ISNUMBER(Y22),R22-V22,R22)","v":0},{"$f":"IF(AND(V22>0,V22<$F$1*V!$B$4,V22<R22),40+$A25,\"\")","v":{"$error":"#DIV/0!"}}]
[null,"Inform",{"$f":"INDEX(chancp!$A$1:$A$32,MATCH($A25,chancp!$M$1:$M$32,0))","v":{"$error":"#N/A"}},{"$f":"IF(ISNA(C23),\"\",$C$1*INDEX(chancp!$F$1:$F$32,MATCH($A25,chancp!$M$1:$M$32,0)))","v":""},{"$f":"IF(ISNUMBER(G23),RANK(G23,G$2:G$100,1),\"\")","v":""},{"$f":"IF(ISNUMBER(G23),X22-D23,X22)","v":0},{"$f":"IF(AND(D23>0,D23<$F$1*V!$B$3,D23<X22),20+$A25,\"\")","v":{"$error":"#DIV/0!"}},"Set App",{"$f":"INDEX(chancs!$A$1:$A$32,MATCH($A25,chancs!$P$1:$P$32,0))","v":{"$error":"#N/A"}},{"$f":"IF(ISNA(I23),\"\",INDEX(chancs!$F$1:$F$32,MATCH($A25,chancs!$P$1:$P$32,0)))","v":""},{"$f":"IF(ISNUMBER(M23),RANK(M23,M$2:M$100,1),\"\")","v":""},{"$f":"IF(ISNUMBER(M23),F23-J23,F23)","v":0},{"$f":"IF(AND(J23>0,J23<$F$1*V!$B$3,J23<F23),30+$A25,\"\")","v":{"$error":"#DIV/0!"}},"Inform",{"$f":"INDEX(chanpp!$A$1:$A$32,MATCH($A25,chanpp!$M$1:$M$32,0))","v":{"$error":"#N/A"}},{"$f":"IF(ISNA(O23),\"\",$O$1*INDEX(chanpp!$F$1:$F$32,MATCH($A25,chanpp!$M$1:$M$32,0)))","v":""},{"$f":"IF(ISNUMBER(S23),RANK(S23,S$2:S$100,1),\"\")","v":""},{"$f":"IF(ISNUMBER(S23),L23-P23,L23)","v":0},{"$f":"IF(AND(P23>0,P23<$F$1*V!$B$4,P23<L23),20+$A25,\"\")","v":{"$error":"#DIV/0!"}},"Set App",{"$f":"INDEX(chanps!$A$1:$A$32,MATCH($A25,chanps!$P$1:$P$32,0))","v":{"$error":"#N/A"}},{"$f":"IF(ISNA(U23),\"\",INDEX(chanps!$F$1:$F$32,MATCH($A25,chanps!$P$1:$P$32,0)))","v":""},{"$f":"IF(ISNUMBER(Y23),RANK(Y23,Y$2:Y$100,1),\"\")","v":""},{"$f":"IF(ISNUMBER(Y23),R23-V23,R23)","v":0},{"$f":"IF(AND(V23>0,V23<$F$1*V!$B$4,V23<R23),30+$A25,\"\")","v":{"$error":"#DIV/0!"}}]
["rank=","Set App",{"$f":"INDEX(chancp!$A$1:$A$32,MATCH($A25,chancp!$P$1:$P$32,0))","v":{"$error":"#N/A"}},{"$f":"IF(ISNA(C24),\"\",$C$1*INDEX(chancp!$F$1:$F$32,MATCH($A25,chancp!$P$1:$P$32,0)))","v":""},{"$f":"IF(ISNUMBER(G24),RANK(G24,G$2:G$100,1),\"\")","v":""},{"$f":"IF(ISNUMBER(G24),X23-D24,X23)","v":0},{"$f":"IF(AND(D24>0,D24<$F$1*V!$B$3,D24<X23),30+$A25,\"\")","v":{"$error":"#DIV/0!"}},"Inform",{"$f":"INDEX(chancs!$A$1:$A$32,MATCH($A25,chancs!$M$1:$M$32,0))","v":{"$error":"#N/A"}},{"$f":"IF(ISNA(I24),\"\",INDEX(chancs!$F$1:$F$32,MATCH($A25,chancs!$M$1:$M$32,0)))","v":""},{"$f":"IF(ISNUMBER(M24),RANK(M24,M$2:M$100,1),\"\")","v":""},{"$f":"IF(ISNUMBER(M24),F24-J24,F24)","v":0},{"$f":"IF(AND(J24>0,J24<$F$1*V!$B$3,J24<F24),20+$A25,\"\")","v":{"$error":"#DIV/0!"}},"Set App",{"$f":"INDEX(chanpp!$A$1:$A$32,MATCH($A25,chanpp!$P$1:$P$32,0))","v":{"$error":"#N/A"}},{"$f":"IF(ISNA(O24),\"\",$O$1*INDEX(chanpp!$F$1:$F$32,MATCH($A25,chanpp!$P$1:$P$32,0)))","v":""},{"$f":"IF(ISNUMBER(S24),RANK(S24,S$2:S$100,1),\"\")","v":""},{"$f":"IF(ISNUMBER(S24),L24-P24,L24)","v":0},{"$f":"IF(AND(P24>0,P24<$F$1*V!$B$4,P24<L24),30+$A25,\"\")","v":{"$error":"#DIV/0!"}},"Inform",{"$f":"INDEX(chanps!$A$1:$A$32,MATCH($A25,chanps!$M$1:$M$32,0))","v":{"$error":"#N/A"}},{"$f":"IF(ISNA(U24),\"\",INDEX(chanps!$F$1:$F$32,MATCH($A25,chanps!$M$1:$M$32,0)))","v":""},{"$f":"IF(ISNUMBER(Y24),RANK(Y24,Y$2:Y$100,1),\"\")","v":""},{"$f":"IF(ISNUMBER(Y24),R24-V24,R24)","v":0},{"$f":"IF(AND(V24>0,V24<$F$1*V!$B$4,V24<R24),20+$A25,\"\")","v":{"$error":"#DIV/0!"}}]
[{"$f":"A20+1","v":4},"Close Sale",{"$f":"INDEX(chancp!$A$1:$A$32,MATCH($A25,chancp!$S$1:$S$32,0))","v":{"$error":"#N/A"}},{"$f":"IF(ISNA(C25),\"\",$C$1*INDEX(chancp!$F$1:$F$32,MATCH($A25,chancp!$S$1:$S$32,0)))","v":""},{"$f":"IF(ISNUMBER(G25),RANK(G25,G$2:G$100,1),\"\")","v":""},{"$f":"IF(ISNUMBER(G25),X24-D25,X24)","v":0},{"$f":"IF(AND(D25>0,D25<$F$1*V!$B$3,D25<X24),40+$A25,\"\")","v":{"$error":"#DIV/0!"}},"Alert",{"$f":"INDEX(chancs!$A$1:$A$32,MATCH($A25,chancs!$J$1:$J$32,0))","v":{"$error":"#N/A"}},{"$f":"IF(ISNA(I25),\"\",INDEX(chancs!$F$1:$F$32,MATCH($A25,chancs!$J$1:$J$32,0)))","v":""},{"$f":"IF(ISNUMBER(M25),RANK(M25,M$2:M$100,1),\"\")","v":""},{"$f":"IF(ISNUMBER(M25),F25-J25,F25)","v":0},{"$f":"IF(AND(J25>0,J25<$F$1*V!$B$3,J25<F25),10+$A25,\"\")","v":{"$error":"#DIV/0!"}},"Close Sale",{"$f":"INDEX(chanpp!$A$1:$A$32,MATCH($A25,chanpp!$S$1:$S$32,0))","v":{"$error":"#N/A"}},{"$f":"IF(ISNA(O25),\"\",$O$1*INDEX(chanpp!$F$1:$F$32,MATCH($A25,chanpp!$S$1:$S$32,0)))","v":""},{"$f":"IF(ISNUMBER(S25),RANK(S25,S$2:S$100,1),\"\")","v":""},{"$f":"IF(ISNUMBER(S25),L25-P25,L25)","v":0},{"$f":"IF(AND(P25>0,P25<$F$1*V!$B$4,P25<L25),40+$A25,\"\")","v":{"$error":"#DIV/0!"}},"Alert",{"$f":"INDEX(chanps!$A$1:$A$32,MATCH($A25,chanps!$J$1:$J$32,0))","v":{"$error":"#N/A"}},{"$f":"IF(ISNA(U25),\"\",INDEX(chanps!$F$1:$F$32,MATCH($A25,chanps!$J$1:$J$32,0)))","v":""},{"$f":"IF(ISNUMBER(Y25),RANK(Y25,Y$2:Y$100,1),\"\")","v":""},{"$f":"IF(ISNUMBER(Y25),R25-V25,R25)","v":0},{"$f":"IF(AND(V25>0,V25<$F$1*V!$B$4,V25<R25),10+$A25,\"\")","v":{"$error":"#DIV/0!"}}]
[]
[null,"Alert",{"$f":"INDEX(chancp!$A$1:$A$32,MATCH($A30,chancp!$J$1:$J$32,0))","v":{"$error":"#N/A"}},{"$f":"IF(ISNA(C27),\"\",$C$1*INDEX(chancp!$F$1:$F$32,MATCH($A30,chancp!$J$1:$J$32,0)))","v":""},{"$f":"IF(ISNUMBER(G27),RANK(G27,G$2:G$100,1),\"\")","v":""},{"$f":"IF(ISNUMBER(G27),X25-D27,X25)","v":0},{"$f":"IF(AND(D27>0,D27<$F$1*V!$B$3,D27<X25),10+$A30,\"\")","v":{"$error":"#DIV/0!"}},"Close Sale",{"$f":"INDEX(chancs!$A$1:$A$32,MATCH($A30,chancs!$S$1:$S$32,0))","v":{"$error":"#N/A"}},{"$f":"IF(ISNA(I27),\"\",INDEX(chancs!$F$1:$F$32,MATCH($A30,chancs!$S$1:$S$32,0)))","v":""},{"$f":"IF(ISNUMBER(M27),RANK(M27,M$2:M$100,1),\"\")","v":""},{"$f":"IF(ISNUMBER(M27),F27-J27,F27)","v":0},{"$f":"IF(AND(J27>0,J27<$F$1*V!$B$3,J27<F27),40+$A30,\"\")","v":{"$error":"#DIV/0!"}},"Alert",{"$f":"INDEX(chanpp!$A$1:$A$32,MATCH($A30,chanpp!$J$1:$J$32,0))","v":{"$error":"#N/A"}},{"$f":"IF(ISNA(O27),\"\",$O$1*INDEX(chanpp!$F$1:$F$32,MATCH($A30,chanpp!$J$1:$J$32,0)))","v":""},{"$f":"IF(ISNUMBER(S27),RANK(S27,S$2:S$100,1),\"\")","v":""},{"$f":"IF(ISNUMBER(S27),L27-P27,L27)","v":0},{"$f":"IF(AND(P27>0,P27<$F$1*V!$B$4,P27<L27),10+$A30,\"\")","v":{"$error":"#DIV/0!"}},"Close Sale",{"$f":"INDEX(chanps!$A$1:$A$32,MATCH($A30,chanps!$S$1:$S$32,0))","v":{"$error":"#N/A"}},{"$f":"IF(ISNA(U27),\"\",INDEX(chanps!$F$1:$F$32,MATCH($A30,chanps!$S$1:$S$32,0)))","v":""},{"$f":"IF(ISNUMBER(Y27),RANK(Y27,Y$2:Y$100,1),\"\")","v":""},{"$f":"IF(ISNUMBER(Y27),R27-V27,R27)","v":0},{"$f":"IF(AND(V27>0,V27<$F$1*V!$B$4,V27<R27),40+$A30,\"\")","v":{"$error":"#DIV/0!"}}]
[null,"Inform",{"$f":"INDEX(chancp!$A$1:$A$32,MATCH($A30,chancp!$M$1:$M$32,0))","v":{"$error":"#N/A"}},{"$f":"IF(ISNA(C28),\"\",$C$1*INDEX(chancp!$F$1:$F$32,MATCH($A30,chancp!$M$1:$M$32,0)))","v":""},{"$f":"IF(ISNUMBER(G28),RANK(G28,G$2:G$100,1),\"\")","v":""},{"$f":"IF(ISNUMBER(G28),X27-D28,X27)","v":0},{"$f":"IF(AND(D28>0,D28<$F$1*V!$B$3,D28<X27),20+$A30,\"\")","v":{"$error":"#DIV/0!"}},"Set App",{"$f":"INDEX(chancs!$A$1:$A$32,MATCH($A30,chancs!$P$1:$P$32,0))","v":{"$error":"#N/A"}},{"$f":"IF(ISNA(I28),\"\",INDEX(chancs!$F$1:$F$32,MATCH($A30,chancs!$P$1:$P$32,0)))","v":""},{"$f":"IF(ISNUMBER(M28),RANK(M28,M$2:M$100,1),\"\")","v":""},{"$f":"IF(ISNUMBER(M28),F28-J28,F28)","v":0},{"$f":"IF(AND(J28>0,J28<$F$1*V!$B$3,J28<F28),30+$A30,\"\")","v":{"$error":"#DIV/0!"}},"Inform",{"$f":"INDEX(chanpp!$A$1:$A$32,MATCH($A30,chanpp!$M$1:$M$32,0))","v":{"$error":"#N/A"}},{"$f":"IF(ISNA(O28),\"\",$O$1*INDEX(chanpp!$F$1:$F$32,MATCH($A30,chanpp!$M$1:$M$32,0)))","v":""},{"$f":"IF(ISNUMBER(S28),RANK(S28,S$2:S$100,1),\"\")","v":""},{"$f":"IF(ISNUMBER(S28),L28-P28,L28)","v":0},{"$f":"IF(AND(P28>0,P28<$F$1*V!$B$4,P28<L28),20+$A30,\"\")","v":{"$error":"#DIV/0!"}},"Set App",{"$f":"INDEX(chanps!$A$1:$A$32,MATCH($A30,chanps!$P$1:$P$32,0))","v":{"$error":"#N/A"}},{"$f":"IF(ISNA(U28),\"\",INDEX(chanps!$F$1:$F$32,MATCH($A30,chanps!$P$1:$P$32,0)))","v":""},{"$f":"IF(ISNUMBER(Y28),RANK(Y28,Y$2:Y$100,1),\"\")","v":""},{"$f":"IF(ISNUMBER(Y28),R28-V28,R28)","v":0},{"$f":"IF(AND(V28>0,V28<$F$1*V!$B$4,V28<R28),30+$A30,\"\")","v":{"$error":"#DIV/0!"}}]
["rank=","Set App",{"$f":"INDEX(chancp!$A$1:$A$32,MATCH($A30,chancp!$P$1:$P$32,0))","v":{"$error":"#N/A"}},{"$f":"IF(ISNA(C29),\"\",$C$1*INDEX(chancp!$F$1:$F$32,MATCH($A30,chancp!$P$1:$P$32,0)))","v":""},{"$f":"IF(ISNUMBER(G29),RANK(G29,G$2:G$100,1),\"\")","v":""},{"$f":"IF(ISNUMBER(G29),X28-D29,X28)","v":0},{"$f":"IF(AND(D29>0,D29<$F$1*V!$B$3,D29<X28),30+$A30,\"\")","v":{"$error":"#DIV/0!"}},"Inform",{"$f":"INDEX(chancs!$A$1:$A$32,MATCH($A30,chancs!$M$1:$M$32,0))","v":{"$error":"#N/A"}},{"$f":"IF(ISNA(I29),\"\",INDEX(chancs!$F$1:$F$32,MATCH($A30,chancs!$M$1:$M$32,0)))","v":""},{"$f":"IF(ISNUMBER(M29),RANK(M29,M$2:M$100,1),\"\")","v":""},{"$f":"IF(ISNUMBER(M29),F29-J29,F29)","v":0},{"$f":"IF(AND(J29>0,J29<$F$1*V!$B$3,J29<F29),20+$A30,\"\")","v":{"$error":"#DIV/0!"}},"Set App",{"$f":"INDEX(chanpp!$A$1:$A$32,MATCH($A30,chanpp!$P$1:$P$32,0))","v":{"$error":"#N/A"}},{"$f":"IF(ISNA(O29),\"\",$O$1*INDEX(chanpp!$F$1:$F$32,MATCH($A30,chanpp!$P$1:$P$32,0)))","v":""},{"$f":"IF(ISNUMBER(S29),RANK(S29,S$2:S$100,1),\"\")","v":""},{"$f":"IF(ISNUMBER(S29),L29-P29,L29)","v":0},{"$f":"IF(AND(P29>0,P29<$F$1*V!$B$4,P29<L29),30+$A30,\"\")","v":{"$error":"#DIV/0!"}},"Inform",{"$f":"INDEX(chanps!$A$1:$A$32,MATCH($A30,chanps!$M$1:$M$32,0))","v":{"$error":"#N/A"}},{"$f":"IF(ISNA(U29),\"\",INDEX(chanps!$F$1:$F$32,MATCH($A30,chanps!$M$1:$M$32,0)))","v":""},{"$f":"IF(ISNUMBER(Y29),RANK(Y29,Y$2:Y$100,1),\"\")","v":""},{"$f":"IF(ISNUMBER(Y29),R29-V29,R29)","v":0},{"$f":"IF(AND(V29>0,V29<$F$1*V!$B$4,V29<R29),20+$A30,\"\")","v":{"$error":"#DIV/0!"}}]
[{"$f":"A25+1","v":5},"Close Sale",{"$f":"INDEX(chancp!$A$1:$A$32,MATCH($A30,chancp!$S$1:$S$32,0))","v":{"$error":"#N/A"}},{"$f":"IF(ISNA(C30),\"\",$C$1*INDEX(chancp!$F$1:$F$32,MATCH($A30,chancp!$S$1:$S$32,0)))","v":""},{"$f":"IF(ISNUMBER(G30),RANK(G30,G$2:G$100,1),\"\")","v":""},{"$f":"IF(ISNUMBER(G30),X29-D30,X29)","v":0},{"$f":"IF(AND(D30>0,D30<$F$1*V!$B$3,D30<X29),40+$A30,\"\")","v":{"$error":"#DIV/0!"}},"Alert",{"$f":"INDEX(chancs!$A$1:$A$32,MATCH($A30,chancs!$J$1:$J$32,0))","v":{"$error":"#N/A"}},{"$f":"IF(ISNA(I30),\"\",INDEX(chancs!$F$1:$F$32,MATCH($A30,chancs!$J$1:$J$32,0)))","v":""},{"$f":"IF(ISNUMBER(M30),RANK(M30,M$2:M$100,1),\"\")","v":""},{"$f":"IF(ISNUMBER(M30),F30-J30,F30)","v":0},{"$f":"IF(AND(J30>0,J30<$F$1*V!$B$3,J30<F30),10+$A30,\"\")","v":{"$error":"#DIV/0!"}},"Close Sale",{"$f":"INDEX(chanpp!$A$1:$A$32,MATCH($A30,chanpp!$S$1:$S$32,0))","v":{"$error":"#N/A"}},{"$f":"IF(ISNA(O30),\"\",$O$1*INDEX(chanpp!$F$1:$F$32,MATCH($A30,chanpp!$S$1:$S$32,0)))","v":""},{"$f":"IF(ISNUMBER(S30),RANK(S30,S$2:S$100,1),\"\")","v":""},{"$f":"IF(ISNUMBER(S30),L30-P30,L30)","v":0},{"$f":"IF(AND(P30>0,P30<$F$1*V!$B$4,P30<L30),40+$A30,\"\")","v":{"$error":"#DIV/0!"}},"Alert",{"$f":"INDEX(chanps!$A$1:$A$32,MATCH($A30,chanps!$J$1:$J$32,0))","v":{"$error":"#N/A"}},{"$f":"IF(ISNA(U30),\"\",INDEX(chanps!$F$1:$F$32,MATCH($A30,chanps!$J$1:$J$32,0)))","v":""},{"$f":"IF(ISNUMBER(Y30),RANK(Y30,Y$2:Y$100,1),\"\")","v":""},{"$f":"IF(ISNUMBER(Y30),R30-V30,R30)","v":0},{"$f":"IF(AND(V30>0,V30<$F$1*V!$B$4,V30<R30),10+$A30,\"\")","v":{"$error":"#DIV/0!"}}]
[]
[null,"Alert",{"$f":"INDEX(chancp!$A$1:$A$32,MATCH($A35,chancp!$J$1:$J$32,0))","v":{"$error":"#N/A"}},{"$f":"IF(ISNA(C32),\"\",$C$1*INDEX(chancp!$F$1:$F$32,MATCH($A35,chancp!$J$1:$J$32,0)))","v":""},{"$f":"IF(ISNUMBER(G32),RANK(G32,G$2:G$100,1),\"\")","v":""},{"$f":"IF(ISNUMBER(G32),X30-D32,X30)","v":0},{"$f":"IF(AND(D32>0,D32<$F$1*V!$B$3,D32<X30),10+$A35,\"\")","v":{"$error":"#DIV/0!"}},"Close Sale",{"$f":"INDEX(chancs!$A$1:$A$32,MATCH($A35,chancs!$S$1:$S$32,0))","v":{"$error":"#N/A"}},{"$f":"IF(ISNA(I32),\"\",INDEX(chancs!$F$1:$F$32,MATCH($A35,chancs!$S$1:$S$32,0)))","v":""},{"$f":"IF(ISNUMBER(M32),RANK(M32,M$2:M$100,1),\"\")","v":""},{"$f":"IF(ISNUMBER(M32),F32-J32,F32)","v":0},{"$f":"IF(AND(J32>0,J32<$F$1*V!$B$3,J32<F32),40+$A35,\"\")","v":{"$error":"#DIV/0!"}},"Alert",{"$f":"INDEX(chanpp!$A$1:$A$32,MATCH($A35,chanpp!$J$1:$J$32,0))","v":{"$error":"#N/A"}},{"$f":"IF(ISNA(O32),\"\",$O$1*INDEX(chanpp!$F$1:$F$32,MATCH($A35,chanpp!$J$1:$J$32,0)))","v":""},{"$f":"IF(ISNUMBER(S32),RANK(S32,S$2:S$100,1),\"\")","v":""},{"$f":"IF(ISNUMBER(S32),L32-P32,L32)","v":0},{"$f":"IF(AND(P32>0,P32<$F$1*V!$B$4,P32<L32),10+$A35,\"\")","v":{"$error":"#DIV/0!"}},"Close Sale",{"$f":"INDEX(chanps!$A$1:$A$32,MATCH($A35,chanps!$S$1:$S$32,0))","v":{"$error":"#N/A"}},{"$f":"IF(ISNA(U32),\"\",INDEX(chanps!$F$1:$F$32,MATCH($A35,chanps!$S$1:$S$32,0)))","v":""},{"$f":"IF(ISNUMBER(Y32),RANK(Y32,Y$2:Y$100,1),\"\")","v":""},{"$f":"IF(ISNUMBER(Y32),R32-V32,R32)","v":0},{"$f":"IF(AND(V32>0,V32<$F$1*V!$B$4,V32<R32),40+$A35,\"\")","v":{"$error":"#DIV/0!"}}]
[null,"Inform",{"$f":"INDEX(chancp!$A$1:$A$32,MATCH($A35,chancp!$M$1:$M$32,0))","v":{"$error":"#N/A"}},{"$f":"IF(ISNA(C33),\"\",$C$1*INDEX(chancp!$F$1:$F$32,MATCH($A35,chancp!$M$1:$M$32,0)))","v":""},{"$f":"IF(ISNUMBER(G33),RANK(G33,G$2:G$100,1),\"\")","v":""},{"$f":"IF(ISNUMBER(G33),X32-D33,X32)","v":0},{"$f":"IF(AND(D33>0,D33<$F$1*V!$B$3,D33<X32),20+$A35,\"\")","v":{"$error":"#DIV/0!"}},"Set App",{"$f":"INDEX(chancs!$A$1:$A$32,MATCH($A35,chancs!$P$1:$P$32,0))","v":{"$error":"#N/A"}},{"$f":"IF(ISNA(I33),\"\",INDEX(chancs!$F$1:$F$32,MATCH($A35,chancs!$P$1:$P$32,0)))","v":""},{"$f":"IF(ISNUMBER(M33),RANK(M33,M$2:M$100,1),\"\")","v":""},{"$f":"IF(ISNUMBER(M33),F33-J33,F33)","v":0},{"$f":"IF(AND(J33>0,J33<$F$1*V!$B$3,J33<F33),30+$A35,\"\")","v":{"$error":"#DIV/0!"}},"Inform",{"$f":"INDEX(chanpp!$A$1:$A$32,MATCH($A35,chanpp!$M$1:$M$32,0))","v":{"$error":"#N/A"}},{"$f":"IF(ISNA(O33),\"\",$O$1*INDEX(chanpp!$F$1:$F$32,MATCH($A35,chanpp!$M$1:$M$32,0)))","v":""},{"$f":"IF(ISNUMBER(S33),RANK(S33,S$2:S$100,1),\"\")","v":""},{"$f":"IF(ISNUMBER(S33),L33-P33,L33)","v":0},{"$f":"IF(AND(P33>0,P33<$F$1*V!$B$4,P33<L33),20+$A35,\"\")","v":{"$error":"#DIV/0!"}},"Set App",{"$f":"INDEX(chanps!$A$1:$A$32,MATCH($A35,chanps!$P$1:$P$32,0))","v":{"$error":"#N/A"}},{"$f":"IF(ISNA(U33),\"\",INDEX(chanps!$F$1:$F$32,MATCH($A35,chanps!$P$1:$P$32,0)))","v":""},{"$f":"IF(ISNUMBER(Y33),RANK(Y33,Y$2:Y$100,1),\"\")","v":""},{"$f":"IF(ISNUMBER(Y33),R33-V33,R33)","v":0},{"$f":"IF(AND(V33>0,V33<$F$1*V!$B$4,V33<R33),30+$A35,\"\")","v":{"$error":"#DIV/0!"}}]
["rank=","Set App",{"$f":"INDEX(chancp!$A$1:$A$32,MATCH($A35,chancp!$P$1:$P$32,0))","v":{"$error":"#N/A"}},{"$f":"IF(ISNA(C34),\"\",$C$1*INDEX(chancp!$F$1:$F$32,MATCH($A35,chancp!$P$1:$P$32,0)))","v":""},{"$f":"IF(ISNUMBER(G34),RANK(G34,G$2:G$100,1),\"\")","v":""},{"$f":"IF(ISNUMBER(G34),X33-D34,X33)","v":0},{"$f":"IF(AND(D34>0,D34<$F$1*V!$B$3,D34<X33),30+$A35,\"\")","v":{"$error":"#DIV/0!"}},"Inform",{"$f":"INDEX(chancs!$A$1:$A$32,MATCH($A35,chancs!$M$1:$M$32,0))","v":{"$error":"#N/A"}},{"$f":"IF(ISNA(I34),\"\",INDEX(chancs!$F$1:$F$32,MATCH($A35,chancs!$M$1:$M$32,0)))","v":""},{"$f":"IF(ISNUMBER(M34),RANK(M34,M$2:M$100,1),\"\")","v":""},{"$f":"IF(ISNUMBER(M34),F34-J34,F34)","v":0},{"$f":"IF(AND(J34>0,J34<$F$1*V!$B$3,J34<F34),20+$A35,\"\")","v":{"$error":"#DIV/0!"}},"Set App",{"$f":"INDEX(chanpp!$A$1:$A$32,MATCH($A35,chanpp!$P$1:$P$32,0))","v":{"$error":"#N/A"}},{"$f":"IF(ISNA(O34),\"\",$O$1*INDEX(chanpp!$F$1:$F$32,MATCH($A35,chanpp!$P$1:$P$32,0)))","v":""},{"$f":"IF(ISNUMBER(S34),RANK(S34,S$2:S$100,1),\"\")","v":""},{"$f":"IF(ISNUMBER(S34),L34-P34,L34)","v":0},{"$f":"IF(AND(P34>0,P34<$F$1*V!$B$4,P34<L34),30+$A35,\"\")","v":{"$error":"#DIV/0!"}},"Inform",{"$f":"INDEX(chanps!$A$1:$A$32,MATCH($A35,chanps!$M$1:$M$32,0))","v":{"$error":"#N/A"}},{"$f":"IF(ISNA(U34),\"\",INDEX(chanps!$F$1:$F$32,MATCH($A35,chanps!$M$1:$M$32,0)))","v":""},{"$f":"IF(ISNUMBER(Y34),RANK(Y34,Y$2:Y$100,1),\"\")","v":""},{"$f":"IF(ISNUMBER(Y34),R34-V34,R34)","v":0},{"$f":"IF(AND(V34>0,V34<$F$1*V!$B$4,V34<R34),20+$A35,\"\")","v":{"$error":"#DIV/0!"}}]
[{"$f":"A30+1","v":6},"Close Sale",{"$f":"INDEX(chancp!$A$1:$A$32,MATCH($A35,chancp!$S$1:$S$32,0))","v":{"$error":"#N/A"}},{"$f":"IF(ISNA(C35),\"\",$C$1*INDEX(chancp!$F$1:$F$32,MATCH($A35,chancp!$S$1:$S$32,0)))","v":""},{"$f":"IF(ISNUMBER(G35),RANK(G35,G$2:G$100,1),\"\")","v":""},{"$f":"IF(ISNUMBER(G35),X34-D35,X34)","v":0},{"$f":"IF(AND(D35>0,D35<$F$1*V!$B$3,D35<X34),40+$A35,\"\")","v":{"$error":"#DIV/0!"}},"Alert",{"$f":"INDEX(chancs!$A$1:$A$32,MATCH($A35,chancs!$J$1:$J$32,0))","v":{"$error":"#N/A"}},{"$f":"IF(ISNA(I35),\"\",INDEX(chancs!$F$1:$F$32,MATCH($A35,chancs!$J$1:$J$32,0)))","v":""},{"$f":"IF(ISNUMBER(M35),RANK(M35,M$2:M$100,1),\"\")","v":""},{"$f":"IF(ISNUMBER(M35),F35-J35,F35)","v":0},{"$f":"IF(AND(J35>0,J35<$F$1*V!$B$3,J35<F35),10+$A35,\"\")","v":{"$error":"#DIV/0!"}},"Close Sale",{"$f":"INDEX(chanpp!$A$1:$A$32,MATCH($A35,chanpp!$S$1:$S$32,0))","v":{"$error":"#N/A"}},{"$f":"IF(ISNA(O35),\"\",$O$1*INDEX(chanpp!$F$1:$F$32,MATCH($A35,chanpp!$S$1:$S$32,0)))","v":""},{"$f":"IF(ISNUMBER(S35),RANK(S35,S$2:S$100,1),\"\")","v":""},{"$f":"IF(ISNUMBER(S35),L35-P35,L35)","v":0},{"$f":"IF(AND(P35>0,P35<$F$1*V!$B$4,P35<L35),40+$A35,\"\")","v":{"$error":"#DIV/0!"}},"Alert",{"$f":"INDEX(chanps!$A$1:$A$32,MATCH($A35,chanps!$J$1:$J$32,0))","v":{"$error":"#N/A"}},{"$f":"IF(ISNA(U35),\"\",INDEX(chanps!$F$1:$F$32,MATCH($A35,chanps!$J$1:$J$32,0)))","v":""},{"$f":"IF(ISNUMBER(Y35),RANK(Y35,Y$2:Y$100,1),\"\")","v":""},{"$f":"IF(ISNUMBER(Y35),R35-V35,R35)","v":0},{"$f":"IF(AND(V35>0,V35<$F$1*V!$B$4,V35<R35),10+$A35,\"\")","v":{"$error":"#DIV/0!"}}]
[]
[null,"Alert",{"$f":"INDEX(chancp!$A$1:$A$32,MATCH($A40,chancp!$J$1:$J$32,0))","v":{"$error":"#N/A"}},{"$f":"IF(ISNA(C37),\"\",$C$1*INDEX(chancp!$F$1:$F$32,MATCH($A40,chancp!$J$1:$J$32,0)))","v":""},{"$f":"IF(ISNUMBER(G37),RANK(G37,G$2:G$100,1),\"\")","v":""},{"$f":"IF(ISNUMBER(G37),X35-D37,X35)","v":0},{"$f":"IF(AND(D37>0,D37<$F$1*V!$B$3,D37<X35),10+$A40,\"\")","v":{"$error":"#DIV/0!"}},"Close Sale",{"$f":"INDEX(chancs!$A$1:$A$32,MATCH($A40,chancs!$S$1:$S$32,0))","v":{"$error":"#N/A"}},{"$f":"IF(ISNA(I37),\"\",INDEX(chancs!$F$1:$F$32,MATCH($A40,chancs!$S$1:$S$32,0)))","v":""},{"$f":"IF(ISNUMBER(M37),RANK(M37,M$2:M$100,1),\"\")","v":""},{"$f":"IF(ISNUMBER(M37),F37-J37,F37)","v":0},{"$f":"IF(AND(J37>0,J37<$F$1*V!$B$3,J37<F37),40+$A40,\"\")","v":{"$error":"#DIV/0!"}},"Alert",{"$f":"INDEX(chanpp!$A$1:$A$32,MATCH($A40,chanpp!$J$1:$J$32,0))","v":{"$error":"#N/A"}},{"$f":"IF(ISNA(O37),\"\",$O$1*INDEX(chanpp!$F$1:$F$32,MATCH($A40,chanpp!$J$1:$J$32,0)))","v":""},{"$f":"IF(ISNUMBER(S37),RANK(S37,S$2:S$100,1),\"\")","v":""},{"$f":"IF(ISNUMBER(S37),L37-P37,L37)","v":0},{"$f":"IF(AND(P37>0,P37<$F$1*V!$B$4,P37<L37),10+$A40,\"\")","v":{"$error":"#DIV/0!"}},"Close Sale",{"$f":"INDEX(chanps!$A$1:$A$32,MATCH($A40,chanps!$S$1:$S$32,0))","v":{"$error":"#N/A"}},{"$f":"IF(ISNA(U37),\"\",INDEX(chanps!$F$1:$F$32,MATCH($A40,chanps!$S$1:$S$32,0)))","v":""},{"$f":"IF(ISNUMBER(Y37),RANK(Y37,Y$2:Y$100,1),\"\")","v":""},{"$f":"IF(ISNUMBER(Y37),R37-V37,R37)","v":0},{"$f":"IF(AND(V37>0,V37<$F$1*V!$B$4,V37<R37),40+$A40,\"\")","v":{"$error":"#DIV/0!"}}]
[null,"Inform",{"$f":"INDEX(chancp!$A$1:$A$32,MATCH($A40,chancp!$M$1:$M$32,0))","v":{"$error":"#N/A"}},{"$f":"IF(ISNA(C38),\"\",$C$1*INDEX(chancp!$F$1:$F$32,MATCH($A40,chancp!$M$1:$M$32,0)))","v":""},{"$f":"IF(ISNUMBER(G38),RANK(G38,G$2:G$100,1),\"\")","v":""},{"$f":"IF(ISNUMBER(G38),X37-D38,X37)","v":0},{"$f":"IF(AND(D38>0,D38<$F$1*V!$B$3,D38<X37),20+$A40,\"\")","v":{"$error":"#DIV/0!"}},"Set App",{"$f":"INDEX(chancs!$A$1:$A$32,MATCH($A40,chancs!$P$1:$P$32,0))","v":{"$error":"#N/A"}},{"$f":"IF(ISNA(I38),\"\",INDEX(chancs!$F$1:$F$32,MATCH($A40,chancs!$P$1:$P$32,0)))","v":""},{"$f":"IF(ISNUMBER(M38),RANK(M38,M$2:M$100,1),\"\")","v":""},{"$f":"IF(ISNUMBER(M38),F38-J38,F38)","v":0},{"$f":"IF(AND(J38>0,J38<$F$1*V!$B$3,J38<F38),30+$A40,\"\")","v":{"$error":"#DIV/0!"}},"Inform",{"$f":"INDEX(chanpp!$A$1:$A$32,MATCH($A40,chanpp!$M$1:$M$32,0))","v":{"$error":"#N/A"}},{"$f":"IF(ISNA(O38),\"\",$O$1*INDEX(chanpp!$F$1:$F$32,MATCH($A40,chanpp!$M$1:$M$32,0)))","v":""},{"$f":"IF(ISNUMBER(S38),RANK(S38,S$2:S$100,1),\"\")","v":""},{"$f":"IF(ISNUMBER(S38),L38-P38,L38)","v":0},{"$f":"IF(AND(P38>0,P38<$F$1*V!$B$4,P38<L38),20+$A40,\"\")","v":{"$error":"#DIV/0!"}},"Set App",{"$f":"INDEX(chanps!$A$1:$A$32,MATCH($A40,chanps!$P$1:$P$32,0))","v":{"$error":"#N/A"}},{"$f":"IF(ISNA(U38),\"\",INDEX(chanps!$F$1:$F$32,MATCH($A40,chanps!$P$1:$P$32,0)))","v":""},{"$f":"IF(ISNUMBER(Y38),RANK(Y38,Y$2:Y$100,1),\"\")","v":""},{"$f":"IF(ISNUMBER(Y38),R38-V38,R38)","v":0},{"$f":"IF(AND(V38>0,V38<$F$1*V!$B$4,V38<R38),30+$A40,\"\")","v":{"$error":"#DIV/0!"}}]
["rank=","Set App",{"$f":"INDEX(chancp!$A$1:$A$32,MATCH($A40,chancp!$P$1:$P$32,0))","v":{"$error":"#N/A"}},{"$f":"IF(ISNA(C39),\"\",$C$1*INDEX(chancp!$F$1:$F$32,MATCH($A40,chancp!$P$1:$P$32,0)))","v":""},{"$f":"IF(ISNUMBER(G39),RANK(G39,G$2:G$100,1),\"\")","v":""},{"$f":"IF(ISNUMBER(G39),X38-D39,X38)","v":0},{"$f":"IF(AND(D39>0,D39<$F$1*V!$B$3,D39<X38),30+$A40,\"\")","v":{"$error":"#DIV/0!"}},"Inform",{"$f":"INDEX(chancs!$A$1:$A$32,MATCH($A40,chancs!$M$1:$M$32,0))","v":{"$error":"#N/A"}},{"$f":"IF(ISNA(I39),\"\",INDEX(chancs!$F$1:$F$32,MATCH($A40,chancs!$M$1:$M$32,0)))","v":""},{"$f":"IF(ISNUMBER(M39),RANK(M39,M$2:M$100,1),\"\")","v":""},{"$f":"IF(ISNUMBER(M39),F39-J39,F39)","v":0},{"$f":"IF(AND(J39>0,J39<$F$1*V!$B$3,J39<F39),20+$A40,\"\")","v":{"$error":"#DIV/0!"}},"Set App",{"$f":"INDEX(chanpp!$A$1:$A$32,MATCH($A40,chanpp!$P$1:$P$32,0))","v":{"$error":"#N/A"}},{"$f":"IF(ISNA(O39),\"\",$O$1*INDEX(chanpp!$F$1:$F$32,MATCH($A40,chanpp!$P$1:$P$32,0)))","v":""},{"$f":"IF(ISNUMBER(S39),RANK(S39,S$2:S$100,1),\"\")","v":""},{"$f":"IF(ISNUMBER(S39),L39-P39,L39)","v":0},{"$f":"IF(AND(P39>0,P39<$F$1*V!$B$4,P39<L39),30+$A40,\"\")","v":{"$error":"#DIV/0!"}},"Inform",{"$f":"INDEX(chanps!$A$1:$A$32,MATCH($A40,chanps!$M$1:$M$32,0))","v":{"$error":"#N/A"}},{"$f":"IF(ISNA(U39),\"\",INDEX(chanps!$F$1:$F$32,MATCH($A40,chanps!$M$1:$M$32,0)))","v":""},{"$f":"IF(ISNUMBER(Y39),RANK(Y39,Y$2:Y$100,1),\"\")","v":""},{"$f":"IF(ISNUMBER(Y39),R39-V39,R39)","v":0},{"$f":"IF(AND(V39>0,V39<$F$1*V!$B$4,V39<R39),20+$A40,\"\")","v":{"$error":"#DIV/0!"}}]
[{"$f":"A35+1","v":7},"Close Sale",{"$f":"INDEX(chancp!$A$1:$A$32,MATCH($A40,chancp!$S$1:$S$32,0))","v":{"$error":"#N/A"}},{"$f":"IF(ISNA(C40),\"\",$C$1*INDEX(chancp!$F$1:$F$32,MATCH($A40,chancp!$S$1:$S$32,0)))","v":""},{"$f":"IF(ISNUMBER(G40),RANK(G40,G$2:G$100,1),\"\")","v":""},{"$f":"IF(ISNUMBER(G40),X39-D40,X39)","v":0},{"$f":"IF(AND(D40>0,D40<$F$1*V!$B$3,D40<X39),40+$A40,\"\")","v":{"$error":"#DIV/0!"}},"Alert",{"$f":"INDEX(chancs!$A$1:$A$32,MATCH($A40,chancs!$J$1:$J$32,0))","v":{"$error":"#N/A"}},{"$f":"IF(ISNA(I40),\"\",INDEX(chancs!$F$1:$F$32,MATCH($A40,chancs!$J$1:$J$32,0)))","v":""},{"$f":"IF(ISNUMBER(M40),RANK(M40,M$2:M$100,1),\"\")","v":""},{"$f":"IF(ISNUMBER(M40),F40-J40,F40)","v":0},{"$f":"IF(AND(J40>0,J40<$F$1*V!$B$3,J40<F40),10+$A40,\"\")","v":{"$error":"#DIV/0!"}},"Close Sale",{"$f":"INDEX(chanpp!$A$1:$A$32,MATCH($A40,chanpp!$S$1:$S$32,0))","v":{"$error":"#N/A"}},{"$f":"IF(ISNA(O40),\"\",$O$1*INDEX(chanpp!$F$1:$F$32,MATCH($A40,chanpp!$S$1:$S$32,0)))","v":""},{"$f":"IF(ISNUMBER(S40),RANK(S40,S$2:S$100,1),\"\")","v":""},{"$f":"IF(ISNUMBER(S40),L40-P40,L40)","v":0},{"$f":"IF(AND(P40>0,P40<$F$1*V!$B$4,P40<L40),40+$A40,\"\")","v":{"$error":"#DIV/0!"}},"Alert",{"$f":"INDEX(chanps!$A$1:$A$32,MATCH($A40,chanps!$J$1:$J$32,0))","v":{"$error":"#N/A"}},{"$f":"IF(ISNA(U40),\"\",INDEX(chanps!$F$1:$F$32,MATCH($A40,chanps!$J$1:$J$32,0)))","v":""},{"$f":"IF(ISNUMBER(Y40),RANK(Y40,Y$2:Y$100,1),\"\")","v":""},{"$f":"IF(ISNUMBER(Y40),R40-V40,R40)","v":0},{"$f":"IF(AND(V40>0,V40<$F$1*V!$B$4,V40<R40),10+$A40,\"\")","v":{"$error":"#DIV/0!"}}]
[]
[null,"Alert",{"$f":"INDEX(chancp!$A$1:$A$32,MATCH($A45,chancp!$J$1:$J$32,0))","v":{"$error":"#N/A"}},{"$f":"IF(ISNA(C42),\"\",$C$1*INDEX(chancp!$F$1:$F$32,MATCH($A45,chancp!$J$1:$J$32,0)))","v":""},{"$f":"IF(ISNUMBER(G42),RANK(G42,G$2:G$100,1),\"\")","v":""},{"$f":"IF(ISNUMBER(G42),X40-D42,X40)","v":0},{"$f":"IF(AND(D42>0,D42<$F$1*V!$B$3,D42<X40),10+$A45,\"\")","v":{"$error":"#DIV/0!"}},"Close Sale",{"$f":"INDEX(chancs!$A$1:$A$32,MATCH($A45,chancs!$S$1:$S$32,0))","v":{"$error":"#N/A"}},{"$f":"IF(ISNA(I42),\"\",INDEX(chancs!$F$1:$F$32,MATCH($A45,chancs!$S$1:$S$32,0)))","v":""},{"$f":"IF(ISNUMBER(M42),RANK(M42,M$2:M$100,1),\"\")","v":""},{"$f":"IF(ISNUMBER(M42),F42-J42,F42)","v":0},{"$f":"IF(AND(J42>0,J42<$F$1*V!$B$3,J42<F42),40+$A45,\"\")","v":{"$error":"#DIV/0!"}},"Alert",{"$f":"INDEX(chanpp!$A$1:$A$32,MATCH($A45,chanpp!$J$1:$J$32,0))","v":{"$error":"#N/A"}},{"$f":"IF(ISNA(O42),\"\",$O$1*INDEX(chanpp!$F$1:$F$32,MATCH($A45,chanpp!$J$1:$J$32,0)))","v":""},{"$f":"IF(ISNUMBER(S42),RANK(S42,S$2:S$100,1),\"\")","v":""},{"$f":"IF(ISNUMBER(S42),L42-P42,L42)","v":0},{"$f":"IF(AND(P42>0,P42<$F$1*V!$B$4,P42<L42),10+$A45,\"\")","v":{"$error":"#DIV/0!"}},"Close Sale",{"$f":"INDEX(chanps!$A$1:$A$32,MATCH($A45,chanps!$S$1:$S$32,0))","v":{"$error":"#N/A"}},{"$f":"IF(ISNA(U42),\"\",INDEX(chanps!$F$1:$F$32,MATCH($A45,chanps!$S$1:$S$32,0)))","v":""},{"$f":"IF(ISNUMBER(Y42),RANK(Y42,Y$2:Y$100,1),\"\")","v":""},{"$f":"IF(ISNUMBER(Y42),R42-V42,R42)","v":0},{"$f":"IF(AND(V42>0,V42<$F$1*V!$B$4,V42<R42),40+$A45,\"\")","v":{"$error":"#DIV/0!"}}]
[null,"Inform",{"$f":"INDEX(chancp!$A$1:$A$32,MATCH($A45,chancp!$M$1:$M$32,0))","v":{"$error":"#N/A"}},{"$f":"IF(ISNA(C43),\"\",$C$1*INDEX(chancp!$F$1:$F$32,MATCH($A45,chancp!$M$1:$M$32,0)))","v":""},{"$f":"IF(ISNUMBER(G43),RANK(G43,G$2:G$100,1),\"\")","v":""},{"$f":"IF(ISNUMBER(G43),X42-D43,X42)","v":0},{"$f":"IF(AND(D43>0,D43<$F$1*V!$B$3,D43<X42),20+$A45,\"\")","v":{"$error":"#DIV/0!"}},"Set App",{"$f":"INDEX(chancs!$A$1:$A$32,MATCH($A45,chancs!$P$1:$P$32,0))","v":{"$error":"#N/A"}},{"$f":"IF(ISNA(I43),\"\",INDEX(chancs!$F$1:$F$32,MATCH($A45,chancs!$P$1:$P$32,0)))","v":""},{"$f":"IF(ISNUMBER(M43),RANK(M43,M$2:M$100,1),\"\")","v":""},{"$f":"IF(ISNUMBER(M43),F43-J43,F43)","v":0},{"$f":"IF(AND(J43>0,J43<$F$1*V!$B$3,J43<F43),30+$A45,\"\")","v":{"$error":"#DIV/0!"}},"Inform",{"$f":"INDEX(chanpp!$A$1:$A$32,MATCH($A45,chanpp!$M$1:$M$32,0))","v":{"$error":"#N/A"}},{"$f":"IF(ISNA(O43),\"\",$O$1*INDEX(chanpp!$F$1:$F$32,MATCH($A45,chanpp!$M$1:$M$32,0)))","v":""},{"$f":"IF(ISNUMBER(S43),RANK(S43,S$2:S$100,1),\"\")","v":""},{"$f":"IF(ISNUMBER(S43),L43-P43,L43)","v":0},{"$f":"IF(AND(P43>0,P43<$F$1*V!$B$4,P43<L43),20+$A45,\"\")","v":{"$error":"#DIV/0!"}},"Set App",{"$f":"INDEX(chanps!$A$1:$A$32,MATCH($A45,chanps!$P$1:$P$32,0))","v":{"$error":"#N/A"}},{"$f":"IF(ISNA(U43),\"\",INDEX(chanps!$F$1:$F$32,MATCH($A45,chanps!$P$1:$P$32,0)))","v":""},{"$f":"IF(ISNUMBER(Y43),RANK(Y43,Y$2:Y$100,1),\"\")","v":""},{"$f":"IF(ISNUMBER(Y43),R43-V43,R43)","v":0},{"$f":"IF(AND(V43>0,V43<$F$1*V!$B$4,V43<R43),30+$A45,\"\")","v":{"$error":"#DIV/0!"}}]
["rank=","Set App",{"$f":"INDEX(chancp!$A$1:$A$32,MATCH($A45,chancp!$P$1:$P$32,0))","v":{"$error":"#N/A"}},{"$f":"IF(ISNA(C44),\"\",$C$1*INDEX(chancp!$F$1:$F$32,MATCH($A45,chancp!$P$1:$P$32,0)))","v":""},{"$f":"IF(ISNUMBER(G44),RANK(G44,G$2:G$100,1),\"\")","v":""},{"$f":"IF(ISNUMBER(G44),X43-D44,X43)","v":0},{"$f":"IF(AND(D44>0,D44<$F$1*V!$B$3,D44<X43),30+$A45,\"\")","v":{"$error":"#DIV/0!"}},"Inform",{"$f":"INDEX(chancs!$A$1:$A$32,MATCH($A45,chancs!$M$1:$M$32,0))","v":{"$error":"#N/A"}},{"$f":"IF(ISNA(I44),\"\",INDEX(chancs!$F$1:$F$32,MATCH($A45,chancs!$M$1:$M$32,0)))","v":""},{"$f":"IF(ISNUMBER(M44),RANK(M44,M$2:M$100,1),\"\")","v":""},{"$f":"IF(ISNUMBER(M44),F44-J44,F44)","v":0},{"$f":"IF(AND(J44>0,J44<$F$1*V!$B$3,J44<F44),20+$A45,\"\")","v":{"$error":"#DIV/0!"}},"Set App",{"$f":"INDEX(chanpp!$A$1:$A$32,MATCH($A45,chanpp!$P$1:$P$32,0))","v":{"$error":"#N/A"}},{"$f":"IF(ISNA(O44),\"\",$O$1*INDEX(chanpp!$F$1:$F$32,MATCH($A45,chanpp!$P$1:$P$32,0)))","v":""},{"$f":"IF(ISNUMBER(S44),RANK(S44,S$2:S$100,1),\"\")","v":""},{"$f":"IF(ISNUMBER(S44),L44-P44,L44)","v":0},{"$f":"IF(AND(P44>0,P44<$F$1*V!$B$4,P44<L44),30+$A45,\"\")","v":{"$error":"#DIV/0!"}},"Inform",{"$f":"INDEX(chanps!$A$1:$A$32,MATCH($A45,chanps!$M$1:$M$32,0))","v":{"$error":"#N/A"}},{"$f":"IF(ISNA(U44),\"\",INDEX(chanps!$F$1:$F$32,MATCH($A45,chanps!$M$1:$M$32,0)))","v":""},{"$f":"IF(ISNUMBER(Y44),RANK(Y44,Y$2:Y$100,1),\"\")","v":""},{"$f":"IF(ISNUMBER(Y44),R44-V44,R44)","v":0},{"$f":"IF(AND(V44>0,V44<$F$1*V!$B$4,V44<R44),20+$A45,\"\")","v":{"$error":"#DIV/0!"}}]
[{"$f":"A40+1","v":8},"Close Sale",{"$f":"INDEX(chancp!$A$1:$A$32,MATCH($A45,chancp!$S$1:$S$32,0))","v":{"$error":"#N/A"}},{"$f":"IF(ISNA(C45),\"\",$C$1*INDEX(chancp!$F$1:$F$32,MATCH($A45,chancp!$S$1:$S$32,0)))","v":""},{"$f":"IF(ISNUMBER(G45),RANK(G45,G$2:G$100,1),\"\")","v":""},{"$f":"IF(ISNUMBER(G45),X44-D45,X44)","v":0},{"$f":"IF(AND(D45>0,D45<$F$1*V!$B$3,D45<X44),40+$A45,\"\")","v":{"$error":"#DIV/0!"}},"Alert",{"$f":"INDEX(chancs!$A$1:$A$32,MATCH($A45,chancs!$J$1:$J$32,0))","v":{"$error":"#N/A"}},{"$f":"IF(ISNA(I45),\"\",INDEX(chancs!$F$1:$F$32,MATCH($A45,chancs!$J$1:$J$32,0)))","v":""},{"$f":"IF(ISNUMBER(M45),RANK(M45,M$2:M$100,1),\"\")","v":""},{"$f":"IF(ISNUMBER(M45),F45-J45,F45)","v":0},{"$f":"IF(AND(J45>0,J45<$F$1*V!$B$3,J45<F45),10+$A45,\"\")","v":{"$error":"#DIV/0!"}},"Close Sale",{"$f":"INDEX(chanpp!$A$1:$A$32,MATCH($A45,chanpp!$S$1:$S$32,0))","v":{"$error":"#N/A"}},{"$f":"IF(ISNA(O45),\"\",$O$1*INDEX(chanpp!$F$1:$F$32,MATCH($A45,chanpp!$S$1:$S$32,0)))","v":""},{"$f":"IF(ISNUMBER(S45),RANK(S45,S$2:S$100,1),\"\")","v":""},{"$f":"IF(ISNUMBER(S45),L45-P45,L45)","v":0},{"$f":"IF(AND(P45>0,P45<$F$1*V!$B$4,P45<L45),40+$A45,\"\")","v":{"$error":"#DIV/0!"}},"Alert",{"$f":"INDEX(chanps!$A$1:$A$32,MATCH($A45,chanps!$J$1:$J$32,0))","v":{"$error":"#N/A"}},{"$f":"IF(ISNA(U45),\"\",INDEX(chanps!$F$1:$F$32,MATCH($A45,chanps!$J$1:$J$32,0)))","v":""},{"$f":"IF(ISNUMBER(Y45),RANK(Y45,Y$2:Y$100,1),\"\")","v":""},{"$f":"IF(ISNUMBER(Y45),R45-V45,R45)","v":0},{"$f":"IF(AND(V45>0,V45<$F$1*V!$B$4,V45<R45),10+$A45,\"\")","v":{"$error":"#DIV/0!"}}]
[]
[null,"Alert",{"$f":"INDEX(chancp!$A$1:$A$32,MATCH($A50,chancp!$J$1:$J$32,0))","v":{"$error":"#N/A"}},{"$f":"IF(ISNA(C47),\"\",$C$1*INDEX(chancp!$F$1:$F$32,MATCH($A50,chancp!$J$1:$J$32,0)))","v":""},{"$f":"IF(ISNUMBER(G47),RANK(G47,G$2:G$100,1),\"\")","v":""},{"$f":"IF(ISNUMBER(G47),X45-D47,X45)","v":0},{"$f":"IF(AND(D47>0,D47<$F$1*V!$B$3,D47<X45),10+$A50,\"\")","v":{"$error":"#DIV/0!"}},"Close Sale",{"$f":"INDEX(chancs!$A$1:$A$32,MATCH($A50,chancs!$S$1:$S$32,0))","v":{"$error":"#N/A"}},{"$f":"IF(ISNA(I47),\"\",INDEX(chancs!$F$1:$F$32,MATCH($A50,chancs!$S$1:$S$32,0)))","v":""},{"$f":"IF(ISNUMBER(M47),RANK(M47,M$2:M$100,1),\"\")","v":""},{"$f":"IF(ISNUMBER(M47),F47-J47,F47)","v":0},{"$f":"IF(AND(J47>0,J47<$F$1*V!$B$3,J47<F47),40+$A50,\"\")","v":{"$error":"#DIV/0!"}},"Alert",{"$f":"INDEX(chanpp!$A$1:$A$32,MATCH($A50,chanpp!$J$1:$J$32,0))","v":{"$error":"#N/A"}},{"$f":"IF(ISNA(O47),\"\",$O$1*INDEX(chanpp!$F$1:$F$32,MATCH($A50,chanpp!$J$1:$J$32,0)))","v":""},{"$f":"IF(ISNUMBER(S47),RANK(S47,S$2:S$100,1),\"\")","v":""},{"$f":"IF(ISNUMBER(S47),L47-P47,L47)","v":0},{"$f":"IF(AND(P47>0,P47<$F$1*V!$B$4,P47<L47),10+$A50,\"\")","v":{"$error":"#DIV/0!"}},"Close Sale",{"$f":"INDEX(chanps!$A$1:$A$32,MATCH($A50,chanps!$S$1:$S$32,0))","v":{"$error":"#N/A"}},{"$f":"IF(ISNA(U47),\"\",INDEX(chanps!$F$1:$F$32,MATCH($A50,chanps!$S$1:$S$32,0)))","v":""},{"$f":"IF(ISNUMBER(Y47),RANK(Y47,Y$2:Y$100,1),\"\")","v":""},{"$f":"IF(ISNUMBER(Y47),R47-V47,R47)","v":0},{"$f":"IF(AND(V47>0,V47<$F$1*V!$B$4,V47<R47),40+$A50,\"\")","v":{"$error":"#DIV/0!"}}]
[null,"Inform",{"$f":"INDEX(chancp!$A$1:$A$32,MATCH($A50,chancp!$M$1:$M$32,0))","v":{"$error":"#N/A"}},{"$f":"IF(ISNA(C48),\"\",$C$1*INDEX(chancp!$F$1:$F$32,MATCH($A50,chancp!$M$1:$M$32,0)))","v":""},{"$f":"IF(ISNUMBER(G48),RANK(G48,G$2:G$100,1),\"\")","v":""},{"$f":"IF(ISNUMBER(G48),X47-D48,X47)","v":0},{"$f":"IF(AND(D48>0,D48<$F$1*V!$B$3,D48<X47),20+$A50,\"\")","v":{"$error":"#DIV/0!"}},"Set App",{"$f":"INDEX(chancs!$A$1:$A$32,MATCH($A50,chancs!$P$1:$P$32,0))","v":{"$error":"#N/A"}},{"$f":"IF(ISNA(I48),\"\",INDEX(chancs!$F$1:$F$32,MATCH($A50,chancs!$P$1:$P$32,0)))","v":""},{"$f":"IF(ISNUMBER(M48),RANK(M48,M$2:M$100,1),\"\")","v":""},{"$f":"IF(ISNUMBER(M48),F48-J48,F48)","v":0},{"$f":"IF(AND(J48>0,J48<$F$1*V!$B$3,J48<F48),30+$A50,\"\")","v":{"$error":"#DIV/0!"}},"Inform",{"$f":"INDEX(chanpp!$A$1:$A$32,MATCH($A50,chanpp!$M$1:$M$32,0))","v":{"$error":"#N/A"}},{"$f":"IF(ISNA(O48),\"\",$O$1*INDEX(chanpp!$F$1:$F$32,MATCH($A50,chanpp!$M$1:$M$32,0)))","v":""},{"$f":"IF(ISNUMBER(S48),RANK(S48,S$2:S$100,1),\"\")","v":""},{"$f":"IF(ISNUMBER(S48),L48-P48,L48)","v":0},{"$f":"IF(AND(P48>0,P48<$F$1*V!$B$4,P48<L48),20+$A50,\"\")","v":{"$error":"#DIV/0!"}},"Set App",{"$f":"INDEX(chanps!$A$1:$A$32,MATCH($A50,chanps!$P$1:$P$32,0))","v":{"$error":"#N/A"}},{"$f":"IF(ISNA(U48),\"\",INDEX(chanps!$F$1:$F$32,MATCH($A50,chanps!$P$1:$P$32,0)))","v":""},{"$f":"IF(ISNUMBER(Y48),RANK(Y48,Y$2:Y$100,1),\"\")","v":""},{"$f":"IF(ISNUMBER(Y48),R48-V48,R48)","v":0},{"$f":"IF(AND(V48>0,V48<$F$1*V!$B$4,V48<R48),30+$A50,\"\")","v":{"$error":"#DIV/0!"}}]
["rank=","Set App",{"$f":"INDEX(chancp!$A$1:$A$32,MATCH($A50,chancp!$P$1:$P$32,0))","v":{"$error":"#N/A"}},{"$f":"IF(ISNA(C49),\"\",$C$1*INDEX(chancp!$F$1:$F$32,MATCH($A50,chancp!$P$1:$P$32,0)))","v":""},{"$f":"IF(ISNUMBER(G49),RANK(G49,G$2:G$100,1),\"\")","v":""},{"$f":"IF(ISNUMBER(G49),X48-D49,X48)","v":0},{"$f":"IF(AND(D49>0,D49<$F$1*V!$B$3,D49<X48),30+$A50,\"\")","v":{"$error":"#DIV/0!"}},"Inform",{"$f":"INDEX(chancs!$A$1:$A$32,MATCH($A50,chancs!$M$1:$M$32,0))","v":{"$error":"#N/A"}},{"$f":"IF(ISNA(I49),\"\",INDEX(chancs!$F$1:$F$32,MATCH($A50,chancs!$M$1:$M$32,0)))","v":""},{"$f":"IF(ISNUMBER(M49),RANK(M49,M$2:M$100,1),\"\")","v":""},{"$f":"IF(ISNUMBER(M49),F49-J49,F49)","v":0},{"$f":"IF(AND(J49>0,J49<$F$1*V!$B$3,J49<F49),20+$A50,\"\")","v":{"$error":"#DIV/0!"}},"Set App",{"$f":"INDEX(chanpp!$A$1:$A$32,MATCH($A50,chanpp!$P$1:$P$32,0))","v":{"$error":"#N/A"}},{"$f":"IF(ISNA(O49),\"\",$O$1*INDEX(chanpp!$F$1:$F$32,MATCH($A50,chanpp!$P$1:$P$32,0)))","v":""},{"$f":"IF(ISNUMBER(S49),RANK(S49,S$2:S$100,1),\"\")","v":""},{"$f":"IF(ISNUMBER(S49),L49-P49,L49)","v":0},{"$f":"IF(AND(P49>0,P49<$F$1*V!$B$4,P49<L49),30+$A50,\"\")","v":{"$error":"#DIV/0!"}},"Inform",{"$f":"INDEX(chanps!$A$1:$A$32,MATCH($A50,chanps!$M$1:$M$32,0))","v":{"$error":"#N/A"}},{"$f":"IF(ISNA(U49),\"\",INDEX(chanps!$F$1:$F$32,MATCH($A50,chanps!$M$1:$M$32,0)))","v":""},{"$f":"IF(ISNUMBER(Y49),RANK(Y49,Y$2:Y$100,1),\"\")","v":""},{"$f":"IF(ISNUMBER(Y49),R49-V49,R49)","v":0},{"$f":"IF(AND(V49>0,V49<$F$1*V!$B$4,V49<R49),20+$A50,\"\")","v":{"$error":"#DIV/0!"}}]
[{"$f":"A45+1","v":9},"Close Sale",{"$f":"INDEX(chancp!$A$1:$A$32,MATCH($A50,chancp!$S$1:$S$32,0))","v":{"$error":"#N/A"}},{"$f":"IF(ISNA(C50),\"\",$C$1*INDEX(chancp!$F$1:$F$32,MATCH($A50,chancp!$S$1:$S$32,0)))","v":""},{"$f":"IF(ISNUMBER(G50),RANK(G50,G$2:G$100,1),\"\")","v":""},{"$f":"IF(ISNUMBER(G50),X49-D50,X49)","v":0},{"$f":"IF(AND(D50>0,D50<$F$1*V!$B$3,D50<X49),40+$A50,\"\")","v":{"$error":"#DIV/0!"}},"Alert",{"$f":"INDEX(chancs!$A$1:$A$32,MATCH($A50,chancs!$J$1:$J$32,0))","v":{"$error":"#N/A"}},{"$f":"IF(ISNA(I50),\"\",INDEX(chancs!$F$1:$F$32,MATCH($A50,chancs!$J$1:$J$32,0)))","v":""},{"$f":"IF(ISNUMBER(M50),RANK(M50,M$2:M$100,1),\"\")","v":""},{"$f":"IF(ISNUMBER(M50),F50-J50,F50)","v":0},{"$f":"IF(AND(J50>0,J50<$F$1*V!$B$3,J50<F50),10+$A50,\"\")","v":{"$error":"#DIV/0!"}},"Close Sale",{"$f":"INDEX(chanpp!$A$1:$A$32,MATCH($A50,chanpp!$S$1:$S$32,0))","v":{"$error":"#N/A"}},{"$f":"IF(ISNA(O50),\"\",$O$1*INDEX(chanpp!$F$1:$F$32,MATCH($A50,chanpp!$S$1:$S$32,0)))","v":""},{"$f":"IF(ISNUMBER(S50),RANK(S50,S$2:S$100,1),\"\")","v":""},{"$f":"IF(ISNUMBER(S50),L50-P50,L50)","v":0},{"$f":"IF(AND(P50>0,P50<$F$1*V!$B$4,P50<L50),40+$A50,\"\")","v":{"$error":"#DIV/0!"}},"Alert",{"$f":"INDEX(chanps!$A$1:$A$32,MATCH($A50,chanps!$J$1:$J$32,0))","v":{"$error":"#N/A"}},{"$f":"IF(ISNA(U50),\"\",INDEX(chanps!$F$1:$F$32,MATCH($A50,chanps!$J$1:$J$32,0)))","v":""},{"$f":"IF(ISNUMBER(Y50),RANK(Y50,Y$2:Y$100,1),\"\")","v":""},{"$f":"IF(ISNUMBER(Y50),R50-V50,R50)","v":0},{"$f":"IF(AND(V50>0,V50<$F$1*V!$B$4,V50<R50),10+$A50,\"\")","v":{"$error":"#DIV/0!"}}]
[]
[null,"Alert",{"$f":"INDEX(chancp!$A$1:$A$32,MATCH($A55,chancp!$J$1:$J$32,0))","v":{"$error":"#N/A"}},{"$f":"IF(ISNA(C52),\"\",$C$1*INDEX(chancp!$F$1:$F$32,MATCH($A55,chancp!$J$1:$J$32,0)))","v":""},{"$f":"IF(ISNUMBER(G52),RANK(G52,G$2:G$100,1),\"\")","v":""},{"$f":"IF(ISNUMBER(G52),X50-D52,X50)","v":0},{"$f":"IF(AND(D52>0,D52<$F$1*V!$B$3,D52<X50),10+$A55,\"\")","v":{"$error":"#DIV/0!"}},"Close Sale",{"$f":"INDEX(chancs!$A$1:$A$32,MATCH($A55,chancs!$S$1:$S$32,0))","v":{"$error":"#N/A"}},{"$f":"IF(ISNA(I52),\"\",INDEX(chancs!$F$1:$F$32,MATCH($A55,chancs!$S$1:$S$32,0)))","v":""},{"$f":"IF(ISNUMBER(M52),RANK(M52,M$2:M$100,1),\"\")","v":""},{"$f":"IF(ISNUMBER(M52),F52-J52,F52)","v":0},{"$f":"IF(AND(J52>0,J52<$F$1*V!$B$3,J52<F52),40+$A55,\"\")","v":{"$error":"#DIV/0!"}},"Alert",{"$f":"INDEX(chanpp!$A$1:$A$32,MATCH($A55,chanpp!$J$1:$J$32,0))","v":{"$error":"#N/A"}},{"$f":"IF(ISNA(O52),\"\",$O$1*INDEX(chanpp!$F$1:$F$32,MATCH($A55,chanpp!$J$1:$J$32,0)))","v":""},{"$f":"IF(ISNUMBER(S52),RANK(S52,S$2:S$100,1),\"\")","v":""},{"$f":"IF(ISNUMBER(S52),L52-P52,L52)","v":0},{"$f":"IF(AND(P52>0,P52<$F$1*V!$B$4,P52<L52),10+$A55,\"\")","v":{"$error":"#DIV/0!"}},"Close Sale",{"$f":"INDEX(chanps!$A$1:$A$32,MATCH($A55,chanps!$S$1:$S$32,0))","v":{"$error":"#N/A"}},{"$f":"IF(ISNA(U52),\"\",INDEX(chanps!$F$1:$F$32,MATCH($A55,chanps!$S$1:$S$32,0)))","v":""},{"$f":"IF(ISNUMBER(Y52),RANK(Y52,Y$2:Y$100,1),\"\")","v":""},{"$f":"IF(ISNUMBER(Y52),R52-V52,R52)","v":0},{"$f":"IF(AND(V52>0,V52<$F$1*V!$B$4,V52<R52),40+$A55,\"\")","v":{"$error":"#DIV/0!"}}]
[null,"Inform",{"$f":"INDEX(chancp!$A$1:$A$32,MATCH($A55,chancp!$M$1:$M$32,0))","v":{"$error":"#N/A"}},{"$f":"IF(ISNA(C53),\"\",$C$1*INDEX(chancp!$F$1:$F$32,MATCH($A55,chancp!$M$1:$M$32,0)))","v":""},{"$f":"IF(ISNUMBER(G53),RANK(G53,G$2:G$100,1),\"\")","v":""},{"$f":"IF(ISNUMBER(G53),X52-D53,X52)","v":0},{"$f":"IF(AND(D53>0,D53<$F$1*V!$B$3,D53<X52),20+$A55,\"\")","v":{"$error":"#DIV/0!"}},"Set App",{"$f":"INDEX(chancs!$A$1:$A$32,MATCH($A55,chancs!$P$1:$P$32,0))","v":{"$error":"#N/A"}},{"$f":"IF(ISNA(I53),\"\",INDEX(chancs!$F$1:$F$32,MATCH($A55,chancs!$P$1:$P$32,0)))","v":""},{"$f":"IF(ISNUMBER(M53),RANK(M53,M$2:M$100,1),\"\")","v":""},{"$f":"IF(ISNUMBER(M53),F53-J53,F53)","v":0},{"$f":"IF(AND(J53>0,J53<$F$1*V!$B$3,J53<F53),30+$A55,\"\")","v":{"$error":"#DIV/0!"}},"Inform",{"$f":"INDEX(chanpp!$A$1:$A$32,MATCH($A55,chanpp!$M$1:$M$32,0))","v":{"$error":"#N/A"}},{"$f":"IF(ISNA(O53),\"\",$O$1*INDEX(chanpp!$F$1:$F$32,MATCH($A55,chanpp!$M$1:$M$32,0)))","v":""},{"$f":"IF(ISNUMBER(S53),RANK(S53,S$2:S$100,1),\"\")","v":""},{"$f":"IF(ISNUMBER(S53),L53-P53,L53)","v":0},{"$f":"IF(AND(P53>0,P53<$F$1*V!$B$4,P53<L53),20+$A55,\"\")","v":{"$error":"#DIV/0!"}},"Set App",{"$f":"INDEX(chanps!$A$1:$A$32,MATCH($A55,chanps!$P$1:$P$32,0))","v":{"$error":"#N/A"}},{"$f":"IF(ISNA(U53),\"\",INDEX(chanps!$F$1:$F$32,MATCH($A55,chanps!$P$1:$P$32,0)))","v":""},{"$f":"IF(ISNUMBER(Y53),RANK(Y53,Y$2:Y$100,1),\"\")","v":""},{"$f":"IF(ISNUMBER(Y53),R53-V53,R53)","v":0},{"$f":"IF(AND(V53>0,V53<$F$1*V!$B$4,V53<R53),30+$A55,\"\")","v":{"$error":"#DIV/0!"}}]
["rank=","Set App",{"$f":"INDEX(chancp!$A$1:$A$32,MATCH($A55,chancp!$P$1:$P$32,0))","v":{"$error":"#N/A"}},{"$f":"IF(ISNA(C54),\"\",$C$1*INDEX(chancp!$F$1:$F$32,MATCH($A55,chancp!$P$1:$P$32,0)))","v":""},{"$f":"IF(ISNUMBER(G54),RANK(G54,G$2:G$100,1),\"\")","v":""},{"$f":"IF(ISNUMBER(G54),X53-D54,X53)","v":0},{"$f":"IF(AND(D54>0,D54<$F$1*V!$B$3,D54<X53),30+$A55,\"\")","v":{"$error":"#DIV/0!"}},"Inform",{"$f":"INDEX(chancs!$A$1:$A$32,MATCH($A55,chancs!$M$1:$M$32,0))","v":{"$error":"#N/A"}},{"$f":"IF(ISNA(I54),\"\",INDEX(chancs!$F$1:$F$32,MATCH($A55,chancs!$M$1:$M$32,0)))","v":""},{"$f":"IF(ISNUMBER(M54),RANK(M54,M$2:M$100,1),\"\")","v":""},{"$f":"IF(ISNUMBER(M54),F54-J54,F54)","v":0},{"$f":"IF(AND(J54>0,J54<$F$1*V!$B$3,J54<F54),20+$A55,\"\")","v":{"$error":"#DIV/0!"}},"Set App",{"$f":"INDEX(chanpp!$A$1:$A$32,MATCH($A55,chanpp!$P$1:$P$32,0))","v":{"$error":"#N/A"}},{"$f":"IF(ISNA(O54),\"\",$O$1*INDEX(chanpp!$F$1:$F$32,MATCH($A55,chanpp!$P$1:$P$32,0)))","v":""},{"$f":"IF(ISNUMBER(S54),RANK(S54,S$2:S$100,1),\"\")","v":""},{"$f":"IF(ISNUMBER(S54),L54-P54,L54)","v":0},{"$f":"IF(AND(P54>0,P54<$F$1*V!$B$4,P54<L54),30+$A55,\"\")","v":{"$error":"#DIV/0!"}},"Inform",{"$f":"INDEX(chanps!$A$1:$A$32,MATCH($A55,chanps!$M$1:$M$32,0))","v":{"$error":"#N/A"}},{"$f":"IF(ISNA(U54),\"\",INDEX(chanps!$F$1:$F$32,MATCH($A55,chanps!$M$1:$M$32,0)))","v":""},{"$f":"IF(ISNUMBER(Y54),RANK(Y54,Y$2:Y$100,1),\"\")","v":""},{"$f":"IF(ISNUMBER(Y54),R54-V54,R54)","v":0},{"$f":"IF(AND(V54>0,V54<$F$1*V!$B$4,V54<R54),20+$A55,\"\")","v":{"$error":"#DIV/0!"}}]
[{"$f":"A50+1","v":10},"Close Sale",{"$f":"INDEX(chancp!$A$1:$A$32,MATCH($A55,chancp!$S$1:$S$32,0))","v":{"$error":"#N/A"}},{"$f":"IF(ISNA(C55),\"\",$C$1*INDEX(chancp!$F$1:$F$32,MATCH($A55,chancp!$S$1:$S$32,0)))","v":""},{"$f":"IF(ISNUMBER(G55),RANK(G55,G$2:G$100,1),\"\")","v":""},{"$f":"IF(ISNUMBER(G55),X54-D55,X54)","v":0},{"$f":"IF(AND(D55>0,D55<$F$1*V!$B$3,D55<X54),40+$A55,\"\")","v":{"$error":"#DIV/0!"}},"Alert",{"$f":"INDEX(chancs!$A$1:$A$32,MATCH($A55,chancs!$J$1:$J$32,0))","v":{"$error":"#N/A"}},{"$f":"IF(ISNA(I55),\"\",INDEX(chancs!$F$1:$F$32,MATCH($A55,chancs!$J$1:$J$32,0)))","v":""},{"$f":"IF(ISNUMBER(M55),RANK(M55,M$2:M$100,1),\"\")","v":""},{"$f":"IF(ISNUMBER(M55),F55-J55,F55)","v":0},{"$f":"IF(AND(J55>0,J55<$F$1*V!$B$3,J55<F55),10+$A55,\"\")","v":{"$error":"#DIV/0!"}},"Close Sale",{"$f":"INDEX(chanpp!$A$1:$A$32,MATCH($A55,chanpp!$S$1:$S$32,0))","v":{"$error":"#N/A"}},{"$f":"IF(ISNA(O55),\"\",$O$1*INDEX(chanpp!$F$1:$F$32,MATCH($A55,chanpp!$S$1:$S$32,0)))","v":""},{"$f":"IF(ISNUMBER(S55),RANK(S55,S$2:S$100,1),\"\")","v":""},{"$f":"IF(ISNUMBER(S55),L55-P55,L55)","v":0},{"$f":"IF(AND(P55>0,P55<$F$1*V!$B$4,P55<L55),40+$A55,\"\")","v":{"$error":"#DIV/0!"}},"Alert",{"$f":"INDEX(chanps!$A$1:$A$32,MATCH($A55,chanps!$J$1:$J$32,0))","v":{"$error":"#N/A"}},{"$f":"IF(ISNA(U55),\"\",INDEX(chanps!$F$1:$F$32,MATCH($A55,chanps!$J$1:$J$32,0)))","v":""},{"$f":"IF(ISNUMBER(Y55),RANK(Y55,Y$2:Y$100,1),\"\")","v":""},{"$f":"IF(ISNUMBER(Y55),R55-V55,R55)","v":0},{"$f":"IF(AND(V55>0,V55<$F$1*V!$B$4,V55<R55),10+$A55,\"\")","v":{"$error":"#DIV/0!"}}]
[]
[null,"Alert",{"$f":"INDEX(chancp!$A$1:$A$32,MATCH($A60,chancp!$J$1:$J$32,0))","v":{"$error":"#N/A"}},{"$f":"IF(ISNA(C57),\"\",$C$1*INDEX(chancp!$F$1:$F$32,MATCH($A60,chancp!$J$1:$J$32,0)))","v":""},{"$f":"IF(ISNUMBER(G57),RANK(G57,G$2:G$100,1),\"\")","v":""},{"$f":"IF(ISNUMBER(G57),X55-D57,X55)","v":0},{"$f":"IF(AND(D57>0,D57<$F$1*V!$B$3,D57<X55),10+$A60,\"\")","v":{"$error":"#DIV/0!"}},"Close Sale",{"$f":"INDEX(chancs!$A$1:$A$32,MATCH($A60,chancs!$S$1:$S$32,0))","v":{"$error":"#N/A"}},{"$f":"IF(ISNA(I57),\"\",INDEX(chancs!$F$1:$F$32,MATCH($A60,chancs!$S$1:$S$32,0)))","v":""},{"$f":"IF(ISNUMBER(M57),RANK(M57,M$2:M$100,1),\"\")","v":""},{"$f":"IF(ISNUMBER(M57),F57-J57,F57)","v":0},{"$f":"IF(AND(J57>0,J57<$F$1*V!$B$3,J57<F57),40+$A60,\"\")","v":{"$error":"#DIV/0!"}},"Alert",{"$f":"INDEX(chanpp!$A$1:$A$32,MATCH($A60,chanpp!$J$1:$J$32,0))","v":{"$error":"#N/A"}},{"$f":"IF(ISNA(O57),\"\",$O$1*INDEX(chanpp!$F$1:$F$32,MATCH($A60,chanpp!$J$1:$J$32,0)))","v":""},{"$f":"IF(ISNUMBER(S57),RANK(S57,S$2:S$100,1),\"\")","v":""},{"$f":"IF(ISNUMBER(S57),L57-P57,L57)","v":0},{"$f":"IF(AND(P57>0,P57<$F$1*V!$B$4,P57<L57),10+$A60,\"\")","v":{"$error":"#DIV/0!"}},"Close Sale",{"$f":"INDEX(chanps!$A$1:$A$32,MATCH($A60,chanps!$S$1:$S$32,0))","v":{"$error":"#N/A"}},{"$f":"IF(ISNA(U57),\"\",INDEX(chanps!$F$1:$F$32,MATCH($A60,chanps!$S$1:$S$32,0)))","v":""},{"$f":"IF(ISNUMBER(Y57),RANK(Y57,Y$2:Y$100,1),\"\")","v":""},{"$f":"IF(ISNUMBER(Y57),R57-V57,R57)","v":0},{"$f":"IF(AND(V57>0,V57<$F$1*V!$B$4,V57<R57),40+$A60,\"\")","v":{"$error":"#DIV/0!"}}]
[null,"Inform",{"$f":"INDEX(chancp!$A$1:$A$32,MATCH($A60,chancp!$M$1:$M$32,0))","v":{"$error":"#N/A"}},{"$f":"IF(ISNA(C58),\"\",$C$1*INDEX(chancp!$F$1:$F$32,MATCH($A60,chancp!$M$1:$M$32,0)))","v":""},{"$f":"IF(ISNUMBER(G58),RANK(G58,G$2:G$100,1),\"\")","v":""},{"$f":"IF(ISNUMBER(G58),X57-D58,X57)","v":0},{"$f":"IF(AND(D58>0,D58<$F$1*V!$B$3,D58<X57),20+$A60,\"\")","v":{"$error":"#DIV/0!"}},"Set App",{"$f":"INDEX(chancs!$A$1:$A$32,MATCH($A60,chancs!$P$1:$P$32,0))","v":{"$error":"#N/A"}},{"$f":"IF(ISNA(I58),\"\",INDEX(chancs!$F$1:$F$32,MATCH($A60,chancs!$P$1:$P$32,0)))","v":""},{"$f":"IF(ISNUMBER(M58),RANK(M58,M$2:M$100,1),\"\")","v":""},{"$f":"IF(ISNUMBER(M58),F58-J58,F58)","v":0},{"$f":"IF(AND(J58>0,J58<$F$1*V!$B$3,J58<F58),30+$A60,\"\")","v":{"$error":"#DIV/0!"}},"Inform",{"$f":"INDEX(chanpp!$A$1:$A$32,MATCH($A60,chanpp!$M$1:$M$32,0))","v":{"$error":"#N/A"}},{"$f":"IF(ISNA(O58),\"\",$O$1*INDEX(chanpp!$F$1:$F$32,MATCH($A60,chanpp!$M$1:$M$32,0)))","v":""},{"$f":"IF(ISNUMBER(S58),RANK(S58,S$2:S$100,1),\"\")","v":""},{"$f":"IF(ISNUMBER(S58),L58-P58,L58)","v":0},{"$f":"IF(AND(P58>0,P58<$F$1*V!$B$4,P58<L58),20+$A60,\"\")","v":{"$error":"#DIV/0!"}},"Set App",{"$f":"INDEX(chanps!$A$1:$A$32,MATCH($A60,chanps!$P$1:$P$32,0))","v":{"$error":"#N/A"}},{"$f":"IF(ISNA(U58),\"\",INDEX(chanps!$F$1:$F$32,MATCH($A60,chanps!$P$1:$P$32,0)))","v":""},{"$f":"IF(ISNUMBER(Y58),RANK(Y58,Y$2:Y$100,1),\"\")","v":""},{"$f":"IF(ISNUMBER(Y58),R58-V58,R58)","v":0},{"$f":"IF(AND(V58>0,V58<$F$1*V!$B$4,V58<R58),30+$A60,\"\")","v":{"$error":"#DIV/0!"}}]
["rank=","Set App",{"$f":"INDEX(chancp!$A$1:$A$32,MATCH($A60,chancp!$P$1:$P$32,0))","v":{"$error":"#N/A"}},{"$f":"IF(ISNA(C59),\"\",$C$1*INDEX(chancp!$F$1:$F$32,MATCH($A60,chancp!$P$1:$P$32,0)))","v":""},{"$f":"IF(ISNUMBER(G59),RANK(G59,G$2:G$100,1),\"\")","v":""},{"$f":"IF(ISNUMBER(G59),X58-D59,X58)","v":0},{"$f":"IF(AND(D59>0,D59<$F$1*V!$B$3,D59<X58),30+$A60,\"\")","v":{"$error":"#DIV/0!"}},"Inform",{"$f":"INDEX(chancs!$A$1:$A$32,MATCH($A60,chancs!$M$1:$M$32,0))","v":{"$error":"#N/A"}},{"$f":"IF(ISNA(I59),\"\",INDEX(chancs!$F$1:$F$32,MATCH($A60,chancs!$M$1:$M$32,0)))","v":""},{"$f":"IF(ISNUMBER(M59),RANK(M59,M$2:M$100,1),\"\")","v":""},{"$f":"IF(ISNUMBER(M59),F59-J59,F59)","v":0},{"$f":"IF(AND(J59>0,J59<$F$1*V!$B$3,J59<F59),20+$A60,\"\")","v":{"$error":"#DIV/0!"}},"Set App",{"$f":"INDEX(chanpp!$A$1:$A$32,MATCH($A60,chanpp!$P$1:$P$32,0))","v":{"$error":"#N/A"}},{"$f":"IF(ISNA(O59),\"\",$O$1*INDEX(chanpp!$F$1:$F$32,MATCH($A60,chanpp!$P$1:$P$32,0)))","v":""},{"$f":"IF(ISNUMBER(S59),RANK(S59,S$2:S$100,1),\"\")","v":""},{"$f":"IF(ISNUMBER(S59),L59-P59,L59)","v":0},{"$f":"IF(AND(P59>0,P59<$F$1*V!$B$4,P59<L59),30+$A60,\"\")","v":{"$error":"#DIV/0!"}},"Inform",{"$f":"INDEX(chanps!$A$1:$A$32,MATCH($A60,chanps!$M$1:$M$32,0))","v":{"$error":"#N/A"}},{"$f":"IF(ISNA(U59),\"\",INDEX(chanps!$F$1:$F$32,MATCH($A60,chanps!$M$1:$M$32,0)))","v":""},{"$f":"IF(ISNUMBER(Y59),RANK(Y59,Y$2:Y$100,1),\"\")","v":""},{"$f":"IF(ISNUMBER(Y59),R59-V59,R59)","v":0},{"$f":"IF(AND(V59>0,V59<$F$1*V!$B$4,V59<R59),20+$A60,\"\")","v":{"$error":"#DIV/0!"}}]
[{"$f":"A55+1","v":11},"Close Sale",{"$f":"INDEX(chancp!$A$1:$A$32,MATCH($A60,chancp!$S$1:$S$32,0))","v":{"$error":"#N/A"}},{"$f":"IF(ISNA(C60),\"\",$C$1*INDEX(chancp!$F$1:$F$32,MATCH($A60,chancp!$S$1:$S$32,0)))","v":""},{"$f":"IF(ISNUMBER(G60),RANK(G60,G$2:G$100,1),\"\")","v":""},{"$f":"IF(ISNUMBER(G60),X59-D60,X59)","v":0},{"$f":"IF(AND(D60>0,D60<$F$1*V!$B$3,D60<X59),40+$A60,\"\")","v":{"$error":"#DIV/0!"}},"Alert",{"$f":"INDEX(chancs!$A$1:$A$32,MATCH($A60,chancs!$J$1:$J$32,0))","v":{"$error":"#N/A"}},{"$f":"IF(ISNA(I60),\"\",INDEX(chancs!$F$1:$F$32,MATCH($A60,chancs!$J$1:$J$32,0)))","v":""},{"$f":"IF(ISNUMBER(M60),RANK(M60,M$2:M$100,1),\"\")","v":""},{"$f":"IF(ISNUMBER(M60),F60-J60,F60)","v":0},{"$f":"IF(AND(J60>0,J60<$F$1*V!$B$3,J60<F60),10+$A60,\"\")","v":{"$error":"#DIV/0!"}},"Close Sale",{"$f":"INDEX(chanpp!$A$1:$A$32,MATCH($A60,chanpp!$S$1:$S$32,0))","v":{"$error":"#N/A"}},{"$f":"IF(ISNA(O60),\"\",$O$1*INDEX(chanpp!$F$1:$F$32,MATCH($A60,chanpp!$S$1:$S$32,0)))","v":""},{"$f":"IF(ISNUMBER(S60),RANK(S60,S$2:S$100,1),\"\")","v":""},{"$f":"IF(ISNUMBER(S60),L60-P60,L60)","v":0},{"$f":"IF(AND(P60>0,P60<$F$1*V!$B$4,P60<L60),40+$A60,\"\")","v":{"$error":"#DIV/0!"}},"Alert",{"$f":"INDEX(chanps!$A$1:$A$32,MATCH($A60,chanps!$J$1:$J$32,0))","v":{"$error":"#N/A"}},{"$f":"IF(ISNA(U60),\"\",INDEX(chanps!$F$1:$F$32,MATCH($A60,chanps!$J$1:$J$32,0)))","v":""},{"$f":"IF(ISNUMBER(Y60),RANK(Y60,Y$2:Y$100,1),\"\")","v":""},{"$f":"IF(ISNUMBER(Y60),R60-V60,R60)","v":0},{"$f":"IF(AND(V60>0,V60<$F$1*V!$B$4,V60<R60),10+$A60,\"\")","v":{"$error":"#DIV/0!"}}]
[]
[null,"Alert",{"$f":"INDEX(chancp!$A$1:$A$32,MATCH($A65,chancp!$J$1:$J$32,0))","v":{"$error":"#N/A"}},{"$f":"IF(ISNA(C62),\"\",$C$1*INDEX(chancp!$F$1:$F$32,MATCH($A65,chancp!$J$1:$J$32,0)))","v":""},{"$f":"IF(ISNUMBER(G62),RANK(G62,G$2:G$100,1),\"\")","v":""},{"$f":"IF(ISNUMBER(G62),X60-D62,X60)","v":0},{"$f":"IF(AND(D62>0,D62<$F$1*V!$B$3,D62<X60),10+$A65,\"\")","v":{"$error":"#DIV/0!"}},"Close Sale",{"$f":"INDEX(chancs!$A$1:$A$32,MATCH($A65,chancs!$S$1:$S$32,0))","v":{"$error":"#N/A"}},{"$f":"IF(ISNA(I62),\"\",INDEX(chancs!$F$1:$F$32,MATCH($A65,chancs!$S$1:$S$32,0)))","v":""},{"$f":"IF(ISNUMBER(M62),RANK(M62,M$2:M$100,1),\"\")","v":""},{"$f":"IF(ISNUMBER(M62),F62-J62,F62)","v":0},{"$f":"IF(AND(J62>0,J62<$F$1*V!$B$3,J62<F62),40+$A65,\"\")","v":{"$error":"#DIV/0!"}},"Alert",{"$f":"INDEX(chanpp!$A$1:$A$32,MATCH($A65,chanpp!$J$1:$J$32,0))","v":{"$error":"#N/A"}},{"$f":"IF(ISNA(O62),\"\",$O$1*INDEX(chanpp!$F$1:$F$32,MATCH($A65,chanpp!$J$1:$J$32,0)))","v":""},{"$f":"IF(ISNUMBER(S62),RANK(S62,S$2:S$100,1),\"\")","v":""},{"$f":"IF(ISNUMBER(S62),L62-P62,L62)","v":0},{"$f":"IF(AND(P62>0,P62<$F$1*V!$B$4,P62<L62),10+$A65,\"\")","v":{"$error":"#DIV/0!"}},"Close Sale",{"$f":"INDEX(chanps!$A$1:$A$32,MATCH($A65,chanps!$S$1:$S$32,0))","v":{"$error":"#N/A"}},{"$f":"IF(ISNA(U62),\"\",INDEX(chanps!$F$1:$F$32,MATCH($A65,chanps!$S$1:$S$32,0)))","v":""},{"$f":"IF(ISNUMBER(Y62),RANK(Y62,Y$2:Y$100,1),\"\")","v":""},{"$f":"IF(ISNUMBER(Y62),R62-V62,R62)","v":0},{"$f":"IF(AND(V62>0,V62<$F$1*V!$B$4,V62<R62),40+$A65,\"\")","v":{"$error":"#DIV/0!"}}]
[null,"Inform",{"$f":"INDEX(chancp!$A$1:$A$32,MATCH($A65,chancp!$M$1:$M$32,0))","v":{"$error":"#N/A"}},{"$f":"IF(ISNA(C63),\"\",$C$1*INDEX(chancp!$F$1:$F$32,MATCH($A65,chancp!$M$1:$M$32,0)))","v":""},{"$f":"IF(ISNUMBER(G63),RANK(G63,G$2:G$100,1),\"\")","v":""},{"$f":"IF(ISNUMBER(G63),X62-D63,X62)","v":0},{"$f":"IF(AND(D63>0,D63<$F$1*V!$B$3,D63<X62),20+$A65,\"\")","v":{"$error":"#DIV/0!"}},"Set App",{"$f":"INDEX(chancs!$A$1:$A$32,MATCH($A65,chancs!$P$1:$P$32,0))","v":{"$error":"#N/A"}},{"$f":"IF(ISNA(I63),\"\",INDEX(chancs!$F$1:$F$32,MATCH($A65,chancs!$P$1:$P$32,0)))","v":""},{"$f":"IF(ISNUMBER(M63),RANK(M63,M$2:M$100,1),\"\")","v":""},{"$f":"IF(ISNUMBER(M63),F63-J63,F63)","v":0},{"$f":"IF(AND(J63>0,J63<$F$1*V!$B$3,J63<F63),30+$A65,\"\")","v":{"$error":"#DIV/0!"}},"Inform",{"$f":"INDEX(chanpp!$A$1:$A$32,MATCH($A65,chanpp!$M$1:$M$32,0))","v":{"$error":"#N/A"}},{"$f":"IF(ISNA(O63),\"\",$O$1*INDEX(chanpp!$F$1:$F$32,MATCH($A65,chanpp!$M$1:$M$32,0)))","v":""},{"$f":"IF(ISNUMBER(S63),RANK(S63,S$2:S$100,1),\"\")","v":""},{"$f":"IF(ISNUMBER(S63),L63-P63,L63)","v":0},{"$f":"IF(AND(P63>0,P63<$F$1*V!$B$4,P63<L63),20+$A65,\"\")","v":{"$error":"#DIV/0!"}},"Set App",{"$f":"INDEX(chanps!$A$1:$A$32,MATCH($A65,chanps!$P$1:$P$32,0))","v":{"$error":"#N/A"}},{"$f":"IF(ISNA(U63),\"\",INDEX(chanps!$F$1:$F$32,MATCH($A65,chanps!$P$1:$P$32,0)))","v":""},{"$f":"IF(ISNUMBER(Y63),RANK(Y63,Y$2:Y$100,1),\"\")","v":""},{"$f":"IF(ISNUMBER(Y63),R63-V63,R63)","v":0},{"$f":"IF(AND(V63>0,V63<$F$1*V!$B$4,V63<R63),30+$A65,\"\")","v":{"$error":"#DIV/0!"}}]
["rank=","Set App",{"$f":"INDEX(chancp!$A$1:$A$32,MATCH($A65,chancp!$P$1:$P$32,0))","v":{"$error":"#N/A"}},{"$f":"IF(ISNA(C64),\"\",$C$1*INDEX(chancp!$F$1:$F$32,MATCH($A65,chancp!$P$1:$P$32,0)))","v":""},{"$f":"IF(ISNUMBER(G64),RANK(G64,G$2:G$100,1),\"\")","v":""},{"$f":"IF(ISNUMBER(G64),X63-D64,X63)","v":0},{"$f":"IF(AND(D64>0,D64<$F$1*V!$B$3,D64<X63),30+$A65,\"\")","v":{"$error":"#DIV/0!"}},"Inform",{"$f":"INDEX(chancs!$A$1:$A$32,MATCH($A65,chancs!$M$1:$M$32,0))","v":{"$error":"#N/A"}},{"$f":"IF(ISNA(I64),\"\",INDEX(chancs!$F$1:$F$32,MATCH($A65,chancs!$M$1:$M$32,0)))","v":""},{"$f":"IF(ISNUMBER(M64),RANK(M64,M$2:M$100,1),\"\")","v":""},{"$f":"IF(ISNUMBER(M64),F64-J64,F64)","v":0},{"$f":"IF(AND(J64>0,J64<$F$1*V!$B$3,J64<F64),20+$A65,\"\")","v":{"$error":"#DIV/0!"}},"Set App",{"$f":"INDEX(chanpp!$A$1:$A$32,MATCH($A65,chanpp!$P$1:$P$32,0))","v":{"$error":"#N/A"}},{"$f":"IF(ISNA(O64),\"\",$O$1*INDEX(chanpp!$F$1:$F$32,MATCH($A65,chanpp!$P$1:$P$32,0)))","v":""},{"$f":"IF(ISNUMBER(S64),RANK(S64,S$2:S$100,1),\"\")","v":""},{"$f":"IF(ISNUMBER(S64),L64-P64,L64)","v":0},{"$f":"IF(AND(P64>0,P64<$F$1*V!$B$4,P64<L64),30+$A65,\"\")","v":{"$error":"#DIV/0!"}},"Inform",{"$f":"INDEX(chanps!$A$1:$A$32,MATCH($A65,chanps!$M$1:$M$32,0))","v":{"$error":"#N/A"}},{"$f":"IF(ISNA(U64),\"\",INDEX(chanps!$F$1:$F$32,MATCH($A65,chanps!$M$1:$M$32,0)))","v":""},{"$f":"IF(ISNUMBER(Y64),RANK(Y64,Y$2:Y$100,1),\"\")","v":""},{"$f":"IF(ISNUMBER(Y64),R64-V64,R64)","v":0},{"$f":"IF(AND(V64>0,V64<$F$1*V!$B$4,V64<R64),20+$A65,\"\")","v":{"$error":"#DIV/0!"}}]
[{"$f":"A60+1","v":12},"Close Sale",{"$f":"INDEX(chancp!$A$1:$A$32,MATCH($A65,chancp!$S$1:$S$32,0))","v":{"$error":"#N/A"}},{"$f":"IF(ISNA(C65),\"\",$C$1*INDEX(chancp!$F$1:$F$32,MATCH($A65,chancp!$S$1:$S$32,0)))","v":""},{"$f":"IF(ISNUMBER(G65),RANK(G65,G$2:G$100,1),\"\")","v":""},{"$f":"IF(ISNUMBER(G65),X64-D65,X64)","v":0},{"$f":"IF(AND(D65>0,D65<$F$1*V!$B$3,D65<X64),40+$A65,\"\")","v":{"$error":"#DIV/0!"}},"Alert",{"$f":"INDEX(chancs!$A$1:$A$32,MATCH($A65,chancs!$J$1:$J$32,0))","v":{"$error":"#N/A"}},{"$f":"IF(ISNA(I65),\"\",INDEX(chancs!$F$1:$F$32,MATCH($A65,chancs!$J$1:$J$32,0)))","v":""},{"$f":"IF(ISNUMBER(M65),RANK(M65,M$2:M$100,1),\"\")","v":""},{"$f":"IF(ISNUMBER(M65),F65-J65,F65)","v":0},{"$f":"IF(AND(J65>0,J65<$F$1*V!$B$3,J65<F65),10+$A65,\"\")","v":{"$error":"#DIV/0!"}},"Close Sale",{"$f":"INDEX(chanpp!$A$1:$A$32,MATCH($A65,chanpp!$S$1:$S$32,0))","v":{"$error":"#N/A"}},{"$f":"IF(ISNA(O65),\"\",$O$1*INDEX(chanpp!$F$1:$F$32,MATCH($A65,chanpp!$S$1:$S$32,0)))","v":""},{"$f":"IF(ISNUMBER(S65),RANK(S65,S$2:S$100,1),\"\")","v":""},{"$f":"IF(ISNUMBER(S65),L65-P65,L65)","v":0},{"$f":"IF(AND(P65>0,P65<$F$1*V!$B$4,P65<L65),40+$A65,\"\")","v":{"$error":"#DIV/0!"}},"Alert",{"$f":"INDEX(chanps!$A$1:$A$32,MATCH($A65,chanps!$J$1:$J$32,0))","v":{"$error":"#N/A"}},{"$f":"IF(ISNA(U65),\"\",INDEX(chanps!$F$1:$F$32,MATCH($A65,chanps!$J$1:$J$32,0)))","v":""},{"$f":"IF(ISNUMBER(Y65),RANK(Y65,Y$2:Y$100,1),\"\")","v":""},{"$f":"IF(ISNUMBER(Y65),R65-V65,R65)","v":0},{"$f":"IF(AND(V65>0,V65<$F$1*V!$B$4,V65<R65),10+$A65,\"\")","v":{"$error":"#DIV/0!"}}]
[]
[null,"Alert",{"$f":"INDEX(chancp!$A$1:$A$32,MATCH($A70,chancp!$J$1:$J$32,0))","v":{"$error":"#N/A"}},{"$f":"IF(ISNA(C67),\"\",$C$1*INDEX(chancp!$F$1:$F$32,MATCH($A70,chancp!$J$1:$J$32,0)))","v":""},{"$f":"IF(ISNUMBER(G67),RANK(G67,G$2:G$100,1),\"\")","v":""},{"$f":"IF(ISNUMBER(G67),X65-D67,X65)","v":0},{"$f":"IF(AND(D67>0,D67<$F$1*V!$B$3,D67<X65),10+$A70,\"\")","v":{"$error":"#DIV/0!"}},"Close Sale",{"$f":"INDEX(chancs!$A$1:$A$32,MATCH($A70,chancs!$S$1:$S$32,0))","v":{"$error":"#N/A"}},{"$f":"IF(ISNA(I67),\"\",INDEX(chancs!$F$1:$F$32,MATCH($A70,chancs!$S$1:$S$32,0)))","v":""},{"$f":"IF(ISNUMBER(M67),RANK(M67,M$2:M$100,1),\"\")","v":""},{"$f":"IF(ISNUMBER(M67),F67-J67,F67)","v":0},{"$f":"IF(AND(J67>0,J67<$F$1*V!$B$3,J67<F67),40+$A70,\"\")","v":{"$error":"#DIV/0!"}},"Alert",{"$f":"INDEX(chanpp!$A$1:$A$32,MATCH($A70,chanpp!$J$1:$J$32,0))","v":{"$error":"#N/A"}},{"$f":"IF(ISNA(O67),\"\",$O$1*INDEX(chanpp!$F$1:$F$32,MATCH($A70,chanpp!$J$1:$J$32,0)))","v":""},{"$f":"IF(ISNUMBER(S67),RANK(S67,S$2:S$100,1),\"\")","v":""},{"$f":"IF(ISNUMBER(S67),L67-P67,L67)","v":0},{"$f":"IF(AND(P67>0,P67<$F$1*V!$B$4,P67<L67),10+$A70,\"\")","v":{"$error":"#DIV/0!"}},"Close Sale",{"$f":"INDEX(chanps!$A$1:$A$32,MATCH($A70,chanps!$S$1:$S$32,0))","v":{"$error":"#N/A"}},{"$f":"IF(ISNA(U67),\"\",INDEX(chanps!$F$1:$F$32,MATCH($A70,chanps!$S$1:$S$32,0)))","v":""},{"$f":"IF(ISNUMBER(Y67),RANK(Y67,Y$2:Y$100,1),\"\")","v":""},{"$f":"IF(ISNUMBER(Y67),R67-V67,R67)","v":0},{"$f":"IF(AND(V67>0,V67<$F$1*V!$B$4,V67<R67),40+$A70,\"\")","v":{"$error":"#DIV/0!"}}]
[null,"Inform",{"$f":"INDEX(chancp!$A$1:$A$32,MATCH($A70,chancp!$M$1:$M$32,0))","v":{"$error":"#N/A"}},{"$f":"IF(ISNA(C68),\"\",$C$1*INDEX(chancp!$F$1:$F$32,MATCH($A70,chancp!$M$1:$M$32,0)))","v":""},{"$f":"IF(ISNUMBER(G68),RANK(G68,G$2:G$100,1),\"\")","v":""},{"$f":"IF(ISNUMBER(G68),X67-D68,X67)","v":0},{"$f":"IF(AND(D68>0,D68<$F$1*V!$B$3,D68<X67),20+$A70,\"\")","v":{"$error":"#DIV/0!"}},"Set App",{"$f":"INDEX(chancs!$A$1:$A$32,MATCH($A70,chancs!$P$1:$P$32,0))","v":{"$error":"#N/A"}},{"$f":"IF(ISNA(I68),\"\",INDEX(chancs!$F$1:$F$32,MATCH($A70,chancs!$P$1:$P$32,0)))","v":""},{"$f":"IF(ISNUMBER(M68),RANK(M68,M$2:M$100,1),\"\")","v":""},{"$f":"IF(ISNUMBER(M68),F68-J68,F68)","v":0},{"$f":"IF(AND(J68>0,J68<$F$1*V!$B$3,J68<F68),30+$A70,\"\")","v":{"$error":"#DIV/0!"}},"Inform",{"$f":"INDEX(chanpp!$A$1:$A$32,MATCH($A70,chanpp!$M$1:$M$32,0))","v":{"$error":"#N/A"}},{"$f":"IF(ISNA(O68),\"\",$O$1*INDEX(chanpp!$F$1:$F$32,MATCH($A70,chanpp!$M$1:$M$32,0)))","v":""},{"$f":"IF(ISNUMBER(S68),RANK(S68,S$2:S$100,1),\"\")","v":""},{"$f":"IF(ISNUMBER(S68),L68-P68,L68)","v":0},{"$f":"IF(AND(P68>0,P68<$F$1*V!$B$4,P68<L68),20+$A70,\"\")","v":{"$error":"#DIV/0!"}},"Set App",{"$f":"INDEX(chanps!$A$1:$A$32,MATCH($A70,chanps!$P$1:$P$32,0))","v":{"$error":"#N/A"}},{"$f":"IF(ISNA(U68),\"\",INDEX(chanps!$F$1:$F$32,MATCH($A70,chanps!$P$1:$P$32,0)))","v":""},{"$f":"IF(ISNUMBER(Y68),RANK(Y68,Y$2:Y$100,1),\"\")","v":""},{"$f":"IF(ISNUMBER(Y68),R68-V68,R68)","v":0},{"$f":"IF(AND(V68>0,V68<$F$1*V!$B$4,V68<R68),30+$A70,\"\")","v":{"$error":"#DIV/0!"}}]
["rank=","Set App",{"$f":"INDEX(chancp!$A$1:$A$32,MATCH($A70,chancp!$P$1:$P$32,0))","v":{"$error":"#N/A"}},{"$f":"IF(ISNA(C69),\"\",$C$1*INDEX(chancp!$F$1:$F$32,MATCH($A70,chancp!$P$1:$P$32,0)))","v":""},{"$f":"IF(ISNUMBER(G69),RANK(G69,G$2:G$100,1),\"\")","v":""},{"$f":"IF(ISNUMBER(G69),X68-D69,X68)","v":0},{"$f":"IF(AND(D69>0,D69<$F$1*V!$B$3,D69<X68),30+$A70,\"\")","v":{"$error":"#DIV/0!"}},"Inform",{"$f":"INDEX(chancs!$A$1:$A$32,MATCH($A70,chancs!$M$1:$M$32,0))","v":{"$error":"#N/A"}},{"$f":"IF(ISNA(I69),\"\",INDEX(chancs!$F$1:$F$32,MATCH($A70,chancs!$M$1:$M$32,0)))","v":""},{"$f":"IF(ISNUMBER(M69),RANK(M69,M$2:M$100,1),\"\")","v":""},{"$f":"IF(ISNUMBER(M69),F69-J69,F69)","v":0},{"$f":"IF(AND(J69>0,J69<$F$1*V!$B$3,J69<F69),20+$A70,\"\")","v":{"$error":"#DIV/0!"}},"Set App",{"$f":"INDEX(chanpp!$A$1:$A$32,MATCH($A70,chanpp!$P$1:$P$32,0))","v":{"$error":"#N/A"}},{"$f":"IF(ISNA(O69),\"\",$O$1*INDEX(chanpp!$F$1:$F$32,MATCH($A70,chanpp!$P$1:$P$32,0)))","v":""},{"$f":"IF(ISNUMBER(S69),RANK(S69,S$2:S$100,1),\"\")","v":""},{"$f":"IF(ISNUMBER(S69),L69-P69,L69)","v":0},{"$f":"IF(AND(P69>0,P69<$F$1*V!$B$4,P69<L69),30+$A70,\"\")","v":{"$error":"#DIV/0!"}},"Inform",{"$f":"INDEX(chanps!$A$1:$A$32,MATCH($A70,chanps!$M$1:$M$32,0))","v":{"$error":"#N/A"}},{"$f":"IF(ISNA(U69),\"\",INDEX(chanps!$F$1:$F$32,MATCH($A70,chanps!$M$1:$M$32,0)))","v":""},{"$f":"IF(ISNUMBER(Y69),RANK(Y69,Y$2:Y$100,1),\"\")","v":""},{"$f":"IF(ISNUMBER(Y69),R69-V69,R69)","v":0},{"$f":"IF(AND(V69>0,V69<$F$1*V!$B$4,V69<R69),20+$A70,\"\")","v":{"$error":"#DIV/0!"}}]
[{"$f":"A65+1","v":13},"Close Sale",{"$f":"INDEX(chancp!$A$1:$A$32,MATCH($A70,chancp!$S$1:$S$32,0))","v":{"$error":"#N/A"}},{"$f":"IF(ISNA(C70),\"\",$C$1*INDEX(chancp!$F$1:$F$32,MATCH($A70,chancp!$S$1:$S$32,0)))","v":""},{"$f":"IF(ISNUMBER(G70),RANK(G70,G$2:G$100,1),\"\")","v":""},{"$f":"IF(ISNUMBER(G70),X69-D70,X69)","v":0},{"$f":"IF(AND(D70>0,D70<$F$1*V!$B$3,D70<X69),40+$A70,\"\")","v":{"$error":"#DIV/0!"}},"Alert",{"$f":"INDEX(chancs!$A$1:$A$32,MATCH($A70,chancs!$J$1:$J$32,0))","v":{"$error":"#N/A"}},{"$f":"IF(ISNA(I70),\"\",INDEX(chancs!$F$1:$F$32,MATCH($A70,chancs!$J$1:$J$32,0)))","v":""},{"$f":"IF(ISNUMBER(M70),RANK(M70,M$2:M$100,1),\"\")","v":""},{"$f":"IF(ISNUMBER(M70),F70-J70,F70)","v":0},{"$f":"IF(AND(J70>0,J70<$F$1*V!$B$3,J70<F70),10+$A70,\"\")","v":{"$error":"#DIV/0!"}},"Close Sale",{"$f":"INDEX(chanpp!$A$1:$A$32,MATCH($A70,chanpp!$S$1:$S$32,0))","v":{"$error":"#N/A"}},{"$f":"IF(ISNA(O70),\"\",$O$1*INDEX(chanpp!$F$1:$F$32,MATCH($A70,chanpp!$S$1:$S$32,0)))","v":""},{"$f":"IF(ISNUMBER(S70),RANK(S70,S$2:S$100,1),\"\")","v":""},{"$f":"IF(ISNUMBER(S70),L70-P70,L70)","v":0},{"$f":"IF(AND(P70>0,P70<$F$1*V!$B$4,P70<L70),40+$A70,\"\")","v":{"$error":"#DIV/0!"}},"Alert",{"$f":"INDEX(chanps!$A$1:$A$32,MATCH($A70,chanps!$J$1:$J$32,0))","v":{"$error":"#N/A"}},{"$f":"IF(ISNA(U70),\"\",INDEX(chanps!$F$1:$F$32,MATCH($A70,chanps!$J$1:$J$32,0)))","v":""},{"$f":"IF(ISNUMBER(Y70),RANK(Y70,Y$2:Y$100,1),\"\")","v":""},{"$f":"IF(ISNUMBER(Y70),R70-V70,R70)","v":0},{"$f":"IF(AND(V70>0,V70<$F$1*V!$B$4,V70<R70),10+$A70,\"\")","v":{"$error":"#DIV/0!"}}]
[]
[null,"Alert",{"$f":"INDEX(chancp!$A$1:$A$32,MATCH($A75,chancp!$J$1:$J$32,0))","v":{"$error":"#N/A"}},{"$f":"IF(ISNA(C72),\"\",$C$1*INDEX(chancp!$F$1:$F$32,MATCH($A75,chancp!$J$1:$J$32,0)))","v":""},{"$f":"IF(ISNUMBER(G72),RANK(G72,G$2:G$100,1),\"\")","v":""},{"$f":"IF(ISNUMBER(G72),X70-D72,X70)","v":0},{"$f":"IF(AND(D72>0,D72<$F$1*V!$B$3,D72<X70),10+$A75,\"\")","v":{"$error":"#DIV/0!"}},"Close Sale",{"$f":"INDEX(chancs!$A$1:$A$32,MATCH($A75,chancs!$S$1:$S$32,0))","v":{"$error":"#N/A"}},{"$f":"IF(ISNA(I72),\"\",INDEX(chancs!$F$1:$F$32,MATCH($A75,chancs!$S$1:$S$32,0)))","v":""},{"$f":"IF(ISNUMBER(M72),RANK(M72,M$2:M$100,1),\"\")","v":""},{"$f":"IF(ISNUMBER(M72),F72-J72,F72)","v":0},{"$f":"IF(AND(J72>0,J72<$F$1*V!$B$3,J72<F72),40+$A75,\"\")","v":{"$error":"#DIV/0!"}},"Alert",{"$f":"INDEX(chanpp!$A$1:$A$32,MATCH($A75,chanpp!$J$1:$J$32,0))","v":{"$error":"#N/A"}},{"$f":"IF(ISNA(O72),\"\",$O$1*INDEX(chanpp!$F$1:$F$32,MATCH($A75,chanpp!$J$1:$J$32,0)))","v":""},{"$f":"IF(ISNUMBER(S72),RANK(S72,S$2:S$100,1),\"\")","v":""},{"$f":"IF(ISNUMBER(S72),L72-P72,L72)","v":0},{"$f":"IF(AND(P72>0,P72<$F$1*V!$B$4,P72<L72),10+$A75,\"\")","v":{"$error":"#DIV/0!"}},"Close Sale",{"$f":"INDEX(chanps!$A$1:$A$32,MATCH($A75,chanps!$S$1:$S$32,0))","v":{"$error":"#N/A"}},{"$f":"IF(ISNA(U72),\"\",INDEX(chanps!$F$1:$F$32,MATCH($A75,chanps!$S$1:$S$32,0)))","v":""},{"$f":"IF(ISNUMBER(Y72),RANK(Y72,Y$2:Y$100,1),\"\")","v":""},{"$f":"IF(ISNUMBER(Y72),R72-V72,R72)","v":0},{"$f":"IF(AND(V72>0,V72<$F$1*V!$B$4,V72<R72),40+$A75,\"\")","v":{"$error":"#DIV/0!"}}]
[null,"Inform",{"$f":"INDEX(chancp!$A$1:$A$32,MATCH($A75,chancp!$M$1:$M$32,0))","v":{"$error":"#N/A"}},{"$f":"IF(ISNA(C73),\"\",$C$1*INDEX(chancp!$F$1:$F$32,MATCH($A75,chancp!$M$1:$M$32,0)))","v":""},{"$f":"IF(ISNUMBER(G73),RANK(G73,G$2:G$100,1),\"\")","v":""},{"$f":"IF(ISNUMBER(G73),X72-D73,X72)","v":0},{"$f":"IF(AND(D73>0,D73<$F$1*V!$B$3,D73<X72),20+$A75,\"\")","v":{"$error":"#DIV/0!"}},"Set App",{"$f":"INDEX(chancs!$A$1:$A$32,MATCH($A75,chancs!$P$1:$P$32,0))","v":{"$error":"#N/A"}},{"$f":"IF(ISNA(I73),\"\",INDEX(chancs!$F$1:$F$32,MATCH($A75,chancs!$P$1:$P$32,0)))","v":""},{"$f":"IF(ISNUMBER(M73),RANK(M73,M$2:M$100,1),\"\")","v":""},{"$f":"IF(ISNUMBER(M73),F73-J73,F73)","v":0},{"$f":"IF(AND(J73>0,J73<$F$1*V!$B$3,J73<F73),30+$A75,\"\")","v":{"$error":"#DIV/0!"}},"Inform",{"$f":"INDEX(chanpp!$A$1:$A$32,MATCH($A75,chanpp!$M$1:$M$32,0))","v":{"$error":"#N/A"}},{"$f":"IF(ISNA(O73),\"\",$O$1*INDEX(chanpp!$F$1:$F$32,MATCH($A75,chanpp!$M$1:$M$32,0)))","v":""},{"$f":"IF(ISNUMBER(S73),RANK(S73,S$2:S$100,1),\"\")","v":""},{"$f":"IF(ISNUMBER(S73),L73-P73,L73)","v":0},{"$f":"IF(AND(P73>0,P73<$F$1*V!$B$4,P73<L73),20+$A75,\"\")","v":{"$error":"#DIV/0!"}},"Set App",{"$f":"INDEX(chanps!$A$1:$A$32,MATCH($A75,chanps!$P$1:$P$32,0))","v":{"$error":"#N/A"}},{"$f":"IF(ISNA(U73),\"\",INDEX(chanps!$F$1:$F$32,MATCH($A75,chanps!$P$1:$P$32,0)))","v":""},{"$f":"IF(ISNUMBER(Y73),RANK(Y73,Y$2:Y$100,1),\"\")","v":""},{"$f":"IF(ISNUMBER(Y73),R73-V73,R73)","v":0},{"$f":"IF(AND(V73>0,V73<$F$1*V!$B$4,V73<R73),30+$A75,\"\")","v":{"$error":"#DIV/0!"}}]
["rank=","Set App",{"$f":"INDEX(chancp!$A$1:$A$32,MATCH($A75,chancp!$P$1:$P$32,0))","v":{"$error":"#N/A"}},{"$f":"IF(ISNA(C74),\"\",$C$1*INDEX(chancp!$F$1:$F$32,MATCH($A75,chancp!$P$1:$P$32,0)))","v":""},{"$f":"IF(ISNUMBER(G74),RANK(G74,G$2:G$100,1),\"\")","v":""},{"$f":"IF(ISNUMBER(G74),X73-D74,X73)","v":0},{"$f":"IF(AND(D74>0,D74<$F$1*V!$B$3,D74<X73),30+$A75,\"\")","v":{"$error":"#DIV/0!"}},"Inform",{"$f":"INDEX(chancs!$A$1:$A$32,MATCH($A75,chancs!$M$1:$M$32,0))","v":{"$error":"#N/A"}},{"$f":"IF(ISNA(I74),\"\",INDEX(chancs!$F$1:$F$32,MATCH($A75,chancs!$M$1:$M$32,0)))","v":""},{"$f":"IF(ISNUMBER(M74),RANK(M74,M$2:M$100,1),\"\")","v":""},{"$f":"IF(ISNUMBER(M74),F74-J74,F74)","v":0},{"$f":"IF(AND(J74>0,J74<$F$1*V!$B$3,J74<F74),20+$A75,\"\")","v":{"$error":"#DIV/0!"}},"Set App",{"$f":"INDEX(chanpp!$A$1:$A$32,MATCH($A75,chanpp!$P$1:$P$32,0))","v":{"$error":"#N/A"}},{"$f":"IF(ISNA(O74),\"\",$O$1*INDEX(chanpp!$F$1:$F$32,MATCH($A75,chanpp!$P$1:$P$32,0)))","v":""},{"$f":"IF(ISNUMBER(S74),RANK(S74,S$2:S$100,1),\"\")","v":""},{"$f":"IF(ISNUMBER(S74),L74-P74,L74)","v":0},{"$f":"IF(AND(P74>0,P74<$F$1*V!$B$4,P74<L74),30+$A75,\"\")","v":{"$error":"#DIV/0!"}},"Inform",{"$f":"INDEX(chanps!$A$1:$A$32,MATCH($A75,chanps!$M$1:$M$32,0))","v":{"$error":"#N/A"}},{"$f":"IF(ISNA(U74),\"\",INDEX(chanps!$F$1:$F$32,MATCH($A75,chanps!$M$1:$M$32,0)))","v":""},{"$f":"IF(ISNUMBER(Y74),RANK(Y74,Y$2:Y$100,1),\"\")","v":""},{"$f":"IF(ISNUMBER(Y74),R74-V74,R74)","v":0},{"$f":"IF(AND(V74>0,V74<$F$1*V!$B$4,V74<R74),20+$A75,\"\")","v":{"$error":"#DIV/0!"}}]
[{"$f":"A70+1","v":14},"Close Sale",{"$f":"INDEX(chancp!$A$1:$A$32,MATCH($A75,chancp!$S$1:$S$32,0))","v":{"$error":"#N/A"}},{"$f":"IF(ISNA(C75),\"\",$C$1*INDEX(chancp!$F$1:$F$32,MATCH($A75,chancp!$S$1:$S$32,0)))","v":""},{"$f":"IF(ISNUMBER(G75),RANK(G75,G$2:G$100,1),\"\")","v":""},{"$f":"IF(ISNUMBER(G75),X74-D75,X74)","v":0},{"$f":"IF(AND(D75>0,D75<$F$1*V!$B$3,D75<X74),40+$A75,\"\")","v":{"$error":"#DIV/0!"}},"Alert",{"$f":"INDEX(chancs!$A$1:$A$32,MATCH($A75,chancs!$J$1:$J$32,0))","v":{"$error":"#N/A"}},{"$f":"IF(ISNA(I75),\"\",INDEX(chancs!$F$1:$F$32,MATCH($A75,chancs!$J$1:$J$32,0)))","v":""},{"$f":"IF(ISNUMBER(M75),RANK(M75,M$2:M$100,1),\"\")","v":""},{"$f":"IF(ISNUMBER(M75),F75-J75,F75)","v":0},{"$f":"IF(AND(J75>0,J75<$F$1*V!$B$3,J75<F75),10+$A75,\"\")","v":{"$error":"#DIV/0!"}},"Close Sale",{"$f":"INDEX(chanpp!$A$1:$A$32,MATCH($A75,chanpp!$S$1:$S$32,0))","v":{"$error":"#N/A"}},{"$f":"IF(ISNA(O75),\"\",$O$1*INDEX(chanpp!$F$1:$F$32,MATCH($A75,chanpp!$S$1:$S$32,0)))","v":""},{"$f":"IF(ISNUMBER(S75),RANK(S75,S$2:S$100,1),\"\")","v":""},{"$f":"IF(ISNUMBER(S75),L75-P75,L75)","v":0},{"$f":"IF(AND(P75>0,P75<$F$1*V!$B$4,P75<L75),40+$A75,\"\")","v":{"$error":"#DIV/0!"}},"Alert",{"$f":"INDEX(chanps!$A$1:$A$32,MATCH($A75,chanps!$J$1:$J$32,0))","v":{"$error":"#N/A"}},{"$f":"IF(ISNA(U75),\"\",INDEX(chanps!$F$1:$F$32,MATCH($A75,chanps!$J$1:$J$32,0)))","v":""},{"$f":"IF(ISNUMBER(Y75),RANK(Y75,Y$2:Y$100,1),\"\")","v":""},{"$f":"IF(ISNUMBER(Y75),R75-V75,R75)","v":0},{"$f":"IF(AND(V75>0,V75<$F$1*V!$B$4,V75<R75),10+$A75,\"\")","v":{"$error":"#DIV/0!"}}]
[]
[null,"Alert",{"$f":"INDEX(chancp!$A$1:$A$32,MATCH($A80,chancp!$J$1:$J$32,0))","v":{"$error":"#N/A"}},{"$f":"IF(ISNA(C77),\"\",$C$1*INDEX(chancp!$F$1:$F$32,MATCH($A80,chancp!$J$1:$J$32,0)))","v":""},{"$f":"IF(ISNUMBER(G77),RANK(G77,G$2:G$100,1),\"\")","v":""},{"$f":"IF(ISNUMBER(G77),X75-D77,X75)","v":0},{"$f":"IF(AND(D77>0,D77<$F$1*V!$B$3,D77<X75),10+$A80,\"\")","v":{"$error":"#DIV/0!"}},"Close Sale",{"$f":"INDEX(chancs!$A$1:$A$32,MATCH($A80,chancs!$S$1:$S$32,0))","v":{"$error":"#N/A"}},{"$f":"IF(ISNA(I77),\"\",INDEX(chancs!$F$1:$F$32,MATCH($A80,chancs!$S$1:$S$32,0)))","v":""},{"$f":"IF(ISNUMBER(M77),RANK(M77,M$2:M$100,1),\"\")","v":""},{"$f":"IF(ISNUMBER(M77),F77-J77,F77)","v":0},{"$f":"IF(AND(J77>0,J77<$F$1*V!$B$3,J77<F77),40+$A80,\"\")","v":{"$error":"#DIV/0!"}},"Alert",{"$f":"INDEX(chanpp!$A$1:$A$32,MATCH($A80,chanpp!$J$1:$J$32,0))","v":{"$error":"#N/A"}},{"$f":"IF(ISNA(O77),\"\",$O$1*INDEX(chanpp!$F$1:$F$32,MATCH($A80,chanpp!$J$1:$J$32,0)))","v":""},{"$f":"IF(ISNUMBER(S77),RANK(S77,S$2:S$100,1),\"\")","v":""},{"$f":"IF(ISNUMBER(S77),L77-P77,L77)","v":0},{"$f":"IF(AND(P77>0,P77<$F$1*V!$B$4,P77<L77),10+$A80,\"\")","v":{"$error":"#DIV/0!"}},"Close Sale",{"$f":"INDEX(chanps!$A$1:$A$32,MATCH($A80,chanps!$S$1:$S$32,0))","v":{"$error":"#N/A"}},{"$f":"IF(ISNA(U77),\"\",INDEX(chanps!$F$1:$F$32,MATCH($A80,chanps!$S$1:$S$32,0)))","v":""},{"$f":"IF(ISNUMBER(Y77),RANK(Y77,Y$2:Y$100,1),\"\")","v":""},{"$f":"IF(ISNUMBER(Y77),R77-V77,R77)","v":0},{"$f":"IF(AND(V77>0,V77<$F$1*V!$B$4,V77<R77),40+$A80,\"\")","v":{"$error":"#DIV/0!"}}]
[null,"Inform",{"$f":"INDEX(chancp!$A$1:$A$32,MATCH($A80,chancp!$M$1:$M$32,0))","v":{"$error":"#N/A"}},{"$f":"IF(ISNA(C78),\"\",$C$1*INDEX(chancp!$F$1:$F$32,MATCH($A80,chancp!$M$1:$M$32,0)))","v":""},{"$f":"IF(ISNUMBER(G78),RANK(G78,G$2:G$100,1),\"\")","v":""},{"$f":"IF(ISNUMBER(G78),X77-D78,X77)","v":0},{"$f":"IF(AND(D78>0,D78<$F$1*V!$B$3,D78<X77),20+$A80,\"\")","v":{"$error":"#DIV/0!"}},"Set App",{"$f":"INDEX(chancs!$A$1:$A$32,MATCH($A80,chancs!$P$1:$P$32,0))","v":{"$error":"#N/A"}},{"$f":"IF(ISNA(I78),\"\",INDEX(chancs!$F$1:$F$32,MATCH($A80,chancs!$P$1:$P$32,0)))","v":""},{"$f":"IF(ISNUMBER(M78),RANK(M78,M$2:M$100,1),\"\")","v":""},{"$f":"IF(ISNUMBER(M78),F78-J78,F78)","v":0},{"$f":"IF(AND(J78>0,J78<$F$1*V!$B$3,J78<F78),30+$A80,\"\")","v":{"$error":"#DIV/0!"}},"Inform",{"$f":"INDEX(chanpp!$A$1:$A$32,MATCH($A80,chanpp!$M$1:$M$32,0))","v":{"$error":"#N/A"}},{"$f":"IF(ISNA(O78),\"\",$O$1*INDEX(chanpp!$F$1:$F$32,MATCH($A80,chanpp!$M$1:$M$32,0)))","v":""},{"$f":"IF(ISNUMBER(S78),RANK(S78,S$2:S$100,1),\"\")","v":""},{"$f":"IF(ISNUMBER(S78),L78-P78,L78)","v":0},{"$f":"IF(AND(P78>0,P78<$F$1*V!$B$4,P78<L78),20+$A80,\"\")","v":{"$error":"#DIV/0!"}},"Set App",{"$f":"INDEX(chanps!$A$1:$A$32,MATCH($A80,chanps!$P$1:$P$32,0))","v":{"$error":"#N/A"}},{"$f":"IF(ISNA(U78),\"\",INDEX(chanps!$F$1:$F$32,MATCH($A80,chanps!$P$1:$P$32,0)))","v":""},{"$f":"IF(ISNUMBER(Y78),RANK(Y78,Y$2:Y$100,1),\"\")","v":""},{"$f":"IF(ISNUMBER(Y78),R78-V78,R78)","v":0},{"$f":"IF(AND(V78>0,V78<$F$1*V!$B$4,V78<R78),30+$A80,\"\")","v":{"$error":"#DIV/0!"}}]
["rank=","Set App",{"$f":"INDEX(chancp!$A$1:$A$32,MATCH($A80,chancp!$P$1:$P$32,0))","v":{"$error":"#N/A"}},{"$f":"IF(ISNA(C79),\"\",$C$1*INDEX(chancp!$F$1:$F$32,MATCH($A80,chancp!$P$1:$P$32,0)))","v":""},{"$f":"IF(ISNUMBER(G79),RANK(G79,G$2:G$100,1),\"\")","v":""},{"$f":"IF(ISNUMBER(G79),X78-D79,X78)","v":0},{"$f":"IF(AND(D79>0,D79<$F$1*V!$B$3,D79<X78),30+$A80,\"\")","v":{"$error":"#DIV/0!"}},"Inform",{"$f":"INDEX(chancs!$A$1:$A$32,MATCH($A80,chancs!$M$1:$M$32,0))","v":{"$error":"#N/A"}},{"$f":"IF(ISNA(I79),\"\",INDEX(chancs!$F$1:$F$32,MATCH($A80,chancs!$M$1:$M$32,0)))","v":""},{"$f":"IF(ISNUMBER(M79),RANK(M79,M$2:M$100,1),\"\")","v":""},{"$f":"IF(ISNUMBER(M79),F79-J79,F79)","v":0},{"$f":"IF(AND(J79>0,J79<$F$1*V!$B$3,J79<F79),20+$A80,\"\")","v":{"$error":"#DIV/0!"}},"Set App",{"$f":"INDEX(chanpp!$A$1:$A$32,MATCH($A80,chanpp!$P$1:$P$32,0))","v":{"$error":"#N/A"}},{"$f":"IF(ISNA(O79),\"\",$O$1*INDEX(chanpp!$F$1:$F$32,MATCH($A80,chanpp!$P$1:$P$32,0)))","v":""},{"$f":"IF(ISNUMBER(S79),RANK(S79,S$2:S$100,1),\"\")","v":""},{"$f":"IF(ISNUMBER(S79),L79-P79,L79)","v":0},{"$f":"IF(AND(P79>0,P79<$F$1*V!$B$4,P79<L79),30+$A80,\"\")","v":{"$error":"#DIV/0!"}},"Inform",{"$f":"INDEX(chanps!$A$1:$A$32,MATCH($A80,chanps!$M$1:$M$32,0))","v":{"$error":"#N/A"}},{"$f":"IF(ISNA(U79),\"\",INDEX(chanps!$F$1:$F$32,MATCH($A80,chanps!$M$1:$M$32,0)))","v":""},{"$f":"IF(ISNUMBER(Y79),RANK(Y79,Y$2:Y$100,1),\"\")","v":""},{"$f":"IF(ISNUMBER(Y79),R79-V79,R79)","v":0},{"$f":"IF(AND(V79>0,V79<$F$1*V!$B$4,V79<R79),20+$A80,\"\")","v":{"$error":"#DIV/0!"}}]
[{"$f":"A75+1","v":15},"Close Sale",{"$f":"INDEX(chancp!$A$1:$A$32,MATCH($A80,chancp!$S$1:$S$32,0))","v":{"$error":"#N/A"}},{"$f":"IF(ISNA(C80),\"\",$C$1*INDEX(chancp!$F$1:$F$32,MATCH($A80,chancp!$S$1:$S$32,0)))","v":""},{"$f":"IF(ISNUMBER(G80),RANK(G80,G$2:G$100,1),\"\")","v":""},{"$f":"IF(ISNUMBER(G80),X79-D80,X79)","v":0},{"$f":"IF(AND(D80>0,D80<$F$1*V!$B$3,D80<X79),40+$A80,\"\")","v":{"$error":"#DIV/0!"}},"Alert",{"$f":"INDEX(chancs!$A$1:$A$32,MATCH($A80,chancs!$J$1:$J$32,0))","v":{"$error":"#N/A"}},{"$f":"IF(ISNA(I80),\"\",INDEX(chancs!$F$1:$F$32,MATCH($A80,chancs!$J$1:$J$32,0)))","v":""},{"$f":"IF(ISNUMBER(M80),RANK(M80,M$2:M$100,1),\"\")","v":""},{"$f":"IF(ISNUMBER(M80),F80-J80,F80)","v":0},{"$f":"IF(AND(J80>0,J80<$F$1*V!$B$3,J80<F80),10+$A80,\"\")","v":{"$error":"#DIV/0!"}},"Close Sale",{"$f":"INDEX(chanpp!$A$1:$A$32,MATCH($A80,chanpp!$S$1:$S$32,0))","v":{"$error":"#N/A"}},{"$f":"IF(ISNA(O80),\"\",$O$1*INDEX(chanpp!$F$1:$F$32,MATCH($A80,chanpp!$S$1:$S$32,0)))","v":""},{"$f":"IF(ISNUMBER(S80),RANK(S80,S$2:S$100,1),\"\")","v":""},{"$f":"IF(ISNUMBER(S80),L80-P80,L80)","v":0},{"$f":"IF(AND(P80>0,P80<$F$1*V!$B$4,P80<L80),40+$A80,\"\")","v":{"$error":"#DIV/0!"}},"Alert",{"$f":"INDEX(chanps!$A$1:$A$32,MATCH($A80,chanps!$J$1:$J$32,0))","v":{"$error":"#N/A"}},{"$f":"IF(ISNA(U80),\"\",INDEX(chanps!$F$1:$F$32,MATCH($A80,chanps!$J$1:$J$32,0)))","v":""},{"$f":"IF(ISNUMBER(Y80),RANK(Y80,Y$2:Y$100,1),\"\")","v":""},{"$f":"IF(ISNUMBER(Y80),R80-V80,R80)","v":0},{"$f":"IF(AND(V80>0,V80<$F$1*V!$B$4,V80<R80),10+$A80,\"\")","v":{"$error":"#DIV/0!"}}]
[]
[null,"Alert",{"$f":"INDEX(chancp!$A$1:$A$32,MATCH($A85,chancp!$J$1:$J$32,0))","v":{"$error":"#N/A"}},{"$f":"IF(ISNA(C82),\"\",$C$1*INDEX(chancp!$F$1:$F$32,MATCH($A85,chancp!$J$1:$J$32,0)))","v":""},{"$f":"IF(ISNUMBER(G82),RANK(G82,G$2:G$100,1),\"\")","v":""},{"$f":"IF(ISNUMBER(G82),X80-D82,X80)","v":0},{"$f":"IF(AND(D82>0,D82<$F$1*V!$B$3,D82<X80),10+$A85,\"\")","v":{"$error":"#DIV/0!"}},"Close Sale",{"$f":"INDEX(chancs!$A$1:$A$32,MATCH($A85,chancs!$S$1:$S$32,0))","v":{"$error":"#N/A"}},{"$f":"IF(ISNA(I82),\"\",INDEX(chancs!$F$1:$F$32,MATCH($A85,chancs!$S$1:$S$32,0)))","v":""},{"$f":"IF(ISNUMBER(M82),RANK(M82,M$2:M$100,1),\"\")","v":""},{"$f":"IF(ISNUMBER(M82),F82-J82,F82)","v":0},{"$f":"IF(AND(J82>0,J82<$F$1*V!$B$3,J82<F82),40+$A85,\"\")","v":{"$error":"#DIV/0!"}},"Alert",{"$f":"INDEX(chanpp!$A$1:$A$32,MATCH($A85,chanpp!$J$1:$J$32,0))","v":{"$error":"#N/A"}},{"$f":"IF(ISNA(O82),\"\",$O$1*INDEX(chanpp!$F$1:$F$32,MATCH($A85,chanpp!$J$1:$J$32,0)))","v":""},{"$f":"IF(ISNUMBER(S82),RANK(S82,S$2:S$100,1),\"\")","v":""},{"$f":"IF(ISNUMBER(S82),L82-P82,L82)","v":0},{"$f":"IF(AND(P82>0,P82<$F$1*V!$B$4,P82<L82),10+$A85,\"\")","v":{"$error":"#DIV/0!"}},"Close Sale",{"$f":"INDEX(chanps!$A$1:$A$32,MATCH($A85,chanps!$S$1:$S$32,0))","v":{"$error":"#N/A"}},{"$f":"IF(ISNA(U82),\"\",INDEX(chanps!$F$1:$F$32,MATCH($A85,chanps!$S$1:$S$32,0)))","v":""},{"$f":"IF(ISNUMBER(Y82),RANK(Y82,Y$2:Y$100,1),\"\")","v":""},{"$f":"IF(ISNUMBER(Y82),R82-V82,R82)","v":0},{"$f":"IF(AND(V82>0,V82<$F$1*V!$B$4,V82<R82),40+$A85,\"\")","v":{"$error":"#DIV/0!"}}]
[null,"Inform",{"$f":"INDEX(chancp!$A$1:$A$32,MATCH($A85,chancp!$M$1:$M$32,0))","v":{"$error":"#N/A"}},{"$f":"IF(ISNA(C83),\"\",$C$1*INDEX(chancp!$F$1:$F$32,MATCH($A85,chancp!$M$1:$M$32,0)))","v":""},{"$f":"IF(ISNUMBER(G83),RANK(G83,G$2:G$100,1),\"\")","v":""},{"$f":"IF(ISNUMBER(G83),X82-D83,X82)","v":0},{"$f":"IF(AND(D83>0,D83<$F$1*V!$B$3,D83<X82),20+$A85,\"\")","v":{"$error":"#DIV/0!"}},"Set App",{"$f":"INDEX(chancs!$A$1:$A$32,MATCH($A85,chancs!$P$1:$P$32,0))","v":{"$error":"#N/A"}},{"$f":"IF(ISNA(I83),\"\",INDEX(chancs!$F$1:$F$32,MATCH($A85,chancs!$P$1:$P$32,0)))","v":""},{"$f":"IF(ISNUMBER(M83),RANK(M83,M$2:M$100,1),\"\")","v":""},{"$f":"IF(ISNUMBER(M83),F83-J83,F83)","v":0},{"$f":"IF(AND(J83>0,J83<$F$1*V!$B$3,J83<F83),30+$A85,\"\")","v":{"$error":"#DIV/0!"}},"Inform",{"$f":"INDEX(chanpp!$A$1:$A$32,MATCH($A85,chanpp!$M$1:$M$32,0))","v":{"$error":"#N/A"}},{"$f":"IF(ISNA(O83),\"\",$O$1*INDEX(chanpp!$F$1:$F$32,MATCH($A85,chanpp!$M$1:$M$32,0)))","v":""},{"$f":"IF(ISNUMBER(S83),RANK(S83,S$2:S$100,1),\"\")","v":""},{"$f":"IF(ISNUMBER(S83),L83-P83,L83)","v":0},{"$f":"IF(AND(P83>0,P83<$F$1*V!$B$4,P83<L83),20+$A85,\"\")","v":{"$error":"#DIV/0!"}},"Set App",{"$f":"INDEX(chanps!$A$1:$A$32,MATCH($A85,chanps!$P$1:$P$32,0))","v":{"$error":"#N/A"}},{"$f":"IF(ISNA(U83),\"\",INDEX(chanps!$F$1:$F$32,MATCH($A85,chanps!$P$1:$P$32,0)))","v":""},{"$f":"IF(ISNUMBER(Y83),RANK(Y83,Y$2:Y$100,1),\"\")","v":""},{"$f":"IF(ISNUMBER(Y83),R83-V83,R83)","v":0},{"$f":"IF(AND(V83>0,V83<$F$1*V!$B$4,V83<R83),30+$A85,\"\")","v":{"$error":"#DIV/0!"}}]
["rank=","Set App",{"$f":"INDEX(chancp!$A$1:$A$32,MATCH($A85,chancp!$P$1:$P$32,0))","v":{"$error":"#N/A"}},{"$f":"IF(ISNA(C84),\"\",$C$1*INDEX(chancp!$F$1:$F$32,MATCH($A85,chancp!$P$1:$P$32,0)))","v":""},{"$f":"IF(ISNUMBER(G84),RANK(G84,G$2:G$100,1),\"\")","v":""},{"$f":"IF(ISNUMBER(G84),X83-D84,X83)","v":0},{"$f":"IF(AND(D84>0,D84<$F$1*V!$B$3,D84<X83),30+$A85,\"\")","v":{"$error":"#DIV/0!"}},"Inform",{"$f":"INDEX(chancs!$A$1:$A$32,MATCH($A85,chancs!$M$1:$M$32,0))","v":{"$error":"#N/A"}},{"$f":"IF(ISNA(I84),\"\",INDEX(chancs!$F$1:$F$32,MATCH($A85,chancs!$M$1:$M$32,0)))","v":""},{"$f":"IF(ISNUMBER(M84),RANK(M84,M$2:M$100,1),\"\")","v":""},{"$f":"IF(ISNUMBER(M84),F84-J84,F84)","v":0},{"$f":"IF(AND(J84>0,J84<$F$1*V!$B$3,J84<F84),20+$A85,\"\")","v":{"$error":"#DIV/0!"}},"Set App",{"$f":"INDEX(chanpp!$A$1:$A$32,MATCH($A85,chanpp!$P$1:$P$32,0))","v":{"$error":"#N/A"}},{"$f":"IF(ISNA(O84),\"\",$O$1*INDEX(chanpp!$F$1:$F$32,MATCH($A85,chanpp!$P$1:$P$32,0)))","v":""},{"$f":"IF(ISNUMBER(S84),RANK(S84,S$2:S$100,1),\"\")","v":""},{"$f":"IF(ISNUMBER(S84),L84-P84,L84)","v":0},{"$f":"IF(AND(P84>0,P84<$F$1*V!$B$4,P84<L84),30+$A85,\"\")","v":{"$error":"#DIV/0!"}},"Inform",{"$f":"INDEX(chanps!$A$1:$A$32,MATCH($A85,chanps!$M$1:$M$32,0))","v":{"$error":"#N/A"}},{"$f":"IF(ISNA(U84),\"\",INDEX(chanps!$F$1:$F$32,MATCH($A85,chanps!$M$1:$M$32,0)))","v":""},{"$f":"IF(ISNUMBER(Y84),RANK(Y84,Y$2:Y$100,1),\"\")","v":""},{"$f":"IF(ISNUMBER(Y84),R84-V84,R84)","v":0},{"$f":"IF(AND(V84>0,V84<$F$1*V!$B$4,V84<R84),20+$A85,\"\")","v":{"$error":"#DIV/0!"}}]
[{"$f":"A80+1","v":16},"Close Sale",{"$f":"INDEX(chancp!$A$1:$A$32,MATCH($A85,chancp!$S$1:$S$32,0))","v":{"$error":"#N/A"}},{"$f":"IF(ISNA(C85),\"\",$C$1*INDEX(chancp!$F$1:$F$32,MATCH($A85,chancp!$S$1:$S$32,0)))","v":""},{"$f":"IF(ISNUMBER(G85),RANK(G85,G$2:G$100,1),\"\")","v":""},{"$f":"IF(ISNUMBER(G85),X84-D85,X84)","v":0},{"$f":"IF(AND(D85>0,D85<$F$1*V!$B$3,D85<X84),40+$A85,\"\")","v":{"$error":"#DIV/0!"}},"Alert",{"$f":"INDEX(chancs!$A$1:$A$32,MATCH($A85,chancs!$J$1:$J$32,0))","v":{"$error":"#N/A"}},{"$f":"IF(ISNA(I85),\"\",INDEX(chancs!$F$1:$F$32,MATCH($A85,chancs!$J$1:$J$32,0)))","v":""},{"$f":"IF(ISNUMBER(M85),RANK(M85,M$2:M$100,1),\"\")","v":""},{"$f":"IF(ISNUMBER(M85),F85-J85,F85)","v":0},{"$f":"IF(AND(J85>0,J85<$F$1*V!$B$3,J85<F85),10+$A85,\"\")","v":{"$error":"#DIV/0!"}},"Close Sale",{"$f":"INDEX(chanpp!$A$1:$A$32,MATCH($A85,chanpp!$S$1:$S$32,0))","v":{"$error":"#N/A"}},{"$f":"IF(ISNA(O85),\"\",$O$1*INDEX(chanpp!$F$1:$F$32,MATCH($A85,chanpp!$S$1:$S$32,0)))","v":""},{"$f":"IF(ISNUMBER(S85),RANK(S85,S$2:S$100,1),\"\")","v":""},{"$f":"IF(ISNUMBER(S85),L85-P85,L85)","v":0},{"$f":"IF(AND(P85>0,P85<$F$1*V!$B$4,P85<L85),40+$A85,\"\")","v":{"$error":"#DIV/0!"}},"Alert",{"$f":"INDEX(chanps!$A$1:$A$32,MATCH($A85,chanps!$J$1:$J$32,0))","v":{"$error":"#N/A"}},{"$f":"IF(ISNA(U85),\"\",INDEX(chanps!$F$1:$F$32,MATCH($A85,chanps!$J$1:$J$32,0)))","v":""},{"$f":"IF(ISNUMBER(Y85),RANK(Y85,Y$2:Y$100,1),\"\")","v":""},{"$f":"IF(ISNUMBER(Y85),R85-V85,R85)","v":0},{"$f":"IF(AND(V85>0,V85<$F$1*V!$B$4,V85<R85),10+$A85,\"\")","v":{"$error":"#DIV/0!"}}]
[]
[null,"Alert",{"$f":"INDEX(chancp!$A$1:$A$32,MATCH($A90,chancp!$J$1:$J$32,0))","v":{"$error":"#N/A"}},{"$f":"IF(ISNA(C87),\"\",$C$1*INDEX(chancp!$F$1:$F$32,MATCH($A90,chancp!$J$1:$J$32,0)))","v":""},{"$f":"IF(ISNUMBER(G87),RANK(G87,G$2:G$100,1),\"\")","v":""},{"$f":"IF(ISNUMBER(G87),X85-D87,X85)","v":0},{"$f":"IF(AND(D87>0,D87<$F$1*V!$B$3,D87<X85),10+$A90,\"\")","v":{"$error":"#DIV/0!"}},"Close Sale",{"$f":"INDEX(chancs!$A$1:$A$32,MATCH($A90,chancs!$S$1:$S$32,0))","v":{"$error":"#N/A"}},{"$f":"IF(ISNA(I87),\"\",INDEX(chancs!$F$1:$F$32,MATCH($A90,chancs!$S$1:$S$32,0)))","v":""},{"$f":"IF(ISNUMBER(M87),RANK(M87,M$2:M$100,1),\"\")","v":""},{"$f":"IF(ISNUMBER(M87),F87-J87,F87)","v":0},{"$f":"IF(AND(J87>0,J87<$F$1*V!$B$3,J87<F87),40+$A90,\"\")","v":{"$error":"#DIV/0!"}},"Alert",{"$f":"INDEX(chanpp!$A$1:$A$32,MATCH($A90,chanpp!$J$1:$J$32,0))","v":{"$error":"#N/A"}},{"$f":"IF(ISNA(O87),\"\",$O$1*INDEX(chanpp!$F$1:$F$32,MATCH($A90,chanpp!$J$1:$J$32,0)))","v":""},{"$f":"IF(ISNUMBER(S87),RANK(S87,S$2:S$100,1),\"\")","v":""},{"$f":"IF(ISNUMBER(S87),L87-P87,L87)","v":0},{"$f":"IF(AND(P87>0,P87<$F$1*V!$B$4,P87<L87),10+$A90,\"\")","v":{"$error":"#DIV/0!"}},"Close Sale",{"$f":"INDEX(chanps!$A$1:$A$32,MATCH($A90,chanps!$S$1:$S$32,0))","v":{"$error":"#N/A"}},{"$f":"IF(ISNA(U87),\"\",INDEX(chanps!$F$1:$F$32,MATCH($A90,chanps!$S$1:$S$32,0)))","v":""},{"$f":"IF(ISNUMBER(Y87),RANK(Y87,Y$2:Y$100,1),\"\")","v":""},{"$f":"IF(ISNUMBER(Y87),R87-V87,R87)","v":0},{"$f":"IF(AND(V87>0,V87<$F$1*V!$B$4,V87<R87),40+$A90,\"\")","v":{"$error":"#DIV/0!"}}]
[null,"Inform",{"$f":"INDEX(chancp!$A$1:$A$32,MATCH($A90,chancp!$M$1:$M$32,0))","v":{"$error":"#N/A"}},{"$f":"IF(ISNA(C88),\"\",$C$1*INDEX(chancp!$F$1:$F$32,MATCH($A90,chancp!$M$1:$M$32,0)))","v":""},{"$f":"IF(ISNUMBER(G88),RANK(G88,G$2:G$100,1),\"\")","v":""},{"$f":"IF(ISNUMBER(G88),X87-D88,X87)","v":0},{"$f":"IF(AND(D88>0,D88<$F$1*V!$B$3,D88<X87),20+$A90,\"\")","v":{"$error":"#DIV/0!"}},"Set App",{"$f":"INDEX(chancs!$A$1:$A$32,MATCH($A90,chancs!$P$1:$P$32,0))","v":{"$error":"#N/A"}},{"$f":"IF(ISNA(I88),\"\",INDEX(chancs!$F$1:$F$32,MATCH($A90,chancs!$P$1:$P$32,0)))","v":""},{"$f":"IF(ISNUMBER(M88),RANK(M88,M$2:M$100,1),\"\")","v":""},{"$f":"IF(ISNUMBER(M88),F88-J88,F88)","v":0},{"$f":"IF(AND(J88>0,J88<$F$1*V!$B$3,J88<F88),30+$A90,\"\")","v":{"$error":"#DIV/0!"}},"Inform",{"$f":"INDEX(chanpp!$A$1:$A$32,MATCH($A90,chanpp!$M$1:$M$32,0))","v":{"$error":"#N/A"}},{"$f":"IF(ISNA(O88),\"\",$O$1*INDEX(chanpp!$F$1:$F$32,MATCH($A90,chanpp!$M$1:$M$32,0)))","v":""},{"$f":"IF(ISNUMBER(S88),RANK(S88,S$2:S$100,1),\"\")","v":""},{"$f":"IF(ISNUMBER(S88),L88-P88,L88)","v":0},{"$f":"IF(AND(P88>0,P88<$F$1*V!$B$4,P88<L88),20+$A90,\"\")","v":{"$error":"#DIV/0!"}},"Set App",{"$f":"INDEX(chanps!$A$1:$A$32,MATCH($A90,chanps!$P$1:$P$32,0))","v":{"$error":"#N/A"}},{"$f":"IF(ISNA(U88),\"\",INDEX(chanps!$F$1:$F$32,MATCH($A90,chanps!$P$1:$P$32,0)))","v":""},{"$f":"IF(ISNUMBER(Y88),RANK(Y88,Y$2:Y$100,1),\"\")","v":""},{"$f":"IF(ISNUMBER(Y88),R88-V88,R88)","v":0},{"$f":"IF(AND(V88>0,V88<$F$1*V!$B$4,V88<R88),30+$A90,\"\")","v":{"$error":"#DIV/0!"}}]
["rank=","Set App",{"$f":"INDEX(chancp!$A$1:$A$32,MATCH($A90,chancp!$P$1:$P$32,0))","v":{"$error":"#N/A"}},{"$f":"IF(ISNA(C89),\"\",$C$1*INDEX(chancp!$F$1:$F$32,MATCH($A90,chancp!$P$1:$P$32,0)))","v":""},{"$f":"IF(ISNUMBER(G89),RANK(G89,G$2:G$100,1),\"\")","v":""},{"$f":"IF(ISNUMBER(G89),X88-D89,X88)","v":0},{"$f":"IF(AND(D89>0,D89<$F$1*V!$B$3,D89<X88),30+$A90,\"\")","v":{"$error":"#DIV/0!"}},"Inform",{"$f":"INDEX(chancs!$A$1:$A$32,MATCH($A90,chancs!$M$1:$M$32,0))","v":{"$error":"#N/A"}},{"$f":"IF(ISNA(I89),\"\",INDEX(chancs!$F$1:$F$32,MATCH($A90,chancs!$M$1:$M$32,0)))","v":""},{"$f":"IF(ISNUMBER(M89),RANK(M89,M$2:M$100,1),\"\")","v":""},{"$f":"IF(ISNUMBER(M89),F89-J89,F89)","v":0},{"$f":"IF(AND(J89>0,J89<$F$1*V!$B$3,J89<F89),20+$A90,\"\")","v":{"$error":"#DIV/0!"}},"Set App",{"$f":"INDEX(chanpp!$A$1:$A$32,MATCH($A90,chanpp!$P$1:$P$32,0))","v":{"$error":"#N/A"}},{"$f":"IF(ISNA(O89),\"\",$O$1*INDEX(chanpp!$F$1:$F$32,MATCH($A90,chanpp!$P$1:$P$32,0)))","v":""},{"$f":"IF(ISNUMBER(S89),RANK(S89,S$2:S$100,1),\"\")","v":""},{"$f":"IF(ISNUMBER(S89),L89-P89,L89)","v":0},{"$f":"IF(AND(P89>0,P89<$F$1*V!$B$4,P89<L89),30+$A90,\"\")","v":{"$error":"#DIV/0!"}},"Inform",{"$f":"INDEX(chanps!$A$1:$A$32,MATCH($A90,chanps!$M$1:$M$32,0))","v":{"$error":"#N/A"}},{"$f":"IF(ISNA(U89),\"\",INDEX(chanps!$F$1:$F$32,MATCH($A90,chanps!$M$1:$M$32,0)))","v":""},{"$f":"IF(ISNUMBER(Y89),RANK(Y89,Y$2:Y$100,1),\"\")","v":""},{"$f":"IF(ISNUMBER(Y89),R89-V89,R89)","v":0},{"$f":"IF(AND(V89>0,V89<$F$1*V!$B$4,V89<R89),20+$A90,\"\")","v":{"$error":"#DIV/0!"}}]
[{"$f":"A85+1","v":17},"Close Sale",{"$f":"INDEX(chancp!$A$1:$A$32,MATCH($A90,chancp!$S$1:$S$32,0))","v":{"$error":"#N/A"}},{"$f":"IF(ISNA(C90),\"\",$C$1*INDEX(chancp!$F$1:$F$32,MATCH($A90,chancp!$S$1:$S$32,0)))","v":""},{"$f":"IF(ISNUMBER(G90),RANK(G90,G$2:G$100,1),\"\")","v":""},{"$f":"IF(ISNUMBER(G90),X89-D90,X89)","v":0},{"$f":"IF(AND(D90>0,D90<$F$1*V!$B$3,D90<X89),40+$A90,\"\")","v":{"$error":"#DIV/0!"}},"Alert",{"$f":"INDEX(chancs!$A$1:$A$32,MATCH($A90,chancs!$J$1:$J$32,0))","v":{"$error":"#N/A"}},{"$f":"IF(ISNA(I90),\"\",INDEX(chancs!$F$1:$F$32,MATCH($A90,chancs!$J$1:$J$32,0)))","v":""},{"$f":"IF(ISNUMBER(M90),RANK(M90,M$2:M$100,1),\"\")","v":""},{"$f":"IF(ISNUMBER(M90),F90-J90,F90)","v":0},{"$f":"IF(AND(J90>0,J90<$F$1*V!$B$3,J90<F90),10+$A90,\"\")","v":{"$error":"#DIV/0!"}},"Close Sale",{"$f":"INDEX(chanpp!$A$1:$A$32,MATCH($A90,chanpp!$S$1:$S$32,0))","v":{"$error":"#N/A"}},{"$f":"IF(ISNA(O90),\"\",$O$1*INDEX(chanpp!$F$1:$F$32,MATCH($A90,chanpp!$S$1:$S$32,0)))","v":""},{"$f":"IF(ISNUMBER(S90),RANK(S90,S$2:S$100,1),\"\")","v":""},{"$f":"IF(ISNUMBER(S90),L90-P90,L90)","v":0},{"$f":"IF(AND(P90>0,P90<$F$1*V!$B$4,P90<L90),40+$A90,\"\")","v":{"$error":"#DIV/0!"}},"Alert",{"$f":"INDEX(chanps!$A$1:$A$32,MATCH($A90,chanps!$J$1:$J$32,0))","v":{"$error":"#N/A"}},{"$f":"IF(ISNA(U90),\"\",INDEX(chanps!$F$1:$F$32,MATCH($A90,chanps!$J$1:$J$32,0)))","v":""},{"$f":"IF(ISNUMBER(Y90),RANK(Y90,Y$2:Y$100,1),\"\")","v":""},{"$f":"IF(ISNUMBER(Y90),R90-V90,R90)","v":0},{"$f":"IF(AND(V90>0,V90<$F$1*V!$B$4,V90<R90),10+$A90,\"\")","v":{"$error":"#DIV/0!"}}]
[]
[null,"Alert",{"$f":"INDEX(chancp!$A$1:$A$32,MATCH($A95,chancp!$J$1:$J$32,0))","v":{"$error":"#N/A"}},{"$f":"IF(ISNA(C92),\"\",$C$1*INDEX(chancp!$F$1:$F$32,MATCH($A95,chancp!$J$1:$J$32,0)))","v":""},{"$f":"IF(ISNUMBER(G92),RANK(G92,G$2:G$100,1),\"\")","v":""},{"$f":"IF(ISNUMBER(G92),X90-D92,X90)","v":0},{"$f":"IF(AND(D92>0,D92<$F$1*V!$B$3,D92<X90),10+$A95,\"\")","v":{"$error":"#DIV/0!"}},"Close Sale",{"$f":"INDEX(chancs!$A$1:$A$32,MATCH($A95,chancs!$S$1:$S$32,0))","v":{"$error":"#N/A"}},{"$f":"IF(ISNA(I92),\"\",INDEX(chancs!$F$1:$F$32,MATCH($A95,chancs!$S$1:$S$32,0)))","v":""},{"$f":"IF(ISNUMBER(M92),RANK(M92,M$2:M$100,1),\"\")","v":""},{"$f":"IF(ISNUMBER(M92),F92-J92,F92)","v":0},{"$f":"IF(AND(J92>0,J92<$F$1*V!$B$3,J92<F92),40+$A95,\"\")","v":{"$error":"#DIV/0!"}},"Alert",{"$f":"INDEX(chanpp!$A$1:$A$32,MATCH($A95,chanpp!$J$1:$J$32,0))","v":{"$error":"#N/A"}},{"$f":"IF(ISNA(O92),\"\",$O$1*INDEX(chanpp!$F$1:$F$32,MATCH($A95,chanpp!$J$1:$J$32,0)))","v":""},{"$f":"IF(ISNUMBER(S92),RANK(S92,S$2:S$100,1),\"\")","v":""},{"$f":"IF(ISNUMBER(S92),L92-P92,L92)","v":0},{"$f":"IF(AND(P92>0,P92<$F$1*V!$B$4,P92<L92),10+$A95,\"\")","v":{"$error":"#DIV/0!"}},"Close Sale",{"$f":"INDEX(chanps!$A$1:$A$32,MATCH($A95,chanps!$S$1:$S$32,0))","v":{"$error":"#N/A"}},{"$f":"IF(ISNA(U92),\"\",INDEX(chanps!$F$1:$F$32,MATCH($A95,chanps!$S$1:$S$32,0)))","v":""},{"$f":"IF(ISNUMBER(Y92),RANK(Y92,Y$2:Y$100,1),\"\")","v":""},{"$f":"IF(ISNUMBER(Y92),R92-V92,R92)","v":0},{"$f":"IF(AND(V92>0,V92<$F$1*V!$B$4,V92<R92),40+$A95,\"\")","v":{"$error":"#DIV/0!"}}]
[null,"Inform",{"$f":"INDEX(chancp!$A$1:$A$32,MATCH($A95,chancp!$M$1:$M$32,0))","v":{"$error":"#N/A"}},{"$f":"IF(ISNA(C93),\"\",$C$1*INDEX(chancp!$F$1:$F$32,MATCH($A95,chancp!$M$1:$M$32,0)))","v":""},{"$f":"IF(ISNUMBER(G93),RANK(G93,G$2:G$100,1),\"\")","v":""},{"$f":"IF(ISNUMBER(G93),X92-D93,X92)","v":0},{"$f":"IF(AND(D93>0,D93<$F$1*V!$B$3,D93<X92),20+$A95,\"\")","v":{"$error":"#DIV/0!"}},"Set App",{"$f":"INDEX(chancs!$A$1:$A$32,MATCH($A95,chancs!$P$1:$P$32,0))","v":{"$error":"#N/A"}},{"$f":"IF(ISNA(I93),\"\",INDEX(chancs!$F$1:$F$32,MATCH($A95,chancs!$P$1:$P$32,0)))","v":""},{"$f":"IF(ISNUMBER(M93),RANK(M93,M$2:M$100,1),\"\")","v":""},{"$f":"IF(ISNUMBER(M93),F93-J93,F93)","v":0},{"$f":"IF(AND(J93>0,J93<$F$1*V!$B$3,J93<F93),30+$A95,\"\")","v":{"$error":"#DIV/0!"}},"Inform",{"$f":"INDEX(chanpp!$A$1:$A$32,MATCH($A95,chanpp!$M$1:$M$32,0))","v":{"$error":"#N/A"}},{"$f":"IF(ISNA(O93),\"\",$O$1*INDEX(chanpp!$F$1:$F$32,MATCH($A95,chanpp!$M$1:$M$32,0)))","v":""},{"$f":"IF(ISNUMBER(S93),RANK(S93,S$2:S$100,1),\"\")","v":""},{"$f":"IF(ISNUMBER(S93),L93-P93,L93)","v":0},{"$f":"IF(AND(P93>0,P93<$F$1*V!$B$4,P93<L93),20+$A95,\"\")","v":{"$error":"#DIV/0!"}},"Set App",{"$f":"INDEX(chanps!$A$1:$A$32,MATCH($A95,chanps!$P$1:$P$32,0))","v":{"$error":"#N/A"}},{"$f":"IF(ISNA(U93),\"\",INDEX(chanps!$F$1:$F$32,MATCH($A95,chanps!$P$1:$P$32,0)))","v":""},{"$f":"IF(ISNUMBER(Y93),RANK(Y93,Y$2:Y$100,1),\"\")","v":""},{"$f":"IF(ISNUMBER(Y93),R93-V93,R93)","v":0},{"$f":"IF(AND(V93>0,V93<$F$1*V!$B$4,V93<R93),30+$A95,\"\")","v":{"$error":"#DIV/0!"}}]
["rank=","Set App",{"$f":"INDEX(chancp!$A$1:$A$32,MATCH($A95,chancp!$P$1:$P$32,0))","v":{"$error":"#N/A"}},{"$f":"IF(ISNA(C94),\"\",$C$1*INDEX(chancp!$F$1:$F$32,MATCH($A95,chancp!$P$1:$P$32,0)))","v":""},{"$f":"IF(ISNUMBER(G94),RANK(G94,G$2:G$100,1),\"\")","v":""},{"$f":"IF(ISNUMBER(G94),X93-D94,X93)","v":0},{"$f":"IF(AND(D94>0,D94<$F$1*V!$B$3,D94<X93),30+$A95,\"\")","v":{"$error":"#DIV/0!"}},"Inform",{"$f":"INDEX(chancs!$A$1:$A$32,MATCH($A95,chancs!$M$1:$M$32,0))","v":{"$error":"#N/A"}},{"$f":"IF(ISNA(I94),\"\",INDEX(chancs!$F$1:$F$32,MATCH($A95,chancs!$M$1:$M$32,0)))","v":""},{"$f":"IF(ISNUMBER(M94),RANK(M94,M$2:M$100,1),\"\")","v":""},{"$f":"IF(ISNUMBER(M94),F94-J94,F94)","v":0},{"$f":"IF(AND(J94>0,J94<$F$1*V!$B$3,J94<F94),20+$A95,\"\")","v":{"$error":"#DIV/0!"}},"Set App",{"$f":"INDEX(chanpp!$A$1:$A$32,MATCH($A95,chanpp!$P$1:$P$32,0))","v":{"$error":"#N/A"}},{"$f":"IF(ISNA(O94),\"\",$O$1*INDEX(chanpp!$F$1:$F$32,MATCH($A95,chanpp!$P$1:$P$32,0)))","v":""},{"$f":"IF(ISNUMBER(S94),RANK(S94,S$2:S$100,1),\"\")","v":""},{"$f":"IF(ISNUMBER(S94),L94-P94,L94)","v":0},{"$f":"IF(AND(P94>0,P94<$F$1*V!$B$4,P94<L94),30+$A95,\"\")","v":{"$error":"#DIV/0!"}},"Inform",{"$f":"INDEX(chanps!$A$1:$A$32,MATCH($A95,chanps!$M$1:$M$32,0))","v":{"$error":"#N/A"}},{"$f":"IF(ISNA(U94),\"\",INDEX(chanps!$F$1:$F$32,MATCH($A95,chanps!$M$1:$M$32,0)))","v":""},{"$f":"IF(ISNUMBER(Y94),RANK(Y94,Y$2:Y$100,1),\"\")","v":""},{"$f":"IF(ISNUMBER(Y94),R94-V94,R94)","v":0},{"$f":"IF(AND(V94>0,V94<$F$1*V!$B$4,V94<R94),20+$A95,\"\")","v":{"$error":"#DIV/0!"}}]
[{"$f":"A90+1","v":18},"Close Sale",{"$f":"INDEX(chancp!$A$1:$A$32,MATCH($A95,chancp!$S$1:$S$32,0))","v":{"$error":"#N/A"}},{"$f":"IF(ISNA(C95),\"\",$C$1*INDEX(chancp!$F$1:$F$32,MATCH($A95,chancp!$S$1:$S$32,0)))","v":""},{"$f":"IF(ISNUMBER(G95),RANK(G95,G$2:G$100,1),\"\")","v":""},{"$f":"IF(ISNUMBER(G95),X94-D95,X94)","v":0},{"$f":"IF(AND(D95>0,D95<$F$1*V!$B$3,D95<X94),40+$A95,\"\")","v":{"$error":"#DIV/0!"}},"Alert",{"$f":"INDEX(chancs!$A$1:$A$32,MATCH($A95,chancs!$J$1:$J$32,0))","v":{"$error":"#N/A"}},{"$f":"IF(ISNA(I95),\"\",INDEX(chancs!$F$1:$F$32,MATCH($A95,chancs!$J$1:$J$32,0)))","v":""},{"$f":"IF(ISNUMBER(M95),RANK(M95,M$2:M$100,1),\"\")","v":""},{"$f":"IF(ISNUMBER(M95),F95-J95,F95)","v":0},{"$f":"IF(AND(J95>0,J95<$F$1*V!$B$3,J95<F95),10+$A95,\"\")","v":{"$error":"#DIV/0!"}},"Close Sale",{"$f":"INDEX(chanpp!$A$1:$A$32,MATCH($A95,chanpp!$S$1:$S$32,0))","v":{"$error":"#N/A"}},{"$f":"IF(ISNA(O95),\"\",$O$1*INDEX(chanpp!$F$1:$F$32,MATCH($A95,chanpp!$S$1:$S$32,0)))","v":""},{"$f":"IF(ISNUMBER(S95),RANK(S95,S$2:S$100,1),\"\")","v":""},{"$f":"IF(ISNUMBER(S95),L95-P95,L95)","v":0},{"$f":"IF(AND(P95>0,P95<$F$1*V!$B$4,P95<L95),40+$A95,\"\")","v":{"$error":"#DIV/0!"}},"Alert",{"$f":"INDEX(chanps!$A$1:$A$32,MATCH($A95,chanps!$J$1:$J$32,0))","v":{"$error":"#N/A"}},{"$f":"IF(ISNA(U95),\"\",INDEX(chanps!$F$1:$F$32,MATCH($A95,chanps!$J$1:$J$32,0)))","v":""},{"$f":"IF(ISNUMBER(Y95),RANK(Y95,Y$2:Y$100,1),\"\")","v":""},{"$f":"IF(ISNUMBER(Y95),R95-V95,R95)","v":0},{"$f":"IF(AND(V95>0,V95<$F$1*V!$B$4,V95<R95),10+$A95,\"\")","v":{"$error":"#DIV/0!"}}]
[]
[null,"Alert",{"$f":"INDEX(chancp!$A$1:$A$32,MATCH($A100,chancp!$J$1:$J$32,0))","v":{"$error":"#N/A"}},{"$f":"IF(ISNA(C97),\"\",$C$1*INDEX(chancp!$F$1:$F$32,MATCH($A100,chancp!$J$1:$J$32,0)))","v":""},{"$f":"IF(ISNUMBER(G97),RANK(G97,G$2:G$100,1),\"\")","v":""},{"$f":"IF(ISNUMBER(G97),X95-D97,X95)","v":0},{"$f":"IF(AND(D97>0,D97<$F$1*V!$B$3,D97<X95),10+$A100,\"\")","v":{"$error":"#DIV/0!"}},"Close Sale",{"$f":"INDEX(chancs!$A$1:$A$32,MATCH($A100,chancs!$S$1:$S$32,0))","v":{"$error":"#N/A"}},{"$f":"IF(ISNA(I97),\"\",INDEX(chancs!$F$1:$F$32,MATCH($A100,chancs!$S$1:$S$32,0)))","v":""},{"$f":"IF(ISNUMBER(M97),RANK(M97,M$2:M$100,1),\"\")","v":""},{"$f":"IF(ISNUMBER(M97),F97-J97,F97)","v":0},{"$f":"IF(AND(J97>0,J97<$F$1*V!$B$3,J97<F97),40+$A100,\"\")","v":{"$error":"#DIV/0!"}},"Alert",{"$f":"INDEX(chanpp!$A$1:$A$32,MATCH($A100,chanpp!$J$1:$J$32,0))","v":{"$error":"#N/A"}},{"$f":"IF(ISNA(O97),\"\",$O$1*INDEX(chanpp!$F$1:$F$32,MATCH($A100,chanpp!$J$1:$J$32,0)))","v":""},{"$f":"IF(ISNUMBER(S97),RANK(S97,S$2:S$100,1),\"\")","v":""},{"$f":"IF(ISNUMBER(S97),L97-P97,L97)","v":0},{"$f":"IF(AND(P97>0,P97<$F$1*V!$B$4,P97<L97),10+$A100,\"\")","v":{"$error":"#DIV/0!"}},"Close Sale",{"$f":"INDEX(chanps!$A$1:$A$32,MATCH($A100,chanps!$S$1:$S$32,0))","v":{"$error":"#N/A"}},{"$f":"IF(ISNA(U97),\"\",INDEX(chanps!$F$1:$F$32,MATCH($A100,chanps!$S$1:$S$32,0)))","v":""},{"$f":"IF(ISNUMBER(Y97),RANK(Y97,Y$2:Y$100,1),\"\")","v":""},{"$f":"IF(ISNUMBER(Y97),R97-V97,R97)","v":0},{"$f":"IF(AND(V97>0,V97<$F$1*V!$B$4,V97<R97),40+$A100,\"\")","v":{"$error":"#DIV/0!"}}]
[null,"Inform",{"$f":"INDEX(chancp!$A$1:$A$32,MATCH($A100,chancp!$M$1:$M$32,0))","v":{"$error":"#N/A"}},{"$f":"IF(ISNA(C98),\"\",$C$1*INDEX(chancp!$F$1:$F$32,MATCH($A100,chancp!$M$1:$M$32,0)))","v":""},{"$f":"IF(ISNUMBER(G98),RANK(G98,G$2:G$100,1),\"\")","v":""},{"$f":"IF(ISNUMBER(G98),X97-D98,X97)","v":0},{"$f":"IF(AND(D98>0,D98<$F$1*V!$B$3,D98<X97),20+$A100,\"\")","v":{"$error":"#DIV/0!"}},"Set App",{"$f":"INDEX(chancs!$A$1:$A$32,MATCH($A100,chancs!$P$1:$P$32,0))","v":{"$error":"#N/A"}},{"$f":"IF(ISNA(I98),\"\",INDEX(chancs!$F$1:$F$32,MATCH($A100,chancs!$P$1:$P$32,0)))","v":""},{"$f":"IF(ISNUMBER(M98),RANK(M98,M$2:M$100,1),\"\")","v":""},{"$f":"IF(ISNUMBER(M98),F98-J98,F98)","v":0},{"$f":"IF(AND(J98>0,J98<$F$1*V!$B$3,J98<F98),30+$A100,\"\")","v":{"$error":"#DIV/0!"}},"Inform",{"$f":"INDEX(chanpp!$A$1:$A$32,MATCH($A100,chanpp!$M$1:$M$32,0))","v":{"$error":"#N/A"}},{"$f":"IF(ISNA(O98),\"\",$O$1*INDEX(chanpp!$F$1:$F$32,MATCH($A100,chanpp!$M$1:$M$32,0)))","v":""},{"$f":"IF(ISNUMBER(S98),RANK(S98,S$2:S$100,1),\"\")","v":""},{"$f":"IF(ISNUMBER(S98),L98-P98,L98)","v":0},{"$f":"IF(AND(P98>0,P98<$F$1*V!$B$4,P98<L98),20+$A100,\"\")","v":{"$error":"#DIV/0!"}},"Set App",{"$f":"INDEX(chanps!$A$1:$A$32,MATCH($A100,chanps!$P$1:$P$32,0))","v":{"$error":"#N/A"}},{"$f":"IF(ISNA(U98),\"\",INDEX(chanps!$F$1:$F$32,MATCH($A100,chanps!$P$1:$P$32,0)))","v":""},{"$f":"IF(ISNUMBER(Y98),RANK(Y98,Y$2:Y$100,1),\"\")","v":""},{"$f":"IF(ISNUMBER(Y98),R98-V98,R98)","v":0},{"$f":"IF(AND(V98>0,V98<$F$1*V!$B$4,V98<R98),30+$A100,\"\")","v":{"$error":"#DIV/0!"}}]
["rank=","Set App",{"$f":"INDEX(chancp!$A$1:$A$32,MATCH($A100,chancp!$P$1:$P$32,0))","v":{"$error":"#N/A"}},{"$f":"IF(ISNA(C99),\"\",$C$1*INDEX(chancp!$F$1:$F$32,MATCH($A100,chancp!$P$1:$P$32,0)))","v":""},{"$f":"IF(ISNUMBER(G99),RANK(G99,G$2:G$100,1),\"\")","v":""},{"$f":"IF(ISNUMBER(G99),X98-D99,X98)","v":0},{"$f":"IF(AND(D99>0,D99<$F$1*V!$B$3,D99<X98),30+$A100,\"\")","v":{"$error":"#DIV/0!"}},"Inform",{"$f":"INDEX(chancs!$A$1:$A$32,MATCH($A100,chancs!$M$1:$M$32,0))","v":{"$error":"#N/A"}},{"$f":"IF(ISNA(I99),\"\",INDEX(chancs!$F$1:$F$32,MATCH($A100,chancs!$M$1:$M$32,0)))","v":""},{"$f":"IF(ISNUMBER(M99),RANK(M99,M$2:M$100,1),\"\")","v":""},{"$f":"IF(ISNUMBER(M99),F99-J99,F99)","v":0},{"$f":"IF(AND(J99>0,J99<$F$1*V!$B$3,J99<F99),20+$A100,\"\")","v":{"$error":"#DIV/0!"}},"Set App",{"$f":"INDEX(chanpp!$A$1:$A$32,MATCH($A100,chanpp!$P$1:$P$32,0))","v":{"$error":"#N/A"}},{"$f":"IF(ISNA(O99),\"\",$O$1*INDEX(chanpp!$F$1:$F$32,MATCH($A100,chanpp!$P$1:$P$32,0)))","v":""},{"$f":"IF(ISNUMBER(S99),RANK(S99,S$2:S$100,1),\"\")","v":""},{"$f":"IF(ISNUMBER(S99),L99-P99,L99)","v":0},{"$f":"IF(AND(P99>0,P99<$F$1*V!$B$4,P99<L99),30+$A100,\"\")","v":{"$error":"#DIV/0!"}},"Inform",{"$f":"INDEX(chanps!$A$1:$A$32,MATCH($A100,chanps!$M$1:$M$32,0))","v":{"$error":"#N/A"}},{"$f":"IF(ISNA(U99),\"\",INDEX(chanps!$F$1:$F$32,MATCH($A100,chanps!$M$1:$M$32,0)))","v":""},{"$f":"IF(ISNUMBER(Y99),RANK(Y99,Y$2:Y$100,1),\"\")","v":""},{"$f":"IF(ISNUMBER(Y99),R99-V99,R99)","v":0},{"$f":"IF(AND(V99>0,V99<$F$1*V!$B$4,V99<R99),20+$A100,\"\")","v":{"$error":"#DIV/0!"}}]
[{"$f":"A95+1","v":19},"Close Sale",{"$f":"INDEX(chancp!$A$1:$A$32,MATCH($A100,chancp!$S$1:$S$32,0))","v":{"$error":"#N/A"}},{"$f":"IF(ISNA(C100),\"\",$C$1*INDEX(chancp!$F$1:$F$32,MATCH($A100,chancp!$S$1:$S$32,0)))","v":""},{"$f":"IF(ISNUMBER(G100),RANK(G100,G$2:G$100,1),\"\")","v":""},{"$f":"IF(ISNUMBER(G100),X99-D100,X99)","v":0},{"$f":"IF(AND(D100>0,D100<$F$1*V!$B$3,D100<X99),40+$A100,\"\")","v":{"$error":"#DIV/0!"}},"Alert",{"$f":"INDEX(chancs!$A$1:$A$32,MATCH($A100,chancs!$J$1:$J$32,0))","v":{"$error":"#N/A"}},{"$f":"IF(ISNA(I100),\"\",INDEX(chancs!$F$1:$F$32,MATCH($A100,chancs!$J$1:$J$32,0)))","v":""},{"$f":"IF(ISNUMBER(M100),RANK(M100,M$2:M$100,1),\"\")","v":""},{"$f":"IF(ISNUMBER(M100),F100-J100,F100)","v":0},{"$f":"IF(AND(J100>0,J100<$F$1*V!$B$3,J100<F100),10+$A100,\"\")","v":{"$error":"#DIV/0!"}},"Close Sale",{"$f":"INDEX(chanpp!$A$1:$A$32,MATCH($A100,chanpp!$S$1:$S$32,0))","v":{"$error":"#N/A"}},{"$f":"IF(ISNA(O100),\"\",$O$1*INDEX(chanpp!$F$1:$F$32,MATCH($A100,chanpp!$S$1:$S$32,0)))","v":""},{"$f":"IF(ISNUMBER(S100),RANK(S100,S$2:S$100,1),\"\")","v":""},{"$f":"IF(ISNUMBER(S100),L100-P100,L100)","v":0},{"$f":"IF(AND(P100>0,P100<$F$1*V!$B$4,P100<L100),40+$A100,\"\")","v":{"$error":"#DIV/0!"}},"Alert",{"$f":"INDEX(chanps!$A$1:$A$32,MATCH($A100,chanps!$J$1:$J$32,0))","v":{"$error":"#N/A"}},{"$f":"IF(ISNA(U100),\"\",INDEX(chanps!$F$1:$F$32,MATCH($A100,chanps!$J$1:$J$32,0)))","v":""},{"$f":"IF(ISNUMBER(Y100),RANK(Y100,Y$2:Y$100,1),\"\")","v":""},{"$f":"IF(ISNUMBER(Y100),R100-V100,R100)","v":0},{"$f":"IF(AND(V100>0,V100<$F$1*V!$B$4,V100<R100),10+$A100,\"\")","v":{"$error":"#DIV/0!"}}]

{"sheet":"costsum","index":10,"n_rows":85,"n_cols":8,"rows_kept":85,"cut":false,"hidden":true,"merged":[]}
[null,null,"TOTAL BUDGET (Pounds)",{"$f":"SUM(D3:D22)+SUM(D24:D43)+SUM(D45:D64)+SUM(D66:D85)","v":0},1,1,{"$f":"IF($F1<=MAX($E$1:$E485),INDEX(C$1:C$85,MATCH($F1,$E$1:$E$85,0)),\"\")","v":"TOTAL BUDGET (Pounds)"},{"$f":"IF($F1<=MAX($E$1:$E485),INDEX(D$1:D$85,MATCH($F1,$E$1:$E$85,0)),\"\")","v":0}]
[null,"prospect sustain",{"$f":"IF(D1>0,\"CORE MARKETING PROGRAMME\",\"\")","v":""},{"$f":"SUM(D3:D22)","v":0},{"$f":"IF(AND(ISNUMBER(D2),D2>0),IF(AND(ISNUMBER(D1),D1>0),E1+1,-1*E1+1),IF(AND(ISNUMBER(D1),D1>0),-1*E1,E1))","v":1},2,{"$f":"IF($F2<=MAX($E$1:$E486),INDEX(C$1:C$85,MATCH($F2,$E$1:$E$85,0)),\"\")","v":""},{"$f":"IF($F2<=MAX($E$1:$E486),INDEX(D$1:D$85,MATCH($F2,$E$1:$E$85,0)),\"\")","v":""}]
[1,{"$f":"INDEX(costrank!$T$2:$T$100,MATCH($A3,costrank!$W$2:$W$100,0))","v":{"$error":"#N/A"}},{"$f":"IF(ISNA(B3),\"\",\" - \"&INDEX(costrank!$U$2:$U$100,MATCH($A3,costrank!$W$2:$W$100,0)))","v":""},{"$f":"IF(ISNA(B3),\"\",INT(INDEX(costrank!$V$2:$V$100,MATCH($A3,costrank!$W$2:$W$100,0))/100)*100)","v":""},{"$f":"IF(AND(ISNUMBER(D3),D3>0),IF(AND(ISNUMBER(D2),D2>0),E2+1,-1*E2+1),IF(AND(ISNUMBER(D2),D2>0),-1*E2,E2))","v":1},3,{"$f":"IF($F3<=MAX($E$1:$E487),INDEX(C$1:C$85,MATCH($F3,$E$1:$E$85,0)),\"\")","v":""},{"$f":"IF($F3<=MAX($E$1:$E487),INDEX(D$1:D$85,MATCH($F3,$E$1:$E$85,0)),\"\")","v":""}]
[2,{"$f":"INDEX(costrank!$T$2:$T$100,MATCH($A4,costrank!$W$2:$W$100,0))","v":{"$error":"#N/A"}},{"$f":"IF(ISNA(B4),\"\",\" - \"&INDEX(costrank!$U$2:$U$100,MATCH($A4,costrank!$W$2:$W$100,0)))","v":""},{"$f":"IF(ISNA(B4),\"\",INT(INDEX(costrank!$V$2:$V$100,MATCH($A4,costrank!$W$2:$W$100,0))/100)*100)","v":""},1,4,{"$f":"IF($F4<=MAX($E$1:$E488),INDEX(C$1:C$85,MATCH($F4,$E$1:$E$85,0)),\"\")","v":""},{"$f":"IF($F4<=MAX($E$1:$E488),INDEX(D$1:D$85,MATCH($F4,$E$1:$E$85,0)),\"\")","v":""}]
[3,{"$f":"INDEX(costrank!$T$2:$T$100,MATCH($A5,costrank!$W$2:$W$100,0))","v":{"$error":"#N/A"}},{"$f":"IF(ISNA(B5),\"\",\" - \"&INDEX(costrank!$U$2:$U$100,MATCH($A5,costrank!$W$2:$W$100,0)))","v":""},{"$f":"IF(ISNA(B5),\"\",INT(INDEX(costrank!$V$2:$V$100,MATCH($A5,costrank!$W$2:$W$100,0))/100)*100)","v":""},1,5,{"$f":"IF($F5<=MAX($E$1:$E489),INDEX(C$1:C$85,MATCH($F5,$E$1:$E$85,0)),\"\")","v":""},{"$f":"IF($F5<=MAX($E$1:$E489),INDEX(D$1:D$85,MATCH($F5,$E$1:$E$85,0)),\"\")","v":""}]
[4,{"$f":"INDEX(costrank!$T$2:$T$100,MATCH($A6,costrank!$W$2:$W$100,0))","v":{"$error":"#N/A"}},{"$f":"IF(ISNA(B6),\"\",\" - \"&INDEX(costrank!$U$2:$U$100,MATCH($A6,costrank!$W$2:$W$100,0)))","v":""},{"$f":"IF(ISNA(B6),\"\",INT(INDEX(costrank!$V$2:$V$100,MATCH($A6,costrank!$W$2:$W$100,0))/100)*100)","v":""},1,6,{"$f":"IF($F6<=MAX($E$1:$E490),INDEX(C$1:C$85,MATCH($F6,$E$1:$E$85,0)),\"\")","v":""},{"$f":"IF($F6<=MAX($E$1:$E490),INDEX(D$1:D$85,MATCH($F6,$E$1:$E$85,0)),\"\")","v":""}]
[5,{"$f":"INDEX(costrank!$T$2:$T$100,MATCH($A7,costrank!$W$2:$W$100,0))","v":{"$error":"#N/A"}},{"$f":"IF(ISNA(B7),\"\",\" - \"&INDEX(costrank!$U$2:$U$100,MATCH($A7,costrank!$W$2:$W$100,0)))","v":""},{"$f":"IF(ISNA(B7),\"\",INT(INDEX(costrank!$V$2:$V$100,MATCH($A7,costrank!$W$2:$W$100,0))/100)*100)","v":""},1,7,{"$f":"IF($F7<=MAX($E$1:$E491),INDEX(C$1:C$85,MATCH($F7,$E$1:$E$85,0)),\"\")","v":""},{"$f":"IF($F7<=MAX($E$1:$E491),INDEX(D$1:D$85,MATCH($F7,$E$1:$E$85,0)),\"\")","v":""}]
[6,{"$f":"INDEX(costrank!$T$2:$T$100,MATCH($A8,costrank!$W$2:$W$100,0))","v":{"$error":"#N/A"}},{"$f":"IF(ISNA(B8),\"\",\" - \"&INDEX(costrank!$U$2:$U$100,MATCH($A8,costrank!$W$2:$W$100,0)))","v":""},{"$f":"IF(ISNA(B8),\"\",INT(INDEX(costrank!$V$2:$V$100,MATCH($A8,costrank!$W$2:$W$100,0))/100)*100)","v":""},1,8,{"$f":"IF($F8<=MAX($E$1:$E492),INDEX(C$1:C$85,MATCH($F8,$E$1:$E$85,0)),\"\")","v":""},{"$f":"IF($F8<=MAX($E$1:$E492),INDEX(D$1:D$85,MATCH($F8,$E$1:$E$85,0)),\"\")","v":""}]
[7,{"$f":"INDEX(costrank!$T$2:$T$100,MATCH($A9,costrank!$W$2:$W$100,0))","v":{"$error":"#N/A"}},{"$f":"IF(ISNA(B9),\"\",\" - \"&INDEX(costrank!$U$2:$U$100,MATCH($A9,costrank!$W$2:$W$100,0)))","v":""},{"$f":"IF(ISNA(B9),\"\",INT(INDEX(costrank!$V$2:$V$100,MATCH($A9,costrank!$W$2:$W$100,0))/100)*100)","v":""},1,9,{"$f":"IF($F9<=MAX($E$1:$E493),INDEX(C$1:C$85,MATCH($F9,$E$1:$E$85,0)),\"\")","v":""},{"$f":"IF($F9<=MAX($E$1:$E493),INDEX(D$1:D$85,MATCH($F9,$E$1:$E$85,0)),\"\")","v":""}]
[8,{"$f":"INDEX(costrank!$T$2:$T$100,MATCH($A10,costrank!$W$2:$W$100,0))","v":{"$error":"#N/A"}},{"$f":"IF(ISNA(B10),\"\",\" - \"&INDEX(costrank!$U$2:$U$100,MATCH($A10,costrank!$W$2:$W$100,0)))","v":""},{"$f":"IF(ISNA(B10),\"\",INT(INDEX(costrank!$V$2:$V$100,MATCH($A10,costrank!$W$2:$W$100,0))/100)*100)","v":""},1,10,{"$f":"IF($F10<=MAX($E$1:$E494),INDEX(C$1:C$85,MATCH($F10,$E$1:$E$85,0)),\"\")","v":""},{"$f":"IF($F10<=MAX($E$1:$E494),INDEX(D$1:D$85,MATCH($F10,$E$1:$E$85,0)),\"\")","v":""}]
[9,{"$f":"INDEX(costrank!$T$2:$T$100,MATCH($A11,costrank!$W$2:$W$100,0))","v":{"$error":"#N/A"}},{"$f":"IF(ISNA(B11),\"\",\" - \"&INDEX(costrank!$U$2:$U$100,MATCH($A11,costrank!$W$2:$W$100,0)))","v":""},{"$f":"IF(ISNA(B11),\"\",INT(INDEX(costrank!$V$2:$V$100,MATCH($A11,costrank!$W$2:$W$100,0))/100)*100)","v":""},1,11,{"$f":"IF($F11<=MAX($E$1:$E495),INDEX(C$1:C$85,MATCH($F11,$E$1:$E$85,0)),\"\")","v":""},{"$f":"IF($F11<=MAX($E$1:$E495),INDEX(D$1:D$85,MATCH($F11,$E$1:$E$85,0)),\"\")","v":""}]
[10,{"$f":"INDEX(costrank!$T$2:$T$100,MATCH($A12,costrank!$W$2:$W$100,0))","v":{"$error":"#N/A"}},{"$f":"IF(ISNA(B12),\"\",\" - \"&INDEX(costrank!$U$2:$U$100,MATCH($A12,costrank!$W$2:$W$100,0)))","v":""},{"$f":"IF(ISNA(B12),\"\",INT(INDEX(costrank!$V$2:$V$100,MATCH($A12,costrank!$W$2:$W$100,0))/100)*100)","v":""},1,12,{"$f":"IF($F12<=MAX($E$1:$E496),INDEX(C$1:C$85,MATCH($F12,$E$1:$E$85,0)),\"\")","v":""},{"$f":"IF($F12<=MAX($E$1:$E496),INDEX(D$1:D$85,MATCH($F12,$E$1:$E$85,0)),\"\")","v":""}]
[11,{"$f":"INDEX(costrank!$T$2:$T$100,MATCH($A13,costrank!$W$2:$W$100,0))","v":{"$error":"#N/A"}},{"$f":"IF(ISNA(B13),\"\",\" - \"&INDEX(costrank!$U$2:$U$100,MATCH($A13,costrank!$W$2:$W$100,0)))","v":""},{"$f":"IF(ISNA(B13),\"\",INT(INDEX(costrank!$V$2:$V$100,MATCH($A13,costrank!$W$2:$W$100,0))/100)*100)","v":""},1,13,{"$f":"IF($F13<=MAX($E$1:$E497),INDEX(C$1:C$85,MATCH($F13,$E$1:$E$85,0)),\"\")","v":""},{"$f":"IF($F13<=MAX($E$1:$E497),INDEX(D$1:D$85,MATCH($F13,$E$1:$E$85,0)),\"\")","v":""}]
[12,{"$f":"INDEX(costrank!$T$2:$T$100,MATCH($A14,costrank!$W$2:$W$100,0))","v":{"$error":"#N/A"}},{"$f":"IF(ISNA(B14),\"\",\" - \"&INDEX(costrank!$U$2:$U$100,MATCH($A14,costrank!$W$2:$W$100,0)))","v":""},{"$f":"IF(ISNA(B14),\"\",INT(INDEX(costrank!$V$2:$V$100,MATCH($A14,costrank!$W$2:$W$100,0))/100)*100)","v":""},1,14,{"$f":"IF($F14<=MAX($E$1:$E498),INDEX(C$1:C$85,MATCH($F14,$E$1:$E$85,0)),\"\")","v":""},{"$f":"IF($F14<=MAX($E$1:$E498),INDEX(D$1:D$85,MATCH($F14,$E$1:$E$85,0)),\"\")","v":""}]
[13,{"$f":"INDEX(costrank!$T$2:$T$100,MATCH($A15,costrank!$W$2:$W$100,0))","v":{"$error":"#N/A"}},{"$f":"IF(ISNA(B15),\"\",\" - \"&INDEX(costrank!$U$2:$U$100,MATCH($A15,costrank!$W$2:$W$100,0)))","v":""},{"$f":"IF(ISNA(B15),\"\",INT(INDEX(costrank!$V$2:$V$100,MATCH($A15,costrank!$W$2:$W$100,0))/100)*100)","v":""},1,15,{"$f":"IF($F15<=MAX($E$1:$E499),INDEX(C$1:C$85,MATCH($F15,$E$1:$E$85,0)),\"\")","v":""},{"$f":"IF($F15<=MAX($E$1:$E499),INDEX(D$1:D$85,MATCH($F15,$E$1:$E$85,0)),\"\")","v":""}]
[14,{"$f":"INDEX(costrank!$T$2:$T$100,MATCH($A16,costrank!$W$2:$W$100,0))","v":{"$error":"#N/A"}},{"$f":"IF(ISNA(B16),\"\",\" - \"&INDEX(costrank!$U$2:$U$100,MATCH($A16,costrank!$W$2:$W$100,0)))","v":""},{"$f":"IF(ISNA(B16),\"\",INT(INDEX(costrank!$V$2:$V$100,MATCH($A16,costrank!$W$2:$W$100,0))/100)*100)","v":""},1,16,{"$f":"IF($F16<=MAX($E$1:$E500),INDEX(C$1:C$85,MATCH($F16,$E$1:$E$85,0)),\"\")","v":""},{"$f":"IF($F16<=MAX($E$1:$E500),INDEX(D$1:D$85,MATCH($F16,$E$1:$E$85,0)),\"\")","v":""}]
[15,{"$f":"INDEX(costrank!$T$2:$T$100,MATCH($A17,costrank!$W$2:$W$100,0))","v":{"$error":"#N/A"}},{"$f":"IF(ISNA(B17),\"\",\" - \"&INDEX(costrank!$U$2:$U$100,MATCH($A17,costrank!$W$2:$W$100,0)))","v":""},{"$f":"IF(ISNA(B17),\"\",INT(INDEX(costrank!$V$2:$V$100,MATCH($A17,costrank!$W$2:$W$100,0))/100)*100)","v":""},1,17,{"$f":"IF($F17<=MAX($E$1:$E501),INDEX(C$1:C$85,MATCH($F17,$E$1:$E$85,0)),\"\")","v":""},{"$f":"IF($F17<=MAX($E$1:$E501),INDEX(D$1:D$85,MATCH($F17,$E$1:$E$85,0)),\"\")","v":""}]
[16,{"$f":"INDEX(costrank!$T$2:$T$100,MATCH($A18,costrank!$W$2:$W$100,0))","v":{"$error":"#N/A"}},{"$f":"IF(ISNA(B18),\"\",\" - \"&INDEX(costrank!$U$2:$U$100,MATCH($A18,costrank!$W$2:$W$100,0)))","v":""},{"$f":"IF(ISNA(B18),\"\",INT(INDEX(costrank!$V$2:$V$100,MATCH($A18,costrank!$W$2:$W$100,0))/100)*100)","v":""},1,18,{"$f":"IF($F18<=MAX($E$1:$E502),INDEX(C$1:C$85,MATCH($F18,$E$1:$E$85,0)),\"\")","v":""},{"$f":"IF($F18<=MAX($E$1:$E502),INDEX(D$1:D$85,MATCH($F18,$E$1:$E$85,0)),\"\")","v":""}]
[17,{"$f":"INDEX(costrank!$T$2:$T$100,MATCH($A19,costrank!$W$2:$W$100,0))","v":{"$error":"#N/A"}},{"$f":"IF(ISNA(B19),\"\",\" - \"&INDEX(costrank!$U$2:$U$100,MATCH($A19,costrank!$W$2:$W$100,0)))","v":""},{"$f":"IF(ISNA(B19),\"\",INT(INDEX(costrank!$V$2:$V$100,MATCH($A19,costrank!$W$2:$W$100,0))/100)*100)","v":""},1,19,{"$f":"IF($F19<=MAX($E$1:$E503),INDEX(C$1:C$85,MATCH($F19,$E$1:$E$85,0)),\"\")","v":""},{"$f":"IF($F19<=MAX($E$1:$E503),INDEX(D$1:D$85,MATCH($F19,$E$1:$E$85,0)),\"\")","v":""}]
[18,{"$f":"INDEX(costrank!$T$2:$T$100,MATCH($A20,costrank!$W$2:$W$100,0))","v":{"$error":"#N/A"}},{"$f":"IF(ISNA(B20),\"\",\" - \"&INDEX(costrank!$U$2:$U$100,MATCH($A20,costrank!$W$2:$W$100,0)))","v":""},{"$f":"IF(ISNA(B20),\"\",INT(INDEX(costrank!$V$2:$V$100,MATCH($A20,costrank!$W$2:$W$100,0))/100)*100)","v":""},1,20,{"$f":"IF($F20<=MAX($E$1:$E504),INDEX(C$1:C$85,MATCH($F20,$E$1:$E$85,0)),\"\")","v":""},{"$f":"IF($F20<=MAX($E$1:$E504),INDEX(D$1:D$85,MATCH($F20,$E$1:$E$85,0)),\"\")","v":""}]
[19,{"$f":"INDEX(costrank!$T$2:$T$100,MATCH($A21,costrank!$W$2:$W$100,0))","v":{"$error":"#N/A"}},{"$f":"IF(ISNA(B21),\"\",\" - \"&INDEX(costrank!$U$2:$U$100,MATCH($A21,costrank!$W$2:$W$100,0)))","v":""},{"$f":"IF(ISNA(B21),\"\",INT(INDEX(costrank!$V$2:$V$100,MATCH($A21,costrank!$W$2:$W$100,0))/100)*100)","v":""},1,21,{"$f":"IF($F21<=MAX($E$1:$E505),INDEX(C$1:C$85,MATCH($F21,$E$1:$E$85,0)),\"\")","v":""},{"$f":"IF($F21<=MAX($E$1:$E505),INDEX(D$1:D$85,MATCH($F21,$E$1:$E$85,0)),\"\")","v":""}]
[20,{"$f":"INDEX(costrank!$T$2:$T$100,MATCH($A22,costrank!$W$2:$W$100,0))","v":{"$error":"#N/A"}},{"$f":"IF(ISNA(B22),\"\",\" - \"&INDEX(costrank!$U$2:$U$100,MATCH($A22,costrank!$W$2:$W$100,0)))","v":""},{"$f":"IF(ISNA(B22),\"\",INT(INDEX(costrank!$V$2:$V$100,MATCH($A22,costrank!$W$2:$W$100,0))/100)*100)","v":""},1,22,{"$f":"IF($F22<=MAX($E$1:$E506),INDEX(C$1:C$85,MATCH($F22,$E$1:$E$85,0)),\"\")","v":""},{"$f":"IF($F22<=MAX($E$1:$E506),INDEX(D$1:D$85,MATCH($F22,$E$1:$E$85,0)),\"\")","v":""}]
[null,"prospect promotion",{"$f":"IF(D23>0,\"SALES PROMOTIONS x \"& costrank!$O$1,\"\")","v":""},{"$f":"SUM(D24:D43)","v":0},1,23,{"$f":"IF($F23<=MAX($E$1:$E507),INDEX(C$1:C$85,MATCH($F23,$E$1:$E$85,0)),\"\")","v":""},{"$f":"IF($F23<=MAX($E$1:$E507),INDEX(D$1:D$85,MATCH($F23,$E$1:$E$85,0)),\"\")","v":""}]
[1,{"$f":"INDEX(costrank!$N$2:$N$100,MATCH($A24,costrank!$Q$2:$Q$100,0))","v":{"$error":"#N/A"}},{"$f":"IF(ISNA(B24),\"\",\" - \"&INDEX(costrank!$O$2:$O$100,MATCH($A24,costrank!$Q$2:$Q$100,0)))","v":""},{"$f":"IF(ISNA(B24),\"\",INT(INDEX(costrank!$P$2:$P$100,MATCH($A24,costrank!$Q$2:$Q$100,0))/100)*100)","v":""},1,24,{"$f":"IF($F24<=MAX($E$1:$E508),INDEX(C$1:C$85,MATCH($F24,$E$1:$E$85,0)),\"\")","v":""},{"$f":"IF($F24<=MAX($E$1:$E508),INDEX(D$1:D$85,MATCH($F24,$E$1:$E$85,0)),\"\")","v":""}]
[2,{"$f":"INDEX(costrank!$N$2:$N$100,MATCH($A25,costrank!$Q$2:$Q$100,0))","v":{"$error":"#N/A"}},{"$f":"IF(ISNA(B25),\"\",\" - \"&INDEX(costrank!$O$2:$O$100,MATCH($A25,costrank!$Q$2:$Q$100,0)))","v":""},{"$f":"IF(ISNA(B25),\"\",INT(INDEX(costrank!$P$2:$P$100,MATCH($A25,costrank!$Q$2:$Q$100,0))/100)*100)","v":""},1,25,{"$f":"IF($F25<=MAX($E$1:$E509),INDEX(C$1:C$85,MATCH($F25,$E$1:$E$85,0)),\"\")","v":""},{"$f":"IF($F25<=MAX($E$1:$E509),INDEX(D$1:D$85,MATCH($F25,$E$1:$E$85,0)),\"\")","v":""}]
[3,{"$f":"INDEX(costrank!$N$2:$N$100,MATCH($A26,costrank!$Q$2:$Q$100,0))","v":{"$error":"#N/A"}},{"$f":"IF(ISNA(B26),\"\",\" - \"&INDEX(costrank!$O$2:$O$100,MATCH($A26,costrank!$Q$2:$Q$100,0)))","v":""},{"$f":"IF(ISNA(B26),\"\",INT(INDEX(costrank!$P$2:$P$100,MATCH($A26,costrank!$Q$2:$Q$100,0))/100)*100)","v":""},1,26,{"$f":"IF($F26<=MAX($E$1:$E510),INDEX(C$1:C$85,MATCH($F26,$E$1:$E$85,0)),\"\")","v":""},{"$f":"IF($F26<=MAX($E$1:$E510),INDEX(D$1:D$85,MATCH($F26,$E$1:$E$85,0)),\"\")","v":""}]
[4,{"$f":"INDEX(costrank!$N$2:$N$100,MATCH($A27,costrank!$Q$2:$Q$100,0))","v":{"$error":"#N/A"}},{"$f":"IF(ISNA(B27),\"\",\" - \"&INDEX(costrank!$O$2:$O$100,MATCH($A27,costrank!$Q$2:$Q$100,0)))","v":""},{"$f":"IF(ISNA(B27),\"\",INT(INDEX(costrank!$P$2:$P$100,MATCH($A27,costrank!$Q$2:$Q$100,0))/100)*100)","v":""},1,27,{"$f":"IF($F27<=MAX($E$1:$E511),INDEX(C$1:C$85,MATCH($F27,$E$1:$E$85,0)),\"\")","v":""},{"$f":"IF($F27<=MAX($E$1:$E511),INDEX(D$1:D$85,MATCH($F27,$E$1:$E$85,0)),\"\")","v":""}]
[5,{"$f":"INDEX(costrank!$N$2:$N$100,MATCH($A28,costrank!$Q$2:$Q$100,0))","v":{"$error":"#N/A"}},{"$f":"IF(ISNA(B28),\"\",\" - \"&INDEX(costrank!$O$2:$O$100,MATCH($A28,costrank!$Q$2:$Q$100,0)))","v":""},{"$f":"IF(ISNA(B28),\"\",INT(INDEX(costrank!$P$2:$P$100,MATCH($A28,costrank!$Q$2:$Q$100,0))/100)*100)","v":""},1,28,{"$f":"IF($F28<=MAX($E$1:$E512),INDEX(C$1:C$85,MATCH($F28,$E$1:$E$85,0)),\"\")","v":""},{"$f":"IF($F28<=MAX($E$1:$E512),INDEX(D$1:D$85,MATCH($F28,$E$1:$E$85,0)),\"\")","v":""}]
[6,{"$f":"INDEX(costrank!$N$2:$N$100,MATCH($A29,costrank!$Q$2:$Q$100,0))","v":{"$error":"#N/A"}},{"$f":"IF(ISNA(B29),\"\",\" - \"&INDEX(costrank!$O$2:$O$100,MATCH($A29,costrank!$Q$2:$Q$100,0)))","v":""},{"$f":"IF(ISNA(B29),\"\",INT(INDEX(costrank!$P$2:$P$100,MATCH($A29,costrank!$Q$2:$Q$100,0))/100)*100)","v":""},1,29,{"$f":"IF($F29<=MAX($E$1:$E513),INDEX(C$1:C$85,MATCH($F29,$E$1:$E$85,0)),\"\")","v":""},{"$f":"IF($F29<=MAX($E$1:$E513),INDEX(D$1:D$85,MATCH($F29,$E$1:$E$85,0)),\"\")","v":""}]
[7,{"$f":"INDEX(costrank!$N$2:$N$100,MATCH($A30,costrank!$Q$2:$Q$100,0))","v":{"$error":"#N/A"}},{"$f":"IF(ISNA(B30),\"\",\" - \"&INDEX(costrank!$O$2:$O$100,MATCH($A30,costrank!$Q$2:$Q$100,0)))","v":""},{"$f":"IF(ISNA(B30),\"\",INT(INDEX(costrank!$P$2:$P$100,MATCH($A30,costrank!$Q$2:$Q$100,0))/100)*100)","v":""},1,30,{"$f":"IF($F30<=MAX($E$1:$E514),INDEX(C$1:C$85,MATCH($F30,$E$1:$E$85,0)),\"\")","v":""},{"$f":"IF($F30<=MAX($E$1:$E514),INDEX(D$1:D$85,MATCH($F30,$E$1:$E$85,0)),\"\")","v":""}]
[8,{"$f":"INDEX(costrank!$N$2:$N$100,MATCH($A31,costrank!$Q$2:$Q$100,0))","v":{"$error":"#N/A"}},{"$f":"IF(ISNA(B31),\"\",\" - \"&INDEX(costrank!$O$2:$O$100,MATCH($A31,costrank!$Q$2:$Q$100,0)))","v":""},{"$f":"IF(ISNA(B31),\"\",INT(INDEX(costrank!$P$2:$P$100,MATCH($A31,costrank!$Q$2:$Q$100,0))/100)*100)","v":""},1,31,{"$f":"IF($F31<=MAX($E$1:$E515),INDEX(C$1:C$85,MATCH($F31,$E$1:$E$85,0)),\"\")","v":""},{"$f":"IF($F31<=MAX($E$1:$E515),INDEX(D$1:D$85,MATCH($F31,$E$1:$E$85,0)),\"\")","v":""}]
[9,{"$f":"INDEX(costrank!$N$2:$N$100,MATCH($A32,costrank!$Q$2:$Q$100,0))","v":{"$error":"#N/A"}},{"$f":"IF(ISNA(B32),\"\",\" - \"&INDEX(costrank!$O$2:$O$100,MATCH($A32,costrank!$Q$2:$Q$100,0)))","v":""},{"$f":"IF(ISNA(B32),\"\",INT(INDEX(costrank!$P$2:$P$100,MATCH($A32,costrank!$Q$2:$Q$100,0))/100)*100)","v":""},1,32,{"$f":"IF($F32<=MAX($E$1:$E516),INDEX(C$1:C$85,MATCH($F32,$E$1:$E$85,0)),\"\")","v":""},{"$f":"IF($F32<=MAX($E$1:$E516),INDEX(D$1:D$85,MATCH($F32,$E$1:$E$85,0)),\"\")","v":""}]
[10,{"$f":"INDEX(costrank!$N$2:$N$100,MATCH($A33,costrank!$Q$2:$Q$100,0))","v":{"$error":"#N/A"}},{"$f":"IF(ISNA(B33),\"\",\" - \"&INDEX(costrank!$O$2:$O$100,MATCH($A33,costrank!$Q$2:$Q$100,0)))","v":""},{"$f":"IF(ISNA(B33),\"\",INT(INDEX(costrank!$P$2:$P$100,MATCH($A33,costrank!$Q$2:$Q$100,0))/100)*100)","v":""},1,33,{"$f":"IF($F33<=MAX($E$1:$E517),INDEX(C$1:C$85,MATCH($F33,$E$1:$E$85,0)),\"\")","v":""},{"$f":"IF($F33<=MAX($E$1:$E517),INDEX(D$1:D$85,MATCH($F33,$E$1:$E$85,0)),\"\")","v":""}]
[11,{"$f":"INDEX(costrank!$N$2:$N$100,MATCH($A34,costrank!$Q$2:$Q$100,0))","v":{"$error":"#N/A"}},{"$f":"IF(ISNA(B34),\"\",\" - \"&INDEX(costrank!$O$2:$O$100,MATCH($A34,costrank!$Q$2:$Q$100,0)))","v":""},{"$f":"IF(ISNA(B34),\"\",INT(INDEX(costrank!$P$2:$P$100,MATCH($A34,costrank!$Q$2:$Q$100,0))/100)*100)","v":""},1,34,{"$f":"IF($F34<=MAX($E$1:$E518),INDEX(C$1:C$85,MATCH($F34,$E$1:$E$85,0)),\"\")","v":""},{"$f":"IF($F34<=MAX($E$1:$E518),INDEX(D$1:D$85,MATCH($F34,$E$1:$E$85,0)),\"\")","v":""}]
[12,{"$f":"INDEX(costrank!$N$2:$N$100,MATCH($A35,costrank!$Q$2:$Q$100,0))","v":{"$error":"#N/A"}},{"$f":"IF(ISNA(B35),\"\",\" - \"&INDEX(costrank!$O$2:$O$100,MATCH($A35,costrank!$Q$2:$Q$100,0)))","v":""},{"$f":"IF(ISNA(B35),\"\",INT(INDEX(costrank!$P$2:$P$100,MATCH($A35,costrank!$Q$2:$Q$100,0))/100)*100)","v":""},1,35,{"$f":"IF($F35<=MAX($E$1:$E519),INDEX(C$1:C$85,MATCH($F35,$E$1:$E$85,0)),\"\")","v":""},{"$f":"IF($F35<=MAX($E$1:$E519),INDEX(D$1:D$85,MATCH($F35,$E$1:$E$85,0)),\"\")","v":""}]
[13,{"$f":"INDEX(costrank!$N$2:$N$100,MATCH($A36,costrank!$Q$2:$Q$100,0))","v":{"$error":"#N/A"}},{"$f":"IF(ISNA(B36),\"\",\" - \"&INDEX(costrank!$O$2:$O$100,MATCH($A36,costrank!$Q$2:$Q$100,0)))","v":""},{"$f":"IF(ISNA(B36),\"\",INT(INDEX(costrank!$P$2:$P$100,MATCH($A36,costrank!$Q$2:$Q$100,0))/100)*100)","v":""},1,36,{"$f":"IF($F36<=MAX($E$1:$E520),INDEX(C$1:C$85,MATCH($F36,$E$1:$E$85,0)),\"\")","v":""},{"$f":"IF($F36<=MAX($E$1:$E520),INDEX(D$1:D$85,MATCH($F36,$E$1:$E$85,0)),\"\")","v":""}]
[14,{"$f":"INDEX(costrank!$N$2:$N$100,MATCH($A37,costrank!$Q$2:$Q$100,0))","v":{"$error":"#N/A"}},{"$f":"IF(ISNA(B37),\"\",\" - \"&INDEX(costrank!$O$2:$O$100,MATCH($A37,costrank!$Q$2:$Q$100,0)))","v":""},{"$f":"IF(ISNA(B37),\"\",INT(INDEX(costrank!$P$2:$P$100,MATCH($A37,costrank!$Q$2:$Q$100,0))/100)*100)","v":""},1,37,{"$f":"IF($F37<=MAX($E$1:$E521),INDEX(C$1:C$85,MATCH($F37,$E$1:$E$85,0)),\"\")","v":""},{"$f":"IF($F37<=MAX($E$1:$E521),INDEX(D$1:D$85,MATCH($F37,$E$1:$E$85,0)),\"\")","v":""}]
[15,{"$f":"INDEX(costrank!$N$2:$N$100,MATCH($A38,costrank!$Q$2:$Q$100,0))","v":{"$error":"#N/A"}},{"$f":"IF(ISNA(B38),\"\",\" - \"&INDEX(costrank!$O$2:$O$100,MATCH($A38,costrank!$Q$2:$Q$100,0)))","v":""},{"$f":"IF(ISNA(B38),\"\",INT(INDEX(costrank!$P$2:$P$100,MATCH($A38,costrank!$Q$2:$Q$100,0))/100)*100)","v":""},1,38,{"$f":"IF($F38<=MAX($E$1:$E522),INDEX(C$1:C$85,MATCH($F38,$E$1:$E$85,0)),\"\")","v":""},{"$f":"IF($F38<=MAX($E$1:$E522),INDEX(D$1:D$85,MATCH($F38,$E$1:$E$85,0)),\"\")","v":""}]
[16,{"$f":"INDEX(costrank!$N$2:$N$100,MATCH($A39,costrank!$Q$2:$Q$100,0))","v":{"$error":"#N/A"}},{"$f":"IF(ISNA(B39),\"\",\" - \"&INDEX(costrank!$O$2:$O$100,MATCH($A39,costrank!$Q$2:$Q$100,0)))","v":""},{"$f":"IF(ISNA(B39),\"\",INT(INDEX(costrank!$P$2:$P$100,MATCH($A39,costrank!$Q$2:$Q$100,0))/100)*100)","v":""},1,39,{"$f":"IF($F39<=MAX($E$1:$E523),INDEX(C$1:C$85,MATCH($F39,$E$1:$E$85,0)),\"\")","v":""},{"$f":"IF($F39<=MAX($E$1:$E523),INDEX(D$1:D$85,MATCH($F39,$E$1:$E$85,0)),\"\")","v":""}]
[17,{"$f":"INDEX(costrank!$N$2:$N$100,MATCH($A40,costrank!$Q$2:$Q$100,0))","v":{"$error":"#N/A"}},{"$f":"IF(ISNA(B40),\"\",\" - \"&INDEX(costrank!$O$2:$O$100,MATCH($A40,costrank!$Q$2:$Q$100,0)))","v":""},{"$f":"IF(ISNA(B40),\"\",INT(INDEX(costrank!$P$2:$P$100,MATCH($A40,costrank!$Q$2:$Q$100,0))/100)*100)","v":""},1,40,{"$f":"IF($F40<=MAX($E$1:$E524),INDEX(C$1:C$85,MATCH($F40,$E$1:$E$85,0)),\"\")","v":""},{"$f":"IF($F40<=MAX($E$1:$E524),INDEX(D$1:D$85,MATCH($F40,$E$1:$E$85,0)),\"\")","v":""}]
[18,{"$f":"INDEX(costrank!$N$2:$N$100,MATCH($A41,costrank!$Q$2:$Q$100,0))","v":{"$error":"#N/A"}},{"$f":"IF(ISNA(B41),\"\",\" - \"&INDEX(costrank!$O$2:$O$100,MATCH($A41,costrank!$Q$2:$Q$100,0)))","v":""},{"$f":"IF(ISNA(B41),\"\",INT(INDEX(costrank!$P$2:$P$100,MATCH($A41,costrank!$Q$2:$Q$100,0))/100)*100)","v":""},1,41,{"$f":"IF($F41<=MAX($E$1:$E525),INDEX(C$1:C$85,MATCH($F41,$E$1:$E$85,0)),\"\")","v":""},{"$f":"IF($F41<=MAX($E$1:$E525),INDEX(D$1:D$85,MATCH($F41,$E$1:$E$85,0)),\"\")","v":""}]
[19,{"$f":"INDEX(costrank!$N$2:$N$100,MATCH($A42,costrank!$Q$2:$Q$100,0))","v":{"$error":"#N/A"}},{"$f":"IF(ISNA(B42),\"\",\" - \"&INDEX(costrank!$O$2:$O$100,MATCH($A42,costrank!$Q$2:$Q$100,0)))","v":""},{"$f":"IF(ISNA(B42),\"\",INT(INDEX(costrank!$P$2:$P$100,MATCH($A42,costrank!$Q$2:$Q$100,0))/100)*100)","v":""},1,42,{"$f":"IF($F42<=MAX($E$1:$E526),INDEX(C$1:C$85,MATCH($F42,$E$1:$E$85,0)),\"\")","v":""},{"$f":"IF($F42<=MAX($E$1:$E526),INDEX(D$1:D$85,MATCH($F42,$E$1:$E$85,0)),\"\")","v":""}]
[20,{"$f":"INDEX(costrank!$N$2:$N$100,MATCH($A43,costrank!$Q$2:$Q$100,0))","v":{"$error":"#N/A"}},{"$f":"IF(ISNA(B43),\"\",\" - \"&INDEX(costrank!$O$2:$O$100,MATCH($A43,costrank!$Q$2:$Q$100,0)))","v":""},{"$f":"IF(ISNA(B43),\"\",INT(INDEX(costrank!$P$2:$P$100,MATCH($A43,costrank!$Q$2:$Q$100,0))/100)*100)","v":""},1,43,{"$f":"IF($F43<=MAX($E$1:$E527),INDEX(C$1:C$85,MATCH($F43,$E$1:$E$85,0)),\"\")","v":""},{"$f":"IF($F43<=MAX($E$1:$E527),INDEX(D$1:D$85,MATCH($F43,$E$1:$E$85,0)),\"\")","v":""}]
[null,"customer promotion",{"$f":"IF(D44>0,\"CUSTOMER PROMOTIONS x \"& costrank!$C$1,\"\")","v":""},{"$f":"SUM(D45:D64)","v":0},1,44,{"$f":"IF($F44<=MAX($E$1:$E528),INDEX(C$1:C$85,MATCH($F44,$E$1:$E$85,0)),\"\")","v":""},{"$f":"IF($F44<=MAX($E$1:$E528),INDEX(D$1:D$85,MATCH($F44,$E$1:$E$85,0)),\"\")","v":""}]
[1,{"$f":"INDEX(costrank!$B$2:$B$100,MATCH($A45,costrank!$E$2:$E$100,0))","v":{"$error":"#N/A"}},{"$f":"IF(ISNA(B45),\"\",\" - \"&INDEX(costrank!$C$2:$C$100,MATCH($A45,costrank!$E$2:$E$100,0)))","v":""},{"$f":"IF(ISNA(B45),\"\",INT(INDEX(costrank!$D$2:$D$100,MATCH($A45,costrank!$E$2:$E$100,0))/100)*100)","v":""},1,45,{"$f":"IF($F45<=MAX($E$1:$E529),INDEX(C$1:C$85,MATCH($F45,$E$1:$E$85,0)),\"\")","v":""},{"$f":"IF($F45<=MAX($E$1:$E529),INDEX(D$1:D$85,MATCH($F45,$E$1:$E$85,0)),\"\")","v":""}]
[2,{"$f":"INDEX(costrank!$B$2:$B$100,MATCH($A46,costrank!$E$2:$E$100,0))","v":{"$error":"#N/A"}},{"$f":"IF(ISNA(B46),\"\",\" - \"&INDEX(costrank!$C$2:$C$100,MATCH($A46,costrank!$E$2:$E$100,0)))","v":""},{"$f":"IF(ISNA(B46),\"\",INT(INDEX(costrank!$D$2:$D$100,MATCH($A46,costrank!$E$2:$E$100,0))/100)*100)","v":""},1,46,{"$f":"IF($F46<=MAX($E$1:$E530),INDEX(C$1:C$85,MATCH($F46,$E$1:$E$85,0)),\"\")","v":""},{"$f":"IF($F46<=MAX($E$1:$E530),INDEX(D$1:D$85,MATCH($F46,$E$1:$E$85,0)),\"\")","v":""}]
[3,{"$f":"INDEX(costrank!$B$2:$B$100,MATCH($A47,costrank!$E$2:$E$100,0))","v":{"$error":"#N/A"}},{"$f":"IF(ISNA(B47),\"\",\" - \"&INDEX(costrank!$C$2:$C$100,MATCH($A47,costrank!$E$2:$E$100,0)))","v":""},{"$f":"IF(ISNA(B47),\"\",INT(INDEX(costrank!$D$2:$D$100,MATCH($A47,costrank!$E$2:$E$100,0))/100)*100)","v":""},1,47,{"$f":"IF($F47<=MAX($E$1:$E531),INDEX(C$1:C$85,MATCH($F47,$E$1:$E$85,0)),\"\")","v":""},{"$f":"IF($F47<=MAX($E$1:$E531),INDEX(D$1:D$85,MATCH($F47,$E$1:$E$85,0)),\"\")","v":""}]
[4,{"$f":"INDEX(costrank!$B$2:$B$100,MATCH($A48,costrank!$E$2:$E$100,0))","v":{"$error":"#N/A"}},{"$f":"IF(ISNA(B48),\"\",\" - \"&INDEX(costrank!$C$2:$C$100,MATCH($A48,costrank!$E$2:$E$100,0)))","v":""},{"$f":"IF(ISNA(B48),\"\",INT(INDEX(costrank!$D$2:$D$100,MATCH($A48,costrank!$E$2:$E$100,0))/100)*100)","v":""},1,48,{"$f":"IF($F48<=MAX($E$1:$E532),INDEX(C$1:C$85,MATCH($F48,$E$1:$E$85,0)),\"\")","v":""},{"$f":"IF($F48<=MAX($E$1:$E532),INDEX(D$1:D$85,MATCH($F48,$E$1:$E$85,0)),\"\")","v":""}]
[5,{"$f":"INDEX(costrank!$B$2:$B$100,MATCH($A49,costrank!$E$2:$E$100,0))","v":{"$error":"#N/A"}},{"$f":"IF(ISNA(B49),\"\",\" - \"&INDEX(costrank!$C$2:$C$100,MATCH($A49,costrank!$E$2:$E$100,0)))","v":""},{"$f":"IF(ISNA(B49),\"\",INT(INDEX(costrank!$D$2:$D$100,MATCH($A49,costrank!$E$2:$E$100,0))/100)*100)","v":""},1,49,{"$f":"IF($F49<=MAX($E$1:$E533),INDEX(C$1:C$85,MATCH($F49,$E$1:$E$85,0)),\"\")","v":""},{"$f":"IF($F49<=MAX($E$1:$E533),INDEX(D$1:D$85,MATCH($F49,$E$1:$E$85,0)),\"\")","v":""}]
[6,{"$f":"INDEX(costrank!$B$2:$B$100,MATCH($A50,costrank!$E$2:$E$100,0))","v":{"$error":"#N/A"}},{"$f":"IF(ISNA(B50),\"\",\" - \"&INDEX(costrank!$C$2:$C$100,MATCH($A50,costrank!$E$2:$E$100,0)))","v":""},{"$f":"IF(ISNA(B50),\"\",INT(INDEX(costrank!$D$2:$D$100,MATCH($A50,costrank!$E$2:$E$100,0))/100)*100)","v":""},1,50,{"$f":"IF($F50<=MAX($E$1:$E534),INDEX(C$1:C$85,MATCH($F50,$E$1:$E$85,0)),\"\")","v":""},{"$f":"IF($F50<=MAX($E$1:$E534),INDEX(D$1:D$85,MATCH($F50,$E$1:$E$85,0)),\"\")","v":""}]
[7,{"$f":"INDEX(costrank!$B$2:$B$100,MATCH($A51,costrank!$E$2:$E$100,0))","v":{"$error":"#N/A"}},{"$f":"IF(ISNA(B51),\"\",\" - \"&INDEX(costrank!$C$2:$C$100,MATCH($A51,costrank!$E$2:$E$100,0)))","v":""},{"$f":"IF(ISNA(B51),\"\",INT(INDEX(costrank!$D$2:$D$100,MATCH($A51,costrank!$E$2:$E$100,0))/100)*100)","v":""},1,51,{"$f":"IF($F51<=MAX($E$1:$E535),INDEX(C$1:C$85,MATCH($F51,$E$1:$E$85,0)),\"\")","v":""},{"$f":"IF($F51<=MAX($E$1:$E535),INDEX(D$1:D$85,MATCH($F51,$E$1:$E$85,0)),\"\")","v":""}]
[8,{"$f":"INDEX(costrank!$B$2:$B$100,MATCH($A52,costrank!$E$2:$E$100,0))","v":{"$error":"#N/A"}},{"$f":"IF(ISNA(B52),\"\",\" - \"&INDEX(costrank!$C$2:$C$100,MATCH($A52,costrank!$E$2:$E$100,0)))","v":""},{"$f":"IF(ISNA(B52),\"\",INT(INDEX(costrank!$D$2:$D$100,MATCH($A52,costrank!$E$2:$E$100,0))/100)*100)","v":""},1,52,{"$f":"IF($F52<=MAX($E$1:$E536),INDEX(C$1:C$85,MATCH($F52,$E$1:$E$85,0)),\"\")","v":""},{"$f":"IF($F52<=MAX($E$1:$E536),INDEX(D$1:D$85,MATCH($F52,$E$1:$E$85,0)),\"\")","v":""}]
[9,{"$f":"INDEX(costrank!$B$2:$B$100,MATCH($A53,costrank!$E$2:$E$100,0))","v":{"$error":"#N/A"}},{"$f":"IF(ISNA(B53),\"\",\" - \"&INDEX(costrank!$C$2:$C$100,MATCH($A53,costrank!$E$2:$E$100,0)))","v":""},{"$f":"IF(ISNA(B53),\"\",INT(INDEX(costrank!$D$2:$D$100,MATCH($A53,costrank!$E$2:$E$100,0))/100)*100)","v":""},1,53,{"$f":"IF($F53<=MAX($E$1:$E537),INDEX(C$1:C$85,MATCH($F53,$E$1:$E$85,0)),\"\")","v":""},{"$f":"IF($F53<=MAX($E$1:$E537),INDEX(D$1:D$85,MATCH($F53,$E$1:$E$85,0)),\"\")","v":""}]
[10,{"$f":"INDEX(costrank!$B$2:$B$100,MATCH($A54,costrank!$E$2:$E$100,0))","v":{"$error":"#N/A"}},{"$f":"IF(ISNA(B54),\"\",\" - \"&INDEX(costrank!$C$2:$C$100,MATCH($A54,costrank!$E$2:$E$100,0)))","v":""},{"$f":"IF(ISNA(B54),\"\",INT(INDEX(costrank!$D$2:$D$100,MATCH($A54,costrank!$E$2:$E$100,0))/100)*100)","v":""},1,54,{"$f":"IF($F54<=MAX($E$1:$E538),INDEX(C$1:C$85,MATCH($F54,$E$1:$E$85,0)),\"\")","v":""},{"$f":"IF($F54<=MAX($E$1:$E538),INDEX(D$1:D$85,MATCH($F54,$E$1:$E$85,0)),\"\")","v":""}]
[11,{"$f":"INDEX(costrank!$B$2:$B$100,MATCH($A55,costrank!$E$2:$E$100,0))","v":{"$error":"#N/A"}},{"$f":"IF(ISNA(B55),\"\",\" - \"&INDEX(costrank!$C$2:$C$100,MATCH($A55,costrank!$E$2:$E$100,0)))","v":""},{"$f":"IF(ISNA(B55),\"\",INT(INDEX(costrank!$D$2:$D$100,MATCH($A55,costrank!$E$2:$E$100,0))/100)*100)","v":""},1,55,{"$f":"IF($F55<=MAX($E$1:$E539),INDEX(C$1:C$85,MATCH($F55,$E$1:$E$85,0)),\"\")","v":""},{"$f":"IF($F55<=MAX($E$1:$E539),INDEX(D$1:D$85,MATCH($F55,$E$1:$E$85,0)),\"\")","v":""}]
[12,{"$f":"INDEX(costrank!$B$2:$B$100,MATCH($A56,costrank!$E$2:$E$100,0))","v":{"$error":"#N/A"}},{"$f":"IF(ISNA(B56),\"\",\" - \"&INDEX(costrank!$C$2:$C$100,MATCH($A56,costrank!$E$2:$E$100,0)))","v":""},{"$f":"IF(ISNA(B56),\"\",INT(INDEX(costrank!$D$2:$D$100,MATCH($A56,costrank!$E$2:$E$100,0))/100)*100)","v":""},1,56,{"$f":"IF($F56<=MAX($E$1:$E540),INDEX(C$1:C$85,MATCH($F56,$E$1:$E$85,0)),\"\")","v":""},{"$f":"IF($F56<=MAX($E$1:$E540),INDEX(D$1:D$85,MATCH($F56,$E$1:$E$85,0)),\"\")","v":""}]
[13,{"$f":"INDEX(costrank!$B$2:$B$100,MATCH($A57,costrank!$E$2:$E$100,0))","v":{"$error":"#N/A"}},{"$f":"IF(ISNA(B57),\"\",\" - \"&INDEX(costrank!$C$2:$C$100,MATCH($A57,costrank!$E$2:$E$100,0)))","v":""},{"$f":"IF(ISNA(B57),\"\",INT(INDEX(costrank!$D$2:$D$100,MATCH($A57,costrank!$E$2:$E$100,0))/100)*100)","v":""},1,57,{"$f":"IF($F57<=MAX($E$1:$E541),INDEX(C$1:C$85,MATCH($F57,$E$1:$E$85,0)),\"\")","v":""},{"$f":"IF($F57<=MAX($E$1:$E541),INDEX(D$1:D$85,MATCH($F57,$E$1:$E$85,0)),\"\")","v":""}]
[14,{"$f":"INDEX(costrank!$B$2:$B$100,MATCH($A58,costrank!$E$2:$E$100,0))","v":{"$error":"#N/A"}},{"$f":"IF(ISNA(B58),\"\",\" - \"&INDEX(costrank!$C$2:$C$100,MATCH($A58,costrank!$E$2:$E$100,0)))","v":""},{"$f":"IF(ISNA(B58),\"\",INT(INDEX(costrank!$D$2:$D$100,MATCH($A58,costrank!$E$2:$E$100,0))/100)*100)","v":""},1,58,{"$f":"IF($F58<=MAX($E$1:$E542),INDEX(C$1:C$85,MATCH($F58,$E$1:$E$85,0)),\"\")","v":""},{"$f":"IF($F58<=MAX($E$1:$E542),INDEX(D$1:D$85,MATCH($F58,$E$1:$E$85,0)),\"\")","v":""}]
[15,{"$f":"INDEX(costrank!$B$2:$B$100,MATCH($A59,costrank!$E$2:$E$100,0))","v":{"$error":"#N/A"}},{"$f":"IF(ISNA(B59),\"\",\" - \"&INDEX(costrank!$C$2:$C$100,MATCH($A59,costrank!$E$2:$E$100,0)))","v":""},{"$f":"IF(ISNA(B59),\"\",INT(INDEX(costrank!$D$2:$D$100,MATCH($A59,costrank!$E$2:$E$100,0))/100)*100)","v":""},1,59,{"$f":"IF($F59<=MAX($E$1:$E543),INDEX(C$1:C$85,MATCH($F59,$E$1:$E$85,0)),\"\")","v":""},{"$f":"IF($F59<=MAX($E$1:$E543),INDEX(D$1:D$85,MATCH($F59,$E$1:$E$85,0)),\"\")","v":""}]
[16,{"$f":"INDEX(costrank!$B$2:$B$100,MATCH($A60,costrank!$E$2:$E$100,0))","v":{"$error":"#N/A"}},{"$f":"IF(ISNA(B60),\"\",\" - \"&INDEX(costrank!$C$2:$C$100,MATCH($A60,costrank!$E$2:$E$100,0)))","v":""},{"$f":"IF(ISNA(B60),\"\",INT(INDEX(costrank!$D$2:$D$100,MATCH($A60,costrank!$E$2:$E$100,0))/100)*100)","v":""},1,60,{"$f":"IF($F60<=MAX($E$1:$E544),INDEX(C$1:C$85,MATCH($F60,$E$1:$E$85,0)),\"\")","v":""},{"$f":"IF($F60<=MAX($E$1:$E544),INDEX(D$1:D$85,MATCH($F60,$E$1:$E$85,0)),\"\")","v":""}]
[17,{"$f":"INDEX(costrank!$B$2:$B$100,MATCH($A61,costrank!$E$2:$E$100,0))","v":{"$error":"#N/A"}},{"$f":"IF(ISNA(B61),\"\",\" - \"&INDEX(costrank!$C$2:$C$100,MATCH($A61,costrank!$E$2:$E$100,0)))","v":""},{"$f":"IF(ISNA(B61),\"\",INT(INDEX(costrank!$D$2:$D$100,MATCH($A61,costrank!$E$2:$E$100,0))/100)*100)","v":""},1,61,{"$f":"IF($F61<=MAX($E$1:$E545),INDEX(C$1:C$85,MATCH($F61,$E$1:$E$85,0)),\"\")","v":""},{"$f":"IF($F61<=MAX($E$1:$E545),INDEX(D$1:D$85,MATCH($F61,$E$1:$E$85,0)),\"\")","v":""}]
[18,{"$f":"INDEX(costrank!$B$2:$B$100,MATCH($A62,costrank!$E$2:$E$100,0))","v":{"$error":"#N/A"}},{"$f":"IF(ISNA(B62),\"\",\" - \"&INDEX(costrank!$C$2:$C$100,MATCH($A62,costrank!$E$2:$E$100,0)))","v":""},{"$f":"IF(ISNA(B62),\"\",INT(INDEX(costrank!$D$2:$D$100,MATCH($A62,costrank!$E$2:$E$100,0))/100)*100)","v":""},1,62,{"$f":"IF($F62<=MAX($E$1:$E546),INDEX(C$1:C$85,MATCH($F62,$E$1:$E$85,0)),\"\")","v":""},{"$f":"IF($F62<=MAX($E$1:$E546),INDEX(D$1:D$85,MATCH($F62,$E$1:$E$85,0)),\"\")","v":""}]
[19,{"$f":"INDEX(costrank!$B$2:$B$100,MATCH($A63,costrank!$E$2:$E$100,0))","v":{"$error":"#N/A"}},{"$f":"IF(ISNA(B63),\"\",\" - \"&INDEX(costrank!$C$2:$C$100,MATCH($A63,costrank!$E$2:$E$100,0)))","v":""},{"$f":"IF(ISNA(B63),\"\",INT(INDEX(costrank!$D$2:$D$100,MATCH($A63,costrank!$E$2:$E$100,0))/100)*100)","v":""},1,63,{"$f":"IF($F63<=MAX($E$1:$E547),INDEX(C$1:C$85,MATCH($F63,$E$1:$E$85,0)),\"\")","v":""},{"$f":"IF($F63<=MAX($E$1:$E547),INDEX(D$1:D$85,MATCH($F63,$E$1:$E$85,0)),\"\")","v":""}]
[20,{"$f":"INDEX(costrank!$B$2:$B$100,MATCH($A64,costrank!$E$2:$E$100,0))","v":{"$error":"#N/A"}},{"$f":"IF(ISNA(B64),\"\",\" - \"&INDEX(costrank!$C$2:$C$100,MATCH($A64,costrank!$E$2:$E$100,0)))","v":""},{"$f":"IF(ISNA(B64),\"\",INT(INDEX(costrank!$D$2:$D$100,MATCH($A64,costrank!$E$2:$E$100,0))/100)*100)","v":""},1,64,{"$f":"IF($F64<=MAX($E$1:$E548),INDEX(C$1:C$85,MATCH($F64,$E$1:$E$85,0)),\"\")","v":""},{"$f":"IF($F64<=MAX($E$1:$E548),INDEX(D$1:D$85,MATCH($F64,$E$1:$E$85,0)),\"\")","v":""}]
[null,"customer sustain",{"$f":"IF(D65>0,\"CRM PROGRAMME\",\"\")","v":""},{"$f":"SUM(D66:D85)","v":0},1,65,{"$f":"IF($F65<=MAX($E$1:$E549),INDEX(C$1:C$85,MATCH($F65,$E$1:$E$85,0)),\"\")","v":""},{"$f":"IF($F65<=MAX($E$1:$E549),INDEX(D$1:D$85,MATCH($F65,$E$1:$E$85,0)),\"\")","v":""}]
[1,{"$f":"INDEX(costrank!$H$2:$H$100,MATCH($A66,costrank!$K$2:$K$100,0))","v":{"$error":"#N/A"}},{"$f":"IF(ISNA(B66),\"\",\" - \"&INDEX(costrank!$I$2:$I$100,MATCH($A66,costrank!$K$2:$K$100,0)))","v":""},{"$f":"IF(ISNA(B66),\"\",INT(INDEX(costrank!$J$2:$J$100,MATCH($A66,costrank!$K$2:$K$100,0))/100)*100)","v":""},1,66,{"$f":"IF($F66<=MAX($E$1:$E550),INDEX(C$1:C$85,MATCH($F66,$E$1:$E$85,0)),\"\")","v":""},{"$f":"IF($F66<=MAX($E$1:$E550),INDEX(D$1:D$85,MATCH($F66,$E$1:$E$85,0)),\"\")","v":""}]
[2,{"$f":"INDEX(costrank!$H$2:$H$100,MATCH($A67,costrank!$K$2:$K$100,0))","v":{"$error":"#N/A"}},{"$f":"IF(ISNA(B67),\"\",\" - \"&INDEX(costrank!$I$2:$I$100,MATCH($A67,costrank!$K$2:$K$100,0)))","v":""},{"$f":"IF(ISNA(B67),\"\",INT(INDEX(costrank!$J$2:$J$100,MATCH($A67,costrank!$K$2:$K$100,0))/100)*100)","v":""},{"$f":"IF(AND(ISNUMBER(D67),D67>0),IF(AND(ISNUMBER(D66),D66>0),E66+1,-1*E66+1),IF(AND(ISNUMBER(D66),D66>0),-1*E66,E66))","v":1},67,{"$f":"IF($F67<=MAX($E$1:$E551),INDEX(C$1:C$85,MATCH($F67,$E$1:$E$85,0)),\"\")","v":""},{"$f":"IF($F67<=MAX($E$1:$E551),INDEX(D$1:D$85,MATCH($F67,$E$1:$E$85,0)),\"\")","v":""}]
[3,{"$f":"INDEX(costrank!$H$2:$H$100,MATCH($A68,costrank!$K$2:$K$100,0))","v":{"$error":"#N/A"}},{"$f":"IF(ISNA(B68),\"\",\" - \"&INDEX(costrank!$I$2:$I$100,MATCH($A68,costrank!$K$2:$K$100,0)))","v":""},{"$f":"IF(ISNA(B68),\"\",INT(INDEX(costrank!$J$2:$J$100,MATCH($A68,costrank!$K$2:$K$100,0))/100)*100)","v":""},1,68,{"$f":"IF($F68<=MAX($E$1:$E552),INDEX(C$1:C$85,MATCH($F68,$E$1:$E$85,0)),\"\")","v":""},{"$f":"IF($F68<=MAX($E$1:$E552),INDEX(D$1:D$85,MATCH($F68,$E$1:$E$85,0)),\"\")","v":""}]
[4,{"$f":"INDEX(costrank!$H$2:$H$100,MATCH($A69,costrank!$K$2:$K$100,0))","v":{"$error":"#N/A"}},{"$f":"IF(ISNA(B69),\"\",\" - \"&INDEX(costrank!$I$2:$I$100,MATCH($A69,costrank!$K$2:$K$100,0)))","v":""},{"$f":"IF(ISNA(B69),\"\",INT(INDEX(costrank!$J$2:$J$100,MATCH($A69,costrank!$K$2:$K$100,0))/100)*100)","v":""},1,69,{"$f":"IF($F69<=MAX($E$1:$E553),INDEX(C$1:C$85,MATCH($F69,$E$1:$E$85,0)),\"\")","v":""},{"$f":"IF($F69<=MAX($E$1:$E553),INDEX(D$1:D$85,MATCH($F69,$E$1:$E$85,0)),\"\")","v":""}]
[5,{"$f":"INDEX(costrank!$H$2:$H$100,MATCH($A70,costrank!$K$2:$K$100,0))","v":{"$error":"#N/A"}},{"$f":"IF(ISNA(B70),\"\",\" - \"&INDEX(costrank!$I$2:$I$100,MATCH($A70,costrank!$K$2:$K$100,0)))","v":""},{"$f":"IF(ISNA(B70),\"\",INT(INDEX(costrank!$J$2:$J$100,MATCH($A70,costrank!$K$2:$K$100,0))/100)*100)","v":""},1,70,{"$f":"IF($F70<=MAX($E$1:$E554),INDEX(C$1:C$85,MATCH($F70,$E$1:$E$85,0)),\"\")","v":""},{"$f":"IF($F70<=MAX($E$1:$E554),INDEX(D$1:D$85,MATCH($F70,$E$1:$E$85,0)),\"\")","v":""}]
[6,{"$f":"INDEX(costrank!$H$2:$H$100,MATCH($A71,costrank!$K$2:$K$100,0))","v":{"$error":"#N/A"}},{"$f":"IF(ISNA(B71),\"\",\" - \"&INDEX(costrank!$I$2:$I$100,MATCH($A71,costrank!$K$2:$K$100,0)))","v":""},{"$f":"IF(ISNA(B71),\"\",INT(INDEX(costrank!$J$2:$J$100,MATCH($A71,costrank!$K$2:$K$100,0))/100)*100)","v":""},1,71,{"$f":"IF($F71<=MAX($E$1:$E555),INDEX(C$1:C$85,MATCH($F71,$E$1:$E$85,0)),\"\")","v":""},{"$f":"IF($F71<=MAX($E$1:$E555),INDEX(D$1:D$85,MATCH($F71,$E$1:$E$85,0)),\"\")","v":""}]
[7,{"$f":"INDEX(costrank!$H$2:$H$100,MATCH($A72,costrank!$K$2:$K$100,0))","v":{"$error":"#N/A"}},{"$f":"IF(ISNA(B72),\"\",\" - \"&INDEX(costrank!$I$2:$I$100,MATCH($A72,costrank!$K$2:$K$100,0)))","v":""},{"$f":"IF(ISNA(B72),\"\",INT(INDEX(costrank!$J$2:$J$100,MATCH($A72,costrank!$K$2:$K$100,0))/100)*100)","v":""},1,72,{"$f":"IF($F72<=MAX($E$1:$E556),INDEX(C$1:C$85,MATCH($F72,$E$1:$E$85,0)),\"\")","v":""},{"$f":"IF($F72<=MAX($E$1:$E556),INDEX(D$1:D$85,MATCH($F72,$E$1:$E$85,0)),\"\")","v":""}]
[8,{"$f":"INDEX(costrank!$H$2:$H$100,MATCH($A73,costrank!$K$2:$K$100,0))","v":{"$error":"#N/A"}},{"$f":"IF(ISNA(B73),\"\",\" - \"&INDEX(costrank!$I$2:$I$100,MATCH($A73,costrank!$K$2:$K$100,0)))","v":""},{"$f":"IF(ISNA(B73),\"\",INT(INDEX(costrank!$J$2:$J$100,MATCH($A73,costrank!$K$2:$K$100,0))/100)*100)","v":""},1,73,{"$f":"IF($F73<=MAX($E$1:$E557),INDEX(C$1:C$85,MATCH($F73,$E$1:$E$85,0)),\"\")","v":""},{"$f":"IF($F73<=MAX($E$1:$E557),INDEX(D$1:D$85,MATCH($F73,$E$1:$E$85,0)),\"\")","v":""}]
[9,{"$f":"INDEX(costrank!$H$2:$H$100,MATCH($A74,costrank!$K$2:$K$100,0))","v":{"$error":"#N/A"}},{"$f":"IF(ISNA(B74),\"\",\" - \"&INDEX(costrank!$I$2:$I$100,MATCH($A74,costrank!$K$2:$K$100,0)))","v":""},{"$f":"IF(ISNA(B74),\"\",INT(INDEX(costrank!$J$2:$J$100,MATCH($A74,costrank!$K$2:$K$100,0))/100)*100)","v":""},1,74,{"$f":"IF($F74<=MAX($E$1:$E558),INDEX(C$1:C$85,MATCH($F74,$E$1:$E$85,0)),\"\")","v":""},{"$f":"IF($F74<=MAX($E$1:$E558),INDEX(D$1:D$85,MATCH($F74,$E$1:$E$85,0)),\"\")","v":""}]
[10,{"$f":"INDEX(costrank!$H$2:$H$100,MATCH($A75,costrank!$K$2:$K$100,0))","v":{"$error":"#N/A"}},{"$f":"IF(ISNA(B75),\"\",\" - \"&INDEX(costrank!$I$2:$I$100,MATCH($A75,costrank!$K$2:$K$100,0)))","v":""},{"$f":"IF(ISNA(B75),\"\",INT(INDEX(costrank!$J$2:$J$100,MATCH($A75,costrank!$K$2:$K$100,0))/100)*100)","v":""},1,75,{"$f":"IF($F75<=MAX($E$1:$E559),INDEX(C$1:C$85,MATCH($F75,$E$1:$E$85,0)),\"\")","v":""},{"$f":"IF($F75<=MAX($E$1:$E559),INDEX(D$1:D$85,MATCH($F75,$E$1:$E$85,0)),\"\")","v":""}]
[11,{"$f":"INDEX(costrank!$H$2:$H$100,MATCH($A76,costrank!$K$2:$K$100,0))","v":{"$error":"#N/A"}},{"$f":"IF(ISNA(B76),\"\",\" - \"&INDEX(costrank!$I$2:$I$100,MATCH($A76,costrank!$K$2:$K$100,0)))","v":""},{"$f":"IF(ISNA(B76),\"\",INT(INDEX(costrank!$J$2:$J$100,MATCH($A76,costrank!$K$2:$K$100,0))/100)*100)","v":""},1,76,{"$f":"IF($F76<=MAX($E$1:$E560),INDEX(C$1:C$85,MATCH($F76,$E$1:$E$85,0)),\"\")","v":""},{"$f":"IF($F76<=MAX($E$1:$E560),INDEX(D$1:D$85,MATCH($F76,$E$1:$E$85,0)),\"\")","v":""}]
[12,{"$f":"INDEX(costrank!$H$2:$H$100,MATCH($A77,costrank!$K$2:$K$100,0))","v":{"$error":"#N/A"}},{"$f":"IF(ISNA(B77),\"\",\" - \"&INDEX(costrank!$I$2:$I$100,MATCH($A77,costrank!$K$2:$K$100,0)))","v":""},{"$f":"IF(ISNA(B77),\"\",INT(INDEX(costrank!$J$2:$J$100,MATCH($A77,costrank!$K$2:$K$100,0))/100)*100)","v":""},1,77,{"$f":"IF($F77<=MAX($E$1:$E561),INDEX(C$1:C$85,MATCH($F77,$E$1:$E$85,0)),\"\")","v":""},{"$f":"IF($F77<=MAX($E$1:$E561),INDEX(D$1:D$85,MATCH($F77,$E$1:$E$85,0)),\"\")","v":""}]
[13,{"$f":"INDEX(costrank!$H$2:$H$100,MATCH($A78,costrank!$K$2:$K$100,0))","v":{"$error":"#N/A"}},{"$f":"IF(ISNA(B78),\"\",\" - \"&INDEX(costrank!$I$2:$I$100,MATCH($A78,costrank!$K$2:$K$100,0)))","v":""},{"$f":"IF(ISNA(B78),\"\",INT(INDEX(costrank!$J$2:$J$100,MATCH($A78,costrank!$K$2:$K$100,0))/100)*100)","v":""},1,78,{"$f":"IF($F78<=MAX($E$1:$E562),INDEX(C$1:C$85,MATCH($F78,$E$1:$E$85,0)),\"\")","v":""},{"$f":"IF($F78<=MAX($E$1:$E562),INDEX(D$1:D$85,MATCH($F78,$E$1:$E$85,0)),\"\")","v":""}]
[14,{"$f":"INDEX(costrank!$H$2:$H$100,MATCH($A79,costrank!$K$2:$K$100,0))","v":{"$error":"#N/A"}},{"$f":"IF(ISNA(B79),\"\",\" - \"&INDEX(costrank!$I$2:$I$100,MATCH($A79,costrank!$K$2:$K$100,0)))","v":""},{"$f":"IF(ISNA(B79),\"\",INT(INDEX(costrank!$J$2:$J$100,MATCH($A79,costrank!$K$2:$K$100,0))/100)*100)","v":""},1,79,{"$f":"IF($F79<=MAX($E$1:$E563),INDEX(C$1:C$85,MATCH($F79,$E$1:$E$85,0)),\"\")","v":""},{"$f":"IF($F79<=MAX($E$1:$E563),INDEX(D$1:D$85,MATCH($F79,$E$1:$E$85,0)),\"\")","v":""}]
[15,{"$f":"INDEX(costrank!$H$2:$H$100,MATCH($A80,costrank!$K$2:$K$100,0))","v":{"$error":"#N/A"}},{"$f":"IF(ISNA(B80),\"\",\" - \"&INDEX(costrank!$I$2:$I$100,MATCH($A80,costrank!$K$2:$K$100,0)))","v":""},{"$f":"IF(ISNA(B80),\"\",INT(INDEX(costrank!$J$2:$J$100,MATCH($A80,costrank!$K$2:$K$100,0))/100)*100)","v":""},1,80,{"$f":"IF($F80<=MAX($E$1:$E564),INDEX(C$1:C$85,MATCH($F80,$E$1:$E$85,0)),\"\")","v":""},{"$f":"IF($F80<=MAX($E$1:$E564),INDEX(D$1:D$85,MATCH($F80,$E$1:$E$85,0)),\"\")","v":""}]
[16,{"$f":"INDEX(costrank!$H$2:$H$100,MATCH($A81,costrank!$K$2:$K$100,0))","v":{"$error":"#N/A"}},{"$f":"IF(ISNA(B81),\"\",\" - \"&INDEX(costrank!$I$2:$I$100,MATCH($A81,costrank!$K$2:$K$100,0)))","v":""},{"$f":"IF(ISNA(B81),\"\",INT(INDEX(costrank!$J$2:$J$100,MATCH($A81,costrank!$K$2:$K$100,0))/100)*100)","v":""},1,81,{"$f":"IF($F81<=MAX($E$1:$E565),INDEX(C$1:C$85,MATCH($F81,$E$1:$E$85,0)),\"\")","v":""},{"$f":"IF($F81<=MAX($E$1:$E565),INDEX(D$1:D$85,MATCH($F81,$E$1:$E$85,0)),\"\")","v":""}]
[17,{"$f":"INDEX(costrank!$H$2:$H$100,MATCH($A82,costrank!$K$2:$K$100,0))","v":{"$error":"#N/A"}},{"$f":"IF(ISNA(B82),\"\",\" - \"&INDEX(costrank!$I$2:$I$100,MATCH($A82,costrank!$K$2:$K$100,0)))","v":""},{"$f":"IF(ISNA(B82),\"\",INT(INDEX(costrank!$J$2:$J$100,MATCH($A82,costrank!$K$2:$K$100,0))/100)*100)","v":""},1,82,{"$f":"IF($F82<=MAX($E$1:$E566),INDEX(C$1:C$85,MATCH($F82,$E$1:$E$85,0)),\"\")","v":""},{"$f":"IF($F82<=MAX($E$1:$E566),INDEX(D$1:D$85,MATCH($F82,$E$1:$E$85,0)),\"\")","v":""}]
[18,{"$f":"INDEX(costrank!$H$2:$H$100,MATCH($A83,costrank!$K$2:$K$100,0))","v":{"$error":"#N/A"}},{"$f":"IF(ISNA(B83),\"\",\" - \"&INDEX(costrank!$I$2:$I$100,MATCH($A83,costrank!$K$2:$K$100,0)))","v":""},{"$f":"IF(ISNA(B83),\"\",INT(INDEX(costrank!$J$2:$J$100,MATCH($A83,costrank!$K$2:$K$100,0))/100)*100)","v":""},1,83,{"$f":"IF($F83<=MAX($E$1:$E567),INDEX(C$1:C$85,MATCH($F83,$E$1:$E$85,0)),\"\")","v":""},{"$f":"IF($F83<=MAX($E$1:$E567),INDEX(D$1:D$85,MATCH($F83,$E$1:$E$85,0)),\"\")","v":""}]
[19,{"$f":"INDEX(costrank!$H$2:$H$100,MATCH($A84,costrank!$K$2:$K$100,0))","v":{"$error":"#N/A"}},{"$f":"IF(ISNA(B84),\"\",\" - \"&INDEX(costrank!$I$2:$I$100,MATCH($A84,costrank!$K$2:$K$100,0)))","v":""},{"$f":"IF(ISNA(B84),\"\",INT(INDEX(costrank!$J$2:$J$100,MATCH($A84,costrank!$K$2:$K$100,0))/100)*100)","v":""},1,84,{"$f":"IF($F84<=MAX($E$1:$E568),INDEX(C$1:C$85,MATCH($F84,$E$1:$E$85,0)),\"\")","v":""},{"$f":"IF($F84<=MAX($E$1:$E568),INDEX(D$1:D$85,MATCH($F84,$E$1:$E$85,0)),\"\")","v":""}]
[20,{"$f":"INDEX(costrank!$H$2:$H$100,MATCH($A85,costrank!$K$2:$K$100,0))","v":{"$error":"#N/A"}},{"$f":"IF(ISNA(B85),\"\",\" - \"&INDEX(costrank!$I$2:$I$100,MATCH($A85,costrank!$K$2:$K$100,0)))","v":""},{"$f":"IF(ISNA(B85),\"\",INT(INDEX(costrank!$J$2:$J$100,MATCH($A85,costrank!$K$2:$K$100,0))/100)*100)","v":""},1,85,{"$f":"IF($F85<=MAX($E$1:$E569),INDEX(C$1:C$85,MATCH($F85,$E$1:$E$85,0)),\"\")","v":""},{"$f":"IF($F85<=MAX($E$1:$E569),INDEX(D$1:D$85,MATCH($F85,$E$1:$E$85,0)),\"\")","v":""}]

{"sheet":"strlook","index":11,"n_rows":600,"n_cols":6,"rows_kept":600,"cut":false,"hidden":true,"merged":[]}
["TFPSTR","Label","Ref","Desc"]
[102,{"$f":"\"TFPSTR\" & A2  & \" Error - \"&D2","v":"TFPSTR102 Error - Begin-Ans1"},{"$f":"'q&a'!$I2","v":0},"Begin-Ans1"]
[103,{"$f":"IF(LEN(C3)>1,C3,\"Missing Field - \" & D3)","v":"Missing Field - FirmNam-Ans1"},{"$f":"'q&a'!$I3","v":0},"FirmNam-Ans1"]
[104,{"$f":"IF(LEN(C4)>1,C4,\"Missing Field - \" & D4)","v":"Missing Field - FirmAdd-Ans1"},{"$f":"'q&a'!$I4","v":0},"FirmAdd-Ans1"]
[105,{"$f":"IF(LEN(C5)>1,C5,\"Missing Field - \" & D5)","v":"Missing Field - FirmProd-Ans1"},{"$f":"'q&a'!$I5","v":0},"FirmProd-Ans1"]
[106,{"$f":"IF(LEN(C6)>1,C6,\"Missing Field - \" & D6)","v":"Missing Field - BusObj-Ans1"},{"$f":"'q&a'!$I6","v":0},"BusObj-Ans1"]
[107,{"$f":"IF(LEN(C7)>1,C7,\"Missing Field - \" & D7)","v":"Missing Field - MktObj-Ans1"},{"$f":"'q&a'!$I7","v":0},"MktObj-Ans1"]
[108,{"$f":"IF(AND(ISNUMBER(C8),C8>=0),DOLLAR(C8,0),\"Missing Field - \" & D8)","v":"£0"},{"$f":"'q&a'!$I8","v":0},"ProjSales-Ans1"]
[109,{"$f":"IF(AND(ISNUMBER(C9),C9>=0),C9,\"Missing Field - \" & D9)","v":0},{"$f":"'q&a'!$I9","v":0},"NewCusts-Ans1"]
[110,{"$f":"IF(AND(ISNUMBER(C10),C10>=0),C10,\"Missing Field - \" & D10)","v":0},{"$f":"'q&a'!$I10","v":0},"MktCycle-Ans1"]
[111,{"$f":"IF(LEN(C11)>1,C11,\"Missing Field - \" & D11)","v":"Missing Field - Region-Ans1"},{"$f":"'q&a'!$I11","v":0},"Region-Ans1"]
[112,{"$f":"IF(AND(ISNUMBER(C12),C12>=0),C12,\"Missing Field - \" & D12)","v":100},{"$f":"IF(AND('q&a'!$I12>0,'q&a'!$I12<100),'q&a'!$I12,100)","v":100},"RegSize-Ans1"]
[113,{"$f":"IF(AND(ISNUMBER(C13),C13>=0),C13,\"Missing Field - \" & D13)","v":0},{"$f":"'q&a'!$I13","v":0},"MktSize-Ans1"]
[114,0,{"$f":"'q&a'!$I14","v":0},"MktShare-Ans1"]
[115,{"$f":"IF(LEN(C15)>1,C15,\"Missing Field - \" & D15)","v":"Missing Field - CompLst1-Ans1"},{"$f":"'q&a'!$I15","v":0},"CompLst1-Ans1"]
[116,0,{"$f":"'q&a'!$J15","v":0},"CompLst1-Ans2"]
[117,"Missing Field - CompLst2-Ans1",{"$f":"'q&a'!$I16","v":0},"CompLst2-Ans1"]
[118,0,{"$f":"'q&a'!$J16","v":0},"CompLst2-Ans2"]
[119,"Missing Field - CompLst3-Ans1",{"$f":"'q&a'!$I17","v":0},"CompLst3-Ans1"]
[120,0,{"$f":"'q&a'!$J17","v":0},"CompLst3-Ans2"]
[121,"Missing Field - CompLst4-Ans1",{"$f":"'q&a'!$I18","v":0},"CompLst4-Ans1"]
[122,0,{"$f":"'q&a'!$J18","v":0},"CompLst4-Ans2"]
[123,"Missing Field - CompLst5-Ans1",{"$f":"'q&a'!$I19","v":0},"CompLst5-Ans1"]
[124,0,{"$f":"'q&a'!$J19","v":0},"CompLst5-Ans2"]
[125,"Missing Field - CompLst6-Ans1",{"$f":"'q&a'!$I20","v":0},"CompLst6-Ans1"]
[126,0,{"$f":"'q&a'!$J20","v":0},"CompLst6-Ans2"]
[127,"Missing Field - CompLst7-Ans1",{"$f":"'q&a'!$I21","v":0},"CompLst7-Ans1"]
[128,0,{"$f":"'q&a'!$J21","v":0},"CompLst7-Ans2"]
[129,"Missing Field - CompLst8-Ans1",{"$f":"'q&a'!$I22","v":0},"CompLst8-Ans1"]
[130,0,{"$f":"'q&a'!$J22","v":0},"CompLst8-Ans2"]
[131,"Missing Field - CompLst9-Ans1",{"$f":"'q&a'!$I23","v":0},"CompLst9-Ans1"]
[132,0,{"$f":"'q&a'!$J23","v":0},"CompLst9-Ans2"]
[133,"Missing Field - TargAud-Ans1",{"$f":"'q&a'!$I24","v":0},"TargAud-Ans1"]
[134,{"$f":"\"TFPSTR\" & A34  & \" Error - \"&D34","v":"TFPSTR134 Error - BusAud-Ans1"},{"$f":"'q&a'!$I25","v":0},"BusAud-Ans1"]
[135,{"$f":"\"TFPSTR\" & A35  & \" Error - \"&D35","v":"TFPSTR135 Error - YngAud-Ans1"},{"$f":"'q&a'!$I26","v":0},"YngAud-Ans1"]
[136,{"$f":"IF(LEN(C36)>1,C36,\"Missing Field - \" & D36)","v":"Missing Field - Prop-Ans1"},{"$f":"'q&a'!$I27","v":0},"Prop-Ans1"]
[137,{"$f":"IF(LEN(C37)>1,C37,\"Missing Field - \" & D37)","v":"Missing Field - Subst-Ans1"},{"$f":"'q&a'!$I28","v":0},"Subst-Ans1"]
[138,{"$f":"\"TFPSTR\" & A38  & \" Error - \"&D38","v":"TFPSTR138 Error - Inform-Ans1"},{"$f":"'q&a'!$I29","v":0},"Inform-Ans1"]
[139,"TFPSTR139 Error - Retail-Ans1",{"$f":"'q&a'!$I30","v":0},"Retail-Ans1"]
[140,"TFPSTR140 Error - SalesF-Ans1",{"$f":"'q&a'!$I31","v":0},"SalesF-Ans1"]
[141,"TFPSTR141 Error - SetAppt-Ans1",{"$f":"'q&a'!$I32","v":0},"SetAppt-Ans1"]
[142,"TFPSTR142 Error - CatLog-Ans1",{"$f":"'q&a'!$I33","v":0},"CatLog-Ans1"]
[143,"TFPSTR143 Error - TelIn-Ans1",{"$f":"'q&a'!$I34","v":0},"TelIn-Ans1"]
[144,"TFPSTR144 Error - ProspMail-Ans1",{"$f":"'q&a'!$I35","v":0},"ProspMail-Ans1"]
[145,"TFPSTR145 Error - ProspTel-Ans1",{"$f":"'q&a'!$I36","v":0},"ProspTel-Ans1"]
[146,"TFPSTR146 Error - ProspEmail-Ans1",{"$f":"'q&a'!$I37","v":0},"ProspEmail-Ans1"]
[147,"TFPSTR147 Error - CustMail-Ans1",{"$f":"'q&a'!$I38","v":0},"CustMail-Ans1"]
[148,"TFPSTR148 Error - CustTel-Ans1",{"$f":"'q&a'!$I39","v":0},"CustTel-Ans1"]
[149,"TFPSTR149 Error - CustEmail-Ans1",{"$f":"'q&a'!$I40","v":0},"CustEmail-Ans1"]
[150,{"$f":"IF(AND(ISNUMBER(C50),C50>=0),DOLLAR(C50,0),\"Missing Field - \" & D50)","v":"£0"},{"$f":"'q&a'!$I41","v":0},"CurrSales-Ans1"]
[151,{"$f":"IF(AND(ISNUMBER(C51),C51>=0),C51,\"Missing Field - \" & D51)","v":0},{"$f":"'q&a'!$I42","v":0},"CurrCusts-Ans1"]
[152,{"$f":"IF(AND(ISNUMBER(C52),C52>=0),C52,\"Missing Field - \" & D52)","v":0},{"$f":"'q&a'!$I43","v":0},"CustCycle-Ans1"]
[153,{"$f":"IF(LEN(C53)>1,C53,\"Missing Field - \" & D53)","v":"Missing Field - CPLst1-Ans1"},{"$f":"'q&a'!$I44","v":0},"CPLst1-Ans1"]
[154,"Missing Field - CPLst1-Ans2",{"$f":"'q&a'!$J44","v":0},"CPLst1-Ans2"]
[155,"Missing Field - CPLst2-Ans1",{"$f":"'q&a'!$I45","v":0},"CPLst2-Ans1"]
[156,"Missing Field - CPLst2-Ans2",{"$f":"'q&a'!$J45","v":0},"CPLst2-Ans2"]
[157,"Missing Field - CPLst3-Ans1",{"$f":"'q&a'!$I46","v":0},"CPLst3-Ans1"]
[158,"Missing Field - CPLst3-Ans2",{"$f":"'q&a'!$J46","v":0},"CPLst3-Ans2"]
[159,"Missing Field - CPLst4-Ans1",{"$f":"'q&a'!$I47","v":0},"CPLst4-Ans1"]
[160,"Missing Field - CPLst4-Ans2",{"$f":"'q&a'!$J47","v":0},"CPLst4-Ans2"]
[161,"Missing Field - CPLst5-Ans1",{"$f":"'q&a'!$I48","v":0},"CPLst5-Ans1"]
[162,"Missing Field - CPLst5-Ans2",{"$f":"'q&a'!$J48","v":0},"CPLst5-Ans2"]
[163,"Missing Field - CPLst6-Ans1",{"$f":"'q&a'!$I49","v":0},"CPLst6-Ans1"]
[164,"Missing Field - CPLst6-Ans2",{"$f":"'q&a'!$J49","v":0},"CPLst6-Ans2"]
[165,"Missing Field - CPLst7-Ans1",{"$f":"'q&a'!$I50","v":0},"CPLst7-Ans1"]
[166,"Missing Field - CPLst7-Ans2",{"$f":"'q&a'!$J50","v":0},"CPLst7-Ans2"]
[167,"Missing Field - CPLst8-Ans1",{"$f":"'q&a'!$I51","v":0},"CPLst8-Ans1"]
[168,"Missing Field - CPLst8-Ans2",{"$f":"'q&a'!$J51","v":0},"CPLst8-Ans2"]
[169,"Missing Field - CPLst9-Ans1",{"$f":"'q&a'!$I52","v":0},"CPLst9-Ans1"]
[170,"Missing Field - CPLst9-Ans2",{"$f":"'q&a'!$J52","v":0},"CPLst9-Ans2"]
[171,"Missing Field - PPLst1-Ans1",{"$f":"'q&a'!$I53","v":0},"PPLst1-Ans1"]
[172,"Missing Field - PPLst1-Ans2",{"$f":"'q&a'!$J53","v":0},"PPLst1-Ans2"]
[173,"Missing Field - PPLst2-Ans1",{"$f":"'q&a'!$I54","v":0},"PPLst2-Ans1"]
[174,"Missing Field - PPLst2-Ans2",{"$f":"'q&a'!$J54","v":0},"PPLst2-Ans2"]
[175,"Missing Field - PPLst3-Ans1",{"$f":"'q&a'!$I55","v":0},"PPLst3-Ans1"]
[176,"Missing Field - PPLst3-Ans2",{"$f":"'q&a'!$J55","v":0},"PPLst3-Ans2"]
[177,"Missing Field - PPLst4-Ans1",{"$f":"'q&a'!$I56","v":0},"PPLst4-Ans1"]
[178,"Missing Field - PPLst4-Ans2",{"$f":"'q&a'!$J56","v":0},"PPLst4-Ans2"]
[179,"Missing Field - PPLst5-Ans1",{"$f":"'q&a'!$I57","v":0},"PPLst5-Ans1"]
[180,"Missing Field - PPLst5-Ans2",{"$f":"'q&a'!$J57","v":0},"PPLst5-Ans2"]
[181,"Missing Field - PPLst6-Ans1",{"$f":"'q&a'!$I58","v":0},"PPLst6-Ans1"]
[182,"Missing Field - PPLst6-Ans2",{"$f":"'q&a'!$J58","v":0},"PPLst6-Ans2"]
[183,"Missing Field - PPLst7-Ans1",{"$f":"'q&a'!$I59","v":0},"PPLst7-Ans1"]
[184,"Missing Field - PPLst7-Ans2",{"$f":"'q&a'!$J59","v":0},"PPLst7-Ans2"]
[185,"Missing Field - PPLst8-Ans1",{"$f":"'q&a'!$I60","v":0},"PPLst8-Ans1"]
[186,"Missing Field - PPLst8-Ans2",{"$f":"'q&a'!$J60","v":0},"PPLst8-Ans2"]
[187,"Missing Field - PPLst9-Ans1",{"$f":"'q&a'!$I61","v":0},"PPLst9-Ans1"]
[188,"Missing Field - PPLst9-Ans2",{"$f":"'q&a'!$J61","v":0},"PPLst9-Ans2"]
[189,{"$f":"IF(AND(ISNUMBER(C89),C89>=0),DOLLAR(C89,0),\"Missing Field - \" & D89)","v":"£0"},{"$f":"'q&a'!$I62","v":0},"Budget-Ans1"]
[190,{"$f":"\"TFPSTR\" & A90  & \" Error - \"&D90","v":"TFPSTR190 Error - Run-Ans1"},{"$f":"'q&a'!$I63","v":0},"Run-Ans1"]
[191,{"$f":"IF(LEN(C91)>1,C91,\"Missing Field - \" & D91)","v":"Missing Field - CORE MARKETING PROGRAMME"},{"$f":"costsum!C2","v":""},"CORE MARKETING PROGRAMME"]
[192,{"$f":"IF(ISNA(C92),\"Missing Field - \" & D92,\"Alert\")","v":"Missing Field - CORE MARKETING PROGRAMME - Alert?"},{"$f":"MATCH(\"Alert\",costsum!B3:B22,0)","v":{"$error":"#N/A"}},"CORE MARKETING PROGRAMME - Alert?"]
[193,{"$f":"IF(LEN(C93)>1,MID(C93,4,LEN(C93)-3),\"Missing Field - \" & D93)","v":"Missing Field - CORE MARKETING PROGRAMME - Alert1"},{"$f":"IF(ISNA(costsum!B3),\"\",IF(costsum!B3=\"Alert\",costsum!C3,\"\"))","v":""},"CORE MARKETING PROGRAMME - Alert1"]
[194,{"$f":"IF(LEN(C94)>1,MID(C94,4,LEN(C94)-3),\"Missing Field - \" & D94)","v":"Missing Field - CORE MARKETING PROGRAMME - Alert2"},{"$f":"IF(ISNA(costsum!B4),\"\",IF(costsum!B4=\"Alert\",costsum!C4,\"\"))","v":""},"CORE MARKETING PROGRAMME - Alert2"]
[195,{"$f":"IF(LEN(C95)>1,MID(C95,4,LEN(C95)-3),\"Missing Field - \" & D95)","v":"Missing Field - CORE MARKETING PROGRAMME - Alert3"},{"$f":"IF(ISNA(costsum!B5),\"\",IF(costsum!B5=\"Alert\",costsum!C5,\"\"))","v":""},"CORE MARKETING PROGRAMME - Alert3"]
[196,{"$f":"IF(LEN(C96)>1,MID(C96,4,LEN(C96)-3),\"Missing Field - \" & D96)","v":"Missing Field - CORE MARKETING PROGRAMME - Alert4"},{"$f":"IF(ISNA(costsum!B6),\"\",IF(costsum!B6=\"Alert\",costsum!C6,\"\"))","v":""},"CORE MARKETING PROGRAMME - Alert4"]
[197,"Missing Field - CORE MARKETING PROGRAMME - Alert5",{"$f":"IF(ISNA(costsum!B7),\"\",IF(costsum!B7=\"Alert\",costsum!C7,\"\"))","v":""},"CORE MARKETING PROGRAMME - Alert5"]
[198,"Missing Field - CORE MARKETING PROGRAMME - Alert6",{"$f":"IF(ISNA(costsum!B8),\"\",IF(costsum!B8=\"Alert\",costsum!C8,\"\"))","v":""},"CORE MARKETING PROGRAMME - Alert6"]
[199,"Missing Field - CORE MARKETING PROGRAMME - Alert7",{"$f":"IF(ISNA(costsum!B9),\"\",IF(costsum!B9=\"Alert\",costsum!C9,\"\"))","v":""},"CORE MARKETING PROGRAMME - Alert7"]
[200,"Missing Field - CORE MARKETING PROGRAMME - Alert8",{"$f":"IF(ISNA(costsum!B10),\"\",IF(costsum!B10=\"Alert\",costsum!C10,\"\"))","v":""},"CORE MARKETING PROGRAMME - Alert8"]
[201,"Missing Field - CORE MARKETING PROGRAMME - Alert9",{"$f":"IF(ISNA(costsum!B11),\"\",IF(costsum!B11=\"Alert\",costsum!C11,\"\"))","v":""},"CORE MARKETING PROGRAMME - Alert9"]
[202,"Missing Field - CORE MARKETING PROGRAMME - Alert10",{"$f":"IF(ISNA(costsum!B12),\"\",IF(costsum!B12=\"Alert\",costsum!C12,\"\"))","v":""},"CORE MARKETING PROGRAMME - Alert10"]
[203,"Missing Field - CORE MARKETING PROGRAMME - Alert11",{"$f":"IF(ISNA(costsum!B13),\"\",IF(costsum!B13=\"Alert\",costsum!C13,\"\"))","v":""},"CORE MARKETING PROGRAMME - Alert11"]
[204,"Missing Field - CORE MARKETING PROGRAMME - Alert12",{"$f":"IF(ISNA(costsum!B14),\"\",IF(costsum!B14=\"Alert\",costsum!C14,\"\"))","v":""},"CORE MARKETING PROGRAMME - Alert12"]
[205,"Missing Field - CORE MARKETING PROGRAMME - Alert13",{"$f":"IF(ISNA(costsum!B15),\"\",IF(costsum!B15=\"Alert\",costsum!C15,\"\"))","v":""},"CORE MARKETING PROGRAMME - Alert13"]
[206,"Missing Field - CORE MARKETING PROGRAMME - Alert14",{"$f":"IF(ISNA(costsum!B16),\"\",IF(costsum!B16=\"Alert\",costsum!C16,\"\"))","v":""},"CORE MARKETING PROGRAMME - Alert14"]
[207,"Missing Field - CORE MARKETING PROGRAMME - Alert15",{"$f":"IF(ISNA(costsum!B17),\"\",IF(costsum!B17=\"Alert\",costsum!C17,\"\"))","v":""},"CORE MARKETING PROGRAMME - Alert15"]
[208,"Missing Field - CORE MARKETING PROGRAMME - Alert16",{"$f":"IF(ISNA(costsum!B18),\"\",IF(costsum!B18=\"Alert\",costsum!C18,\"\"))","v":""},"CORE MARKETING PROGRAMME - Alert16"]
[209,"Missing Field - CORE MARKETING PROGRAMME - Alert17",{"$f":"IF(ISNA(costsum!B19),\"\",IF(costsum!B19=\"Alert\",costsum!C19,\"\"))","v":""},"CORE MARKETING PROGRAMME - Alert17"]
[210,"Missing Field - CORE MARKETING PROGRAMME - Alert18",{"$f":"IF(ISNA(costsum!B20),\"\",IF(costsum!B20=\"Alert\",costsum!C20,\"\"))","v":""},"CORE MARKETING PROGRAMME - Alert18"]
[211,"Missing Field - CORE MARKETING PROGRAMME - Alert19",{"$f":"IF(ISNA(costsum!B21),\"\",IF(costsum!B21=\"Alert\",costsum!C21,\"\"))","v":""},"CORE MARKETING PROGRAMME - Alert19"]
[212,"Missing Field - CORE MARKETING PROGRAMME - Alert20",{"$f":"IF(ISNA(costsum!B22),\"\",IF(costsum!B22=\"Alert\",costsum!C22,\"\"))","v":""},"CORE MARKETING PROGRAMME - Alert20"]
[213,{"$f":"IF(ISNA(C113),\"Missing Field - \" & D113,\"Inform\")","v":"Missing Field - CORE MARKETING PROGRAMME - Inform?"},{"$f":"MATCH(\"Inform\",costsum!B3:B22,0)","v":{"$error":"#N/A"}},"CORE MARKETING PROGRAMME - Inform?"]
[214,"Missing Field - CORE MARKETING PROGRAMME - Inform1",{"$f":"IF(ISNA(costsum!B3),\"\",IF(costsum!B3=\"Inform\",costsum!C3,\"\"))","v":""},"CORE MARKETING PROGRAMME - Inform1"]
[215,"Missing Field - CORE MARKETING PROGRAMME - Inform2",{"$f":"IF(ISNA(costsum!B4),\"\",IF(costsum!B4=\"Inform\",costsum!C4,\"\"))","v":""},"CORE MARKETING PROGRAMME - Inform2"]
[216,"Missing Field - CORE MARKETING PROGRAMME - Inform3",{"$f":"IF(ISNA(costsum!B5),\"\",IF(costsum!B5=\"Inform\",costsum!C5,\"\"))","v":""},"CORE MARKETING PROGRAMME - Inform3"]
[217,"Missing Field - CORE MARKETING PROGRAMME - Inform4",{"$f":"IF(ISNA(costsum!B6),\"\",IF(costsum!B6=\"Inform\",costsum!C6,\"\"))","v":""},"CORE MARKETING PROGRAMME - Inform4"]
[218,"Missing Field - CORE MARKETING PROGRAMME - Inform5",{"$f":"IF(ISNA(costsum!B7),\"\",IF(costsum!B7=\"Inform\",costsum!C7,\"\"))","v":""},"CORE MARKETING PROGRAMME - Inform5"]
[219,"Missing Field - CORE MARKETING PROGRAMME - Inform6",{"$f":"IF(ISNA(costsum!B8),\"\",IF(costsum!B8=\"Inform\",costsum!C8,\"\"))","v":""},"CORE MARKETING PROGRAMME - Inform6"]
[220,"Missing Field - CORE MARKETING PROGRAMME - Inform7",{"$f":"IF(ISNA(costsum!B9),\"\",IF(costsum!B9=\"Inform\",costsum!C9,\"\"))","v":""},"CORE MARKETING PROGRAMME - Inform7"]
[221,"Missing Field - CORE MARKETING PROGRAMME - Inform8",{"$f":"IF(ISNA(costsum!B10),\"\",IF(costsum!B10=\"Inform\",costsum!C10,\"\"))","v":""},"CORE MARKETING PROGRAMME - Inform8"]
[222,"Missing Field - CORE MARKETING PROGRAMME - Inform9",{"$f":"IF(ISNA(costsum!B11),\"\",IF(costsum!B11=\"Inform\",costsum!C11,\"\"))","v":""},"CORE MARKETING PROGRAMME - Inform9"]
[223,"Missing Field - CORE MARKETING PROGRAMME - Inform10",{"$f":"IF(ISNA(costsum!B12),\"\",IF(costsum!B12=\"Inform\",costsum!C12,\"\"))","v":""},"CORE MARKETING PROGRAMME - Inform10"]
[224,"Missing Field - CORE MARKETING PROGRAMME - Inform11",{"$f":"IF(ISNA(costsum!B13),\"\",IF(costsum!B13=\"Inform\",costsum!C13,\"\"))","v":""},"CORE MARKETING PROGRAMME - Inform11"]
[225,"Missing Field - CORE MARKETING PROGRAMME - Inform12",{"$f":"IF(ISNA(costsum!B14),\"\",IF(costsum!B14=\"Inform\",costsum!C14,\"\"))","v":""},"CORE MARKETING PROGRAMME - Inform12"]
[226,"Missing Field - CORE MARKETING PROGRAMME - Inform13",{"$f":"IF(ISNA(costsum!B15),\"\",IF(costsum!B15=\"Inform\",costsum!C15,\"\"))","v":""},"CORE MARKETING PROGRAMME - Inform13"]
[227,"Missing Field - CORE MARKETING PROGRAMME - Inform14",{"$f":"IF(ISNA(costsum!B16),\"\",IF(costsum!B16=\"Inform\",costsum!C16,\"\"))","v":""},"CORE MARKETING PROGRAMME - Inform14"]
[228,"Missing Field - CORE MARKETING PROGRAMME - Inform15",{"$f":"IF(ISNA(costsum!B17),\"\",IF(costsum!B17=\"Inform\",costsum!C17,\"\"))","v":""},"CORE MARKETING PROGRAMME - Inform15"]
[229,"Missing Field - CORE MARKETING PROGRAMME - Inform16",{"$f":"IF(ISNA(costsum!B18),\"\",IF(costsum!B18=\"Inform\",costsum!C18,\"\"))","v":""},"CORE MARKETING PROGRAMME - Inform16"]
[230,"Missing Field - CORE MARKETING PROGRAMME - Inform17",{"$f":"IF(ISNA(costsum!B19),\"\",IF(costsum!B19=\"Inform\",costsum!C19,\"\"))","v":""},"CORE MARKETING PROGRAMME - Inform17"]
[231,"Missing Field - CORE MARKETING PROGRAMME - Inform18",{"$f":"IF(ISNA(costsum!B20),\"\",IF(costsum!B20=\"Inform\",costsum!C20,\"\"))","v":""},"CORE MARKETING PROGRAMME - Inform18"]
[232,"Missing Field - CORE MARKETING PROGRAMME - Inform19",{"$f":"IF(ISNA(costsum!B21),\"\",IF(costsum!B21=\"Inform\",costsum!C21,\"\"))","v":""},"CORE MARKETING PROGRAMME - Inform19"]
[233,"Missing Field - CORE MARKETING PROGRAMME - Inform20",{"$f":"IF(ISNA(costsum!B22),\"\",IF(costsum!B22=\"Inform\",costsum!C22,\"\"))","v":""},"CORE MARKETING PROGRAMME - Inform20"]
[234,{"$f":"IF(ISNA(C134),\"Missing Field - \" & D134,\"Set App\")","v":"Missing Field - CORE MARKETING PROGRAMME - Set App?"},{"$f":"MATCH(\"Set App\",costsum!B3:B22,0)","v":{"$error":"#N/A"}},"CORE MARKETING PROGRAMME - Set App?"]
[235,"Missing Field - CORE MARKETING PROGRAMME - Set App1",{"$f":"IF(ISNA(costsum!B3),\"\",IF(costsum!B3=\"Set App\",costsum!C3,\"\"))","v":""},"CORE MARKETING PROGRAMME - Set App1"]
[236,"Missing Field - CORE MARKETING PROGRAMME - Set App2",{"$f":"IF(ISNA(costsum!B4),\"\",IF(costsum!B4=\"Set App\",costsum!C4,\"\"))","v":""},"CORE MARKETING PROGRAMME - Set App2"]
[237,"Missing Field - CORE MARKETING PROGRAMME - Set App3",{"$f":"IF(ISNA(costsum!B5),\"\",IF(costsum!B5=\"Set App\",costsum!C5,\"\"))","v":""},"CORE MARKETING PROGRAMME - Set App3"]
[238,"Missing Field - CORE MARKETING PROGRAMME - Set App4",{"$f":"IF(ISNA(costsum!B6),\"\",IF(costsum!B6=\"Set App\",costsum!C6,\"\"))","v":""},"CORE MARKETING PROGRAMME - Set App4"]
[239,"Missing Field - CORE MARKETING PROGRAMME - Set App5",{"$f":"IF(ISNA(costsum!B7),\"\",IF(costsum!B7=\"Set App\",costsum!C7,\"\"))","v":""},"CORE MARKETING PROGRAMME - Set App5"]
[240,"Missing Field - CORE MARKETING PROGRAMME - Set App6",{"$f":"IF(ISNA(costsum!B8),\"\",IF(costsum!B8=\"Set App\",costsum!C8,\"\"))","v":""},"CORE MARKETING PROGRAMME - Set App6"]
[241,"Missing Field - CORE MARKETING PROGRAMME - Set App7",{"$f":"IF(ISNA(costsum!B9),\"\",IF(costsum!B9=\"Set App\",costsum!C9,\"\"))","v":""},"CORE MARKETING PROGRAMME - Set App7"]
[242,"Missing Field - CORE MARKETING PROGRAMME - Set App8",{"$f":"IF(ISNA(costsum!B10),\"\",IF(costsum!B10=\"Set App\",costsum!C10,\"\"))","v":""},"CORE MARKETING PROGRAMME - Set App8"]
[243,"Missing Field - CORE MARKETING PROGRAMME - Set App9",{"$f":"IF(ISNA(costsum!B11),\"\",IF(costsum!B11=\"Set App\",costsum!C11,\"\"))","v":""},"CORE MARKETING PROGRAMME - Set App9"]
[244,"Missing Field - CORE MARKETING PROGRAMME - Set App10",{"$f":"IF(ISNA(costsum!B12),\"\",IF(costsum!B12=\"Set App\",costsum!C12,\"\"))","v":""},"CORE MARKETING PROGRAMME - Set App10"]
[245,"Missing Field - CORE MARKETING PROGRAMME - Set App11",{"$f":"IF(ISNA(costsum!B13),\"\",IF(costsum!B13=\"Set App\",costsum!C13,\"\"))","v":""},"CORE MARKETING PROGRAMME - Set App11"]
[246,"Missing Field - CORE MARKETING PROGRAMME - Set App12",{"$f":"IF(ISNA(costsum!B14),\"\",IF(costsum!B14=\"Set App\",costsum!C14,\"\"))","v":""},"CORE MARKETING PROGRAMME - Set App12"]
[247,"Missing Field - CORE MARKETING PROGRAMME - Set App13",{"$f":"IF(ISNA(costsum!B15),\"\",IF(costsum!B15=\"Set App\",costsum!C15,\"\"))","v":""},"CORE MARKETING PROGRAMME - Set App13"]
[248,"Missing Field - CORE MARKETING PROGRAMME - Set App14",{"$f":"IF(ISNA(costsum!B16),\"\",IF(costsum!B16=\"Set App\",costsum!C16,\"\"))","v":""},"CORE MARKETING PROGRAMME - Set App14"]
[249,"Missing Field - CORE MARKETING PROGRAMME - Set App15",{"$f":"IF(ISNA(costsum!B17),\"\",IF(costsum!B17=\"Set App\",costsum!C17,\"\"))","v":""},"CORE MARKETING PROGRAMME - Set App15"]
[250,"Missing Field - CORE MARKETING PROGRAMME - Set App16",{"$f":"IF(ISNA(costsum!B18),\"\",IF(costsum!B18=\"Set App\",costsum!C18,\"\"))","v":""},"CORE MARKETING PROGRAMME - Set App16"]
[251,"Missing Field - CORE MARKETING PROGRAMME - Set App17",{"$f":"IF(ISNA(costsum!B19),\"\",IF(costsum!B19=\"Set App\",costsum!C19,\"\"))","v":""},"CORE MARKETING PROGRAMME - Set App17"]
[252,"Missing Field - CORE MARKETING PROGRAMME - Set App18",{"$f":"IF(ISNA(costsum!B20),\"\",IF(costsum!B20=\"Set App\",costsum!C20,\"\"))","v":""},"CORE MARKETING PROGRAMME - Set App18"]
[253,"Missing Field - CORE MARKETING PROGRAMME - Set App19",{"$f":"IF(ISNA(costsum!B21),\"\",IF(costsum!B21=\"Set App\",costsum!C21,\"\"))","v":""},"CORE MARKETING PROGRAMME - Set App19"]
[254,"Missing Field - CORE MARKETING PROGRAMME - Set App20",{"$f":"IF(ISNA(costsum!B22),\"\",IF(costsum!B22=\"Set App\",costsum!C22,\"\"))","v":""},"CORE MARKETING PROGRAMME - Set App20"]
[255,{"$f":"IF(ISNA(C155),\"Missing Field - \" & D155,\"Close Sale\")","v":"Missing Field - CORE MARKETING PROGRAMME - Close Sale?"},{"$f":"MATCH(\"Close Sale\",costsum!B3:B22,0)","v":{"$error":"#N/A"}},"CORE MARKETING PROGRAMME - Close Sale?"]
[256,"Missing Field - CORE MARKETING PROGRAMME - Close Sale1",{"$f":"IF(ISNA(costsum!B3),\"\",IF(costsum!B3=\"Close Sale\",costsum!C3,\"\"))","v":""},"CORE MARKETING PROGRAMME - Close Sale1"]
[257,"Missing Field - CORE MARKETING PROGRAMME - Close Sale2",{"$f":"IF(ISNA(costsum!B4),\"\",IF(costsum!B4=\"Close Sale\",costsum!C4,\"\"))","v":""},"CORE MARKETING PROGRAMME - Close Sale2"]
[258,"Missing Field - CORE MARKETING PROGRAMME - Close Sale3",{"$f":"IF(ISNA(costsum!B5),\"\",IF(costsum!B5=\"Close Sale\",costsum!C5,\"\"))","v":""},"CORE MARKETING PROGRAMME - Close Sale3"]
[259,"Missing Field - CORE MARKETING PROGRAMME - Close Sale4",{"$f":"IF(ISNA(costsum!B6),\"\",IF(costsum!B6=\"Close Sale\",costsum!C6,\"\"))","v":""},"CORE MARKETING PROGRAMME - Close Sale4"]
[260,{"$f":"IF(LEN(C160)>1,MID(C160,4,LEN(C160)-3),\"Missing Field - \" & D160)","v":"Missing Field - CORE MARKETING PROGRAMME - Close Sale5"},{"$f":"IF(ISNA(costsum!B7),\"\",IF(costsum!B7=\"Close Sale\",costsum!C7,\"\"))","v":""},"CORE MARKETING PROGRAMME - Close Sale5"]
[261,"Missing Field - CORE MARKETING PROGRAMME - Close Sale6",{"$f":"IF(ISNA(costsum!B8),\"\",IF(costsum!B8=\"Close Sale\",costsum!C8,\"\"))","v":""},"CORE MARKETING PROGRAMME - Close Sale6"]
[262,"Missing Field - CORE MARKETING PROGRAMME - Close Sale7",{"$f":"IF(ISNA(costsum!B9),\"\",IF(costsum!B9=\"Close Sale\",costsum!C9,\"\"))","v":""},"CORE MARKETING PROGRAMME - Close Sale7"]
[263,"Missing Field - CORE MARKETING PROGRAMME - Close Sale8",{"$f":"IF(ISNA(costsum!B10),\"\",IF(costsum!B10=\"Close Sale\",costsum!C10,\"\"))","v":""},"CORE MARKETING PROGRAMME - Close Sale8"]
[264,"Missing Field - CORE MARKETING PROGRAMME - Close Sale9",{"$f":"IF(ISNA(costsum!B11),\"\",IF(costsum!B11=\"Close Sale\",costsum!C11,\"\"))","v":""},"CORE MARKETING PROGRAMME - Close Sale9"]
[265,"Missing Field - CORE MARKETING PROGRAMME - Close Sale10",{"$f":"IF(ISNA(costsum!B12),\"\",IF(costsum!B12=\"Close Sale\",costsum!C12,\"\"))","v":""},"CORE MARKETING PROGRAMME - Close Sale10"]
[266,"Missing Field - CORE MARKETING PROGRAMME - Close Sale11",{"$f":"IF(ISNA(costsum!B13),\"\",IF(costsum!B13=\"Close Sale\",costsum!C13,\"\"))","v":""},"CORE MARKETING PROGRAMME - Close Sale11"]
[267,"Missing Field - CORE MARKETING PROGRAMME - Close Sale12",{"$f":"IF(ISNA(costsum!B14),\"\",IF(costsum!B14=\"Close Sale\",costsum!C14,\"\"))","v":""},"CORE MARKETING PROGRAMME - Close Sale12"]
[268,"Missing Field - CORE MARKETING PROGRAMME - Close Sale13",{"$f":"IF(ISNA(costsum!B15),\"\",IF(costsum!B15=\"Close Sale\",costsum!C15,\"\"))","v":""},"CORE MARKETING PROGRAMME - Close Sale13"]
[269,"Missing Field - CORE MARKETING PROGRAMME - Close Sale14",{"$f":"IF(ISNA(costsum!B16),\"\",IF(costsum!B16=\"Close Sale\",costsum!C16,\"\"))","v":""},"CORE MARKETING PROGRAMME - Close Sale14"]
[270,"Missing Field - CORE MARKETING PROGRAMME - Close Sale15",{"$f":"IF(ISNA(costsum!B17),\"\",IF(costsum!B17=\"Close Sale\",costsum!C17,\"\"))","v":""},"CORE MARKETING PROGRAMME - Close Sale15"]
[271,"Missing Field - CORE MARKETING PROGRAMME - Close Sale16",{"$f":"IF(ISNA(costsum!B18),\"\",IF(costsum!B18=\"Close Sale\",costsum!C18,\"\"))","v":""},"CORE MARKETING PROGRAMME - Close Sale16"]
[272,"Missing Field - CORE MARKETING PROGRAMME - Close Sale17",{"$f":"IF(ISNA(costsum!B19),\"\",IF(costsum!B19=\"Close Sale\",costsum!C19,\"\"))","v":""},"CORE MARKETING PROGRAMME - Close Sale17"]
[273,"Missing Field - CORE MARKETING PROGRAMME - Close Sale18",{"$f":"IF(ISNA(costsum!B20),\"\",IF(costsum!B20=\"Close Sale\",costsum!C20,\"\"))","v":""},"CORE MARKETING PROGRAMME - Close Sale18"]
[274,"Missing Field - CORE MARKETING PROGRAMME - Close Sale19",{"$f":"IF(ISNA(costsum!B21),\"\",IF(costsum!B21=\"Close Sale\",costsum!C21,\"\"))","v":""},"CORE MARKETING PROGRAMME - Close Sale19"]
[275,"Missing Field - CORE MARKETING PROGRAMME - Close Sale20",{"$f":"IF(ISNA(costsum!B22),\"\",IF(costsum!B22=\"Close Sale\",costsum!C22,\"\"))","v":""},"CORE MARKETING PROGRAMME - Close Sale20"]
[276,{"$f":"IF(LEN(C176)>1,C176,\"Missing Field - \" & D176)","v":"Missing Field - SALES PROMOTIONS"},{"$f":"costsum!C23","v":""},"SALES PROMOTIONS"]
[277,{"$f":"IF(ISNA(C177),\"Missing Field - \" & D177,\"Alert\")","v":"Missing Field - SALES PROMOTIONS - Alert?"},{"$f":"MATCH(\"Alert\",costsum!B24:B43,0)","v":{"$error":"#N/A"}},"SALES PROMOTIONS - Alert?"]
[278,{"$f":"IF(LEN(C178)>1,MID(C178,4,LEN(C178)-3),\"Missing Field - \" & D178)","v":"Missing Field - SALES PROMOTIONS - Alert1"},{"$f":"IF(ISNA(costsum!B24),\"\",IF(costsum!B24=\"Alert\",costsum!C24,\"\"))","v":""},"SALES PROMOTIONS - Alert1"]
[279,"Missing Field - SALES PROMOTIONS - Alert2",{"$f":"IF(ISNA(costsum!B25),\"\",IF(costsum!B25=\"Alert\",costsum!C25,\"\"))","v":""},"SALES PROMOTIONS - Alert2"]
[280,"Missing Field - SALES PROMOTIONS - Alert3",{"$f":"IF(ISNA(costsum!B26),\"\",IF(costsum!B26=\"Alert\",costsum!C26,\"\"))","v":""},"SALES PROMOTIONS - Alert3"]
[281,"Missing Field - SALES PROMOTIONS - Alert4",{"$f":"IF(ISNA(costsum!B27),\"\",IF(costsum!B27=\"Alert\",costsum!C27,\"\"))","v":""},"SALES PROMOTIONS - Alert4"]
[282,"Missing Field - SALES PROMOTIONS - Alert5",{"$f":"IF(ISNA(costsum!B28),\"\",IF(costsum!B28=\"Alert\",costsum!C28,\"\"))","v":""},"SALES PROMOTIONS - Alert5"]
[283,"Missing Field - SALES PROMOTIONS - Alert6",{"$f":"IF(ISNA(costsum!B29),\"\",IF(costsum!B29=\"Alert\",costsum!C29,\"\"))","v":""},"SALES PROMOTIONS - Alert6"]
[284,"Missing Field - SALES PROMOTIONS - Alert7",{"$f":"IF(ISNA(costsum!B30),\"\",IF(costsum!B30=\"Alert\",costsum!C30,\"\"))","v":""},"SALES PROMOTIONS - Alert7"]
[285,"Missing Field - SALES PROMOTIONS - Alert8",{"$f":"IF(ISNA(costsum!B31),\"\",IF(costsum!B31=\"Alert\",costsum!C31,\"\"))","v":""},"SALES PROMOTIONS - Alert8"]
[286,"Missing Field - SALES PROMOTIONS - Alert9",{"$f":"IF(ISNA(costsum!B32),\"\",IF(costsum!B32=\"Alert\",costsum!C32,\"\"))","v":""},"SALES PROMOTIONS - Alert9"]
[287,"Missing Field - SALES PROMOTIONS - Alert10",{"$f":"IF(ISNA(costsum!B33),\"\",IF(costsum!B33=\"Alert\",costsum!C33,\"\"))","v":""},"SALES PROMOTIONS - Alert10"]
[288,"Missing Field - SALES PROMOTIONS - Alert11",{"$f":"IF(ISNA(costsum!B34),\"\",IF(costsum!B34=\"Alert\",costsum!C34,\"\"))","v":""},"SALES PROMOTIONS - Alert11"]
[289,"Missing Field - SALES PROMOTIONS - Alert12",{"$f":"IF(ISNA(costsum!B35),\"\",IF(costsum!B35=\"Alert\",costsum!C35,\"\"))","v":""},"SALES PROMOTIONS - Alert12"]
[290,"Missing Field - SALES PROMOTIONS - Alert13",{"$f":"IF(ISNA(costsum!B36),\"\",IF(costsum!B36=\"Alert\",costsum!C36,\"\"))","v":""},"SALES PROMOTIONS - Alert13"]
[291,"Missing Field - SALES PROMOTIONS - Alert14",{"$f":"IF(ISNA(costsum!B37),\"\",IF(costsum!B37=\"Alert\",costsum!C37,\"\"))","v":""},"SALES PROMOTIONS - Alert14"]
[292,"Missing Field - SALES PROMOTIONS - Alert15",{"$f":"IF(ISNA(costsum!B38),\"\",IF(costsum!B38=\"Alert\",costsum!C38,\"\"))","v":""},"SALES PROMOTIONS - Alert15"]
[293,"Missing Field - SALES PROMOTIONS - Alert16",{"$f":"IF(ISNA(costsum!B39),\"\",IF(costsum!B39=\"Alert\",costsum!C39,\"\"))","v":""},"SALES PROMOTIONS - Alert16"]
[294,"Missing Field - SALES PROMOTIONS - Alert17",{"$f":"IF(ISNA(costsum!B40),\"\",IF(costsum!B40=\"Alert\",costsum!C40,\"\"))","v":""},"SALES PROMOTIONS - Alert17"]
[295,"Missing Field - SALES PROMOTIONS - Alert18",{"$f":"IF(ISNA(costsum!B41),\"\",IF(costsum!B41=\"Alert\",costsum!C41,\"\"))","v":""},"SALES PROMOTIONS - Alert18"]
[296,"Missing Field - SALES PROMOTIONS - Alert19",{"$f":"IF(ISNA(costsum!B42),\"\",IF(costsum!B42=\"Alert\",costsum!C42,\"\"))","v":""},"SALES PROMOTIONS - Alert19"]
[297,"Missing Field - SALES PROMOTIONS - Alert20",{"$f":"IF(ISNA(costsum!B43),\"\",IF(costsum!B43=\"Alert\",costsum!C43,\"\"))","v":""},"SALES PROMOTIONS - Alert20"]
[298,{"$f":"IF(ISNA(C198),\"Missing Field - \" & D198,\"Inform\")","v":"Missing Field - SALES PROMOTIONS - Inform?"},{"$f":"MATCH(\"Inform\",costsum!B24:B43,0)","v":{"$error":"#N/A"}},"SALES PROMOTIONS - Inform?"]
[299,{"$f":"IF(LEN(C199)>1,MID(C199,4,LEN(C199)-3),\"Missing Field - \" & D199)","v":"Missing Field - SALES PROMOTIONS - Inform1"},{"$f":"IF(ISNA(costsum!B24),\"\",IF(costsum!B24=\"Inform\",costsum!C24,\"\"))","v":""},"SALES PROMOTIONS - Inform1"]
[300,"Missing Field - SALES PROMOTIONS - Inform2",{"$f":"IF(ISNA(costsum!B25),\"\",IF(costsum!B25=\"Inform\",costsum!C25,\"\"))","v":""},"SALES PROMOTIONS - Inform2"]
[301,"Missing Field - SALES PROMOTIONS - Inform3",{"$f":"IF(ISNA(costsum!B26),\"\",IF(costsum!B26=\"Inform\",costsum!C26,\"\"))","v":""},"SALES PROMOTIONS - Inform3"]
[302,"Missing Field - SALES PROMOTIONS - Inform4",{"$f":"IF(ISNA(costsum!B27),\"\",IF(costsum!B27=\"Inform\",costsum!C27,\"\"))","v":""},"SALES PROMOTIONS - Inform4"]
[303,"Missing Field - SALES PROMOTIONS - Inform5",{"$f":"IF(ISNA(costsum!B28),\"\",IF(costsum!B28=\"Inform\",costsum!C28,\"\"))","v":""},"SALES PROMOTIONS - Inform5"]
[304,"Missing Field - SALES PROMOTIONS - Inform6",{"$f":"IF(ISNA(costsum!B29),\"\",IF(costsum!B29=\"Inform\",costsum!C29,\"\"))","v":""},"SALES PROMOTIONS - Inform6"]
[305,"Missing Field - SALES PROMOTIONS - Inform7",{"$f":"IF(ISNA(costsum!B30),\"\",IF(costsum!B30=\"Inform\",costsum!C30,\"\"))","v":""},"SALES PROMOTIONS - Inform7"]
[306,"Missing Field - SALES PROMOTIONS - Inform8",{"$f":"IF(ISNA(costsum!B31),\"\",IF(costsum!B31=\"Inform\",costsum!C31,\"\"))","v":""},"SALES PROMOTIONS - Inform8"]
[307,"Missing Field - SALES PROMOTIONS - Inform9",{"$f":"IF(ISNA(costsum!B32),\"\",IF(costsum!B32=\"Inform\",costsum!C32,\"\"))","v":""},"SALES PROMOTIONS - Inform9"]
[308,"Missing Field - SALES PROMOTIONS - Inform10",{"$f":"IF(ISNA(costsum!B33),\"\",IF(costsum!B33=\"Inform\",costsum!C33,\"\"))","v":""},"SALES PROMOTIONS - Inform10"]
[309,"Missing Field - SALES PROMOTIONS - Inform11",{"$f":"IF(ISNA(costsum!B34),\"\",IF(costsum!B34=\"Inform\",costsum!C34,\"\"))","v":""},"SALES PROMOTIONS - Inform11"]
[310,"Missing Field - SALES PROMOTIONS - Inform12",{"$f":"IF(ISNA(costsum!B35),\"\",IF(costsum!B35=\"Inform\",costsum!C35,\"\"))","v":""},"SALES PROMOTIONS - Inform12"]
[311,"Missing Field - SALES PROMOTIONS - Inform13",{"$f":"IF(ISNA(costsum!B36),\"\",IF(costsum!B36=\"Inform\",costsum!C36,\"\"))","v":""},"SALES PROMOTIONS - Inform13"]
[312,"Missing Field - SALES PROMOTIONS - Inform14",{"$f":"IF(ISNA(costsum!B37),\"\",IF(costsum!B37=\"Inform\",costsum!C37,\"\"))","v":""},"SALES PROMOTIONS - Inform14"]
[313,"Missing Field - SALES PROMOTIONS - Inform15",{"$f":"IF(ISNA(costsum!B38),\"\",IF(costsum!B38=\"Inform\",costsum!C38,\"\"))","v":""},"SALES PROMOTIONS - Inform15"]
[314,"Missing Field - SALES PROMOTIONS - Inform16",{"$f":"IF(ISNA(costsum!B39),\"\",IF(costsum!B39=\"Inform\",costsum!C39,\"\"))","v":""},"SALES PROMOTIONS - Inform16"]
[315,"Missing Field - SALES PROMOTIONS - Inform17",{"$f":"IF(ISNA(costsum!B40),\"\",IF(costsum!B40=\"Inform\",costsum!C40,\"\"))","v":""},"SALES PROMOTIONS - Inform17"]
[316,"Missing Field - SALES PROMOTIONS - Inform18",{"$f":"IF(ISNA(costsum!B41),\"\",IF(costsum!B41=\"Inform\",costsum!C41,\"\"))","v":""},"SALES PROMOTIONS - Inform18"]
[317,"Missing Field - SALES PROMOTIONS - Inform19",{"$f":"IF(ISNA(costsum!B42),\"\",IF(costsum!B42=\"Inform\",costsum!C42,\"\"))","v":""},"SALES PROMOTIONS - Inform19"]
[318,"Missing Field - SALES PROMOTIONS - Inform20",{"$f":"IF(ISNA(costsum!B43),\"\",IF(costsum!B43=\"Inform\",costsum!C43,\"\"))","v":""},"SALES PROMOTIONS - Inform20"]
[319,{"$f":"IF(ISNA(C219),\"Missing Field - \" & D219,\"Set App\")","v":"Missing Field - SALES PROMOTIONS - Set App?"},{"$f":"MATCH(\"Set App\",costsum!B24:B43,0)","v":{"$error":"#N/A"}},"SALES PROMOTIONS - Set App?"]
[320,{"$f":"IF(LEN(C220)>1,MID(C220,4,LEN(C220)-3),\"Missing Field - \" & D220)","v":"Missing Field - SALES PROMOTIONS -Set App1"},{"$f":"IF(ISNA(costsum!B24),\"\",IF(costsum!B24=\"Set App\",costsum!C24,\"\"))","v":""},"SALES PROMOTIONS -Set App1"]
[321,"Missing Field - SALES PROMOTIONS -Set App2",{"$f":"IF(ISNA(costsum!B25),\"\",IF(costsum!B25=\"Set App\",costsum!C25,\"\"))","v":""},"SALES PROMOTIONS -Set App2"]
[322,"Missing Field - SALES PROMOTIONS -Set App3",{"$f":"IF(ISNA(costsum!B26),\"\",IF(costsum!B26=\"Set App\",costsum!C26,\"\"))","v":""},"SALES PROMOTIONS -Set App3"]
[323,"Missing Field - SALES PROMOTIONS -Set App4",{"$f":"IF(ISNA(costsum!B27),\"\",IF(costsum!B27=\"Set App\",costsum!C27,\"\"))","v":""},"SALES PROMOTIONS -Set App4"]
[324,"Missing Field - SALES PROMOTIONS -Set App5",{"$f":"IF(ISNA(costsum!B28),\"\",IF(costsum!B28=\"Set App\",costsum!C28,\"\"))","v":""},"SALES PROMOTIONS -Set App5"]
[325,"Missing Field - SALES PROMOTIONS -Set App6",{"$f":"IF(ISNA(costsum!B29),\"\",IF(costsum!B29=\"Set App\",costsum!C29,\"\"))","v":""},"SALES PROMOTIONS -Set App6"]
[326,"Missing Field - SALES PROMOTIONS -Set App7",{"$f":"IF(ISNA(costsum!B30),\"\",IF(costsum!B30=\"Set App\",costsum!C30,\"\"))","v":""},"SALES PROMOTIONS -Set App7"]
[327,"Missing Field - SALES PROMOTIONS -Set App8",{"$f":"IF(ISNA(costsum!B31),\"\",IF(costsum!B31=\"Set App\",costsum!C31,\"\"))","v":""},"SALES PROMOTIONS -Set App8"]
[328,"Missing Field - SALES PROMOTIONS -Set App9",{"$f":"IF(ISNA(costsum!B32),\"\",IF(costsum!B32=\"Set App\",costsum!C32,\"\"))","v":""},"SALES PROMOTIONS -Set App9"]
[329,"Missing Field - SALES PROMOTIONS -Set App10",{"$f":"IF(ISNA(costsum!B33),\"\",IF(costsum!B33=\"Set App\",costsum!C33,\"\"))","v":""},"SALES PROMOTIONS -Set App10"]
[330,"Missing Field - SALES PROMOTIONS -Set App11",{"$f":"IF(ISNA(costsum!B34),\"\",IF(costsum!B34=\"Set App\",costsum!C34,\"\"))","v":""},"SALES PROMOTIONS -Set App11"]
[331,"Missing Field - SALES PROMOTIONS -Set App12",{"$f":"IF(ISNA(costsum!B35),\"\",IF(costsum!B35=\"Set App\",costsum!C35,\"\"))","v":""},"SALES PROMOTIONS -Set App12"]
[332,"Missing Field - SALES PROMOTIONS -Set App13",{"$f":"IF(ISNA(costsum!B36),\"\",IF(costsum!B36=\"Set App\",costsum!C36,\"\"))","v":""},"SALES PROMOTIONS -Set App13"]
[333,"Missing Field - SALES PROMOTIONS -Set App14",{"$f":"IF(ISNA(costsum!B37),\"\",IF(costsum!B37=\"Set App\",costsum!C37,\"\"))","v":""},"SALES PROMOTIONS -Set App14"]
[334,"Missing Field - SALES PROMOTIONS -Set App15",{"$f":"IF(ISNA(costsum!B38),\"\",IF(costsum!B38=\"Set App\",costsum!C38,\"\"))","v":""},"SALES PROMOTIONS -Set App15"]
[335,"Missing Field - SALES PROMOTIONS -Set App16",{"$f":"IF(ISNA(costsum!B39),\"\",IF(costsum!B39=\"Set App\",costsum!C39,\"\"))","v":""},"SALES PROMOTIONS -Set App16"]
[336,"Missing Field - SALES PROMOTIONS -Set App17",{"$f":"IF(ISNA(costsum!B40),\"\",IF(costsum!B40=\"Set App\",costsum!C40,\"\"))","v":""},"SALES PROMOTIONS -Set App17"]
[337,"Missing Field - SALES PROMOTIONS -Set App18",{"$f":"IF(ISNA(costsum!B41),\"\",IF(costsum!B41=\"Set App\",costsum!C41,\"\"))","v":""},"SALES PROMOTIONS -Set App18"]
[338,"Missing Field - SALES PROMOTIONS -Set App19",{"$f":"IF(ISNA(costsum!B42),\"\",IF(costsum!B42=\"Set App\",costsum!C42,\"\"))","v":""},"SALES PROMOTIONS -Set App19"]
[339,"Missing Field - SALES PROMOTIONS -Set App20",{"$f":"IF(ISNA(costsum!B43),\"\",IF(costsum!B43=\"Set App\",costsum!C43,\"\"))","v":""},"SALES PROMOTIONS -Set App20"]
[340,{"$f":"IF(ISNA(C240),\"Missing Field - \" & D240,\"Close Sale\")","v":"Missing Field - SALES PROMOTIONS - Close Sale?"},{"$f":"MATCH(\"Close Sale\",costsum!B24:B43,0)","v":{"$error":"#N/A"}},"SALES PROMOTIONS - Close Sale?"]
[341,{"$f":"IF(LEN(C241)>1,MID(C241,4,LEN(C241)-3),\"Missing Field - \" & D241)","v":"Missing Field - SALES PROMOTIONS -Close Sale1"},{"$f":"IF(ISNA(costsum!B24),\"\",IF(costsum!B24=\"Close Sale\",costsum!C24,\"\"))","v":""},"SALES PROMOTIONS -Close Sale1"]
[342,"Missing Field - SALES PROMOTIONS -Close Sale2",{"$f":"IF(ISNA(costsum!B25),\"\",IF(costsum!B25=\"Close Sale\",costsum!C25,\"\"))","v":""},"SALES PROMOTIONS -Close Sale2"]
[343,"Missing Field - SALES PROMOTIONS -Close Sale3",{"$f":"IF(ISNA(costsum!B26),\"\",IF(costsum!B26=\"Close Sale\",costsum!C26,\"\"))","v":""},"SALES PROMOTIONS -Close Sale3"]
[344,"Missing Field - SALES PROMOTIONS -Close Sale4",{"$f":"IF(ISNA(costsum!B27),\"\",IF(costsum!B27=\"Close Sale\",costsum!C27,\"\"))","v":""},"SALES PROMOTIONS -Close Sale4"]
[345,"Missing Field - SALES PROMOTIONS -Close Sale5",{"$f":"IF(ISNA(costsum!B28),\"\",IF(costsum!B28=\"Close Sale\",costsum!C28,\"\"))","v":""},"SALES PROMOTIONS -Close Sale5"]
[346,"Missing Field - SALES PROMOTIONS -Close Sale6",{"$f":"IF(ISNA(costsum!B29),\"\",IF(costsum!B29=\"Close Sale\",costsum!C29,\"\"))","v":""},"SALES PROMOTIONS -Close Sale6"]
[347,"Missing Field - SALES PROMOTIONS -Close Sale7",{"$f":"IF(ISNA(costsum!B30),\"\",IF(costsum!B30=\"Close Sale\",costsum!C30,\"\"))","v":""},"SALES PROMOTIONS -Close Sale7"]
[348,"Missing Field - SALES PROMOTIONS -Close Sale8",{"$f":"IF(ISNA(costsum!B31),\"\",IF(costsum!B31=\"Close Sale\",costsum!C31,\"\"))","v":""},"SALES PROMOTIONS -Close Sale8"]
[349,"Missing Field - SALES PROMOTIONS -Close Sale9",{"$f":"IF(ISNA(costsum!B32),\"\",IF(costsum!B32=\"Close Sale\",costsum!C32,\"\"))","v":""},"SALES PROMOTIONS -Close Sale9"]
[350,"Missing Field - SALES PROMOTIONS -Close Sale10",{"$f":"IF(ISNA(costsum!B33),\"\",IF(costsum!B33=\"Close Sale\",costsum!C33,\"\"))","v":""},"SALES PROMOTIONS -Close Sale10"]
[351,"Missing Field - SALES PROMOTIONS -Close Sale11",{"$f":"IF(ISNA(costsum!B34),\"\",IF(costsum!B34=\"Close Sale\",costsum!C34,\"\"))","v":""},"SALES PROMOTIONS -Close Sale11"]
[352,"Missing Field - SALES PROMOTIONS -Close Sale12",{"$f":"IF(ISNA(costsum!B35),\"\",IF(costsum!B35=\"Close Sale\",costsum!C35,\"\"))","v":""},"SALES PROMOTIONS -Close Sale12"]
[353,"Missing Field - SALES PROMOTIONS -Close Sale13",{"$f":"IF(ISNA(costsum!B36),\"\",IF(costsum!B36=\"Close Sale\",costsum!C36,\"\"))","v":""},"SALES PROMOTIONS -Close Sale13"]
[354,"Missing Field - SALES PROMOTIONS -Close Sale14",{"$f":"IF(ISNA(costsum!B37),\"\",IF(costsum!B37=\"Close Sale\",costsum!C37,\"\"))","v":""},"SALES PROMOTIONS -Close Sale14"]
[355,"Missing Field - SALES PROMOTIONS -Close Sale15",{"$f":"IF(ISNA(costsum!B38),\"\",IF(costsum!B38=\"Close Sale\",costsum!C38,\"\"))","v":""},"SALES PROMOTIONS -Close Sale15"]
[356,"Missing Field - SALES PROMOTIONS -Close Sale16",{"$f":"IF(ISNA(costsum!B39),\"\",IF(costsum!B39=\"Close Sale\",costsum!C39,\"\"))","v":""},"SALES PROMOTIONS -Close Sale16"]
[357,"Missing Field - SALES PROMOTIONS -Close Sale17",{"$f":"IF(ISNA(costsum!B40),\"\",IF(costsum!B40=\"Close Sale\",costsum!C40,\"\"))","v":""},"SALES PROMOTIONS -Close Sale17"]
[358,"Missing Field - SALES PROMOTIONS -Close Sale18",{"$f":"IF(ISNA(costsum!B41),\"\",IF(costsum!B41=\"Close Sale\",costsum!C41,\"\"))","v":""},"SALES PROMOTIONS -Close Sale18"]
[359,"Missing Field - SALES PROMOTIONS -Close Sale19",{"$f":"IF(ISNA(costsum!B42),\"\",IF(costsum!B42=\"Close Sale\",costsum!C42,\"\"))","v":""},"SALES PROMOTIONS -Close Sale19"]
[360,"Missing Field - SALES PROMOTIONS -Close Sale20",{"$f":"IF(ISNA(costsum!B43),\"\",IF(costsum!B43=\"Close Sale\",costsum!C43,\"\"))","v":""},"SALES PROMOTIONS -Close Sale20"]
[361,{"$f":"IF(LEN(C261)>1,C261,\"Missing Field - \" & D261)","v":"Missing Field - CUSTOMER PROMOTIONS"},{"$f":"costsum!C44","v":""},"CUSTOMER PROMOTIONS"]
[362,{"$f":"IF(ISNA(C262),\"Missing Field - \" & D262,\"Alert\")","v":"Missing Field - CUSTOMER PROMOTIONS - Alert?"},{"$f":"MATCH(\"Alert\",costsum!B45:B64,0)","v":{"$error":"#N/A"}},"CUSTOMER PROMOTIONS - Alert?"]
[363,{"$f":"IF(LEN(C263)>1,MID(C263,4,LEN(C263)-3),\"Missing Field - \" & D263)","v":"Missing Field - CUSTOMER PROMOTIONS - Alert1"},{"$f":"IF(ISNA(costsum!B45),\"\",IF(costsum!B45=\"Alert\",costsum!C45,\"\"))","v":""},"CUSTOMER PROMOTIONS - Alert1"]
[364,"Missing Field - CUSTOMER PROMOTIONS - Alert2",{"$f":"IF(ISNA(costsum!B46),\"\",IF(costsum!B46=\"Alert\",costsum!C46,\"\"))","v":""},"CUSTOMER PROMOTIONS - Alert2"]
[365,"Missing Field - CUSTOMER PROMOTIONS - Alert3",{"$f":"IF(ISNA(costsum!B47),\"\",IF(costsum!B47=\"Alert\",costsum!C47,\"\"))","v":""},"CUSTOMER PROMOTIONS - Alert3"]
[366,"Missing Field - CUSTOMER PROMOTIONS - Alert4",{"$f":"IF(ISNA(costsum!B48),\"\",IF(costsum!B48=\"Alert\",costsum!C48,\"\"))","v":""},"CUSTOMER PROMOTIONS - Alert4"]
[367,"Missing Field - CUSTOMER PROMOTIONS - Alert5",{"$f":"IF(ISNA(costsum!B49),\"\",IF(costsum!B49=\"Alert\",costsum!C49,\"\"))","v":""},"CUSTOMER PROMOTIONS - Alert5"]
[368,"Missing Field - CUSTOMER PROMOTIONS - Alert6",{"$f":"IF(ISNA(costsum!B50),\"\",IF(costsum!B50=\"Alert\",costsum!C50,\"\"))","v":""},"CUSTOMER PROMOTIONS - Alert6"]
[369,"Missing Field - CUSTOMER PROMOTIONS - Alert7",{"$f":"IF(ISNA(costsum!B51),\"\",IF(costsum!B51=\"Alert\",costsum!C51,\"\"))","v":""},"CUSTOMER PROMOTIONS - Alert7"]
[370,"Missing Field - CUSTOMER PROMOTIONS - Alert8",{"$f":"IF(ISNA(costsum!B52),\"\",IF(costsum!B52=\"Alert\",costsum!C52,\"\"))","v":""},"CUSTOMER PROMOTIONS - Alert8"]
[371,"Missing Field - CUSTOMER PROMOTIONS - Alert9",{"$f":"IF(ISNA(costsum!B53),\"\",IF(costsum!B53=\"Alert\",costsum!C53,\"\"))","v":""},"CUSTOMER PROMOTIONS - Alert9"]
[372,"Missing Field - CUSTOMER PROMOTIONS - Alert10",{"$f":"IF(ISNA(costsum!B54),\"\",IF(costsum!B54=\"Alert\",costsum!C54,\"\"))","v":""},"CUSTOMER PROMOTIONS - Alert10"]
[373,"Missing Field - CUSTOMER PROMOTIONS - Alert11",{"$f":"IF(ISNA(costsum!B55),\"\",IF(costsum!B55=\"Alert\",costsum!C55,\"\"))","v":""},"CUSTOMER PROMOTIONS - Alert11"]
[374,"Missing Field - CUSTOMER PROMOTIONS - Alert12",{"$f":"IF(ISNA(costsum!B56),\"\",IF(costsum!B56=\"Alert\",costsum!C56,\"\"))","v":""},"CUSTOMER PROMOTIONS - Alert12"]
[375,"Missing Field - CUSTOMER PROMOTIONS - Alert13",{"$f":"IF(ISNA(costsum!B57),\"\",IF(costsum!B57=\"Alert\",costsum!C57,\"\"))","v":""},"CUSTOMER PROMOTIONS - Alert13"]
[376,"Missing Field - CUSTOMER PROMOTIONS - Alert14",{"$f":"IF(ISNA(costsum!B58),\"\",IF(costsum!B58=\"Alert\",costsum!C58,\"\"))","v":""},"CUSTOMER PROMOTIONS - Alert14"]
[377,"Missing Field - CUSTOMER PROMOTIONS - Alert15",{"$f":"IF(ISNA(costsum!B59),\"\",IF(costsum!B59=\"Alert\",costsum!C59,\"\"))","v":""},"CUSTOMER PROMOTIONS - Alert15"]
[378,"Missing Field - CUSTOMER PROMOTIONS - Alert16",{"$f":"IF(ISNA(costsum!B60),\"\",IF(costsum!B60=\"Alert\",costsum!C60,\"\"))","v":""},"CUSTOMER PROMOTIONS - Alert16"]
[379,"Missing Field - CUSTOMER PROMOTIONS - Alert17",{"$f":"IF(ISNA(costsum!B61),\"\",IF(costsum!B61=\"Alert\",costsum!C61,\"\"))","v":""},"CUSTOMER PROMOTIONS - Alert17"]
[380,"Missing Field - CUSTOMER PROMOTIONS - Alert18",{"$f":"IF(ISNA(costsum!B62),\"\",IF(costsum!B62=\"Alert\",costsum!C62,\"\"))","v":""},"CUSTOMER PROMOTIONS - Alert18"]
[381,"Missing Field - CUSTOMER PROMOTIONS - Alert19",{"$f":"IF(ISNA(costsum!B63),\"\",IF(costsum!B63=\"Alert\",costsum!C63,\"\"))","v":""},"CUSTOMER PROMOTIONS - Alert19"]
[382,"Missing Field - CUSTOMER PROMOTIONS - Alert20",{"$f":"IF(ISNA(costsum!B64),\"\",IF(costsum!B64=\"Alert\",costsum!C64,\"\"))","v":""},"CUSTOMER PROMOTIONS - Alert20"]
[383,{"$f":"IF(ISNA(C283),\"Missing Field - \" & D283,\"Inform\")","v":"Missing Field - CUSTOMER PROMOTIONS - Inform?"},{"$f":"MATCH(\"Inform\",costsum!B45:B64,0)","v":{"$error":"#N/A"}},"CUSTOMER PROMOTIONS - Inform?"]
[384,{"$f":"IF(LEN(C284)>1,MID(C284,4,LEN(C284)-3),\"Missing Field - \" & D284)","v":"Missing Field - CUSTOMER PROMOTIONS - Inform1"},{"$f":"IF(ISNA(costsum!B45),\"\",IF(costsum!B45=\"Inform\",costsum!C45,\"\"))","v":""},"CUSTOMER PROMOTIONS - Inform1"]
[385,"Missing Field - CUSTOMER PROMOTIONS - Inform2",{"$f":"IF(ISNA(costsum!B46),\"\",IF(costsum!B46=\"Inform\",costsum!C46,\"\"))","v":""},"CUSTOMER PROMOTIONS - Inform2"]
[386,"Missing Field - CUSTOMER PROMOTIONS - Inform3",{"$f":"IF(ISNA(costsum!B47),\"\",IF(costsum!B47=\"Inform\",costsum!C47,\"\"))","v":""},"CUSTOMER PROMOTIONS - Inform3"]
[387,"Missing Field - CUSTOMER PROMOTIONS - Inform4",{"$f":"IF(ISNA(costsum!B48),\"\",IF(costsum!B48=\"Inform\",costsum!C48,\"\"))","v":""},"CUSTOMER PROMOTIONS - Inform4"]
[388,"Missing Field - CUSTOMER PROMOTIONS - Inform5",{"$f":"IF(ISNA(costsum!B49),\"\",IF(costsum!B49=\"Inform\",costsum!C49,\"\"))","v":""},"CUSTOMER PROMOTIONS - Inform5"]
[389,"Missing Field - CUSTOMER PROMOTIONS - Inform6",{"$f":"IF(ISNA(costsum!B50),\"\",IF(costsum!B50=\"Inform\",costsum!C50,\"\"))","v":""},"CUSTOMER PROMOTIONS - Inform6"]
[390,"Missing Field - CUSTOMER PROMOTIONS - Inform7",{"$f":"IF(ISNA(costsum!B51),\"\",IF(costsum!B51=\"Inform\",costsum!C51,\"\"))","v":""},"CUSTOMER PROMOTIONS - Inform7"]
[391,"Missing Field - CUSTOMER PROMOTIONS - Inform8",{"$f":"IF(ISNA(costsum!B52),\"\",IF(costsum!B52=\"Inform\",costsum!C52,\"\"))","v":""},"CUSTOMER PROMOTIONS - Inform8"]
[392,"Missing Field - CUSTOMER PROMOTIONS - Inform9",{"$f":"IF(ISNA(costsum!B53),\"\",IF(costsum!B53=\"Inform\",costsum!C53,\"\"))","v":""},"CUSTOMER PROMOTIONS - Inform9"]
[393,"Missing Field - CUSTOMER PROMOTIONS - Inform10",{"$f":"IF(ISNA(costsum!B54),\"\",IF(costsum!B54=\"Inform\",costsum!C54,\"\"))","v":""},"CUSTOMER PROMOTIONS - Inform10"]
[394,"Missing Field - CUSTOMER PROMOTIONS - Inform11",{"$f":"IF(ISNA(costsum!B55),\"\",IF(costsum!B55=\"Inform\",costsum!C55,\"\"))","v":""},"CUSTOMER PROMOTIONS - Inform11"]
[395,"Missing Field - CUSTOMER PROMOTIONS - Inform12",{"$f":"IF(ISNA(costsum!B56),\"\",IF(costsum!B56=\"Inform\",costsum!C56,\"\"))","v":""},"CUSTOMER PROMOTIONS - Inform12"]
[396,"Missing Field - CUSTOMER PROMOTIONS - Inform13",{"$f":"IF(ISNA(costsum!B57),\"\",IF(costsum!B57=\"Inform\",costsum!C57,\"\"))","v":""},"CUSTOMER PROMOTIONS - Inform13"]
[397,"Missing Field - CUSTOMER PROMOTIONS - Inform14",{"$f":"IF(ISNA(costsum!B58),\"\",IF(costsum!B58=\"Inform\",costsum!C58,\"\"))","v":""},"CUSTOMER PROMOTIONS - Inform14"]
[398,"Missing Field - CUSTOMER PROMOTIONS - Inform15",{"$f":"IF(ISNA(costsum!B59),\"\",IF(costsum!B59=\"Inform\",costsum!C59,\"\"))","v":""},"CUSTOMER PROMOTIONS - Inform15"]
[399,"Missing Field - CUSTOMER PROMOTIONS - Inform16",{"$f":"IF(ISNA(costsum!B60),\"\",IF(costsum!B60=\"Inform\",costsum!C60,\"\"))","v":""},"CUSTOMER PROMOTIONS - Inform16"]
[400,"Missing Field - CUSTOMER PROMOTIONS - Inform17",{"$f":"IF(ISNA(costsum!B61),\"\",IF(costsum!B61=\"Inform\",costsum!C61,\"\"))","v":""},"CUSTOMER PROMOTIONS - Inform17"]
[401,"Missing Field - CUSTOMER PROMOTIONS - Inform18",{"$f":"IF(ISNA(costsum!B62),\"\",IF(costsum!B62=\"Inform\",costsum!C62,\"\"))","v":""},"CUSTOMER PROMOTIONS - Inform18"]
[402,"Missing Field - CUSTOMER PROMOTIONS - Inform19",{"$f":"IF(ISNA(costsum!B63),\"\",IF(costsum!B63=\"Inform\",costsum!C63,\"\"))","v":""},"CUSTOMER PROMOTIONS - Inform19"]
[403,"Missing Field - CUSTOMER PROMOTIONS - Inform20",{"$f":"IF(ISNA(costsum!B64),\"\",IF(costsum!B64=\"Inform\",costsum!C64,\"\"))","v":""},"CUSTOMER PROMOTIONS - Inform20"]
[404,{"$f":"IF(ISNA(C304),\"Missing Field - \" & D304,\"Set App\")","v":"Missing Field - CUSTOMER PROMOTIONS - SetApp?"},{"$f":"MATCH(\"Set App\",costsum!B45:B64,0)","v":{"$error":"#N/A"}},"CUSTOMER PROMOTIONS - SetApp?"]
[405,{"$f":"IF(LEN(C305)>1,MID(C305,4,LEN(C305)-3),\"Missing Field - \" & D305)","v":"Missing Field - CUSTOMER PROMOTIONS - Set App1"},{"$f":"IF(ISNA(costsum!B45),\"\",IF(costsum!B45=\"Set App\",costsum!C45,\"\"))","v":""},"CUSTOMER PROMOTIONS - Set App1"]
[406,"Missing Field - CUSTOMER PROMOTIONS - Set App2",{"$f":"IF(ISNA(costsum!B46),\"\",IF(costsum!B46=\"Set App\",costsum!C46,\"\"))","v":""},"CUSTOMER PROMOTIONS - Set App2"]
[407,"Missing Field - CUSTOMER PROMOTIONS - Set App3",{"$f":"IF(ISNA(costsum!B47),\"\",IF(costsum!B47=\"Set App\",costsum!C47,\"\"))","v":""},"CUSTOMER PROMOTIONS - Set App3"]
[408,"Missing Field - CUSTOMER PROMOTIONS - Set App4",{"$f":"IF(ISNA(costsum!B48),\"\",IF(costsum!B48=\"Set App\",costsum!C48,\"\"))","v":""},"CUSTOMER PROMOTIONS - Set App4"]
[409,"Missing Field - CUSTOMER PROMOTIONS - Set App5",{"$f":"IF(ISNA(costsum!B49),\"\",IF(costsum!B49=\"Set App\",costsum!C49,\"\"))","v":""},"CUSTOMER PROMOTIONS - Set App5"]
[410,"Missing Field - CUSTOMER PROMOTIONS - Set App6",{"$f":"IF(ISNA(costsum!B50),\"\",IF(costsum!B50=\"Set App\",costsum!C50,\"\"))","v":""},"CUSTOMER PROMOTIONS - Set App6"]
[411,"Missing Field - CUSTOMER PROMOTIONS - Set App7",{"$f":"IF(ISNA(costsum!B51),\"\",IF(costsum!B51=\"Set App\",costsum!C51,\"\"))","v":""},"CUSTOMER PROMOTIONS - Set App7"]
[412,"Missing Field - CUSTOMER PROMOTIONS - Set App8",{"$f":"IF(ISNA(costsum!B52),\"\",IF(costsum!B52=\"Set App\",costsum!C52,\"\"))","v":""},"CUSTOMER PROMOTIONS - Set App8"]
[413,"Missing Field - CUSTOMER PROMOTIONS - Set App9",{"$f":"IF(ISNA(costsum!B53),\"\",IF(costsum!B53=\"Set App\",costsum!C53,\"\"))","v":""},"CUSTOMER PROMOTIONS - Set App9"]
[414,"Missing Field - CUSTOMER PROMOTIONS - Set App10",{"$f":"IF(ISNA(costsum!B54),\"\",IF(costsum!B54=\"Set App\",costsum!C54,\"\"))","v":""},"CUSTOMER PROMOTIONS - Set App10"]
[415,"Missing Field - CUSTOMER PROMOTIONS - Set App11",{"$f":"IF(ISNA(costsum!B55),\"\",IF(costsum!B55=\"Set App\",costsum!C55,\"\"))","v":""},"CUSTOMER PROMOTIONS - Set App11"]
[416,"Missing Field - CUSTOMER PROMOTIONS - Set App12",{"$f":"IF(ISNA(costsum!B56),\"\",IF(costsum!B56=\"Set App\",costsum!C56,\"\"))","v":""},"CUSTOMER PROMOTIONS - Set App12"]
[417,"Missing Field - CUSTOMER PROMOTIONS - Set App13",{"$f":"IF(ISNA(costsum!B57),\"\",IF(costsum!B57=\"Set App\",costsum!C57,\"\"))","v":""},"CUSTOMER PROMOTIONS - Set App13"]
[418,"Missing Field - CUSTOMER PROMOTIONS - Set App14",{"$f":"IF(ISNA(costsum!B58),\"\",IF(costsum!B58=\"Set App\",costsum!C58,\"\"))","v":""},"CUSTOMER PROMOTIONS - Set App14"]
[419,"Missing Field - CUSTOMER PROMOTIONS - Set App15",{"$f":"IF(ISNA(costsum!B59),\"\",IF(costsum!B59=\"Set App\",costsum!C59,\"\"))","v":""},"CUSTOMER PROMOTIONS - Set App15"]
[420,"Missing Field - CUSTOMER PROMOTIONS - Set App16",{"$f":"IF(ISNA(costsum!B60),\"\",IF(costsum!B60=\"Set App\",costsum!C60,\"\"))","v":""},"CUSTOMER PROMOTIONS - Set App16"]
[421,"Missing Field - CUSTOMER PROMOTIONS - Set App17",{"$f":"IF(ISNA(costsum!B61),\"\",IF(costsum!B61=\"Set App\",costsum!C61,\"\"))","v":""},"CUSTOMER PROMOTIONS - Set App17"]
[422,"Missing Field - CUSTOMER PROMOTIONS - Set App18",{"$f":"IF(ISNA(costsum!B62),\"\",IF(costsum!B62=\"Set App\",costsum!C62,\"\"))","v":""},"CUSTOMER PROMOTIONS - Set App18"]
[423,"Missing Field - CUSTOMER PROMOTIONS - Set App19",{"$f":"IF(ISNA(costsum!B63),\"\",IF(costsum!B63=\"Set App\",costsum!C63,\"\"))","v":""},"CUSTOMER PROMOTIONS - Set App19"]
[424,"Missing Field - CUSTOMER PROMOTIONS - Set App20",{"$f":"IF(ISNA(costsum!B64),\"\",IF(costsum!B64=\"Set App\",costsum!C64,\"\"))","v":""},"CUSTOMER PROMOTIONS - Set App20"]
[425,{"$f":"IF(ISNA(C325),\"Missing Field - \" & D325,\"Close Sale\")","v":"Missing Field - CUSTOMER PROMOTIONS - Close Sale?"},{"$f":"MATCH(\"Close Sale\",costsum!B45:B64,0)","v":{"$error":"#N/A"}},"CUSTOMER PROMOTIONS - Close Sale?"]
[426,{"$f":"IF(LEN(C326)>1,MID(C326,4,LEN(C326)-3),\"Missing Field - \" & D326)","v":"Missing Field - CUSTOMER PROMOTIONS - Close Sale1"},{"$f":"IF(ISNA(costsum!B45),\"\",IF(costsum!B45=\"Close Sale\",costsum!C45,\"\"))","v":""},"CUSTOMER PROMOTIONS - Close Sale1"]
[427,"Missing Field - CUSTOMER PROMOTIONS - Close Sale2",{"$f":"IF(ISNA(costsum!B46),\"\",IF(costsum!B46=\"Close Sale\",costsum!C46,\"\"))","v":""},"CUSTOMER PROMOTIONS - Close Sale2"]
[428,"Missing Field - CUSTOMER PROMOTIONS - Close Sale3",{"$f":"IF(ISNA(costsum!B47),\"\",IF(costsum!B47=\"Close Sale\",costsum!C47,\"\"))","v":""},"CUSTOMER PROMOTIONS - Close Sale3"]
[429,"Missing Field - CUSTOMER PROMOTIONS - Close Sale4",{"$f":"IF(ISNA(costsum!B48),\"\",IF(costsum!B48=\"Close Sale\",costsum!C48,\"\"))","v":""},"CUSTOMER PROMOTIONS - Close Sale4"]
[430,"Missing Field - CUSTOMER PROMOTIONS - Close Sale5",{"$f":"IF(ISNA(costsum!B49),\"\",IF(costsum!B49=\"Close Sale\",costsum!C49,\"\"))","v":""},"CUSTOMER PROMOTIONS - Close Sale5"]
[431,"Missing Field - CUSTOMER PROMOTIONS - Close Sale6",{"$f":"IF(ISNA(costsum!B50),\"\",IF(costsum!B50=\"Close Sale\",costsum!C50,\"\"))","v":""},"CUSTOMER PROMOTIONS - Close Sale6"]
[432,"Missing Field - CUSTOMER PROMOTIONS - Close Sale7",{"$f":"IF(ISNA(costsum!B51),\"\",IF(costsum!B51=\"Close Sale\",costsum!C51,\"\"))","v":""},"CUSTOMER PROMOTIONS - Close Sale7"]
[433,"Missing Field - CUSTOMER PROMOTIONS - Close Sale8",{"$f":"IF(ISNA(costsum!B52),\"\",IF(costsum!B52=\"Close Sale\",costsum!C52,\"\"))","v":""},"CUSTOMER PROMOTIONS - Close Sale8"]
[434,"Missing Field - CUSTOMER PROMOTIONS - Close Sale9",{"$f":"IF(ISNA(costsum!B53),\"\",IF(costsum!B53=\"Close Sale\",costsum!C53,\"\"))","v":""},"CUSTOMER PROMOTIONS - Close Sale9"]
[435,"Missing Field - CUSTOMER PROMOTIONS - Close Sale10",{"$f":"IF(ISNA(costsum!B54),\"\",IF(costsum!B54=\"Close Sale\",costsum!C54,\"\"))","v":""},"CUSTOMER PROMOTIONS - Close Sale10"]
[436,"Missing Field - CUSTOMER PROMOTIONS - Close Sale11",{"$f":"IF(ISNA(costsum!B55),\"\",IF(costsum!B55=\"Close Sale\",costsum!C55,\"\"))","v":""},"CUSTOMER PROMOTIONS - Close Sale11"]
[437,"Missing Field - CUSTOMER PROMOTIONS - Close Sale12",{"$f":"IF(ISNA(costsum!B56),\"\",IF(costsum!B56=\"Close Sale\",costsum!C56,\"\"))","v":""},"CUSTOMER PROMOTIONS - Close Sale12"]
[438,"Missing Field - CUSTOMER PROMOTIONS - Close Sale13",{"$f":"IF(ISNA(costsum!B57),\"\",IF(costsum!B57=\"Close Sale\",costsum!C57,\"\"))","v":""},"CUSTOMER PROMOTIONS - Close Sale13"]
[439,"Missing Field - CUSTOMER PROMOTIONS - Close Sale14",{"$f":"IF(ISNA(costsum!B58),\"\",IF(costsum!B58=\"Close Sale\",costsum!C58,\"\"))","v":""},"CUSTOMER PROMOTIONS - Close Sale14"]
[440,"Missing Field - CUSTOMER PROMOTIONS - Close Sale15",{"$f":"IF(ISNA(costsum!B59),\"\",IF(costsum!B59=\"Close Sale\",costsum!C59,\"\"))","v":""},"CUSTOMER PROMOTIONS - Close Sale15"]
[441,"Missing Field - CUSTOMER PROMOTIONS - Close Sale16",{"$f":"IF(ISNA(costsum!B60),\"\",IF(costsum!B60=\"Close Sale\",costsum!C60,\"\"))","v":""},"CUSTOMER PROMOTIONS - Close Sale16"]
[442,"Missing Field - CUSTOMER PROMOTIONS - Close Sale17",{"$f":"IF(ISNA(costsum!B61),\"\",IF(costsum!B61=\"Close Sale\",costsum!C61,\"\"))","v":""},"CUSTOMER PROMOTIONS - Close Sale17"]
[443,"Missing Field - CUSTOMER PROMOTIONS - Close Sale18",{"$f":"IF(ISNA(costsum!B62),\"\",IF(costsum!B62=\"Close Sale\",costsum!C62,\"\"))","v":""},"CUSTOMER PROMOTIONS - Close Sale18"]
[444,"Missing Field - CUSTOMER PROMOTIONS - Close Sale19",{"$f":"IF(ISNA(costsum!B63),\"\",IF(costsum!B63=\"Close Sale\",costsum!C63,\"\"))","v":""},"CUSTOMER PROMOTIONS - Close Sale19"]
[445,"Missing Field - CUSTOMER PROMOTIONS - Close Sale20",{"$f":"IF(ISNA(costsum!B64),\"\",IF(costsum!B64=\"Close Sale\",costsum!C64,\"\"))","v":""},"CUSTOMER PROMOTIONS - Close Sale20"]
[446,{"$f":"IF(LEN(C346)>1,C346,\"Missing Field - \" & D346)","v":"Missing Field - CRM PROGRAMME"},{"$f":"costsum!C65","v":""},"CRM PROGRAMME"]
[447,{"$f":"IF(ISNA(C347),\"Missing Field - \" & D347,\"Alert\")","v":"Missing Field - CRM PROGRAMME - Alert?"},{"$f":"MATCH(\"Alert\",costsum!B66:B85,0)","v":{"$error":"#N/A"}},"CRM PROGRAMME - Alert?"]
[448,{"$f":"IF(LEN(C348)>1,MID(C348,4,LEN(C348)-3),\"Missing Field - \" & D348)","v":"Missing Field - CRM PROGRAMME - Alert1"},{"$f":"IF(ISNA(costsum!B66),\"\",IF(costsum!B66=\"Alert\",costsum!C66,\"\"))","v":""},"CRM PROGRAMME - Alert1"]
[449,"Missing Field - CRM PROGRAMME - Alert2",{"$f":"IF(ISNA(costsum!B67),\"\",IF(costsum!B67=\"Alert\",costsum!C67,\"\"))","v":""},"CRM PROGRAMME - Alert2"]
[450,"Missing Field - CRM PROGRAMME - Alert3",{"$f":"IF(ISNA(costsum!B68),\"\",IF(costsum!B68=\"Alert\",costsum!C68,\"\"))","v":""},"CRM PROGRAMME - Alert3"]
[451,"Missing Field - CRM PROGRAMME - Alert4",{"$f":"IF(ISNA(costsum!B69),\"\",IF(costsum!B69=\"Alert\",costsum!C69,\"\"))","v":""},"CRM PROGRAMME - Alert4"]
[452,"Missing Field - CRM PROGRAMME - Alert5",{"$f":"IF(ISNA(costsum!B70),\"\",IF(costsum!B70=\"Alert\",costsum!C70,\"\"))","v":""},"CRM PROGRAMME - Alert5"]
[453,"Missing Field - CRM PROGRAMME - Alert6",{"$f":"IF(ISNA(costsum!B71),\"\",IF(costsum!B71=\"Alert\",costsum!C71,\"\"))","v":""},"CRM PROGRAMME - Alert6"]
[454,"Missing Field - CRM PROGRAMME - Alert7",{"$f":"IF(ISNA(costsum!B72),\"\",IF(costsum!B72=\"Alert\",costsum!C72,\"\"))","v":""},"CRM PROGRAMME - Alert7"]
[455,"Missing Field - CRM PROGRAMME - Alert8",{"$f":"IF(ISNA(costsum!B73),\"\",IF(costsum!B73=\"Alert\",costsum!C73,\"\"))","v":""},"CRM PROGRAMME - Alert8"]
[456,"Missing Field - CRM PROGRAMME - Alert9",{"$f":"IF(ISNA(costsum!B74),\"\",IF(costsum!B74=\"Alert\",costsum!C74,\"\"))","v":""},"CRM PROGRAMME - Alert9"]
[457,"Missing Field - CRM PROGRAMME - Alert10",{"$f":"IF(ISNA(costsum!B75),\"\",IF(costsum!B75=\"Alert\",costsum!C75,\"\"))","v":""},"CRM PROGRAMME - Alert10"]
[458,"Missing Field - CRM PROGRAMME - Alert11",{"$f":"IF(ISNA(costsum!B76),\"\",IF(costsum!B76=\"Alert\",costsum!C76,\"\"))","v":""},"CRM PROGRAMME - Alert11"]
[459,"Missing Field - CRM PROGRAMME - Alert12",{"$f":"IF(ISNA(costsum!B77),\"\",IF(costsum!B77=\"Alert\",costsum!C77,\"\"))","v":""},"CRM PROGRAMME - Alert12"]
[460,"Missing Field - CRM PROGRAMME - Alert13",{"$f":"IF(ISNA(costsum!B78),\"\",IF(costsum!B78=\"Alert\",costsum!C78,\"\"))","v":""},"CRM PROGRAMME - Alert13"]
[461,"Missing Field - CRM PROGRAMME - Alert14",{"$f":"IF(ISNA(costsum!B79),\"\",IF(costsum!B79=\"Alert\",costsum!C79,\"\"))","v":""},"CRM PROGRAMME - Alert14"]
[462,"Missing Field - CRM PROGRAMME - Alert15",{"$f":"IF(ISNA(costsum!B80),\"\",IF(costsum!B80=\"Alert\",costsum!C80,\"\"))","v":""},"CRM PROGRAMME - Alert15"]
[463,"Missing Field - CRM PROGRAMME - Alert16",{"$f":"IF(ISNA(costsum!B81),\"\",IF(costsum!B81=\"Alert\",costsum!C81,\"\"))","v":""},"CRM PROGRAMME - Alert16"]
[464,"Missing Field - CRM PROGRAMME - Alert17",{"$f":"IF(ISNA(costsum!B82),\"\",IF(costsum!B82=\"Alert\",costsum!C82,\"\"))","v":""},"CRM PROGRAMME - Alert17"]
[465,"Missing Field - CRM PROGRAMME - Alert18",{"$f":"IF(ISNA(costsum!B83),\"\",IF(costsum!B83=\"Alert\",costsum!C83,\"\"))","v":""},"CRM PROGRAMME - Alert18"]
[466,"Missing Field - CRM PROGRAMME - Alert19",{"$f":"IF(ISNA(costsum!B84),\"\",IF(costsum!B84=\"Alert\",costsum!C84,\"\"))","v":""},"CRM PROGRAMME - Alert19"]
[467,"Missing Field - CRM PROGRAMME - Alert20",{"$f":"IF(ISNA(costsum!B85),\"\",IF(costsum!B85=\"Alert\",costsum!C85,\"\"))","v":""},"CRM PROGRAMME - Alert20"]
[468,{"$f":"IF(ISNA(C368),\"Missing Field - \" & D368,\"Inform\")","v":"Missing Field - CRM PROGRAMME - Inform?"},{"$f":"MATCH(\"Alert\",costsum!B66:B85,0)","v":{"$error":"#N/A"}},"CRM PROGRAMME - Inform?"]
[469,{"$f":"IF(LEN(C369)>1,MID(C369,4,LEN(C369)-3),\"Missing Field - \" & D369)","v":"Missing Field - CRM PROGRAMME - Inform1"},{"$f":"IF(ISNA(costsum!B66),\"\",IF(costsum!B66=\"Inform\",costsum!C66,\"\"))","v":""},"CRM PROGRAMME - Inform1"]
[470,"Missing Field - CRM PROGRAMME - Inform2",{"$f":"IF(ISNA(costsum!B67),\"\",IF(costsum!B67=\"Inform\",costsum!C67,\"\"))","v":""},"CRM PROGRAMME - Inform2"]
[471,"Missing Field - CRM PROGRAMME - Inform3",{"$f":"IF(ISNA(costsum!B68),\"\",IF(costsum!B68=\"Inform\",costsum!C68,\"\"))","v":""},"CRM PROGRAMME - Inform3"]
[472,"Missing Field - CRM PROGRAMME - Inform4",{"$f":"IF(ISNA(costsum!B69),\"\",IF(costsum!B69=\"Inform\",costsum!C69,\"\"))","v":""},"CRM PROGRAMME - Inform4"]
[473,"Missing Field - CRM PROGRAMME - Inform5",{"$f":"IF(ISNA(costsum!B70),\"\",IF(costsum!B70=\"Inform\",costsum!C70,\"\"))","v":""},"CRM PROGRAMME - Inform5"]
[474,"Missing Field - CRM PROGRAMME - Inform6",{"$f":"IF(ISNA(costsum!B71),\"\",IF(costsum!B71=\"Inform\",costsum!C71,\"\"))","v":""},"CRM PROGRAMME - Inform6"]
[475,"Missing Field - CRM PROGRAMME - Inform7",{"$f":"IF(ISNA(costsum!B72),\"\",IF(costsum!B72=\"Inform\",costsum!C72,\"\"))","v":""},"CRM PROGRAMME - Inform7"]
[476,"Missing Field - CRM PROGRAMME - Inform8",{"$f":"IF(ISNA(costsum!B73),\"\",IF(costsum!B73=\"Inform\",costsum!C73,\"\"))","v":""},"CRM PROGRAMME - Inform8"]
[477,"Missing Field - CRM PROGRAMME - Inform9",{"$f":"IF(ISNA(costsum!B74),\"\",IF(costsum!B74=\"Inform\",costsum!C74,\"\"))","v":""},"CRM PROGRAMME - Inform9"]
[478,"Missing Field - CRM PROGRAMME - Inform10",{"$f":"IF(ISNA(costsum!B75),\"\",IF(costsum!B75=\"Inform\",costsum!C75,\"\"))","v":""},"CRM PROGRAMME - Inform10"]
[479,"Missing Field - CRM PROGRAMME - Inform11",{"$f":"IF(ISNA(costsum!B76),\"\",IF(costsum!B76=\"Inform\",costsum!C76,\"\"))","v":""},"CRM PROGRAMME - Inform11"]
[480,"Missing Field - CRM PROGRAMME - Inform12",{"$f":"IF(ISNA(costsum!B77),\"\",IF(costsum!B77=\"Inform\",costsum!C77,\"\"))","v":""},"CRM PROGRAMME - Inform12"]
[481,"Missing Field - CRM PROGRAMME - Inform13",{"$f":"IF(ISNA(costsum!B78),\"\",IF(costsum!B78=\"Inform\",costsum!C78,\"\"))","v":""},"CRM PROGRAMME - Inform13"]
[482,"Missing Field - CRM PROGRAMME - Inform14",{"$f":"IF(ISNA(costsum!B79),\"\",IF(costsum!B79=\"Inform\",costsum!C79,\"\"))","v":""},"CRM PROGRAMME - Inform14"]
[483,"Missing Field - CRM PROGRAMME - Inform15",{"$f":"IF(ISNA(costsum!B80),\"\",IF(costsum!B80=\"Inform\",costsum!C80,\"\"))","v":""},"CRM PROGRAMME - Inform15"]
[484,"Missing Field - CRM PROGRAMME - Inform16",{"$f":"IF(ISNA(costsum!B81),\"\",IF(costsum!B81=\"Inform\",costsum!C81,\"\"))","v":""},"CRM PROGRAMME - Inform16"]
[485,"Missing Field - CRM PROGRAMME - Inform17",{"$f":"IF(ISNA(costsum!B82),\"\",IF(costsum!B82=\"Inform\",costsum!C82,\"\"))","v":""},"CRM PROGRAMME - Inform17"]
[486,"Missing Field - CRM PROGRAMME - Inform18",{"$f":"IF(ISNA(costsum!B83),\"\",IF(costsum!B83=\"Inform\",costsum!C83,\"\"))","v":""},"CRM PROGRAMME - Inform18"]
[487,"Missing Field - CRM PROGRAMME - Inform19",{"$f":"IF(ISNA(costsum!B84),\"\",IF(costsum!B84=\"Inform\",costsum!C84,\"\"))","v":""},"CRM PROGRAMME - Inform19"]
[488,"Missing Field - CRM PROGRAMME - Inform20",{"$f":"IF(ISNA(costsum!B85),\"\",IF(costsum!B85=\"Inform\",costsum!C85,\"\"))","v":""},"CRM PROGRAMME - Inform20"]
[489,{"$f":"IF(ISNA(C389),\"Missing Field - \" & D389,\"Set App\")","v":"Missing Field - CRM PROGRAMME - Set App?"},{"$f":"MATCH(\"Set App\",costsum!B66:B85,0)","v":{"$error":"#N/A"}},"CRM PROGRAMME - Set App?"]
[490,{"$f":"IF(LEN(C390)>1,MID(C390,4,LEN(C390)-3),\"Missing Field - \" & D390)","v":"Missing Field - CRM PROGRAMME - Set App1"},{"$f":"IF(ISNA(costsum!B66),\"\",IF(costsum!B66=\"Set App\",costsum!C66,\"\"))","v":""},"CRM PROGRAMME - Set App1"]
[491,"Missing Field - CRM PROGRAMME - Set App2",{"$f":"IF(ISNA(costsum!B67),\"\",IF(costsum!B67=\"Set App\",costsum!C67,\"\"))","v":""},"CRM PROGRAMME - Set App2"]
[492,"Missing Field - CRM PROGRAMME - Set App3",{"$f":"IF(ISNA(costsum!B68),\"\",IF(costsum!B68=\"Set App\",costsum!C68,\"\"))","v":""},"CRM PROGRAMME - Set App3"]
[493,"Missing Field - CRM PROGRAMME - Set App4",{"$f":"IF(ISNA(costsum!B69),\"\",IF(costsum!B69=\"Set App\",costsum!C69,\"\"))","v":""},"CRM PROGRAMME - Set App4"]
[494,"Missing Field - CRM PROGRAMME - Set App5",{"$f":"IF(ISNA(costsum!B70),\"\",IF(costsum!B70=\"Set App\",costsum!C70,\"\"))","v":""},"CRM PROGRAMME - Set App5"]
[495,"Missing Field - CRM PROGRAMME - Set App6",{"$f":"IF(ISNA(costsum!B71),\"\",IF(costsum!B71=\"Set App\",costsum!C71,\"\"))","v":""},"CRM PROGRAMME - Set App6"]
[496,"Missing Field - CRM PROGRAMME - Set App7",{"$f":"IF(ISNA(costsum!B72),\"\",IF(costsum!B72=\"Set App\",costsum!C72,\"\"))","v":""},"CRM PROGRAMME - Set App7"]
[497,"Missing Field - CRM PROGRAMME - Set App8",{"$f":"IF(ISNA(costsum!B73),\"\",IF(costsum!B73=\"Set App\",costsum!C73,\"\"))","v":""},"CRM PROGRAMME - Set App8"]
[498,"Missing Field - CRM PROGRAMME - Set App9",{"$f":"IF(ISNA(costsum!B74),\"\",IF(costsum!B74=\"Set App\",costsum!C74,\"\"))","v":""},"CRM PROGRAMME - Set App9"]
[499,"Missing Field - CRM PROGRAMME - Set App10",{"$f":"IF(ISNA(costsum!B75),\"\",IF(costsum!B75=\"Set App\",costsum!C75,\"\"))","v":""},"CRM PROGRAMME - Set App10"]
[500,"Missing Field - CRM PROGRAMME - Set App11",{"$f":"IF(ISNA(costsum!B76),\"\",IF(costsum!B76=\"Set App\",costsum!C76,\"\"))","v":""},"CRM PROGRAMME - Set App11"]
[501,"Missing Field - CRM PROGRAMME - Set App12",{"$f":"IF(ISNA(costsum!B77),\"\",IF(costsum!B77=\"Set App\",costsum!C77,\"\"))","v":""},"CRM PROGRAMME - Set App12"]
[502,"Missing Field - CRM PROGRAMME - Set App13",{"$f":"IF(ISNA(costsum!B78),\"\",IF(costsum!B78=\"Set App\",costsum!C78,\"\"))","v":""},"CRM PROGRAMME - Set App13"]
[503,"Missing Field - CRM PROGRAMME - Set App14",{"$f":"IF(ISNA(costsum!B79),\"\",IF(costsum!B79=\"Set App\",costsum!C79,\"\"))","v":""},"CRM PROGRAMME - Set App14"]
[504,"Missing Field - CRM PROGRAMME - Set App15",{"$f":"IF(ISNA(costsum!B80),\"\",IF(costsum!B80=\"Set App\",costsum!C80,\"\"))","v":""},"CRM PROGRAMME - Set App15"]
[505,"Missing Field - CRM PROGRAMME - Set App16",{"$f":"IF(ISNA(costsum!B81),\"\",IF(costsum!B81=\"Set App\",costsum!C81,\"\"))","v":""},"CRM PROGRAMME - Set App16"]
[506,"Missing Field - CRM PROGRAMME - Set App17",{"$f":"IF(ISNA(costsum!B82),\"\",IF(costsum!B82=\"Set App\",costsum!C82,\"\"))","v":""},"CRM PROGRAMME - Set App17"]
[507,"Missing Field - CRM PROGRAMME - Set App18",{"$f":"IF(ISNA(costsum!B83),\"\",IF(costsum!B83=\"Set App\",costsum!C83,\"\"))","v":""},"CRM PROGRAMME - Set App18"]
[508,"Missing Field - CRM PROGRAMME - Set App19",{"$f":"IF(ISNA(costsum!B84),\"\",IF(costsum!B84=\"Set App\",costsum!C84,\"\"))","v":""},"CRM PROGRAMME - Set App19"]
[509,"Missing Field - CRM PROGRAMME - Set App20",{"$f":"IF(ISNA(costsum!B85),\"\",IF(costsum!B85=\"Set App\",costsum!C85,\"\"))","v":""},"CRM PROGRAMME - Set App20"]
[510,{"$f":"IF(ISNA(C410),\"Missing Field - \" & D410,\"Set App\")","v":"Missing Field - CRM PROGRAMME - Close Sale?"},{"$f":"MATCH(\"Close Sale\",costsum!B66:B85,0)","v":{"$error":"#N/A"}},"CRM PROGRAMME - Close Sale?"]
[511,{"$f":"IF(LEN(C411)>1,MID(C411,4,LEN(C411)-3),\"Missing Field - \" & D411)","v":"Missing Field - CRM PROGRAMME - Close Sale1"},{"$f":"IF(ISNA(costsum!B66),\"\",IF(costsum!B66=\"Close Sale\",costsum!C66,\"\"))","v":""},"CRM PROGRAMME - Close Sale1"]
[512,"Missing Field - CRM PROGRAMME - Close Sale2",{"$f":"IF(ISNA(costsum!B67),\"\",IF(costsum!B67=\"Close Sale\",costsum!C67,\"\"))","v":""},"CRM PROGRAMME - Close Sale2"]
[513,"Missing Field - CRM PROGRAMME - Close Sale3",{"$f":"IF(ISNA(costsum!B68),\"\",IF(costsum!B68=\"Close Sale\",costsum!C68,\"\"))","v":""},"CRM PROGRAMME - Close Sale3"]
[514,"Missing Field - CRM PROGRAMME - Close Sale4",{"$f":"IF(ISNA(costsum!B69),\"\",IF(costsum!B69=\"Close Sale\",costsum!C69,\"\"))","v":""},"CRM PROGRAMME - Close Sale4"]
[515,"Missing Field - CRM PROGRAMME - Close Sale5",{"$f":"IF(ISNA(costsum!B70),\"\",IF(costsum!B70=\"Close Sale\",costsum!C70,\"\"))","v":""},"CRM PROGRAMME - Close Sale5"]
[516,"Missing Field - CRM PROGRAMME - Close Sale6",{"$f":"IF(ISNA(costsum!B71),\"\",IF(costsum!B71=\"Close Sale\",costsum!C71,\"\"))","v":""},"CRM PROGRAMME - Close Sale6"]
[517,"Missing Field - CRM PROGRAMME - Close Sale7",{"$f":"IF(ISNA(costsum!B72),\"\",IF(costsum!B72=\"Close Sale\",costsum!C72,\"\"))","v":""},"CRM PROGRAMME - Close Sale7"]
[518,"Missing Field - CRM PROGRAMME - Close Sale8",{"$f":"IF(ISNA(costsum!B73),\"\",IF(costsum!B73=\"Close Sale\",costsum!C73,\"\"))","v":""},"CRM PROGRAMME - Close Sale8"]
[519,"Missing Field - CRM PROGRAMME - Close Sale9",{"$f":"IF(ISNA(costsum!B74),\"\",IF(costsum!B74=\"Close Sale\",costsum!C74,\"\"))","v":""},"CRM PROGRAMME - Close Sale9"]
[520,"Missing Field - CRM PROGRAMME - Close Sale10",{"$f":"IF(ISNA(costsum!B75),\"\",IF(costsum!B75=\"Close Sale\",costsum!C75,\"\"))","v":""},"CRM PROGRAMME - Close Sale10"]
[521,"Missing Field - CRM PROGRAMME - Close Sale11",{"$f":"IF(ISNA(costsum!B76),\"\",IF(costsum!B76=\"Close Sale\",costsum!C76,\"\"))","v":""},"CRM PROGRAMME - Close Sale11"]
[522,"Missing Field - CRM PROGRAMME - Close Sale12",{"$f":"IF(ISNA(costsum!B77),\"\",IF(costsum!B77=\"Close Sale\",costsum!C77,\"\"))","v":""},"CRM PROGRAMME - Close Sale12"]
[523,"Missing Field - CRM PROGRAMME - Close Sale13",{"$f":"IF(ISNA(costsum!B78),\"\",IF(costsum!B78=\"Close Sale\",costsum!C78,\"\"))","v":""},"CRM PROGRAMME - Close Sale13"]
[524,"Missing Field - CRM PROGRAMME - Close Sale14",{"$f":"IF(ISNA(costsum!B79),\"\",IF(costsum!B79=\"Close Sale\",costsum!C79,\"\"))","v":""},"CRM PROGRAMME - Close Sale14"]
[525,"Missing Field - CRM PROGRAMME - Close Sale15",{"$f":"IF(ISNA(costsum!B80),\"\",IF(costsum!B80=\"Close Sale\",costsum!C80,\"\"))","v":""},"CRM PROGRAMME - Close Sale15"]
[526,"Missing Field - CRM PROGRAMME - Close Sale16",{"$f":"IF(ISNA(costsum!B81),\"\",IF(costsum!B81=\"Close Sale\",costsum!C81,\"\"))","v":""},"CRM PROGRAMME - Close Sale16"]
[527,"Missing Field - CRM PROGRAMME - Close Sale17",{"$f":"IF(ISNA(costsum!B82),\"\",IF(costsum!B82=\"Close Sale\",costsum!C82,\"\"))","v":""},"CRM PROGRAMME - Close Sale17"]
[528,"Missing Field - CRM PROGRAMME - Close Sale18",{"$f":"IF(ISNA(costsum!B83),\"\",IF(costsum!B83=\"Close Sale\",costsum!C83,\"\"))","v":""},"CRM PROGRAMME - Close Sale18"]
[529,"Missing Field - CRM PROGRAMME - Close Sale19",{"$f":"IF(ISNA(costsum!B84),\"\",IF(costsum!B84=\"Close Sale\",costsum!C84,\"\"))","v":""},"CRM PROGRAMME - Close Sale19"]
[530,"Missing Field - CRM PROGRAMME - Close Sale20",{"$f":"IF(ISNA(costsum!B85),\"\",IF(costsum!B85=\"Close Sale\",costsum!C85,\"\"))","v":""},"CRM PROGRAMME - Close Sale20",null,0]
[531,{"$f":"IF(LEN(C431)>1,C431&REPT(\" \",60-LEN(C431)-LEN(B432))&B432,\"Missing Field - \" & D431)","v":"TOTAL BUDGET (Pounds)                                     £0"},{"$f":"INDIRECT(\"costsum!G\"&F431,1)","v":"TOTAL BUDGET (Pounds)"},{"$f":"\"Budget Item \" & F431 & \" - Desc\"","v":"Budget Item 1 - Desc"},null,1]
[532,{"$f":"IF(AND(ISNUMBER(C432),C432>=0),DOLLAR(C432,0),\"Missing Field - \" & D432)","v":"£0"},{"$f":"INDIRECT(\"costsum!H\"&F432,1)","v":0},{"$f":"\"Budget Item \" & F432 & \" - Amt\"","v":"Budget Item 1 - Amt"},null,{"$f":"F430+1","v":1}]
[533,{"$f":"IF(LEN(C433)>1,C433&REPT(\".\",60-LEN(C433)-LEN(B434))&B434,\"Missing Field - \" & D433)","v":"Missing Field - Budget Item 2 - Desc"},{"$f":"INDIRECT(\"costsum!G\"&F433,1)","v":""},{"$f":"\"Budget Item \" & F433 & \" - Desc\"","v":"Budget Item 2 - Desc"},null,{"$f":"F431+1","v":2}]
[534,{"$f":"IF(AND(ISNUMBER(C434),C434>=0),DOLLAR(C434,0),\"Missing Field - \" & D434)","v":"Missing Field - Budget Item 2 - Amt"},{"$f":"INDIRECT(\"costsum!H\"&F434,1)","v":""},{"$f":"\"Budget Item \" & F434 & \" - Amt\"","v":"Budget Item 2 - Amt"},null,2]
[535,{"$f":"IF(LEN(C435)>1,C435&REPT(\".\",60-LEN(C435)-LEN(B436))&B436,\"Missing Field - \" & D435)","v":"Missing Field - Budget Item 3 - Desc"},{"$f":"INDIRECT(\"costsum!G\"&F435,1)","v":""},{"$f":"\"Budget Item \" & F435 & \" - Desc\"","v":"Budget Item 3 - Desc"},null,3]
[536,{"$f":"IF(AND(ISNUMBER(C436),C436>=0),DOLLAR(C436,0),\"Missing Field - \" & D436)","v":"Missing Field - Budget Item 3 - Amt"},{"$f":"INDIRECT(\"costsum!H\"&F436,1)","v":""},{"$f":"\"Budget Item \" & F436 & \" - Amt\"","v":"Budget Item 3 - Amt"},null,3]
[537,{"$f":"IF(LEN(C437)>1,C437&REPT(\".\",60-LEN(C437)-LEN(B438))&B438,\"Missing Field - \" & D437)","v":"Missing Field - Budget Item 4 - Desc"},{"$f":"INDIRECT(\"costsum!G\"&F437,1)","v":""},{"$f":"\"Budget Item \" & F437 & \" - Desc\"","v":"Budget Item 4 - Desc"},null,4]
[538,{"$f":"IF(AND(ISNUMBER(C438),C438>=0),DOLLAR(C438,0),\"Missing Field - \" & D438)","v":"Missing Field - Budget Item 4 - Amt"},{"$f":"INDIRECT(\"costsum!H\"&F438,1)","v":""},{"$f":"\"Budget Item \" & F438 & \" - Amt\"","v":"Budget Item 4 - Amt"},null,4]
[539,{"$f":"IF(LEN(C439)>1,C439&REPT(\".\",60-LEN(C439)-LEN(B440))&B440,\"Missing Field - \" & D439)","v":"Missing Field - Budget Item 5 - Desc"},{"$f":"INDIRECT(\"costsum!G\"&F439,1)","v":""},{"$f":"\"Budget Item \" & F439 & \" - Desc\"","v":"Budget Item 5 - Desc"},null,5]
[540,{"$f":"IF(AND(ISNUMBER(C440),C440>=0),DOLLAR(C440,0),\"Missing Field - \" & D440)","v":"Missing Field - Budget Item 5 - Amt"},{"$f":"INDIRECT(\"costsum!H\"&F440,1)","v":""},{"$f":"\"Budget Item \" & F440 & \" - Amt\"","v":"Budget Item 5 - Amt"},null,5]
[541,{"$f":"IF(LEN(C441)>1,C441&REPT(\".\",60-LEN(C441)-LEN(B442))&B442,\"Missing Field - \" & D441)","v":"Missing Field - Budget Item 6 - Desc"},{"$f":"INDIRECT(\"costsum!G\"&F441,1)","v":""},{"$f":"\"Budget Item \" & F441 & \" - Desc\"","v":"Budget Item 6 - Desc"},null,6]
[542,{"$f":"IF(AND(ISNUMBER(C442),C442>=0),DOLLAR(C442,0),\"Missing Field - \" & D442)","v":"Missing Field - Budget Item 6 - Amt"},{"$f":"INDIRECT(\"costsum!H\"&F442,1)","v":""},{"$f":"\"Budget Item \" & F442 & \" - Amt\"","v":"Budget Item 6 - Amt"},null,6]
[543,{"$f":"IF(LEN(C443)>1,C443&REPT(\".\",60-LEN(C443)-LEN(B444))&B444,\"Missing Field - \" & D443)","v":"Missing Field - Budget Item 7 - Desc"},{"$f":"INDIRECT(\"costsum!G\"&F443,1)","v":""},{"$f":"\"Budget Item \" & F443 & \" - Desc\"","v":"Budget Item 7 - Desc"},null,7]
[544,{"$f":"IF(AND(ISNUMBER(C444),C444>=0),DOLLAR(C444,0),\"Missing Field - \" & D444)","v":"Missing Field - Budget Item 7 - Amt"},{"$f":"INDIRECT(\"costsum!H\"&F444,1)","v":""},{"$f":"\"Budget Item \" & F444 & \" - Amt\"","v":"Budget Item 7 - Amt"},null,7]
[545,{"$f":"IF(LEN(C445)>1,C445&REPT(\".\",60-LEN(C445)-LEN(B446))&B446,\"Missing Field - \" & D445)","v":"Missing Field - Budget Item 8 - Desc"},{"$f":"INDIRECT(\"costsum!G\"&F445,1)","v":""},{"$f":"\"Budget Item \" & F445 & \" - Desc\"","v":"Budget Item 8 - Desc"},null,8]
[546,{"$f":"IF(AND(ISNUMBER(C446),C446>=0),DOLLAR(C446,0),\"Missing Field - \" & D446)","v":"Missing Field - Budget Item 8 - Amt"},{"$f":"INDIRECT(\"costsum!H\"&F446,1)","v":""},{"$f":"\"Budget Item \" & F446 & \" - Amt\"","v":"Budget Item 8 - Amt"},null,8]
[547,{"$f":"IF(LEN(C447)>1,C447&REPT(\".\",60-LEN(C447)-LEN(B448))&B448,\"Missing Field - \" & D447)","v":"Missing Field - Budget Item 9 - Desc"},{"$f":"INDIRECT(\"costsum!G\"&F447,1)","v":""},{"$f":"\"Budget Item \" & F447 & \" - Desc\"","v":"Budget Item 9 - Desc"},null,9]
[548,{"$f":"IF(AND(ISNUMBER(C448),C448>=0),DOLLAR(C448,0),\"Missing Field - \" & D448)","v":"Missing Field - Budget Item 9 - Amt"},{"$f":"INDIRECT(\"costsum!H\"&F448,1)","v":""},{"$f":"\"Budget Item \" & F448 & \" - Amt\"","v":"Budget Item 9 - Amt"},null,9]
[549,{"$f":"IF(LEN(C449)>1,C449&REPT(\".\",60-LEN(C449)-LEN(B450))&B450,\"Missing Field - \" & D449)","v":"Missing Field - Budget Item 10 - Desc"},{"$f":"INDIRECT(\"costsum!G\"&F449,1)","v":""},{"$f":"\"Budget Item \" & F449 & \" - Desc\"","v":"Budget Item 10 - Desc"},null,10]
[550,{"$f":"IF(AND(ISNUMBER(C450),C450>=0),DOLLAR(C450,0),\"Missing Field - \" & D450)","v":"Missing Field - Budget Item 10 - Amt"},{"$f":"INDIRECT(\"costsum!H\"&F450,1)","v":""},{"$f":"\"Budget Item \" & F450 & \" - Amt\"","v":"Budget Item 10 - Amt"},null,10]
[551,{"$f":"IF(LEN(C451)>1,C451&REPT(\".\",60-LEN(C451)-LEN(B452))&B452,\"Missing Field - \" & D451)","v":"Missing Field - Budget Item 11 - Desc"},{"$f":"INDIRECT(\"costsum!G\"&F451,1)","v":""},{"$f":"\"Budget Item \" & F451 & \" - Desc\"","v":"Budget Item 11 - Desc"},null,11]
[552,{"$f":"IF(AND(ISNUMBER(C452),C452>=0),DOLLAR(C452,0),\"Missing Field - \" & D452)","v":"Missing Field - Budget Item 11 - Amt"},{"$f":"INDIRECT(\"costsum!H\"&F452,1)","v":""},{"$f":"\"Budget Item \" & F452 & \" - Amt\"","v":"Budget Item 11 - Amt"},null,11]
[553,{"$f":"IF(LEN(C453)>1,C453&REPT(\".\",60-LEN(C453)-LEN(B454))&B454,\"Missing Field - \" & D453)","v":"Missing Field - Budget Item 12 - Desc"},{"$f":"INDIRECT(\"costsum!G\"&F453,1)","v":""},{"$f":"\"Budget Item \" & F453 & \" - Desc\"","v":"Budget Item 12 - Desc"},null,12]
[554,{"$f":"IF(AND(ISNUMBER(C454),C454>=0),DOLLAR(C454,0),\"Missing Field - \" & D454)","v":"Missing Field - Budget Item 12 - Amt"},{"$f":"INDIRECT(\"costsum!H\"&F454,1)","v":""},{"$f":"\"Budget Item \" & F454 & \" - Amt\"","v":"Budget Item 12 - Amt"},null,12]
[555,{"$f":"IF(LEN(C455)>1,C455&REPT(\".\",60-LEN(C455)-LEN(B456))&B456,\"Missing Field - \" & D455)","v":"Missing Field - Budget Item 13 - Desc"},{"$f":"INDIRECT(\"costsum!G\"&F455,1)","v":""},{"$f":"\"Budget Item \" & F455 & \" - Desc\"","v":"Budget Item 13 - Desc"},null,13]
[556,{"$f":"IF(AND(ISNUMBER(C456),C456>=0),DOLLAR(C456,0),\"Missing Field - \" & D456)","v":"Missing Field - Budget Item 13 - Amt"},{"$f":"INDIRECT(\"costsum!H\"&F456,1)","v":""},{"$f":"\"Budget Item \" & F456 & \" - Amt\"","v":"Budget Item 13 - Amt"},null,13]
[557,{"$f":"IF(LEN(C457)>1,C457&REPT(\".\",60-LEN(C457)-LEN(B458))&B458,\"Missing Field - \" & D457)","v":"Missing Field - Budget Item 14 - Desc"},{"$f":"INDIRECT(\"costsum!G\"&F457,1)","v":""},{"$f":"\"Budget Item \" & F457 & \" - Desc\"","v":"Budget Item 14 - Desc"},null,14]
[558,{"$f":"IF(AND(ISNUMBER(C458),C458>=0),DOLLAR(C458,0),\"Missing Field - \" & D458)","v":"Missing Field - Budget Item 14 - Amt"},{"$f":"INDIRECT(\"costsum!H\"&F458,1)","v":""},{"$f":"\"Budget Item \" & F458 & \" - Amt\"","v":"Budget Item 14 - Amt"},null,14]
[559,{"$f":"IF(LEN(C459)>1,C459&REPT(\".\",60-LEN(C459)-LEN(B460))&B460,\"Missing Field - \" & D459)","v":"Missing Field - Budget Item 15 - Desc"},{"$f":"INDIRECT(\"costsum!G\"&F459,1)","v":""},{"$f":"\"Budget Item \" & F459 & \" - Desc\"","v":"Budget Item 15 - Desc"},null,15]
[560,{"$f":"IF(AND(ISNUMBER(C460),C460>=0),DOLLAR(C460,0),\"Missing Field - \" & D460)","v":"Missing Field - Budget Item 15 - Amt"},{"$f":"INDIRECT(\"costsum!H\"&F460,1)","v":""},{"$f":"\"Budget Item \" & F460 & \" - Amt\"","v":"Budget Item 15 - Amt"},null,15]
[561,{"$f":"IF(LEN(C461)>1,C461&REPT(\".\",60-LEN(C461)-LEN(B462))&B462,\"Missing Field - \" & D461)","v":"Missing Field - Budget Item 16 - Desc"},{"$f":"INDIRECT(\"costsum!G\"&F461,1)","v":""},{"$f":"\"Budget Item \" & F461 & \" - Desc\"","v":"Budget Item 16 - Desc"},null,16]
[562,{"$f":"IF(AND(ISNUMBER(C462),C462>=0),DOLLAR(C462,0),\"Missing Field - \" & D462)","v":"Missing Field - Budget Item 16 - Amt"},{"$f":"INDIRECT(\"costsum!H\"&F462,1)","v":""},{"$f":"\"Budget Item \" & F462 & \" - Amt\"","v":"Budget Item 16 - Amt"},null,16]
[563,{"$f":"IF(LEN(C463)>1,C463&REPT(\".\",60-LEN(C463)-LEN(B464))&B464,\"Missing Field - \" & D463)","v":"Missing Field - Budget Item 17 - Desc"},{"$f":"INDIRECT(\"costsum!G\"&F463,1)","v":""},{"$f":"\"Budget Item \" & F463 & \" - Desc\"","v":"Budget Item 17 - Desc"},null,17]
[564,{"$f":"IF(AND(ISNUMBER(C464),C464>=0),DOLLAR(C464,0),\"Missing Field - \" & D464)","v":"Missing Field - Budget Item 17 - Amt"},{"$f":"INDIRECT(\"costsum!H\"&F464,1)","v":""},{"$f":"\"Budget Item \" & F464 & \" - Amt\"","v":"Budget Item 17 - Amt"},null,17]
[565,{"$f":"IF(LEN(C465)>1,C465&REPT(\".\",60-LEN(C465)-LEN(B466))&B466,\"Missing Field - \" & D465)","v":"Missing Field - Budget Item 18 - Desc"},{"$f":"INDIRECT(\"costsum!G\"&F465,1)","v":""},{"$f":"\"Budget Item \" & F465 & \" - Desc\"","v":"Budget Item 18 - Desc"},null,18]
[566,{"$f":"IF(AND(ISNUMBER(C466),C466>=0),DOLLAR(C466,0),\"Missing Field - \" & D466)","v":"Missing Field - Budget Item 18 - Amt"},{"$f":"INDIRECT(\"costsum!H\"&F466,1)","v":""},{"$f":"\"Budget Item \" & F466 & \" - Amt\"","v":"Budget Item 18 - Amt"},null,18]
[567,{"$f":"IF(LEN(C467)>1,C467&REPT(\".\",60-LEN(C467)-LEN(B468))&B468,\"Missing Field - \" & D467)","v":"Missing Field - Budget Item 19 - Desc"},{"$f":"INDIRECT(\"costsum!G\"&F467,1)","v":""},{"$f":"\"Budget Item \" & F467 & \" - Desc\"","v":"Budget Item 19 - Desc"},null,19]
[568,{"$f":"IF(AND(ISNUMBER(C468),C468>=0),DOLLAR(C468,0),\"Missing Field - \" & D468)","v":"Missing Field - Budget Item 19 - Amt"},{"$f":"INDIRECT(\"costsum!H\"&F468,1)","v":""},{"$f":"\"Budget Item \" & F468 & \" - Amt\"","v":"Budget Item 19 - Amt"},null,19]
[569,{"$f":"IF(LEN(C469)>1,C469&REPT(\".\",60-LEN(C469)-LEN(B470))&B470,\"Missing Field - \" & D469)","v":"Missing Field - Budget Item 20 - Desc"},{"$f":"INDIRECT(\"costsum!G\"&F469,1)","v":""},{"$f":"\"Budget Item \" & F469 & \" - Desc\"","v":"Budget Item 20 - Desc"},null,20]
[570,{"$f":"IF(AND(ISNUMBER(C470),C470>=0),DOLLAR(C470,0),\"Missing Field - \" & D470)","v":"Missing Field - Budget Item 20 - Amt"},{"$f":"INDIRECT(\"costsum!H\"&F470,1)","v":""},{"$f":"\"Budget Item \" & F470 & \" - Amt\"","v":"Budget Item 20 - Amt"},null,20]
[571,{"$f":"IF(LEN(C471)>1,C471&REPT(\".\",60-LEN(C471)-LEN(B472))&B472,\"Missing Field - \" & D471)","v":"Missing Field - Budget Item 21 - Desc"},{"$f":"INDIRECT(\"costsum!G\"&F471,1)","v":""},{"$f":"\"Budget Item \" & F471 & \" - Desc\"","v":"Budget Item 21 - Desc"},null,21]
[572,{"$f":"IF(AND(ISNUMBER(C472),C472>=0),DOLLAR(C472,0),\"Missing Field - \" & D472)","v":"Missing Field - Budget Item 21 - Amt"},{"$f":"INDIRECT(\"costsum!H\"&F472,1)","v":""},{"$f":"\"Budget Item \" & F472 & \" - Amt\"","v":"Budget Item 21 - Amt"},null,21]
[573,{"$f":"IF(LEN(C473)>1,C473&REPT(\".\",60-LEN(C473)-LEN(B474))&B474,\"Missing Field - \" & D473)","v":"Missing Field - Budget Item 22 - Desc"},{"$f":"INDIRECT(\"costsum!G\"&F473,1)","v":""},{"$f":"\"Budget Item \" & F473 & \" - Desc\"","v":"Budget Item 22 - Desc"},null,22]
[574,{"$f":"IF(AND(ISNUMBER(C474),C474>=0),DOLLAR(C474,0),\"Missing Field - \" & D474)","v":"Missing Field - Budget Item 22 - Amt"},{"$f":"INDIRECT(\"costsum!H\"&F474,1)","v":""},{"$f":"\"Budget Item \" & F474 & \" - Amt\"","v":"Budget Item 22 - Amt"},null,22]
[575,{"$f":"IF(LEN(C475)>1,C475&REPT(\".\",60-LEN(C475)-LEN(B476))&B476,\"Missing Field - \" & D475)","v":"Missing Field - Budget Item 23 - Desc"},{"$f":"INDIRECT(\"costsum!G\"&F475,1)","v":""},{"$f":"\"Budget Item \" & F475 & \" - Desc\"","v":"Budget Item 23 - Desc"},null,23]
[576,{"$f":"IF(AND(ISNUMBER(C476),C476>=0),DOLLAR(C476,0),\"Missing Field - \" & D476)","v":"Missing Field - Budget Item 23 - Amt"},{"$f":"INDIRECT(\"costsum!H\"&F476,1)","v":""},{"$f":"\"Budget Item \" & F476 & \" - Amt\"","v":"Budget Item 23 - Amt"},null,23]
[577,{"$f":"IF(LEN(C477)>1,C477&REPT(\".\",60-LEN(C477)-LEN(B478))&B478,\"Missing Field - \" & D477)","v":"Missing Field - Budget Item 24 - Desc"},{"$f":"INDIRECT(\"costsum!G\"&F477,1)","v":""},{"$f":"\"Budget Item \" & F477 & \" - Desc\"","v":"Budget Item 24 - Desc"},null,24]
[578,{"$f":"IF(AND(ISNUMBER(C478),C478>=0),DOLLAR(C478,0),\"Missing Field - \" & D478)","v":"Missing Field - Budget Item 24 - Amt"},{"$f":"INDIRECT(\"costsum!H\"&F478,1)","v":""},{"$f":"\"Budget Item \" & F478 & \" - Amt\"","v":"Budget Item 24 - Amt"},null,24]
[579,{"$f":"IF(LEN(C479)>1,C479&REPT(\".\",60-LEN(C479)-LEN(B480))&B480,\"Missing Field - \" & D479)","v":"Missing Field - Budget Item 25 - Desc"},{"$f":"INDIRECT(\"costsum!G\"&F479,1)","v":""},{"$f":"\"Budget Item \" & F479 & \" - Desc\"","v":"Budget Item 25 - Desc"},null,25]
[580,{"$f":"IF(AND(ISNUMBER(C480),C480>=0),DOLLAR(C480,0),\"Missing Field - \" & D480)","v":"Missing Field - Budget Item 25 - Amt"},{"$f":"INDIRECT(\"costsum!H\"&F480,1)","v":""},{"$f":"\"Budget Item \" & F480 & \" - Amt\"","v":"Budget Item 25 - Amt"},null,25]
[581,{"$f":"IF(LEN(C481)>1,C481&REPT(\".\",60-LEN(C481)-LEN(B482))&B482,\"Missing Field - \" & D481)","v":"Missing Field - Budget Item 26 - Desc"},{"$f":"INDIRECT(\"costsum!G\"&F481,1)","v":""},{"$f":"\"Budget Item \" & F481 & \" - Desc\"","v":"Budget Item 26 - Desc"},null,26]
[582,{"$f":"IF(AND(ISNUMBER(C482),C482>=0),DOLLAR(C482,0),\"Missing Field - \" & D482)","v":"Missing Field - Budget Item 26 - Amt"},{"$f":"INDIRECT(\"costsum!H\"&F482,1)","v":""},{"$f":"\"Budget Item \" & F482 & \" - Amt\"","v":"Budget Item 26 - Amt"},null,26]
[583,{"$f":"IF(LEN(C483)>1,C483&REPT(\".\",60-LEN(C483)-LEN(B484))&B484,\"Missing Field - \" & D483)","v":"Missing Field - Budget Item 27 - Desc"},{"$f":"INDIRECT(\"costsum!G\"&F483,1)","v":""},{"$f":"\"Budget Item \" & F483 & \" - Desc\"","v":"Budget Item 27 - Desc"},null,27]
[584,{"$f":"IF(AND(ISNUMBER(C484),C484>=0),DOLLAR(C484,0),\"Missing Field - \" & D484)","v":"Missing Field - Budget Item 27 - Amt"},{"$f":"INDIRECT(\"costsum!H\"&F484,1)","v":""},{"$f":"\"Budget Item \" & F484 & \" - Amt\"","v":"Budget Item 27 - Amt"},null,27]
[585,{"$f":"IF(LEN(C485)>1,C485&REPT(\".\",60-LEN(C485)-LEN(B486))&B486,\"Missing Field - \" & D485)","v":"Missing Field - Budget Item 28 - Desc"},{"$f":"INDIRECT(\"costsum!G\"&F485,1)","v":""},{"$f":"\"Budget Item \" & F485 & \" - Desc\"","v":"Budget Item 28 - Desc"},null,28]
[586,{"$f":"IF(AND(ISNUMBER(C486),C486>=0),DOLLAR(C486,0),\"Missing Field - \" & D486)","v":"Missing Field - Budget Item 28 - Amt"},{"$f":"INDIRECT(\"costsum!H\"&F486,1)","v":""},{"$f":"\"Budget Item \" & F486 & \" - Amt\"","v":"Budget Item 28 - Amt"},null,28]
[587,{"$f":"IF(LEN(C487)>1,C487&REPT(\".\",60-LEN(C487)-LEN(B488))&B488,\"Missing Field - \" & D487)","v":"Missing Field - Budget Item 29 - Desc"},{"$f":"INDIRECT(\"costsum!G\"&F487,1)","v":""},{"$f":"\"Budget Item \" & F487 & \" - Desc\"","v":"Budget Item 29 - Desc"},null,29]
[588,{"$f":"IF(AND(ISNUMBER(C488),C488>=0),DOLLAR(C488,0),\"Missing Field - \" & D488)","v":"Missing Field - Budget Item 29 - Amt"},{"$f":"INDIRECT(\"costsum!H\"&F488,1)","v":""},{"$f":"\"Budget Item \" & F488 & \" - Amt\"","v":"Budget Item 29 - Amt"},null,29]
[589,{"$f":"IF(LEN(C489)>1,C489&REPT(\".\",60-LEN(C489)-LEN(B490))&B490,\"Missing Field - \" & D489)","v":"Missing Field - Budget Item 30 - Desc"},{"$f":"INDIRECT(\"costsum!G\"&F489,1)","v":""},{"$f":"\"Budget Item \" & F489 & \" - Desc\"","v":"Budget Item 30 - Desc"},null,30]
[590,{"$f":"IF(AND(ISNUMBER(C490),C490>=0),DOLLAR(C490,0),\"Missing Field - \" & D490)","v":"Missing Field - Budget Item 30 - Amt"},{"$f":"INDIRECT(\"costsum!H\"&F490,1)","v":""},{"$f":"\"Budget Item \" & F490 & \" - Amt\"","v":"Budget Item 30 - Amt"},null,30]
[591,{"$f":"IF(LEN(C491)>1,C491&REPT(\".\",60-LEN(C491)-LEN(B492))&B492,\"Missing Field - \" & D491)","v":"Missing Field - Budget Item 31 - Desc"},{"$f":"INDIRECT(\"costsum!G\"&F491,1)","v":""},{"$f":"\"Budget Item \" & F491 & \" - Desc\"","v":"Budget Item 31 - Desc"},null,31]
[592,{"$f":"IF(AND(ISNUMBER(C492),C492>=0),DOLLAR(C492,0),\"Missing Field - \" & D492)","v":"Missing Field - Budget Item 31 - Amt"},{"$f":"INDIRECT(\"costsum!H\"&F492,1)","v":""},{"$f":"\"Budget Item \" & F492 & \" - Amt\"","v":"Budget Item 31 - Amt"},null,31]
[593,{"$f":"IF(LEN(C493)>1,C493&REPT(\".\",60-LEN(C493)-LEN(B494))&B494,\"Missing Field - \" & D493)","v":"Missing Field - Budget Item 32 - Desc"},{"$f":"INDIRECT(\"costsum!G\"&F493,1)","v":""},{"$f":"\"Budget Item \" & F493 & \" - Desc\"","v":"Budget Item 32 - Desc"},null,32]
[594,{"$f":"IF(AND(ISNUMBER(C494),C494>=0),DOLLAR(C494,0),\"Missing Field - \" & D494)","v":"Missing Field - Budget Item 32 - Amt"},{"$f":"INDIRECT(\"costsum!H\"&F494,1)","v":""},{"$f":"\"Budget Item \" & F494 & \" - Amt\"","v":"Budget Item 32 - Amt"},null,32]
[595,{"$f":"IF(LEN(C495)>1,C495&REPT(\".\",60-LEN(C495)-LEN(B496))&B496,\"Missing Field - \" & D495)","v":"Missing Field - Budget Item 33 - Desc"},{"$f":"INDIRECT(\"costsum!G\"&F495,1)","v":""},{"$f":"\"Budget Item \" & F495 & \" - Desc\"","v":"Budget Item 33 - Desc"},null,33]
[596,{"$f":"IF(AND(ISNUMBER(C496),C496>=0),DOLLAR(C496,0),\"Missing Field - \" & D496)","v":"Missing Field - Budget Item 33 - Amt"},{"$f":"INDIRECT(\"costsum!H\"&F496,1)","v":""},{"$f":"\"Budget Item \" & F496 & \" - Amt\"","v":"Budget Item 33 - Amt"},null,33]
[597,{"$f":"IF(LEN(C497)>1,C497&REPT(\".\",60-LEN(C497)-LEN(B498))&B498,\"Missing Field - \" & D497)","v":"Missing Field - Budget Item 34 - Desc"},{"$f":"INDIRECT(\"costsum!G\"&F497,1)","v":""},{"$f":"\"Budget Item \" & F497 & \" - Desc\"","v":"Budget Item 34 - Desc"},null,{"$f":"F495+1","v":34}]
[598,{"$f":"IF(AND(ISNUMBER(C498),C498>=0),DOLLAR(C498,0),\"Missing Field - \" & D498)","v":"Missing Field - Budget Item 34 - Amt"},{"$f":"INDIRECT(\"costsum!H\"&F498,1)","v":""},{"$f":"\"Budget Item \" & F498 & \" - Amt\"","v":"Budget Item 34 - Amt"},null,34]
[599,{"$f":"IF(LEN(C499)>1,C499&REPT(\".\",60-LEN(C499)-LEN(B500))&B500,\"Missing Field - \" & D499)","v":"Missing Field - Budget Item 35 - Desc"},{"$f":"INDIRECT(\"costsum!G\"&F499,1)","v":""},{"$f":"\"Budget Item \" & F499 & \" - Desc\"","v":"Budget Item 35 - Desc"},null,35]
[600,{"$f":"IF(AND(ISNUMBER(C500),C500>=0),DOLLAR(C500,0),\"Missing Field - \" & D500)","v":"Missing Field - Budget Item 35 - Amt"},{"$f":"INDIRECT(\"costsum!H\"&F500,1)","v":""},{"$f":"\"Budget Item \" & F500 & \" - Amt\"","v":"Budget Item 35 - Amt"},null,35]
[601,{"$f":"IF(LEN(C501)>1,C501&REPT(\".\",60-LEN(C501)-LEN(B502))&B502,\"Missing Field - \" & D501)","v":"Missing Field - Budget Item 36 - Desc"},{"$f":"INDIRECT(\"costsum!G\"&F501,1)","v":""},{"$f":"\"Budget Item \" & F501 & \" - Desc\"","v":"Budget Item 36 - Desc"},null,36]
[602,{"$f":"IF(AND(ISNUMBER(C502),C502>=0),DOLLAR(C502,0),\"Missing Field - \" & D502)","v":"Missing Field - Budget Item 36 - Amt"},{"$f":"INDIRECT(\"costsum!H\"&F502,1)","v":""},{"$f":"\"Budget Item \" & F502 & \" - Amt\"","v":"Budget Item 36 - Amt"},null,36]
[603,{"$f":"IF(LEN(C503)>1,C503&REPT(\".\",60-LEN(C503)-LEN(B504))&B504,\"Missing Field - \" & D503)","v":"Missing Field - Budget Item 37 - Desc"},{"$f":"INDIRECT(\"costsum!G\"&F503,1)","v":""},{"$f":"\"Budget Item \" & F503 & \" - Desc\"","v":"Budget Item 37 - Desc"},null,37]
[604,{"$f":"IF(AND(ISNUMBER(C504),C504>=0),DOLLAR(C504,0),\"Missing Field - \" & D504)","v":"Missing Field - Budget Item 37 - Amt"},{"$f":"INDIRECT(\"costsum!H\"&F504,1)","v":""},{"$f":"\"Budget Item \" & F504 & \" - Amt\"","v":"Budget Item 37 - Amt"},null,37]
[605,{"$f":"IF(LEN(C505)>1,C505&REPT(\".\",60-LEN(C505)-LEN(B506))&B506,\"Missing Field - \" & D505)","v":"Missing Field - Budget Item 38 - Desc"},{"$f":"INDIRECT(\"costsum!G\"&F505,1)","v":""},{"$f":"\"Budget Item \" & F505 & \" - Desc\"","v":"Budget Item 38 - Desc"},null,38]
[606,{"$f":"IF(AND(ISNUMBER(C506),C506>=0),DOLLAR(C506,0),\"Missing Field - \" & D506)","v":"Missing Field - Budget Item 38 - Amt"},{"$f":"INDIRECT(\"costsum!H\"&F506,1)","v":""},{"$f":"\"Budget Item \" & F506 & \" - Amt\"","v":"Budget Item 38 - Amt"},null,38]
[607,{"$f":"IF(LEN(C507)>1,C507&REPT(\".\",60-LEN(C507)-LEN(B508))&B508,\"Missing Field - \" & D507)","v":"Missing Field - Budget Item 39 - Desc"},{"$f":"INDIRECT(\"costsum!G\"&F507,1)","v":""},{"$f":"\"Budget Item \" & F507 & \" - Desc\"","v":"Budget Item 39 - Desc"},null,39]
[608,{"$f":"IF(AND(ISNUMBER(C508),C508>=0),DOLLAR(C508,0),\"Missing Field - \" & D508)","v":"Missing Field - Budget Item 39 - Amt"},{"$f":"INDIRECT(\"costsum!H\"&F508,1)","v":""},{"$f":"\"Budget Item \" & F508 & \" - Amt\"","v":"Budget Item 39 - Amt"},null,39]
[609,{"$f":"IF(LEN(C509)>1,C509&REPT(\".\",60-LEN(C509)-LEN(B510))&B510,\"Missing Field - \" & D509)","v":"Missing Field - Budget Item 40 - Desc"},{"$f":"INDIRECT(\"costsum!G\"&F509,1)","v":""},{"$f":"\"Budget Item \" & F509 & \" - Desc\"","v":"Budget Item 40 - Desc"},null,40]
[610,{"$f":"IF(AND(ISNUMBER(C510),C510>=0),DOLLAR(C510,0),\"Missing Field - \" & D510)","v":"Missing Field - Budget Item 40 - Amt"},{"$f":"INDIRECT(\"costsum!H\"&F510,1)","v":""},{"$f":"\"Budget Item \" & F510 & \" - Amt\"","v":"Budget Item 40 - Amt"},null,40]
[611,{"$f":"IF(LEN(C511)>1,C511&REPT(\".\",60-LEN(C511)-LEN(B512))&B512,\"Missing Field - \" & D511)","v":"Missing Field - Budget Item 41 - Desc"},{"$f":"INDIRECT(\"costsum!G\"&F511,1)","v":""},{"$f":"\"Budget Item \" & F511 & \" - Desc\"","v":"Budget Item 41 - Desc"},null,41]
[612,{"$f":"IF(AND(ISNUMBER(C512),C512>=0),DOLLAR(C512,0),\"Missing Field - \" & D512)","v":"Missing Field - Budget Item 41 - Amt"},{"$f":"INDIRECT(\"costsum!H\"&F512,1)","v":""},{"$f":"\"Budget Item \" & F512 & \" - Amt\"","v":"Budget Item 41 - Amt"},null,41]
[613,{"$f":"IF(LEN(C513)>1,C513&REPT(\".\",60-LEN(C513)-LEN(B514))&B514,\"Missing Field - \" & D513)","v":"Missing Field - Budget Item 42 - Desc"},{"$f":"INDIRECT(\"costsum!G\"&F513,1)","v":""},{"$f":"\"Budget Item \" & F513 & \" - Desc\"","v":"Budget Item 42 - Desc"},null,42]
[614,{"$f":"IF(AND(ISNUMBER(C514),C514>=0),DOLLAR(C514,0),\"Missing Field - \" & D514)","v":"Missing Field - Budget Item 42 - Amt"},{"$f":"INDIRECT(\"costsum!H\"&F514,1)","v":""},{"$f":"\"Budget Item \" & F514 & \" - Amt\"","v":"Budget Item 42 - Amt"},null,42]
[615,{"$f":"IF(LEN(C515)>1,C515&REPT(\".\",60-LEN(C515)-LEN(B516))&B516,\"Missing Field - \" & D515)","v":"Missing Field - Budget Item 43 - Desc"},{"$f":"INDIRECT(\"costsum!G\"&F515,1)","v":""},{"$f":"\"Budget Item \" & F515 & \" - Desc\"","v":"Budget Item 43 - Desc"},null,43]
[616,{"$f":"IF(AND(ISNUMBER(C516),C516>=0),DOLLAR(C516,0),\"Missing Field - \" & D516)","v":"Missing Field - Budget Item 43 - Amt"},{"$f":"INDIRECT(\"costsum!H\"&F516,1)","v":""},{"$f":"\"Budget Item \" & F516 & \" - Amt\"","v":"Budget Item 43 - Amt"},null,43]
[617,{"$f":"IF(LEN(C517)>1,C517&REPT(\".\",60-LEN(C517)-LEN(B518))&B518,\"Missing Field - \" & D517)","v":"Missing Field - Budget Item 44 - Desc"},{"$f":"INDIRECT(\"costsum!G\"&F517,1)","v":""},{"$f":"\"Budget Item \" & F517 & \" - Desc\"","v":"Budget Item 44 - Desc"},null,44]
[618,{"$f":"IF(AND(ISNUMBER(C518),C518>=0),DOLLAR(C518,0),\"Missing Field - \" & D518)","v":"Missing Field - Budget Item 44 - Amt"},{"$f":"INDIRECT(\"costsum!H\"&F518,1)","v":""},{"$f":"\"Budget Item \" & F518 & \" - Amt\"","v":"Budget Item 44 - Amt"},null,44]
[619,{"$f":"IF(LEN(C519)>1,C519&REPT(\".\",60-LEN(C519)-LEN(B520))&B520,\"Missing Field - \" & D519)","v":"Missing Field - Budget Item 45 - Desc"},{"$f":"INDIRECT(\"costsum!G\"&F519,1)","v":""},{"$f":"\"Budget Item \" & F519 & \" - Desc\"","v":"Budget Item 45 - Desc"},null,45]
[620,{"$f":"IF(AND(ISNUMBER(C520),C520>=0),DOLLAR(C520,0),\"Missing Field - \" & D520)","v":"Missing Field - Budget Item 45 - Amt"},{"$f":"INDIRECT(\"costsum!H\"&F520,1)","v":""},{"$f":"\"Budget Item \" & F520 & \" - Amt\"","v":"Budget Item 45 - Amt"},null,45]
[621,{"$f":"IF(LEN(C521)>1,C521&REPT(\".\",60-LEN(C521)-LEN(B522))&B522,\"Missing Field - \" & D521)","v":"Missing Field - Budget Item 46 - Desc"},{"$f":"INDIRECT(\"costsum!G\"&F521,1)","v":""},{"$f":"\"Budget Item \" & F521 & \" - Desc\"","v":"Budget Item 46 - Desc"},null,46]
[622,{"$f":"IF(AND(ISNUMBER(C522),C522>=0),DOLLAR(C522,0),\"Missing Field - \" & D522)","v":"Missing Field - Budget Item 46 - Amt"},{"$f":"INDIRECT(\"costsum!H\"&F522,1)","v":""},{"$f":"\"Budget Item \" & F522 & \" - Amt\"","v":"Budget Item 46 - Amt"},null,46]
[623,{"$f":"IF(LEN(C523)>1,C523&REPT(\".\",60-LEN(C523)-LEN(B524))&B524,\"Missing Field - \" & D523)","v":"Missing Field - Budget Item 47 - Desc"},{"$f":"INDIRECT(\"costsum!G\"&F523,1)","v":""},{"$f":"\"Budget Item \" & F523 & \" - Desc\"","v":"Budget Item 47 - Desc"},null,47]
[624,{"$f":"IF(AND(ISNUMBER(C524),C524>=0),DOLLAR(C524,0),\"Missing Field - \" & D524)","v":"Missing Field - Budget Item 47 - Amt"},{"$f":"INDIRECT(\"costsum!H\"&F524,1)","v":""},{"$f":"\"Budget Item \" & F524 & \" - Amt\"","v":"Budget Item 47 - Amt"},null,47]
[625,{"$f":"IF(LEN(C525)>1,C525&REPT(\".\",60-LEN(C525)-LEN(B526))&B526,\"Missing Field - \" & D525)","v":"Missing Field - Budget Item 48 - Desc"},{"$f":"INDIRECT(\"costsum!G\"&F525,1)","v":""},{"$f":"\"Budget Item \" & F525 & \" - Desc\"","v":"Budget Item 48 - Desc"},null,48]
[626,{"$f":"IF(AND(ISNUMBER(C526),C526>=0),DOLLAR(C526,0),\"Missing Field - \" & D526)","v":"Missing Field - Budget Item 48 - Amt"},{"$f":"INDIRECT(\"costsum!H\"&F526,1)","v":""},{"$f":"\"Budget Item \" & F526 & \" - Amt\"","v":"Budget Item 48 - Amt"},null,48]
[627,{"$f":"IF(LEN(C527)>1,C527&REPT(\".\",60-LEN(C527)-LEN(B528))&B528,\"Missing Field - \" & D527)","v":"Missing Field - Budget Item 49 - Desc"},{"$f":"INDIRECT(\"costsum!G\"&F527,1)","v":""},{"$f":"\"Budget Item \" & F527 & \" - Desc\"","v":"Budget Item 49 - Desc"},null,49]
[628,{"$f":"IF(AND(ISNUMBER(C528),C528>=0),DOLLAR(C528,0),\"Missing Field - \" & D528)","v":"Missing Field - Budget Item 49 - Amt"},{"$f":"INDIRECT(\"costsum!H\"&F528,1)","v":""},{"$f":"\"Budget Item \" & F528 & \" - Amt\"","v":"Budget Item 49 - Amt"},null,49]
[629,{"$f":"IF(LEN(C529)>1,C529&REPT(\".\",60-LEN(C529)-LEN(B530))&B530,\"Missing Field - \" & D529)","v":"Missing Field - Budget Item 50 - Desc"},{"$f":"INDIRECT(\"costsum!G\"&F529,1)","v":""},{"$f":"\"Budget Item \" & F529 & \" - Desc\"","v":"Budget Item 50 - Desc"},null,50]
[630,{"$f":"IF(AND(ISNUMBER(C530),C530>=0),DOLLAR(C530,0),\"Missing Field - \" & D530)","v":"Missing Field - Budget Item 50 - Amt"},{"$f":"INDIRECT(\"costsum!H\"&F530,1)","v":""},{"$f":"\"Budget Item \" & F530 & \" - Amt\"","v":"Budget Item 50 - Amt"},null,50]
[631,{"$f":"IF(LEN(C531)>1,C531&REPT(\".\",60-LEN(C531)-LEN(B532))&B532,\"Missing Field - \" & D531)","v":"Missing Field - Budget Item 51 - Desc"},{"$f":"INDIRECT(\"costsum!G\"&F531,1)","v":""},{"$f":"\"Budget Item \" & F531 & \" - Desc\"","v":"Budget Item 51 - Desc"},null,51]
[632,{"$f":"IF(AND(ISNUMBER(C532),C532>=0),DOLLAR(C532,0),\"Missing Field - \" & D532)","v":"Missing Field - Budget Item 51 - Amt"},{"$f":"INDIRECT(\"costsum!H\"&F532,1)","v":""},{"$f":"\"Budget Item \" & F532 & \" - Amt\"","v":"Budget Item 51 - Amt"},null,51]
[633,{"$f":"IF(LEN(C533)>1,C533&REPT(\".\",60-LEN(C533)-LEN(B534))&B534,\"Missing Field - \" & D533)","v":"Missing Field - Budget Item 52 - Desc"},{"$f":"INDIRECT(\"costsum!G\"&F533,1)","v":""},{"$f":"\"Budget Item \" & F533 & \" - Desc\"","v":"Budget Item 52 - Desc"},null,52]
[634,{"$f":"IF(AND(ISNUMBER(C534),C534>=0),DOLLAR(C534,0),\"Missing Field - \" & D534)","v":"Missing Field - Budget Item 52 - Amt"},{"$f":"INDIRECT(\"costsum!H\"&F534,1)","v":""},{"$f":"\"Budget Item \" & F534 & \" - Amt\"","v":"Budget Item 52 - Amt"},null,52]
[635,{"$f":"IF(LEN(C535)>1,C535&REPT(\".\",60-LEN(C535)-LEN(B536))&B536,\"Missing Field - \" & D535)","v":"Missing Field - Budget Item 53 - Desc"},{"$f":"INDIRECT(\"costsum!G\"&F535,1)","v":""},{"$f":"\"Budget Item \" & F535 & \" - Desc\"","v":"Budget Item 53 - Desc"},null,53]
[636,{"$f":"IF(AND(ISNUMBER(C536),C536>=0),DOLLAR(C536,0),\"Missing Field - \" & D536)","v":"Missing Field - Budget Item 53 - Amt"},{"$f":"INDIRECT(\"costsum!H\"&F536,1)","v":""},{"$f":"\"Budget Item \" & F536 & \" - Amt\"","v":"Budget Item 53 - Amt"},null,53]
[637,{"$f":"IF(LEN(C537)>1,C537&REPT(\".\",60-LEN(C537)-LEN(B538))&B538,\"Missing Field - \" & D537)","v":"Missing Field - Budget Item 54 - Desc"},{"$f":"INDIRECT(\"costsum!G\"&F537,1)","v":""},{"$f":"\"Budget Item \" & F537 & \" - Desc\"","v":"Budget Item 54 - Desc"},null,54]
[638,{"$f":"IF(AND(ISNUMBER(C538),C538>=0),DOLLAR(C538,0),\"Missing Field - \" & D538)","v":"Missing Field - Budget Item 54 - Amt"},{"$f":"INDIRECT(\"costsum!H\"&F538,1)","v":""},{"$f":"\"Budget Item \" & F538 & \" - Amt\"","v":"Budget Item 54 - Amt"},null,54]
[639,{"$f":"IF(LEN(C539)>1,C539&REPT(\".\",60-LEN(C539)-LEN(B540))&B540,\"Missing Field - \" & D539)","v":"Missing Field - Budget Item 55 - Desc"},{"$f":"INDIRECT(\"costsum!G\"&F539,1)","v":""},{"$f":"\"Budget Item \" & F539 & \" - Desc\"","v":"Budget Item 55 - Desc"},null,55]
[640,{"$f":"IF(AND(ISNUMBER(C540),C540>=0),DOLLAR(C540,0),\"Missing Field - \" & D540)","v":"Missing Field - Budget Item 55 - Amt"},{"$f":"INDIRECT(\"costsum!H\"&F540,1)","v":""},{"$f":"\"Budget Item \" & F540 & \" - Amt\"","v":"Budget Item 55 - Amt"},null,55]
[641,{"$f":"IF(LEN(C541)>1,C541&REPT(\".\",60-LEN(C541)-LEN(B542))&B542,\"Missing Field - \" & D541)","v":"Missing Field - Budget Item 56 - Desc"},{"$f":"INDIRECT(\"costsum!G\"&F541,1)","v":""},{"$f":"\"Budget Item \" & F541 & \" - Desc\"","v":"Budget Item 56 - Desc"},null,56]
[642,{"$f":"IF(AND(ISNUMBER(C542),C542>=0),DOLLAR(C542,0),\"Missing Field - \" & D542)","v":"Missing Field - Budget Item 56 - Amt"},{"$f":"INDIRECT(\"costsum!H\"&F542,1)","v":""},{"$f":"\"Budget Item \" & F542 & \" - Amt\"","v":"Budget Item 56 - Amt"},null,56]
[643,{"$f":"IF(LEN(C543)>1,C543&REPT(\".\",60-LEN(C543)-LEN(B544))&B544,\"Missing Field - \" & D543)","v":"Missing Field - Budget Item 57 - Desc"},{"$f":"INDIRECT(\"costsum!G\"&F543,1)","v":""},{"$f":"\"Budget Item \" & F543 & \" - Desc\"","v":"Budget Item 57 - Desc"},null,57]
[644,{"$f":"IF(AND(ISNUMBER(C544),C544>=0),DOLLAR(C544,0),\"Missing Field - \" & D544)","v":"Missing Field - Budget Item 57 - Amt"},{"$f":"INDIRECT(\"costsum!H\"&F544,1)","v":""},{"$f":"\"Budget Item \" & F544 & \" - Amt\"","v":"Budget Item 57 - Amt"},null,57]
[645,{"$f":"IF(LEN(C545)>1,C545&REPT(\".\",60-LEN(C545)-LEN(B546))&B546,\"Missing Field - \" & D545)","v":"Missing Field - Budget Item 58 - Desc"},{"$f":"INDIRECT(\"costsum!G\"&F545,1)","v":""},{"$f":"\"Budget Item \" & F545 & \" - Desc\"","v":"Budget Item 58 - Desc"},null,58]
[646,{"$f":"IF(AND(ISNUMBER(C546),C546>=0),DOLLAR(C546,0),\"Missing Field - \" & D546)","v":"Missing Field - Budget Item 58 - Amt"},{"$f":"INDIRECT(\"costsum!H\"&F546,1)","v":""},{"$f":"\"Budget Item \" & F546 & \" - Amt\"","v":"Budget Item 58 - Amt"},null,58]
[647,{"$f":"IF(LEN(C547)>1,C547&REPT(\".\",60-LEN(C547)-LEN(B548))&B548,\"Missing Field - \" & D547)","v":"Missing Field - Budget Item 59 - Desc"},{"$f":"INDIRECT(\"costsum!G\"&F547,1)","v":""},{"$f":"\"Budget Item \" & F547 & \" - Desc\"","v":"Budget Item 59 - Desc"},null,59]
[648,{"$f":"IF(AND(ISNUMBER(C548),C548>=0),DOLLAR(C548,0),\"Missing Field - \" & D548)","v":"Missing Field - Budget Item 59 - Amt"},{"$f":"INDIRECT(\"costsum!H\"&F548,1)","v":""},{"$f":"\"Budget Item \" & F548 & \" - Amt\"","v":"Budget Item 59 - Amt"},null,59]
[649,{"$f":"IF(LEN(C549)>1,C549&REPT(\".\",60-LEN(C549)-LEN(B550))&B550,\"Missing Field - \" & D549)","v":"Missing Field - Budget Item 60 - Desc"},{"$f":"INDIRECT(\"costsum!G\"&F549,1)","v":""},{"$f":"\"Budget Item \" & F549 & \" - Desc\"","v":"Budget Item 60 - Desc"},null,60]
[650,{"$f":"IF(AND(ISNUMBER(C550),C550>=0),DOLLAR(C550,0),\"Missing Field - \" & D550)","v":"Missing Field - Budget Item 60 - Amt"},{"$f":"INDIRECT(\"costsum!H\"&F550,1)","v":""},{"$f":"\"Budget Item \" & F550 & \" - Amt\"","v":"Budget Item 60 - Amt"},null,60]
[651,{"$f":"IF(LEN(C551)>1,C551&REPT(\".\",60-LEN(C551)-LEN(B552))&B552,\"Missing Field - \" & D551)","v":"Missing Field - Budget Item 61 - Desc"},{"$f":"INDIRECT(\"costsum!G\"&F551,1)","v":""},{"$f":"\"Budget Item \" & F551 & \" - Desc\"","v":"Budget Item 61 - Desc"},null,61]
[652,{"$f":"IF(AND(ISNUMBER(C552),C552>=0),DOLLAR(C552,0),\"Missing Field - \" & D552)","v":"Missing Field - Budget Item 61 - Amt"},{"$f":"INDIRECT(\"costsum!H\"&F552,1)","v":""},{"$f":"\"Budget Item \" & F552 & \" - Amt\"","v":"Budget Item 61 - Amt"},null,61]
[653,{"$f":"IF(LEN(C553)>1,C553&REPT(\".\",60-LEN(C553)-LEN(B554))&B554,\"Missing Field - \" & D553)","v":"Missing Field - Budget Item 62 - Desc"},{"$f":"INDIRECT(\"costsum!G\"&F553,1)","v":""},{"$f":"\"Budget Item \" & F553 & \" - Desc\"","v":"Budget Item 62 - Desc"},null,62]
[654,{"$f":"IF(AND(ISNUMBER(C554),C554>=0),DOLLAR(C554,0),\"Missing Field - \" & D554)","v":"Missing Field - Budget Item 62 - Amt"},{"$f":"INDIRECT(\"costsum!H\"&F554,1)","v":""},{"$f":"\"Budget Item \" & F554 & \" - Amt\"","v":"Budget Item 62 - Amt"},null,62]
[655,{"$f":"IF(LEN(C555)>1,C555&REPT(\".\",60-LEN(C555)-LEN(B556))&B556,\"Missing Field - \" & D555)","v":"Missing Field - Budget Item 63 - Desc"},{"$f":"INDIRECT(\"costsum!G\"&F555,1)","v":""},{"$f":"\"Budget Item \" & F555 & \" - Desc\"","v":"Budget Item 63 - Desc"},null,63]
[656,{"$f":"IF(AND(ISNUMBER(C556),C556>=0),DOLLAR(C556,0),\"Missing Field - \" & D556)","v":"Missing Field - Budget Item 63 - Amt"},{"$f":"INDIRECT(\"costsum!H\"&F556,1)","v":""},{"$f":"\"Budget Item \" & F556 & \" - Amt\"","v":"Budget Item 63 - Amt"},null,63]
[657,{"$f":"IF(LEN(C557)>1,C557&REPT(\".\",60-LEN(C557)-LEN(B558))&B558,\"Missing Field - \" & D557)","v":"Missing Field - Budget Item 64 - Desc"},{"$f":"INDIRECT(\"costsum!G\"&F557,1)","v":""},{"$f":"\"Budget Item \" & F557 & \" - Desc\"","v":"Budget Item 64 - Desc"},null,64]
[658,{"$f":"IF(AND(ISNUMBER(C558),C558>=0),DOLLAR(C558,0),\"Missing Field - \" & D558)","v":"Missing Field - Budget Item 64 - Amt"},{"$f":"INDIRECT(\"costsum!H\"&F558,1)","v":""},{"$f":"\"Budget Item \" & F558 & \" - Amt\"","v":"Budget Item 64 - Amt"},null,64]
[659,{"$f":"IF(LEN(C559)>1,C559&REPT(\".\",60-LEN(C559)-LEN(B560))&B560,\"Missing Field - \" & D559)","v":"Missing Field - Budget Item 65 - Desc"},{"$f":"INDIRECT(\"costsum!G\"&F559,1)","v":""},{"$f":"\"Budget Item \" & F559 & \" - Desc\"","v":"Budget Item 65 - Desc"},null,65]
[660,{"$f":"IF(AND(ISNUMBER(C560),C560>=0),DOLLAR(C560,0),\"Missing Field - \" & D560)","v":"Missing Field - Budget Item 65 - Amt"},{"$f":"INDIRECT(\"costsum!H\"&F560,1)","v":""},{"$f":"\"Budget Item \" & F560 & \" - Amt\"","v":"Budget Item 65 - Amt"},null,65]
[661,{"$f":"IF(LEN(C561)>1,C561&REPT(\".\",60-LEN(C561)-LEN(B562))&B562,\"Missing Field - \" & D561)","v":"Missing Field - Budget Item 66 - Desc"},{"$f":"INDIRECT(\"costsum!G\"&F561,1)","v":""},{"$f":"\"Budget Item \" & F561 & \" - Desc\"","v":"Budget Item 66 - Desc"},null,{"$f":"F559+1","v":66}]
[662,{"$f":"IF(AND(ISNUMBER(C562),C562>=0),DOLLAR(C562,0),\"Missing Field - \" & D562)","v":"Missing Field - Budget Item 66 - Amt"},{"$f":"INDIRECT(\"costsum!H\"&F562,1)","v":""},{"$f":"\"Budget Item \" & F562 & \" - Amt\"","v":"Budget Item 66 - Amt"},null,66]
[663,{"$f":"IF(LEN(C563)>1,C563&REPT(\".\",60-LEN(C563)-LEN(B564))&B564,\"Missing Field - \" & D563)","v":"Missing Field - Budget Item 67 - Desc"},{"$f":"INDIRECT(\"costsum!G\"&F563,1)","v":""},{"$f":"\"Budget Item \" & F563 & \" - Desc\"","v":"Budget Item 67 - Desc"},null,67]
[664,{"$f":"IF(AND(ISNUMBER(C564),C564>=0),DOLLAR(C564,0),\"Missing Field - \" & D564)","v":"Missing Field - Budget Item 67 - Amt"},{"$f":"INDIRECT(\"costsum!H\"&F564,1)","v":""},{"$f":"\"Budget Item \" & F564 & \" - Amt\"","v":"Budget Item 67 - Amt"},null,67]
[665,{"$f":"IF(LEN(C565)>1,C565&REPT(\".\",60-LEN(C565)-LEN(B566))&B566,\"Missing Field - \" & D565)","v":"Missing Field - Budget Item 68 - Desc"},{"$f":"INDIRECT(\"costsum!G\"&F565,1)","v":""},{"$f":"\"Budget Item \" & F565 & \" - Desc\"","v":"Budget Item 68 - Desc"},null,68]
[666,{"$f":"IF(AND(ISNUMBER(C566),C566>=0),DOLLAR(C566,0),\"Missing Field - \" & D566)","v":"Missing Field - Budget Item 68 - Amt"},{"$f":"INDIRECT(\"costsum!H\"&F566,1)","v":""},{"$f":"\"Budget Item \" & F566 & \" - Amt\"","v":"Budget Item 68 - Amt"},null,68]
[667,{"$f":"IF(LEN(C567)>1,C567&REPT(\".\",60-LEN(C567)-LEN(B568))&B568,\"Missing Field - \" & D567)","v":"Missing Field - Budget Item 69 - Desc"},{"$f":"INDIRECT(\"costsum!G\"&F567,1)","v":""},{"$f":"\"Budget Item \" & F567 & \" - Desc\"","v":"Budget Item 69 - Desc"},null,69]
[668,{"$f":"IF(AND(ISNUMBER(C568),C568>=0),DOLLAR(C568,0),\"Missing Field - \" & D568)","v":"Missing Field - Budget Item 69 - Amt"},{"$f":"INDIRECT(\"costsum!H\"&F568,1)","v":""},{"$f":"\"Budget Item \" & F568 & \" - Amt\"","v":"Budget Item 69 - Amt"},null,69]
[669,{"$f":"IF(LEN(C569)>1,C569&REPT(\".\",60-LEN(C569)-LEN(B570))&B570,\"Missing Field - \" & D569)","v":"Missing Field - Budget Item 70 - Desc"},{"$f":"INDIRECT(\"costsum!G\"&F569,1)","v":""},{"$f":"\"Budget Item \" & F569 & \" - Desc\"","v":"Budget Item 70 - Desc"},null,70]
[670,{"$f":"IF(AND(ISNUMBER(C570),C570>=0),DOLLAR(C570,0),\"Missing Field - \" & D570)","v":"Missing Field - Budget Item 70 - Amt"},{"$f":"INDIRECT(\"costsum!H\"&F570,1)","v":""},{"$f":"\"Budget Item \" & F570 & \" - Amt\"","v":"Budget Item 70 - Amt"},null,70]
[671,{"$f":"IF(LEN(C571)>1,C571&REPT(\".\",60-LEN(C571)-LEN(B572))&B572,\"Missing Field - \" & D571)","v":"Missing Field - Budget Item 71 - Desc"},{"$f":"INDIRECT(\"costsum!G\"&F571,1)","v":""},{"$f":"\"Budget Item \" & F571 & \" - Desc\"","v":"Budget Item 71 - Desc"},null,71]
[672,{"$f":"IF(AND(ISNUMBER(C572),C572>=0),DOLLAR(C572,0),\"Missing Field - \" & D572)","v":"Missing Field - Budget Item 71 - Amt"},{"$f":"INDIRECT(\"costsum!H\"&F572,1)","v":""},{"$f":"\"Budget Item \" & F572 & \" - Amt\"","v":"Budget Item 71 - Amt"},null,71]
[673,{"$f":"IF(LEN(C573)>1,C573&REPT(\".\",60-LEN(C573)-LEN(B574))&B574,\"Missing Field - \" & D573)","v":"Missing Field - Budget Item 72 - Desc"},{"$f":"INDIRECT(\"costsum!G\"&F573,1)","v":""},{"$f":"\"Budget Item \" & F573 & \" - Desc\"","v":"Budget Item 72 - Desc"},null,72]
[674,{"$f":"IF(AND(ISNUMBER(C574),C574>=0),DOLLAR(C574,0),\"Missing Field - \" & D574)","v":"Missing Field - Budget Item 72 - Amt"},{"$f":"INDIRECT(\"costsum!H\"&F574,1)","v":""},{"$f":"\"Budget Item \" & F574 & \" - Amt\"","v":"Budget Item 72 - Amt"},null,72]
[675,{"$f":"IF(LEN(C575)>1,C575&REPT(\".\",60-LEN(C575)-LEN(B576))&B576,\"Missing Field - \" & D575)","v":"Missing Field - Budget Item 73 - Desc"},{"$f":"INDIRECT(\"costsum!G\"&F575,1)","v":""},{"$f":"\"Budget Item \" & F575 & \" - Desc\"","v":"Budget Item 73 - Desc"},null,73]
[676,{"$f":"IF(AND(ISNUMBER(C576),C576>=0),DOLLAR(C576,0),\"Missing Field - \" & D576)","v":"Missing Field - Budget Item 73 - Amt"},{"$f":"INDIRECT(\"costsum!H\"&F576,1)","v":""},{"$f":"\"Budget Item \" & F576 & \" - Amt\"","v":"Budget Item 73 - Amt"},null,73]
[677,{"$f":"IF(LEN(C577)>1,C577&REPT(\".\",60-LEN(C577)-LEN(B578))&B578,\"Missing Field - \" & D577)","v":"Missing Field - Budget Item 74 - Desc"},{"$f":"INDIRECT(\"costsum!G\"&F577,1)","v":""},{"$f":"\"Budget Item \" & F577 & \" - Desc\"","v":"Budget Item 74 - Desc"},null,74]
[678,{"$f":"IF(AND(ISNUMBER(C578),C578>=0),DOLLAR(C578,0),\"Missing Field - \" & D578)","v":"Missing Field - Budget Item 74 - Amt"},{"$f":"INDIRECT(\"costsum!H\"&F578,1)","v":""},{"$f":"\"Budget Item \" & F578 & \" - Amt\"","v":"Budget Item 74 - Amt"},null,74]
[679,{"$f":"IF(LEN(C579)>1,C579&REPT(\".\",60-LEN(C579)-LEN(B580))&B580,\"Missing Field - \" & D579)","v":"Missing Field - Budget Item 75 - Desc"},{"$f":"INDIRECT(\"costsum!G\"&F579,1)","v":""},{"$f":"\"Budget Item \" & F579 & \" - Desc\"","v":"Budget Item 75 - Desc"},null,75]
[680,{"$f":"IF(AND(ISNUMBER(C580),C580>=0),DOLLAR(C580,0),\"Missing Field - \" & D580)","v":"Missing Field - Budget Item 75 - Amt"},{"$f":"INDIRECT(\"costsum!H\"&F580,1)","v":""},{"$f":"\"Budget Item \" & F580 & \" - Amt\"","v":"Budget Item 75 - Amt"},null,75]
[681,{"$f":"IF(LEN(C581)>1,C581&REPT(\".\",60-LEN(C581)-LEN(B582))&B582,\"Missing Field - \" & D581)","v":"Missing Field - Budget Item 76 - Desc"},{"$f":"INDIRECT(\"costsum!G\"&F581,1)","v":""},{"$f":"\"Budget Item \" & F581 & \" - Desc\"","v":"Budget Item 76 - Desc"},null,76]
[682,{"$f":"IF(AND(ISNUMBER(C582),C582>=0),DOLLAR(C582,0),\"Missing Field - \" & D582)","v":"Missing Field - Budget Item 76 - Amt"},{"$f":"INDIRECT(\"costsum!H\"&F582,1)","v":""},{"$f":"\"Budget Item \" & F582 & \" - Amt\"","v":"Budget Item 76 - Amt"},null,76]
[683,{"$f":"IF(LEN(C583)>1,C583&REPT(\".\",60-LEN(C583)-LEN(B584))&B584,\"Missing Field - \" & D583)","v":"Missing Field - Budget Item 77 - Desc"},{"$f":"INDIRECT(\"costsum!G\"&F583,1)","v":""},{"$f":"\"Budget Item \" & F583 & \" - Desc\"","v":"Budget Item 77 - Desc"},null,77]
[684,{"$f":"IF(AND(ISNUMBER(C584),C584>=0),DOLLAR(C584,0),\"Missing Field - \" & D584)","v":"Missing Field - Budget Item 77 - Amt"},{"$f":"INDIRECT(\"costsum!H\"&F584,1)","v":""},{"$f":"\"Budget Item \" & F584 & \" - Amt\"","v":"Budget Item 77 - Amt"},null,77]
[685,{"$f":"IF(LEN(C585)>1,C585&REPT(\".\",60-LEN(C585)-LEN(B586))&B586,\"Missing Field - \" & D585)","v":"Missing Field - Budget Item 78 - Desc"},{"$f":"INDIRECT(\"costsum!G\"&F585,1)","v":""},{"$f":"\"Budget Item \" & F585 & \" - Desc\"","v":"Budget Item 78 - Desc"},null,78]
[686,{"$f":"IF(AND(ISNUMBER(C586),C586>=0),DOLLAR(C586,0),\"Missing Field - \" & D586)","v":"Missing Field - Budget Item 78 - Amt"},{"$f":"INDIRECT(\"costsum!H\"&F586,1)","v":""},{"$f":"\"Budget Item \" & F586 & \" - Amt\"","v":"Budget Item 78 - Amt"},null,78]
[687,{"$f":"IF(LEN(C587)>1,C587&REPT(\".\",60-LEN(C587)-LEN(B588))&B588,\"Missing Field - \" & D587)","v":"Missing Field - Budget Item 79 - Desc"},{"$f":"INDIRECT(\"costsum!G\"&F587,1)","v":""},{"$f":"\"Budget Item \" & F587 & \" - Desc\"","v":"Budget Item 79 - Desc"},null,79]
[688,{"$f":"IF(AND(ISNUMBER(C588),C588>=0),DOLLAR(C588,0),\"Missing Field - \" & D588)","v":"Missing Field - Budget Item 79 - Amt"},{"$f":"INDIRECT(\"costsum!H\"&F588,1)","v":""},{"$f":"\"Budget Item \" & F588 & \" - Amt\"","v":"Budget Item 79 - Amt"},null,79]
[689,{"$f":"IF(LEN(C589)>1,C589&REPT(\".\",60-LEN(C589)-LEN(B590))&B590,\"Missing Field - \" & D589)","v":"Missing Field - Budget Item 80 - Desc"},{"$f":"INDIRECT(\"costsum!G\"&F589,1)","v":""},{"$f":"\"Budget Item \" & F589 & \" - Desc\"","v":"Budget Item 80 - Desc"},null,80]
[690,{"$f":"IF(AND(ISNUMBER(C590),C590>=0),DOLLAR(C590,0),\"Missing Field - \" & D590)","v":"Missing Field - Budget Item 80 - Amt"},{"$f":"INDIRECT(\"costsum!H\"&F590,1)","v":""},{"$f":"\"Budget Item \" & F590 & \" - Amt\"","v":"Budget Item 80 - Amt"},null,80]
[691,{"$f":"IF(LEN(C591)>1,C591&REPT(\".\",60-LEN(C591)-LEN(B592))&B592,\"Missing Field - \" & D591)","v":"Missing Field - Budget Item 81 - Desc"},{"$f":"INDIRECT(\"costsum!G\"&F591,1)","v":""},{"$f":"\"Budget Item \" & F591 & \" - Desc\"","v":"Budget Item 81 - Desc"},null,81]
[692,{"$f":"IF(AND(ISNUMBER(C592),C592>=0),DOLLAR(C592,0),\"Missing Field - \" & D592)","v":"Missing Field - Budget Item 81 - Amt"},{"$f":"INDIRECT(\"costsum!H\"&F592,1)","v":""},{"$f":"\"Budget Item \" & F592 & \" - Amt\"","v":"Budget Item 81 - Amt"},null,81]
[693,{"$f":"IF(LEN(C593)>1,C593&REPT(\".\",60-LEN(C593)-LEN(B594))&B594,\"Missing Field - \" & D593)","v":"Missing Field - Budget Item 82 - Desc"},{"$f":"INDIRECT(\"costsum!G\"&F593,1)","v":""},{"$f":"\"Budget Item \" & F593 & \" - Desc\"","v":"Budget Item 82 - Desc"},null,82]
[694,{"$f":"IF(AND(ISNUMBER(C594),C594>=0),DOLLAR(C594,0),\"Missing Field - \" & D594)","v":"Missing Field - Budget Item 82 - Amt"},{"$f":"INDIRECT(\"costsum!H\"&F594,1)","v":""},{"$f":"\"Budget Item \" & F594 & \" - Amt\"","v":"Budget Item 82 - Amt"},null,82]
[695,{"$f":"IF(LEN(C595)>1,C595&REPT(\".\",60-LEN(C595)-LEN(B596))&B596,\"Missing Field - \" & D595)","v":"Missing Field - Budget Item 83 - Desc"},{"$f":"INDIRECT(\"costsum!G\"&F595,1)","v":""},{"$f":"\"Budget Item \" & F595 & \" - Desc\"","v":"Budget Item 83 - Desc"},null,83]
[696,{"$f":"IF(AND(ISNUMBER(C596),C596>=0),DOLLAR(C596,0),\"Missing Field - \" & D596)","v":"Missing Field - Budget Item 83 - Amt"},{"$f":"INDIRECT(\"costsum!H\"&F596,1)","v":""},{"$f":"\"Budget Item \" & F596 & \" - Amt\"","v":"Budget Item 83 - Amt"},null,83]
[697,{"$f":"IF(LEN(C597)>1,C597&REPT(\".\",60-LEN(C597)-LEN(B598))&B598,\"Missing Field - \" & D597)","v":"Missing Field - Budget Item 84 - Desc"},{"$f":"INDIRECT(\"costsum!G\"&F597,1)","v":""},{"$f":"\"Budget Item \" & F597 & \" - Desc\"","v":"Budget Item 84 - Desc"},null,84]
[698,{"$f":"IF(AND(ISNUMBER(C598),C598>=0),DOLLAR(C598,0),\"Missing Field - \" & D598)","v":"Missing Field - Budget Item 84 - Amt"},{"$f":"INDIRECT(\"costsum!H\"&F598,1)","v":""},{"$f":"\"Budget Item \" & F598 & \" - Amt\"","v":"Budget Item 84 - Amt"},null,84]
[699,{"$f":"IF(LEN(C599)>1,C599&REPT(\".\",60-LEN(C599)-LEN(B600))&B600,\"Missing Field - \" & D599)","v":"Missing Field - Budget Item 85 - Desc"},{"$f":"INDIRECT(\"costsum!G\"&F599,1)","v":""},{"$f":"\"Budget Item \" & F599 & \" - Desc\"","v":"Budget Item 85 - Desc"},null,85]
[700,{"$f":"IF(AND(ISNUMBER(C600),C600>=0),DOLLAR(C600,0),\"Missing Field - \" & D600)","v":"Missing Field - Budget Item 85 - Amt"},{"$f":"INDIRECT(\"costsum!H\"&F600,1)","v":""},{"$f":"\"Budget Item \" & F600 & \" - Amt\"","v":"Budget Item 85 - Amt"},null,85]

{"sheet":"strflag","index":12,"n_rows":1000,"n_cols":4,"rows_kept":1000,"cut":false,"hidden":true,"merged":[]}
[{"$f":"IF(ISERROR(B1),0,1)","v":0},{"$f":"VALUE(MID(rawrtf!A1,FIND(\"TFPSTR\",rawrtf!A1,1)+6,3))","v":{"$error":"#VALUE!"}},{"$f":"IF(ISERROR(B1),\"NOSTR\",VLOOKUP(B1,strlook!A:C,2,FALSE))","v":"NOSTR"},{"$f":"IF(ISNA(C1),\"ERROR MISSING TFPSTR \"&B1,C1)","v":"NOSTR"}]
[0,{"$f":"VALUE(MID(rawrtf!A2,FIND(\"TFPSTR\",rawrtf!A2,1)+6,3))","v":{"$error":"#VALUE!"}},{"$f":"IF(ISERROR(B2),\"NOSTR\",VLOOKUP(B2,strlook!A:C,2,FALSE))","v":"NOSTR"},{"$f":"IF(ISNA(C2),\"ERROR MISSING TFPSTR \"&B2,C2)","v":"NOSTR"}]
[0,{"$f":"VALUE(MID(rawrtf!A3,FIND(\"TFPSTR\",rawrtf!A3,1)+6,3))","v":{"$error":"#VALUE!"}},{"$f":"IF(ISERROR(B3),\"NOSTR\",VLOOKUP(B3,strlook!A:C,2,FALSE))","v":"NOSTR"},"NOSTR"]
[0,{"$f":"VALUE(MID(rawrtf!A4,FIND(\"TFPSTR\",rawrtf!A4,1)+6,3))","v":{"$error":"#VALUE!"}},{"$f":"IF(ISERROR(B4),\"NOSTR\",VLOOKUP(B4,strlook!A:C,2,FALSE))","v":"NOSTR"},"NOSTR"]
[0,{"$f":"VALUE(MID(rawrtf!A5,FIND(\"TFPSTR\",rawrtf!A5,1)+6,3))","v":{"$error":"#VALUE!"}},{"$f":"IF(ISERROR(B5),\"NOSTR\",VLOOKUP(B5,strlook!A:C,2,FALSE))","v":"NOSTR"},"NOSTR"]
[0,{"$f":"VALUE(MID(rawrtf!A6,FIND(\"TFPSTR\",rawrtf!A6,1)+6,3))","v":{"$error":"#VALUE!"}},{"$f":"IF(ISERROR(B6),\"NOSTR\",VLOOKUP(B6,strlook!A:C,2,FALSE))","v":"NOSTR"},"NOSTR"]
[0,{"$f":"VALUE(MID(rawrtf!A7,FIND(\"TFPSTR\",rawrtf!A7,1)+6,3))","v":{"$error":"#VALUE!"}},{"$f":"IF(ISERROR(B7),\"NOSTR\",VLOOKUP(B7,strlook!A:C,2,FALSE))","v":"NOSTR"},"NOSTR"]
[0,{"$f":"VALUE(MID(rawrtf!A8,FIND(\"TFPSTR\",rawrtf!A8,1)+6,3))","v":{"$error":"#VALUE!"}},{"$f":"IF(ISERROR(B8),\"NOSTR\",VLOOKUP(B8,strlook!A:C,2,FALSE))","v":"NOSTR"},"NOSTR"]
[0,{"$f":"VALUE(MID(rawrtf!A9,FIND(\"TFPSTR\",rawrtf!A9,1)+6,3))","v":{"$error":"#VALUE!"}},{"$f":"IF(ISERROR(B9),\"NOSTR\",VLOOKUP(B9,strlook!A:C,2,FALSE))","v":"NOSTR"},"NOSTR"]
[0,{"$f":"VALUE(MID(rawrtf!A10,FIND(\"TFPSTR\",rawrtf!A10,1)+6,3))","v":{"$error":"#VALUE!"}},{"$f":"IF(ISERROR(B10),\"NOSTR\",VLOOKUP(B10,strlook!A:C,2,FALSE))","v":"NOSTR"},"NOSTR"]
[0,{"$f":"VALUE(MID(rawrtf!A11,FIND(\"TFPSTR\",rawrtf!A11,1)+6,3))","v":{"$error":"#VALUE!"}},{"$f":"IF(ISERROR(B11),\"NOSTR\",VLOOKUP(B11,strlook!A:C,2,FALSE))","v":"NOSTR"},"NOSTR"]
[0,{"$f":"VALUE(MID(rawrtf!A12,FIND(\"TFPSTR\",rawrtf!A12,1)+6,3))","v":{"$error":"#VALUE!"}},{"$f":"IF(ISERROR(B12),\"NOSTR\",VLOOKUP(B12,strlook!A:C,2,FALSE))","v":"NOSTR"},"NOSTR"]
[0,{"$f":"VALUE(MID(rawrtf!A13,FIND(\"TFPSTR\",rawrtf!A13,1)+6,3))","v":{"$error":"#VALUE!"}},{"$f":"IF(ISERROR(B13),\"NOSTR\",VLOOKUP(B13,strlook!A:C,2,FALSE))","v":"NOSTR"},"NOSTR"]
[0,{"$f":"VALUE(MID(rawrtf!A14,FIND(\"TFPSTR\",rawrtf!A14,1)+6,3))","v":{"$error":"#VALUE!"}},{"$f":"IF(ISERROR(B14),\"NOSTR\",VLOOKUP(B14,strlook!A:C,2,FALSE))","v":"NOSTR"},"NOSTR"]
[0,{"$f":"VALUE(MID(rawrtf!A15,FIND(\"TFPSTR\",rawrtf!A15,1)+6,3))","v":{"$error":"#VALUE!"}},{"$f":"IF(ISERROR(B15),\"NOSTR\",VLOOKUP(B15,strlook!A:C,2,FALSE))","v":"NOSTR"},"NOSTR"]
[0,{"$f":"VALUE(MID(rawrtf!A16,FIND(\"TFPSTR\",rawrtf!A16,1)+6,3))","v":{"$error":"#VALUE!"}},{"$f":"IF(ISERROR(B16),\"NOSTR\",VLOOKUP(B16,strlook!A:C,2,FALSE))","v":"NOSTR"},"NOSTR"]
[0,{"$f":"VALUE(MID(rawrtf!A17,FIND(\"TFPSTR\",rawrtf!A17,1)+6,3))","v":{"$error":"#VALUE!"}},{"$f":"IF(ISERROR(B17),\"NOSTR\",VLOOKUP(B17,strlook!A:C,2,FALSE))","v":"NOSTR"},"NOSTR"]
[0,{"$f":"VALUE(MID(rawrtf!A18,FIND(\"TFPSTR\",rawrtf!A18,1)+6,3))","v":{"$error":"#VALUE!"}},{"$f":"IF(ISERROR(B18),\"NOSTR\",VLOOKUP(B18,strlook!A:C,2,FALSE))","v":"NOSTR"},"NOSTR"]
[0,{"$f":"VALUE(MID(rawrtf!A19,FIND(\"TFPSTR\",rawrtf!A19,1)+6,3))","v":{"$error":"#VALUE!"}},{"$f":"IF(ISERROR(B19),\"NOSTR\",VLOOKUP(B19,strlook!A:C,2,FALSE))","v":"NOSTR"},"NOSTR"]
[0,{"$f":"VALUE(MID(rawrtf!A20,FIND(\"TFPSTR\",rawrtf!A20,1)+6,3))","v":{"$error":"#VALUE!"}},{"$f":"IF(ISERROR(B20),\"NOSTR\",VLOOKUP(B20,strlook!A:C,2,FALSE))","v":"NOSTR"},"NOSTR"]
[0,{"$f":"VALUE(MID(rawrtf!A21,FIND(\"TFPSTR\",rawrtf!A21,1)+6,3))","v":{"$error":"#VALUE!"}},{"$f":"IF(ISERROR(B21),\"NOSTR\",VLOOKUP(B21,strlook!A:C,2,FALSE))","v":"NOSTR"},"NOSTR"]
[0,{"$f":"VALUE(MID(rawrtf!A22,FIND(\"TFPSTR\",rawrtf!A22,1)+6,3))","v":{"$error":"#VALUE!"}},{"$f":"IF(ISERROR(B22),\"NOSTR\",VLOOKUP(B22,strlook!A:C,2,FALSE))","v":"NOSTR"},"NOSTR"]
[0,{"$f":"VALUE(MID(rawrtf!A23,FIND(\"TFPSTR\",rawrtf!A23,1)+6,3))","v":{"$error":"#VALUE!"}},{"$f":"IF(ISERROR(B23),\"NOSTR\",VLOOKUP(B23,strlook!A:C,2,FALSE))","v":"NOSTR"},"NOSTR"]
[0,{"$f":"VALUE(MID(rawrtf!A24,FIND(\"TFPSTR\",rawrtf!A24,1)+6,3))","v":{"$error":"#VALUE!"}},{"$f":"IF(ISERROR(B24),\"NOSTR\",VLOOKUP(B24,strlook!A:C,2,FALSE))","v":"NOSTR"},"NOSTR"]
[0,{"$f":"VALUE(MID(rawrtf!A25,FIND(\"TFPSTR\",rawrtf!A25,1)+6,3))","v":{"$error":"#VALUE!"}},{"$f":"IF(ISERROR(B25),\"NOSTR\",VLOOKUP(B25,strlook!A:C,2,FALSE))","v":"NOSTR"},"NOSTR"]
[0,{"$f":"VALUE(MID(rawrtf!A26,FIND(\"TFPSTR\",rawrtf!A26,1)+6,3))","v":{"$error":"#VALUE!"}},{"$f":"IF(ISERROR(B26),\"NOSTR\",VLOOKUP(B26,strlook!A:C,2,FALSE))","v":"NOSTR"},"NOSTR"]
[0,{"$f":"VALUE(MID(rawrtf!A27,FIND(\"TFPSTR\",rawrtf!A27,1)+6,3))","v":{"$error":"#VALUE!"}},{"$f":"IF(ISERROR(B27),\"NOSTR\",VLOOKUP(B27,strlook!A:C,2,FALSE))","v":"NOSTR"},"NOSTR"]
[0,{"$f":"VALUE(MID(rawrtf!A28,FIND(\"TFPSTR\",rawrtf!A28,1)+6,3))","v":{"$error":"#VALUE!"}},{"$f":"IF(ISERROR(B28),\"NOSTR\",VLOOKUP(B28,strlook!A:C,2,FALSE))","v":"NOSTR"},"NOSTR"]
[0,{"$f":"VALUE(MID(rawrtf!A29,FIND(\"TFPSTR\",rawrtf!A29,1)+6,3))","v":{"$error":"#VALUE!"}},{"$f":"IF(ISERROR(B29),\"NOSTR\",VLOOKUP(B29,strlook!A:C,2,FALSE))","v":"NOSTR"},"NOSTR"]
[0,{"$f":"VALUE(MID(rawrtf!A30,FIND(\"TFPSTR\",rawrtf!A30,1)+6,3))","v":{"$error":"#VALUE!"}},{"$f":"IF(ISERROR(B30),\"NOSTR\",VLOOKUP(B30,strlook!A:C,2,FALSE))","v":"NOSTR"},"NOSTR"]
[0,{"$f":"VALUE(MID(rawrtf!A31,FIND(\"TFPSTR\",rawrtf!A31,1)+6,3))","v":{"$error":"#VALUE!"}},{"$f":"IF(ISERROR(B31),\"NOSTR\",VLOOKUP(B31,strlook!A:C,2,FALSE))","v":"NOSTR"},"NOSTR"]
[0,{"$f":"VALUE(MID(rawrtf!A32,FIND(\"TFPSTR\",rawrtf!A32,1)+6,3))","v":{"$error":"#VALUE!"}},{"$f":"IF(ISERROR(B32),\"NOSTR\",VLOOKUP(B32,strlook!A:C,2,FALSE))","v":"NOSTR"},"NOSTR"]
[0,{"$f":"VALUE(MID(rawrtf!A33,FIND(\"TFPSTR\",rawrtf!A33,1)+6,3))","v":{"$error":"#VALUE!"}},{"$f":"IF(ISERROR(B33),\"NOSTR\",VLOOKUP(B33,strlook!A:C,2,FALSE))","v":"NOSTR"},"NOSTR"]
[0,{"$f":"VALUE(MID(rawrtf!A34,FIND(\"TFPSTR\",rawrtf!A34,1)+6,3))","v":{"$error":"#VALUE!"}},{"$f":"IF(ISERROR(B34),\"NOSTR\",VLOOKUP(B34,strlook!A:C,2,FALSE))","v":"NOSTR"},"NOSTR"]
[0,{"$f":"VALUE(MID(rawrtf!A35,FIND(\"TFPSTR\",rawrtf!A35,1)+6,3))","v":{"$error":"#VALUE!"}},{"$f":"IF(ISERROR(B35),\"NOSTR\",VLOOKUP(B35,strlook!A:C,2,FALSE))","v":"NOSTR"},"NOSTR"]
[{"$f":"IF(ISERROR(B36),0,1)","v":0},{"$f":"VALUE(MID(rawrtf!A36,FIND(\"TFPSTR\",rawrtf!A36,1)+6,3))","v":{"$error":"#VALUE!"}},{"$f":"IF(ISERROR(B36),\"NOSTR\",VLOOKUP(B36,strlook!A:C,2,FALSE))","v":"NOSTR"},"NOSTR"]
[{"$f":"IF(ISERROR(B37),0,1)","v":0},{"$f":"VALUE(MID(rawrtf!A37,FIND(\"TFPSTR\",rawrtf!A37,1)+6,3))","v":{"$error":"#VALUE!"}},{"$f":"IF(ISERROR(B37),\"NOSTR\",VLOOKUP(B37,strlook!A:C,2,FALSE))","v":"NOSTR"},"NOSTR"]
[0,{"$f":"VALUE(MID(rawrtf!A38,FIND(\"TFPSTR\",rawrtf!A38,1)+6,3))","v":{"$error":"#VALUE!"}},{"$f":"IF(ISERROR(B38),\"NOSTR\",VLOOKUP(B38,strlook!A:C,2,FALSE))","v":"NOSTR"},"NOSTR"]
[0,{"$f":"VALUE(MID(rawrtf!A39,FIND(\"TFPSTR\",rawrtf!A39,1)+6,3))","v":{"$error":"#VALUE!"}},{"$f":"IF(ISERROR(B39),\"NOSTR\",VLOOKUP(B39,strlook!A:C,2,FALSE))","v":"NOSTR"},"NOSTR"]
[0,{"$f":"VALUE(MID(rawrtf!A40,FIND(\"TFPSTR\",rawrtf!A40,1)+6,3))","v":{"$error":"#VALUE!"}},{"$f":"IF(ISERROR(B40),\"NOSTR\",VLOOKUP(B40,strlook!A:C,2,FALSE))","v":"NOSTR"},"NOSTR"]
[0,{"$f":"VALUE(MID(rawrtf!A41,FIND(\"TFPSTR\",rawrtf!A41,1)+6,3))","v":{"$error":"#VALUE!"}},{"$f":"IF(ISERROR(B41),\"NOSTR\",VLOOKUP(B41,strlook!A:C,2,FALSE))","v":"NOSTR"},"NOSTR"]
[0,{"$f":"VALUE(MID(rawrtf!A42,FIND(\"TFPSTR\",rawrtf!A42,1)+6,3))","v":{"$error":"#VALUE!"}},{"$f":"IF(ISERROR(B42),\"NOSTR\",VLOOKUP(B42,strlook!A:C,2,FALSE))","v":"NOSTR"},"NOSTR"]
[0,{"$f":"VALUE(MID(rawrtf!A43,FIND(\"TFPSTR\",rawrtf!A43,1)+6,3))","v":{"$error":"#VALUE!"}},{"$f":"IF(ISERROR(B43),\"NOSTR\",VLOOKUP(B43,strlook!A:C,2,FALSE))","v":"NOSTR"},"NOSTR"]
[0,{"$f":"VALUE(MID(rawrtf!A44,FIND(\"TFPSTR\",rawrtf!A44,1)+6,3))","v":{"$error":"#VALUE!"}},{"$f":"IF(ISERROR(B44),\"NOSTR\",VLOOKUP(B44,strlook!A:C,2,FALSE))","v":"NOSTR"},"NOSTR"]
[0,{"$f":"VALUE(MID(rawrtf!A45,FIND(\"TFPSTR\",rawrtf!A45,1)+6,3))","v":{"$error":"#VALUE!"}},{"$f":"IF(ISERROR(B45),\"NOSTR\",VLOOKUP(B45,strlook!A:C,2,FALSE))","v":"NOSTR"},"NOSTR"]
[0,{"$f":"VALUE(MID(rawrtf!A46,FIND(\"TFPSTR\",rawrtf!A46,1)+6,3))","v":{"$error":"#VALUE!"}},{"$f":"IF(ISERROR(B46),\"NOSTR\",VLOOKUP(B46,strlook!A:C,2,FALSE))","v":"NOSTR"},"NOSTR"]
[0,{"$f":"VALUE(MID(rawrtf!A47,FIND(\"TFPSTR\",rawrtf!A47,1)+6,3))","v":{"$error":"#VALUE!"}},{"$f":"IF(ISERROR(B47),\"NOSTR\",VLOOKUP(B47,strlook!A:C,2,FALSE))","v":"NOSTR"},"NOSTR"]
[0,{"$f":"VALUE(MID(rawrtf!A48,FIND(\"TFPSTR\",rawrtf!A48,1)+6,3))","v":{"$error":"#VALUE!"}},{"$f":"IF(ISERROR(B48),\"NOSTR\",VLOOKUP(B48,strlook!A:C,2,FALSE))","v":"NOSTR"},"NOSTR"]
[0,{"$f":"VALUE(MID(rawrtf!A49,FIND(\"TFPSTR\",rawrtf!A49,1)+6,3))","v":{"$error":"#VALUE!"}},{"$f":"IF(ISERROR(B49),\"NOSTR\",VLOOKUP(B49,strlook!A:C,2,FALSE))","v":"NOSTR"},"NOSTR"]
[0,{"$f":"VALUE(MID(rawrtf!A50,FIND(\"TFPSTR\",rawrtf!A50,1)+6,3))","v":{"$error":"#VALUE!"}},{"$f":"IF(ISERROR(B50),\"NOSTR\",VLOOKUP(B50,strlook!A:C,2,FALSE))","v":"NOSTR"},"NOSTR"]
[0,{"$f":"VALUE(MID(rawrtf!A51,FIND(\"TFPSTR\",rawrtf!A51,1)+6,3))","v":{"$error":"#VALUE!"}},{"$f":"IF(ISERROR(B51),\"NOSTR\",VLOOKUP(B51,strlook!A:C,2,FALSE))","v":"NOSTR"},"NOSTR"]
[0,{"$f":"VALUE(MID(rawrtf!A52,FIND(\"TFPSTR\",rawrtf!A52,1)+6,3))","v":{"$error":"#VALUE!"}},{"$f":"IF(ISERROR(B52),\"NOSTR\",VLOOKUP(B52,strlook!A:C,2,FALSE))","v":"NOSTR"},"NOSTR"]
[0,{"$f":"VALUE(MID(rawrtf!A53,FIND(\"TFPSTR\",rawrtf!A53,1)+6,3))","v":{"$error":"#VALUE!"}},{"$f":"IF(ISERROR(B53),\"NOSTR\",VLOOKUP(B53,strlook!A:C,2,FALSE))","v":"NOSTR"},"NOSTR"]
[0,{"$f":"VALUE(MID(rawrtf!A54,FIND(\"TFPSTR\",rawrtf!A54,1)+6,3))","v":{"$error":"#VALUE!"}},{"$f":"IF(ISERROR(B54),\"NOSTR\",VLOOKUP(B54,strlook!A:C,2,FALSE))","v":"NOSTR"},"NOSTR"]
[0,{"$f":"VALUE(MID(rawrtf!A55,FIND(\"TFPSTR\",rawrtf!A55,1)+6,3))","v":{"$error":"#VALUE!"}},{"$f":"IF(ISERROR(B55),\"NOSTR\",VLOOKUP(B55,strlook!A:C,2,FALSE))","v":"NOSTR"},"NOSTR"]
[0,{"$f":"VALUE(MID(rawrtf!A56,FIND(\"TFPSTR\",rawrtf!A56,1)+6,3))","v":{"$error":"#VALUE!"}},{"$f":"IF(ISERROR(B56),\"NOSTR\",VLOOKUP(B56,strlook!A:C,2,FALSE))","v":"NOSTR"},"NOSTR"]
[0,{"$f":"VALUE(MID(rawrtf!A57,FIND(\"TFPSTR\",rawrtf!A57,1)+6,3))","v":{"$error":"#VALUE!"}},{"$f":"IF(ISERROR(B57),\"NOSTR\",VLOOKUP(B57,strlook!A:C,2,FALSE))","v":"NOSTR"},"NOSTR"]
[0,{"$f":"VALUE(MID(rawrtf!A58,FIND(\"TFPSTR\",rawrtf!A58,1)+6,3))","v":{"$error":"#VALUE!"}},{"$f":"IF(ISERROR(B58),\"NOSTR\",VLOOKUP(B58,strlook!A:C,2,FALSE))","v":"NOSTR"},"NOSTR"]
[0,{"$f":"VALUE(MID(rawrtf!A59,FIND(\"TFPSTR\",rawrtf!A59,1)+6,3))","v":{"$error":"#VALUE!"}},{"$f":"IF(ISERROR(B59),\"NOSTR\",VLOOKUP(B59,strlook!A:C,2,FALSE))","v":"NOSTR"},"NOSTR"]
[0,{"$f":"VALUE(MID(rawrtf!A60,FIND(\"TFPSTR\",rawrtf!A60,1)+6,3))","v":{"$error":"#VALUE!"}},{"$f":"IF(ISERROR(B60),\"NOSTR\",VLOOKUP(B60,strlook!A:C,2,FALSE))","v":"NOSTR"},"NOSTR"]
[0,{"$f":"VALUE(MID(rawrtf!A61,FIND(\"TFPSTR\",rawrtf!A61,1)+6,3))","v":{"$error":"#VALUE!"}},{"$f":"IF(ISERROR(B61),\"NOSTR\",VLOOKUP(B61,strlook!A:C,2,FALSE))","v":"NOSTR"},"NOSTR"]
[0,{"$f":"VALUE(MID(rawrtf!A62,FIND(\"TFPSTR\",rawrtf!A62,1)+6,3))","v":{"$error":"#VALUE!"}},{"$f":"IF(ISERROR(B62),\"NOSTR\",VLOOKUP(B62,strlook!A:C,2,FALSE))","v":"NOSTR"},"NOSTR"]
[0,{"$f":"VALUE(MID(rawrtf!A63,FIND(\"TFPSTR\",rawrtf!A63,1)+6,3))","v":{"$error":"#VALUE!"}},{"$f":"IF(ISERROR(B63),\"NOSTR\",VLOOKUP(B63,strlook!A:C,2,FALSE))","v":"NOSTR"},"NOSTR"]
[0,{"$f":"VALUE(MID(rawrtf!A64,FIND(\"TFPSTR\",rawrtf!A64,1)+6,3))","v":{"$error":"#VALUE!"}},{"$f":"IF(ISERROR(B64),\"NOSTR\",VLOOKUP(B64,strlook!A:C,2,FALSE))","v":"NOSTR"},"NOSTR"]
[0,{"$f":"VALUE(MID(rawrtf!A65,FIND(\"TFPSTR\",rawrtf!A65,1)+6,3))","v":{"$error":"#VALUE!"}},{"$f":"IF(ISERROR(B65),\"NOSTR\",VLOOKUP(B65,strlook!A:C,2,FALSE))","v":"NOSTR"},"NOSTR"]
[0,{"$f":"VALUE(MID(rawrtf!A66,FIND(\"TFPSTR\",rawrtf!A66,1)+6,3))","v":{"$error":"#VALUE!"}},{"$f":"IF(ISERROR(B66),\"NOSTR\",VLOOKUP(B66,strlook!A:C,2,FALSE))","v":"NOSTR"},{"$f":"IF(ISNA(C66),\"ERROR MISSING TFPSTR \"&B66,C66)","v":"NOSTR"}]
[0,{"$f":"VALUE(MID(rawrtf!A67,FIND(\"TFPSTR\",rawrtf!A67,1)+6,3))","v":{"$error":"#VALUE!"}},{"$f":"IF(ISERROR(B67),\"NOSTR\",VLOOKUP(B67,strlook!A:C,2,FALSE))","v":"NOSTR"},"NOSTR"]
[0,{"$f":"VALUE(MID(rawrtf!A68,FIND(\"TFPSTR\",rawrtf!A68,1)+6,3))","v":{"$error":"#VALUE!"}},{"$f":"IF(ISERROR(B68),\"NOSTR\",VLOOKUP(B68,strlook!A:C,2,FALSE))","v":"NOSTR"},"NOSTR"]
[0,{"$f":"VALUE(MID(rawrtf!A69,FIND(\"TFPSTR\",rawrtf!A69,1)+6,3))","v":{"$error":"#VALUE!"}},{"$f":"IF(ISERROR(B69),\"NOSTR\",VLOOKUP(B69,strlook!A:C,2,FALSE))","v":"NOSTR"},"NOSTR"]
[0,{"$f":"VALUE(MID(rawrtf!A70,FIND(\"TFPSTR\",rawrtf!A70,1)+6,3))","v":{"$error":"#VALUE!"}},{"$f":"IF(ISERROR(B70),\"NOSTR\",VLOOKUP(B70,strlook!A:C,2,FALSE))","v":"NOSTR"},"NOSTR"]
[0,{"$f":"VALUE(MID(rawrtf!A71,FIND(\"TFPSTR\",rawrtf!A71,1)+6,3))","v":{"$error":"#VALUE!"}},{"$f":"IF(ISERROR(B71),\"NOSTR\",VLOOKUP(B71,strlook!A:C,2,FALSE))","v":"NOSTR"},"NOSTR"]
[0,{"$f":"VALUE(MID(rawrtf!A72,FIND(\"TFPSTR\",rawrtf!A72,1)+6,3))","v":{"$error":"#VALUE!"}},{"$f":"IF(ISERROR(B72),\"NOSTR\",VLOOKUP(B72,strlook!A:C,2,FALSE))","v":"NOSTR"},"NOSTR"]
[0,{"$f":"VALUE(MID(rawrtf!A73,FIND(\"TFPSTR\",rawrtf!A73,1)+6,3))","v":{"$error":"#VALUE!"}},{"$f":"IF(ISERROR(B73),\"NOSTR\",VLOOKUP(B73,strlook!A:C,2,FALSE))","v":"NOSTR"},"NOSTR"]
[0,{"$f":"VALUE(MID(rawrtf!A74,FIND(\"TFPSTR\",rawrtf!A74,1)+6,3))","v":{"$error":"#VALUE!"}},{"$f":"IF(ISERROR(B74),\"NOSTR\",VLOOKUP(B74,strlook!A:C,2,FALSE))","v":"NOSTR"},"NOSTR"]
[0,{"$f":"VALUE(MID(rawrtf!A75,FIND(\"TFPSTR\",rawrtf!A75,1)+6,3))","v":{"$error":"#VALUE!"}},{"$f":"IF(ISERROR(B75),\"NOSTR\",VLOOKUP(B75,strlook!A:C,2,FALSE))","v":"NOSTR"},"NOSTR"]
[0,{"$f":"VALUE(MID(rawrtf!A76,FIND(\"TFPSTR\",rawrtf!A76,1)+6,3))","v":{"$error":"#VALUE!"}},{"$f":"IF(ISERROR(B76),\"NOSTR\",VLOOKUP(B76,strlook!A:C,2,FALSE))","v":"NOSTR"},"NOSTR"]
[0,{"$f":"VALUE(MID(rawrtf!A77,FIND(\"TFPSTR\",rawrtf!A77,1)+6,3))","v":{"$error":"#VALUE!"}},{"$f":"IF(ISERROR(B77),\"NOSTR\",VLOOKUP(B77,strlook!A:C,2,FALSE))","v":"NOSTR"},"NOSTR"]
[0,{"$f":"VALUE(MID(rawrtf!A78,FIND(\"TFPSTR\",rawrtf!A78,1)+6,3))","v":{"$error":"#VALUE!"}},{"$f":"IF(ISERROR(B78),\"NOSTR\",VLOOKUP(B78,strlook!A:C,2,FALSE))","v":"NOSTR"},"NOSTR"]
[0,{"$f":"VALUE(MID(rawrtf!A79,FIND(\"TFPSTR\",rawrtf!A79,1)+6,3))","v":{"$error":"#VALUE!"}},{"$f":"IF(ISERROR(B79),\"NOSTR\",VLOOKUP(B79,strlook!A:C,2,FALSE))","v":"NOSTR"},"NOSTR"]
[0,{"$f":"VALUE(MID(rawrtf!A80,FIND(\"TFPSTR\",rawrtf!A80,1)+6,3))","v":{"$error":"#VALUE!"}},{"$f":"IF(ISERROR(B80),\"NOSTR\",VLOOKUP(B80,strlook!A:C,2,FALSE))","v":"NOSTR"},"NOSTR"]
[0,{"$f":"VALUE(MID(rawrtf!A81,FIND(\"TFPSTR\",rawrtf!A81,1)+6,3))","v":{"$error":"#VALUE!"}},{"$f":"IF(ISERROR(B81),\"NOSTR\",VLOOKUP(B81,strlook!A:C,2,FALSE))","v":"NOSTR"},"NOSTR"]
[0,{"$f":"VALUE(MID(rawrtf!A82,FIND(\"TFPSTR\",rawrtf!A82,1)+6,3))","v":{"$error":"#VALUE!"}},{"$f":"IF(ISERROR(B82),\"NOSTR\",VLOOKUP(B82,strlook!A:C,2,FALSE))","v":"NOSTR"},"NOSTR"]
[0,{"$f":"VALUE(MID(rawrtf!A83,FIND(\"TFPSTR\",rawrtf!A83,1)+6,3))","v":{"$error":"#VALUE!"}},{"$f":"IF(ISERROR(B83),\"NOSTR\",VLOOKUP(B83,strlook!A:C,2,FALSE))","v":"NOSTR"},"NOSTR"]
[0,{"$f":"VALUE(MID(rawrtf!A84,FIND(\"TFPSTR\",rawrtf!A84,1)+6,3))","v":{"$error":"#VALUE!"}},{"$f":"IF(ISERROR(B84),\"NOSTR\",VLOOKUP(B84,strlook!A:C,2,FALSE))","v":"NOSTR"},"NOSTR"]
[0,{"$f":"VALUE(MID(rawrtf!A85,FIND(\"TFPSTR\",rawrtf!A85,1)+6,3))","v":{"$error":"#VALUE!"}},{"$f":"IF(ISERROR(B85),\"NOSTR\",VLOOKUP(B85,strlook!A:C,2,FALSE))","v":"NOSTR"},"NOSTR"]
[0,{"$f":"VALUE(MID(rawrtf!A86,FIND(\"TFPSTR\",rawrtf!A86,1)+6,3))","v":{"$error":"#VALUE!"}},{"$f":"IF(ISERROR(B86),\"NOSTR\",VLOOKUP(B86,strlook!A:C,2,FALSE))","v":"NOSTR"},"NOSTR"]
[0,{"$f":"VALUE(MID(rawrtf!A87,FIND(\"TFPSTR\",rawrtf!A87,1)+6,3))","v":{"$error":"#VALUE!"}},{"$f":"IF(ISERROR(B87),\"NOSTR\",VLOOKUP(B87,strlook!A:C,2,FALSE))","v":"NOSTR"},"NOSTR"]
[0,{"$f":"VALUE(MID(rawrtf!A88,FIND(\"TFPSTR\",rawrtf!A88,1)+6,3))","v":{"$error":"#VALUE!"}},{"$f":"IF(ISERROR(B88),\"NOSTR\",VLOOKUP(B88,strlook!A:C,2,FALSE))","v":"NOSTR"},"NOSTR"]
[0,{"$f":"VALUE(MID(rawrtf!A89,FIND(\"TFPSTR\",rawrtf!A89,1)+6,3))","v":{"$error":"#VALUE!"}},{"$f":"IF(ISERROR(B89),\"NOSTR\",VLOOKUP(B89,strlook!A:C,2,FALSE))","v":"NOSTR"},"NOSTR"]
[0,{"$f":"VALUE(MID(rawrtf!A90,FIND(\"TFPSTR\",rawrtf!A90,1)+6,3))","v":{"$error":"#VALUE!"}},{"$f":"IF(ISERROR(B90),\"NOSTR\",VLOOKUP(B90,strlook!A:C,2,FALSE))","v":"NOSTR"},"NOSTR"]
[0,{"$f":"VALUE(MID(rawrtf!A91,FIND(\"TFPSTR\",rawrtf!A91,1)+6,3))","v":{"$error":"#VALUE!"}},{"$f":"IF(ISERROR(B91),\"NOSTR\",VLOOKUP(B91,strlook!A:C,2,FALSE))","v":"NOSTR"},"NOSTR"]
[0,{"$f":"VALUE(MID(rawrtf!A92,FIND(\"TFPSTR\",rawrtf!A92,1)+6,3))","v":{"$error":"#VALUE!"}},{"$f":"IF(ISERROR(B92),\"NOSTR\",VLOOKUP(B92,strlook!A:C,2,FALSE))","v":"NOSTR"},"NOSTR"]
[0,{"$f":"VALUE(MID(rawrtf!A93,FIND(\"TFPSTR\",rawrtf!A93,1)+6,3))","v":{"$error":"#VALUE!"}},{"$f":"IF(ISERROR(B93),\"NOSTR\",VLOOKUP(B93,strlook!A:C,2,FALSE))","v":"NOSTR"},"NOSTR"]
[0,{"$f":"VALUE(MID(rawrtf!A94,FIND(\"TFPSTR\",rawrtf!A94,1)+6,3))","v":{"$error":"#VALUE!"}},{"$f":"IF(ISERROR(B94),\"NOSTR\",VLOOKUP(B94,strlook!A:C,2,FALSE))","v":"NOSTR"},"NOSTR"]
[0,{"$f":"VALUE(MID(rawrtf!A95,FIND(\"TFPSTR\",rawrtf!A95,1)+6,3))","v":{"$error":"#VALUE!"}},{"$f":"IF(ISERROR(B95),\"NOSTR\",VLOOKUP(B95,strlook!A:C,2,FALSE))","v":"NOSTR"},"NOSTR"]
[0,{"$f":"VALUE(MID(rawrtf!A96,FIND(\"TFPSTR\",rawrtf!A96,1)+6,3))","v":{"$error":"#VALUE!"}},{"$f":"IF(ISERROR(B96),\"NOSTR\",VLOOKUP(B96,strlook!A:C,2,FALSE))","v":"NOSTR"},"NOSTR"]
[0,{"$f":"VALUE(MID(rawrtf!A97,FIND(\"TFPSTR\",rawrtf!A97,1)+6,3))","v":{"$error":"#VALUE!"}},{"$f":"IF(ISERROR(B97),\"NOSTR\",VLOOKUP(B97,strlook!A:C,2,FALSE))","v":"NOSTR"},"NOSTR"]
[0,{"$f":"VALUE(MID(rawrtf!A98,FIND(\"TFPSTR\",rawrtf!A98,1)+6,3))","v":{"$error":"#VALUE!"}},{"$f":"IF(ISERROR(B98),\"NOSTR\",VLOOKUP(B98,strlook!A:C,2,FALSE))","v":"NOSTR"},"NOSTR"]
[0,{"$f":"VALUE(MID(rawrtf!A99,FIND(\"TFPSTR\",rawrtf!A99,1)+6,3))","v":{"$error":"#VALUE!"}},{"$f":"IF(ISERROR(B99),\"NOSTR\",VLOOKUP(B99,strlook!A:C,2,FALSE))","v":"NOSTR"},"NOSTR"]
[0,{"$f":"VALUE(MID(rawrtf!A100,FIND(\"TFPSTR\",rawrtf!A100,1)+6,3))","v":{"$error":"#VALUE!"}},{"$f":"IF(ISERROR(B100),\"NOSTR\",VLOOKUP(B100,strlook!A:C,2,FALSE))","v":"NOSTR"},"NOSTR"]
[{"$f":"IF(ISERROR(B101),0,1)","v":0},{"$f":"VALUE(MID(rawrtf!A101,FIND(\"TFPSTR\",rawrtf!A101,1)+6,3))","v":{"$error":"#VALUE!"}},{"$f":"IF(ISERROR(B101),\"NOSTR\",VLOOKUP(B101,strlook!A:C,2,FALSE))","v":"NOSTR"},{"$f":"IF(ISNA(C101),\"ERROR MISSING TFPSTR \"&B101,C101)","v":"NOSTR"}]
[0,{"$f":"VALUE(MID(rawrtf!A102,FIND(\"TFPSTR\",rawrtf!A102,1)+6,3))","v":{"$error":"#VALUE!"}},{"$f":"IF(ISERROR(B102),\"NOSTR\",VLOOKUP(B102,strlook!A:C,2,FALSE))","v":"NOSTR"},"NOSTR"]
[0,{"$f":"VALUE(MID(rawrtf!A103,FIND(\"TFPSTR\",rawrtf!A103,1)+6,3))","v":{"$error":"#VALUE!"}},{"$f":"IF(ISERROR(B103),\"NOSTR\",VLOOKUP(B103,strlook!A:C,2,FALSE))","v":"NOSTR"},"NOSTR"]
[0,{"$f":"VALUE(MID(rawrtf!A104,FIND(\"TFPSTR\",rawrtf!A104,1)+6,3))","v":{"$error":"#VALUE!"}},{"$f":"IF(ISERROR(B104),\"NOSTR\",VLOOKUP(B104,strlook!A:C,2,FALSE))","v":"NOSTR"},"NOSTR"]
[0,{"$f":"VALUE(MID(rawrtf!A105,FIND(\"TFPSTR\",rawrtf!A105,1)+6,3))","v":{"$error":"#VALUE!"}},{"$f":"IF(ISERROR(B105),\"NOSTR\",VLOOKUP(B105,strlook!A:C,2,FALSE))","v":"NOSTR"},"NOSTR"]
[0,{"$f":"VALUE(MID(rawrtf!A106,FIND(\"TFPSTR\",rawrtf!A106,1)+6,3))","v":{"$error":"#VALUE!"}},{"$f":"IF(ISERROR(B106),\"NOSTR\",VLOOKUP(B106,strlook!A:C,2,FALSE))","v":"NOSTR"},"NOSTR"]
[0,{"$f":"VALUE(MID(rawrtf!A107,FIND(\"TFPSTR\",rawrtf!A107,1)+6,3))","v":{"$error":"#VALUE!"}},{"$f":"IF(ISERROR(B107),\"NOSTR\",VLOOKUP(B107,strlook!A:C,2,FALSE))","v":"NOSTR"},"NOSTR"]
[0,{"$f":"VALUE(MID(rawrtf!A108,FIND(\"TFPSTR\",rawrtf!A108,1)+6,3))","v":{"$error":"#VALUE!"}},{"$f":"IF(ISERROR(B108),\"NOSTR\",VLOOKUP(B108,strlook!A:C,2,FALSE))","v":"NOSTR"},"NOSTR"]
[0,{"$f":"VALUE(MID(rawrtf!A109,FIND(\"TFPSTR\",rawrtf!A109,1)+6,3))","v":{"$error":"#VALUE!"}},{"$f":"IF(ISERROR(B109),\"NOSTR\",VLOOKUP(B109,strlook!A:C,2,FALSE))","v":"NOSTR"},"NOSTR"]
[0,{"$f":"VALUE(MID(rawrtf!A110,FIND(\"TFPSTR\",rawrtf!A110,1)+6,3))","v":{"$error":"#VALUE!"}},{"$f":"IF(ISERROR(B110),\"NOSTR\",VLOOKUP(B110,strlook!A:C,2,FALSE))","v":"NOSTR"},"NOSTR"]
[0,{"$f":"VALUE(MID(rawrtf!A111,FIND(\"TFPSTR\",rawrtf!A111,1)+6,3))","v":{"$error":"#VALUE!"}},{"$f":"IF(ISERROR(B111),\"NOSTR\",VLOOKUP(B111,strlook!A:C,2,FALSE))","v":"NOSTR"},"NOSTR"]
[0,{"$f":"VALUE(MID(rawrtf!A112,FIND(\"TFPSTR\",rawrtf!A112,1)+6,3))","v":{"$error":"#VALUE!"}},{"$f":"IF(ISERROR(B112),\"NOSTR\",VLOOKUP(B112,strlook!A:C,2,FALSE))","v":"NOSTR"},"NOSTR"]
[0,{"$f":"VALUE(MID(rawrtf!A113,FIND(\"TFPSTR\",rawrtf!A113,1)+6,3))","v":{"$error":"#VALUE!"}},{"$f":"IF(ISERROR(B113),\"NOSTR\",VLOOKUP(B113,strlook!A:C,2,FALSE))","v":"NOSTR"},"NOSTR"]
[0,{"$f":"VALUE(MID(rawrtf!A114,FIND(\"TFPSTR\",rawrtf!A114,1)+6,3))","v":{"$error":"#VALUE!"}},{"$f":"IF(ISERROR(B114),\"NOSTR\",VLOOKUP(B114,strlook!A:C,2,FALSE))","v":"NOSTR"},"NOSTR"]
[0,{"$f":"VALUE(MID(rawrtf!A115,FIND(\"TFPSTR\",rawrtf!A115,1)+6,3))","v":{"$error":"#VALUE!"}},{"$f":"IF(ISERROR(B115),\"NOSTR\",VLOOKUP(B115,strlook!A:C,2,FALSE))","v":"NOSTR"},"NOSTR"]
[0,{"$f":"VALUE(MID(rawrtf!A116,FIND(\"TFPSTR\",rawrtf!A116,1)+6,3))","v":{"$error":"#VALUE!"}},{"$f":"IF(ISERROR(B116),\"NOSTR\",VLOOKUP(B116,strlook!A:C,2,FALSE))","v":"NOSTR"},"NOSTR"]
[0,{"$f":"VALUE(MID(rawrtf!A117,FIND(\"TFPSTR\",rawrtf!A117,1)+6,3))","v":{"$error":"#VALUE!"}},{"$f":"IF(ISERROR(B117),\"NOSTR\",VLOOKUP(B117,strlook!A:C,2,FALSE))","v":"NOSTR"},"NOSTR"]
[0,{"$f":"VALUE(MID(rawrtf!A118,FIND(\"TFPSTR\",rawrtf!A118,1)+6,3))","v":{"$error":"#VALUE!"}},{"$f":"IF(ISERROR(B118),\"NOSTR\",VLOOKUP(B118,strlook!A:C,2,FALSE))","v":"NOSTR"},"NOSTR"]
[0,{"$f":"VALUE(MID(rawrtf!A119,FIND(\"TFPSTR\",rawrtf!A119,1)+6,3))","v":{"$error":"#VALUE!"}},{"$f":"IF(ISERROR(B119),\"NOSTR\",VLOOKUP(B119,strlook!A:C,2,FALSE))","v":"NOSTR"},"NOSTR"]
[0,{"$f":"VALUE(MID(rawrtf!A120,FIND(\"TFPSTR\",rawrtf!A120,1)+6,3))","v":{"$error":"#VALUE!"}},{"$f":"IF(ISERROR(B120),\"NOSTR\",VLOOKUP(B120,strlook!A:C,2,FALSE))","v":"NOSTR"},"NOSTR"]
[0,{"$f":"VALUE(MID(rawrtf!A121,FIND(\"TFPSTR\",rawrtf!A121,1)+6,3))","v":{"$error":"#VALUE!"}},{"$f":"IF(ISERROR(B121),\"NOSTR\",VLOOKUP(B121,strlook!A:C,2,FALSE))","v":"NOSTR"},"NOSTR"]
[0,{"$f":"VALUE(MID(rawrtf!A122,FIND(\"TFPSTR\",rawrtf!A122,1)+6,3))","v":{"$error":"#VALUE!"}},{"$f":"IF(ISERROR(B122),\"NOSTR\",VLOOKUP(B122,strlook!A:C,2,FALSE))","v":"NOSTR"},"NOSTR"]
[0,{"$f":"VALUE(MID(rawrtf!A123,FIND(\"TFPSTR\",rawrtf!A123,1)+6,3))","v":{"$error":"#VALUE!"}},{"$f":"IF(ISERROR(B123),\"NOSTR\",VLOOKUP(B123,strlook!A:C,2,FALSE))","v":"NOSTR"},"NOSTR"]
[0,{"$f":"VALUE(MID(rawrtf!A124,FIND(\"TFPSTR\",rawrtf!A124,1)+6,3))","v":{"$error":"#VALUE!"}},{"$f":"IF(ISERROR(B124),\"NOSTR\",VLOOKUP(B124,strlook!A:C,2,FALSE))","v":"NOSTR"},"NOSTR"]
[0,{"$f":"VALUE(MID(rawrtf!A125,FIND(\"TFPSTR\",rawrtf!A125,1)+6,3))","v":{"$error":"#VALUE!"}},{"$f":"IF(ISERROR(B125),\"NOSTR\",VLOOKUP(B125,strlook!A:C,2,FALSE))","v":"NOSTR"},"NOSTR"]
[0,{"$f":"VALUE(MID(rawrtf!A126,FIND(\"TFPSTR\",rawrtf!A126,1)+6,3))","v":{"$error":"#VALUE!"}},{"$f":"IF(ISERROR(B126),\"NOSTR\",VLOOKUP(B126,strlook!A:C,2,FALSE))","v":"NOSTR"},"NOSTR"]
[0,{"$f":"VALUE(MID(rawrtf!A127,FIND(\"TFPSTR\",rawrtf!A127,1)+6,3))","v":{"$error":"#VALUE!"}},{"$f":"IF(ISERROR(B127),\"NOSTR\",VLOOKUP(B127,strlook!A:C,2,FALSE))","v":"NOSTR"},"NOSTR"]
[0,{"$f":"VALUE(MID(rawrtf!A128,FIND(\"TFPSTR\",rawrtf!A128,1)+6,3))","v":{"$error":"#VALUE!"}},{"$f":"IF(ISERROR(B128),\"NOSTR\",VLOOKUP(B128,strlook!A:C,2,FALSE))","v":"NOSTR"},"NOSTR"]
[0,{"$f":"VALUE(MID(rawrtf!A129,FIND(\"TFPSTR\",rawrtf!A129,1)+6,3))","v":{"$error":"#VALUE!"}},{"$f":"IF(ISERROR(B129),\"NOSTR\",VLOOKUP(B129,strlook!A:C,2,FALSE))","v":"NOSTR"},"NOSTR"]
[0,{"$f":"VALUE(MID(rawrtf!A130,FIND(\"TFPSTR\",rawrtf!A130,1)+6,3))","v":{"$error":"#VALUE!"}},{"$f":"IF(ISERROR(B130),\"NOSTR\",VLOOKUP(B130,strlook!A:C,2,FALSE))","v":"NOSTR"},"NOSTR"]
[0,{"$f":"VALUE(MID(rawrtf!A131,FIND(\"TFPSTR\",rawrtf!A131,1)+6,3))","v":{"$error":"#VALUE!"}},{"$f":"IF(ISERROR(B131),\"NOSTR\",VLOOKUP(B131,strlook!A:C,2,FALSE))","v":"NOSTR"},"NOSTR"]
[0,{"$f":"VALUE(MID(rawrtf!A132,FIND(\"TFPSTR\",rawrtf!A132,1)+6,3))","v":{"$error":"#VALUE!"}},{"$f":"IF(ISERROR(B132),\"NOSTR\",VLOOKUP(B132,strlook!A:C,2,FALSE))","v":"NOSTR"},"NOSTR"]
[0,{"$f":"VALUE(MID(rawrtf!A133,FIND(\"TFPSTR\",rawrtf!A133,1)+6,3))","v":{"$error":"#VALUE!"}},{"$f":"IF(ISERROR(B133),\"NOSTR\",VLOOKUP(B133,strlook!A:C,2,FALSE))","v":"NOSTR"},"NOSTR"]
[0,{"$f":"VALUE(MID(rawrtf!A134,FIND(\"TFPSTR\",rawrtf!A134,1)+6,3))","v":{"$error":"#VALUE!"}},{"$f":"IF(ISERROR(B134),\"NOSTR\",VLOOKUP(B134,strlook!A:C,2,FALSE))","v":"NOSTR"},"NOSTR"]
[0,{"$f":"VALUE(MID(rawrtf!A135,FIND(\"TFPSTR\",rawrtf!A135,1)+6,3))","v":{"$error":"#VALUE!"}},{"$f":"IF(ISERROR(B135),\"NOSTR\",VLOOKUP(B135,strlook!A:C,2,FALSE))","v":"NOSTR"},"NOSTR"]
[0,{"$f":"VALUE(MID(rawrtf!A136,FIND(\"TFPSTR\",rawrtf!A136,1)+6,3))","v":{"$error":"#VALUE!"}},{"$f":"IF(ISERROR(B136),\"NOSTR\",VLOOKUP(B136,strlook!A:C,2,FALSE))","v":"NOSTR"},"NOSTR"]
[0,{"$f":"VALUE(MID(rawrtf!A137,FIND(\"TFPSTR\",rawrtf!A137,1)+6,3))","v":{"$error":"#VALUE!"}},{"$f":"IF(ISERROR(B137),\"NOSTR\",VLOOKUP(B137,strlook!A:C,2,FALSE))","v":"NOSTR"},"NOSTR"]
[0,{"$f":"VALUE(MID(rawrtf!A138,FIND(\"TFPSTR\",rawrtf!A138,1)+6,3))","v":{"$error":"#VALUE!"}},{"$f":"IF(ISERROR(B138),\"NOSTR\",VLOOKUP(B138,strlook!A:C,2,FALSE))","v":"NOSTR"},"NOSTR"]
[0,{"$f":"VALUE(MID(rawrtf!A139,FIND(\"TFPSTR\",rawrtf!A139,1)+6,3))","v":{"$error":"#VALUE!"}},{"$f":"IF(ISERROR(B139),\"NOSTR\",VLOOKUP(B139,strlook!A:C,2,FALSE))","v":"NOSTR"},"NOSTR"]
[0,{"$f":"VALUE(MID(rawrtf!A140,FIND(\"TFPSTR\",rawrtf!A140,1)+6,3))","v":{"$error":"#VALUE!"}},{"$f":"IF(ISERROR(B140),\"NOSTR\",VLOOKUP(B140,strlook!A:C,2,FALSE))","v":"NOSTR"},"NOSTR"]
[0,{"$f":"VALUE(MID(rawrtf!A141,FIND(\"TFPSTR\",rawrtf!A141,1)+6,3))","v":{"$error":"#VALUE!"}},{"$f":"IF(ISERROR(B141),\"NOSTR\",VLOOKUP(B141,strlook!A:C,2,FALSE))","v":"NOSTR"},"NOSTR"]
[0,{"$f":"VALUE(MID(rawrtf!A142,FIND(\"TFPSTR\",rawrtf!A142,1)+6,3))","v":{"$error":"#VALUE!"}},{"$f":"IF(ISERROR(B142),\"NOSTR\",VLOOKUP(B142,strlook!A:C,2,FALSE))","v":"NOSTR"},"NOSTR"]
[0,{"$f":"VALUE(MID(rawrtf!A143,FIND(\"TFPSTR\",rawrtf!A143,1)+6,3))","v":{"$error":"#VALUE!"}},{"$f":"IF(ISERROR(B143),\"NOSTR\",VLOOKUP(B143,strlook!A:C,2,FALSE))","v":"NOSTR"},"NOSTR"]
[0,{"$f":"VALUE(MID(rawrtf!A144,FIND(\"TFPSTR\",rawrtf!A144,1)+6,3))","v":{"$error":"#VALUE!"}},{"$f":"IF(ISERROR(B144),\"NOSTR\",VLOOKUP(B144,strlook!A:C,2,FALSE))","v":"NOSTR"},"NOSTR"]
[0,{"$f":"VALUE(MID(rawrtf!A145,FIND(\"TFPSTR\",rawrtf!A145,1)+6,3))","v":{"$error":"#VALUE!"}},{"$f":"IF(ISERROR(B145),\"NOSTR\",VLOOKUP(B145,strlook!A:C,2,FALSE))","v":"NOSTR"},"NOSTR"]
[0,{"$f":"VALUE(MID(rawrtf!A146,FIND(\"TFPSTR\",rawrtf!A146,1)+6,3))","v":{"$error":"#VALUE!"}},{"$f":"IF(ISERROR(B146),\"NOSTR\",VLOOKUP(B146,strlook!A:C,2,FALSE))","v":"NOSTR"},"NOSTR"]
[0,{"$f":"VALUE(MID(rawrtf!A147,FIND(\"TFPSTR\",rawrtf!A147,1)+6,3))","v":{"$error":"#VALUE!"}},{"$f":"IF(ISERROR(B147),\"NOSTR\",VLOOKUP(B147,strlook!A:C,2,FALSE))","v":"NOSTR"},"NOSTR"]
[0,{"$f":"VALUE(MID(rawrtf!A148,FIND(\"TFPSTR\",rawrtf!A148,1)+6,3))","v":{"$error":"#VALUE!"}},{"$f":"IF(ISERROR(B148),\"NOSTR\",VLOOKUP(B148,strlook!A:C,2,FALSE))","v":"NOSTR"},"NOSTR"]
[0,{"$f":"VALUE(MID(rawrtf!A149,FIND(\"TFPSTR\",rawrtf!A149,1)+6,3))","v":{"$error":"#VALUE!"}},{"$f":"IF(ISERROR(B149),\"NOSTR\",VLOOKUP(B149,strlook!A:C,2,FALSE))","v":"NOSTR"},"NOSTR"]
[0,{"$f":"VALUE(MID(rawrtf!A150,FIND(\"TFPSTR\",rawrtf!A150,1)+6,3))","v":{"$error":"#VALUE!"}},{"$f":"IF(ISERROR(B150),\"NOSTR\",VLOOKUP(B150,strlook!A:C,2,FALSE))","v":"NOSTR"},"NOSTR"]
[0,{"$f":"VALUE(MID(rawrtf!A151,FIND(\"TFPSTR\",rawrtf!A151,1)+6,3))","v":{"$error":"#VALUE!"}},{"$f":"IF(ISERROR(B151),\"NOSTR\",VLOOKUP(B151,strlook!A:C,2,FALSE))","v":"NOSTR"},"NOSTR"]
[0,{"$f":"VALUE(MID(rawrtf!A152,FIND(\"TFPSTR\",rawrtf!A152,1)+6,3))","v":{"$error":"#VALUE!"}},{"$f":"IF(ISERROR(B152),\"NOSTR\",VLOOKUP(B152,strlook!A:C,2,FALSE))","v":"NOSTR"},"NOSTR"]
[0,{"$f":"VALUE(MID(rawrtf!A153,FIND(\"TFPSTR\",rawrtf!A153,1)+6,3))","v":{"$error":"#VALUE!"}},{"$f":"IF(ISERROR(B153),\"NOSTR\",VLOOKUP(B153,strlook!A:C,2,FALSE))","v":"NOSTR"},"NOSTR"]
[0,{"$f":"VALUE(MID(rawrtf!A154,FIND(\"TFPSTR\",rawrtf!A154,1)+6,3))","v":{"$error":"#VALUE!"}},{"$f":"IF(ISERROR(B154),\"NOSTR\",VLOOKUP(B154,strlook!A:C,2,FALSE))","v":"NOSTR"},"NOSTR"]
[0,{"$f":"VALUE(MID(rawrtf!A155,FIND(\"TFPSTR\",rawrtf!A155,1)+6,3))","v":{"$error":"#VALUE!"}},{"$f":"IF(ISERROR(B155),\"NOSTR\",VLOOKUP(B155,strlook!A:C,2,FALSE))","v":"NOSTR"},"NOSTR"]
[0,{"$f":"VALUE(MID(rawrtf!A156,FIND(\"TFPSTR\",rawrtf!A156,1)+6,3))","v":{"$error":"#VALUE!"}},{"$f":"IF(ISERROR(B156),\"NOSTR\",VLOOKUP(B156,strlook!A:C,2,FALSE))","v":"NOSTR"},"NOSTR"]
[0,{"$f":"VALUE(MID(rawrtf!A157,FIND(\"TFPSTR\",rawrtf!A157,1)+6,3))","v":{"$error":"#VALUE!"}},{"$f":"IF(ISERROR(B157),\"NOSTR\",VLOOKUP(B157,strlook!A:C,2,FALSE))","v":"NOSTR"},"NOSTR"]
[0,{"$f":"VALUE(MID(rawrtf!A158,FIND(\"TFPSTR\",rawrtf!A158,1)+6,3))","v":{"$error":"#VALUE!"}},{"$f":"IF(ISERROR(B158),\"NOSTR\",VLOOKUP(B158,strlook!A:C,2,FALSE))","v":"NOSTR"},"NOSTR"]
[0,{"$f":"VALUE(MID(rawrtf!A159,FIND(\"TFPSTR\",rawrtf!A159,1)+6,3))","v":{"$error":"#VALUE!"}},{"$f":"IF(ISERROR(B159),\"NOSTR\",VLOOKUP(B159,strlook!A:C,2,FALSE))","v":"NOSTR"},"NOSTR"]
[0,{"$f":"VALUE(MID(rawrtf!A160,FIND(\"TFPSTR\",rawrtf!A160,1)+6,3))","v":{"$error":"#VALUE!"}},{"$f":"IF(ISERROR(B160),\"NOSTR\",VLOOKUP(B160,strlook!A:C,2,FALSE))","v":"NOSTR"},"NOSTR"]
[0,{"$f":"VALUE(MID(rawrtf!A161,FIND(\"TFPSTR\",rawrtf!A161,1)+6,3))","v":{"$error":"#VALUE!"}},{"$f":"IF(ISERROR(B161),\"NOSTR\",VLOOKUP(B161,strlook!A:C,2,FALSE))","v":"NOSTR"},"NOSTR"]
[0,{"$f":"VALUE(MID(rawrtf!A162,FIND(\"TFPSTR\",rawrtf!A162,1)+6,3))","v":{"$error":"#VALUE!"}},{"$f":"IF(ISERROR(B162),\"NOSTR\",VLOOKUP(B162,strlook!A:C,2,FALSE))","v":"NOSTR"},"NOSTR"]
[0,{"$f":"VALUE(MID(rawrtf!A163,FIND(\"TFPSTR\",rawrtf!A163,1)+6,3))","v":{"$error":"#VALUE!"}},{"$f":"IF(ISERROR(B163),\"NOSTR\",VLOOKUP(B163,strlook!A:C,2,FALSE))","v":"NOSTR"},"NOSTR"]
[0,{"$f":"VALUE(MID(rawrtf!A164,FIND(\"TFPSTR\",rawrtf!A164,1)+6,3))","v":{"$error":"#VALUE!"}},{"$f":"IF(ISERROR(B164),\"NOSTR\",VLOOKUP(B164,strlook!A:C,2,FALSE))","v":"NOSTR"},"NOSTR"]
[{"$f":"IF(ISERROR(B165),0,1)","v":0},{"$f":"VALUE(MID(rawrtf!A165,FIND(\"TFPSTR\",rawrtf!A165,1)+6,3))","v":{"$error":"#VALUE!"}},{"$f":"IF(ISERROR(B165),\"NOSTR\",VLOOKUP(B165,strlook!A:C,2,FALSE))","v":"NOSTR"},{"$f":"IF(ISNA(C165),\"ERROR MISSING TFPSTR \"&B165,C165)","v":"NOSTR"}]
[0,{"$f":"VALUE(MID(rawrtf!A166,FIND(\"TFPSTR\",rawrtf!A166,1)+6,3))","v":{"$error":"#VALUE!"}},{"$f":"IF(ISERROR(B166),\"NOSTR\",VLOOKUP(B166,strlook!A:C,2,FALSE))","v":"NOSTR"},"NOSTR"]
[0,{"$f":"VALUE(MID(rawrtf!A167,FIND(\"TFPSTR\",rawrtf!A167,1)+6,3))","v":{"$error":"#VALUE!"}},{"$f":"IF(ISERROR(B167),\"NOSTR\",VLOOKUP(B167,strlook!A:C,2,FALSE))","v":"NOSTR"},"NOSTR"]
[0,{"$f":"VALUE(MID(rawrtf!A168,FIND(\"TFPSTR\",rawrtf!A168,1)+6,3))","v":{"$error":"#VALUE!"}},{"$f":"IF(ISERROR(B168),\"NOSTR\",VLOOKUP(B168,strlook!A:C,2,FALSE))","v":"NOSTR"},"NOSTR"]
[0,{"$f":"VALUE(MID(rawrtf!A169,FIND(\"TFPSTR\",rawrtf!A169,1)+6,3))","v":{"$error":"#VALUE!"}},{"$f":"IF(ISERROR(B169),\"NOSTR\",VLOOKUP(B169,strlook!A:C,2,FALSE))","v":"NOSTR"},"NOSTR"]
[0,{"$f":"VALUE(MID(rawrtf!A170,FIND(\"TFPSTR\",rawrtf!A170,1)+6,3))","v":{"$error":"#VALUE!"}},{"$f":"IF(ISERROR(B170),\"NOSTR\",VLOOKUP(B170,strlook!A:C,2,FALSE))","v":"NOSTR"},"NOSTR"]
[0,{"$f":"VALUE(MID(rawrtf!A171,FIND(\"TFPSTR\",rawrtf!A171,1)+6,3))","v":{"$error":"#VALUE!"}},{"$f":"IF(ISERROR(B171),\"NOSTR\",VLOOKUP(B171,strlook!A:C,2,FALSE))","v":"NOSTR"},"NOSTR"]
[0,{"$f":"VALUE(MID(rawrtf!A172,FIND(\"TFPSTR\",rawrtf!A172,1)+6,3))","v":{"$error":"#VALUE!"}},{"$f":"IF(ISERROR(B172),\"NOSTR\",VLOOKUP(B172,strlook!A:C,2,FALSE))","v":"NOSTR"},"NOSTR"]
[0,{"$f":"VALUE(MID(rawrtf!A173,FIND(\"TFPSTR\",rawrtf!A173,1)+6,3))","v":{"$error":"#VALUE!"}},{"$f":"IF(ISERROR(B173),\"NOSTR\",VLOOKUP(B173,strlook!A:C,2,FALSE))","v":"NOSTR"},"NOSTR"]
[0,{"$f":"VALUE(MID(rawrtf!A174,FIND(\"TFPSTR\",rawrtf!A174,1)+6,3))","v":{"$error":"#VALUE!"}},{"$f":"IF(ISERROR(B174),\"NOSTR\",VLOOKUP(B174,strlook!A:C,2,FALSE))","v":"NOSTR"},"NOSTR"]
[0,{"$f":"VALUE(MID(rawrtf!A175,FIND(\"TFPSTR\",rawrtf!A175,1)+6,3))","v":{"$error":"#VALUE!"}},{"$f":"IF(ISERROR(B175),\"NOSTR\",VLOOKUP(B175,strlook!A:C,2,FALSE))","v":"NOSTR"},"NOSTR"]
[0,{"$f":"VALUE(MID(rawrtf!A176,FIND(\"TFPSTR\",rawrtf!A176,1)+6,3))","v":{"$error":"#VALUE!"}},{"$f":"IF(ISERROR(B176),\"NOSTR\",VLOOKUP(B176,strlook!A:C,2,FALSE))","v":"NOSTR"},"NOSTR"]
[0,{"$f":"VALUE(MID(rawrtf!A177,FIND(\"TFPSTR\",rawrtf!A177,1)+6,3))","v":{"$error":"#VALUE!"}},{"$f":"IF(ISERROR(B177),\"NOSTR\",VLOOKUP(B177,strlook!A:C,2,FALSE))","v":"NOSTR"},"NOSTR"]
[0,{"$f":"VALUE(MID(rawrtf!A178,FIND(\"TFPSTR\",rawrtf!A178,1)+6,3))","v":{"$error":"#VALUE!"}},{"$f":"IF(ISERROR(B178),\"NOSTR\",VLOOKUP(B178,strlook!A:C,2,FALSE))","v":"NOSTR"},"NOSTR"]
[0,{"$f":"VALUE(MID(rawrtf!A179,FIND(\"TFPSTR\",rawrtf!A179,1)+6,3))","v":{"$error":"#VALUE!"}},{"$f":"IF(ISERROR(B179),\"NOSTR\",VLOOKUP(B179,strlook!A:C,2,FALSE))","v":"NOSTR"},"NOSTR"]
[0,{"$f":"VALUE(MID(rawrtf!A180,FIND(\"TFPSTR\",rawrtf!A180,1)+6,3))","v":{"$error":"#VALUE!"}},{"$f":"IF(ISERROR(B180),\"NOSTR\",VLOOKUP(B180,strlook!A:C,2,FALSE))","v":"NOSTR"},"NOSTR"]
[0,{"$f":"VALUE(MID(rawrtf!A181,FIND(\"TFPSTR\",rawrtf!A181,1)+6,3))","v":{"$error":"#VALUE!"}},{"$f":"IF(ISERROR(B181),\"NOSTR\",VLOOKUP(B181,strlook!A:C,2,FALSE))","v":"NOSTR"},"NOSTR"]
[0,{"$f":"VALUE(MID(rawrtf!A182,FIND(\"TFPSTR\",rawrtf!A182,1)+6,3))","v":{"$error":"#VALUE!"}},{"$f":"IF(ISERROR(B182),\"NOSTR\",VLOOKUP(B182,strlook!A:C,2,FALSE))","v":"NOSTR"},"NOSTR"]
[0,{"$f":"VALUE(MID(rawrtf!A183,FIND(\"TFPSTR\",rawrtf!A183,1)+6,3))","v":{"$error":"#VALUE!"}},{"$f":"IF(ISERROR(B183),\"NOSTR\",VLOOKUP(B183,strlook!A:C,2,FALSE))","v":"NOSTR"},"NOSTR"]
[0,{"$f":"VALUE(MID(rawrtf!A184,FIND(\"TFPSTR\",rawrtf!A184,1)+6,3))","v":{"$error":"#VALUE!"}},{"$f":"IF(ISERROR(B184),\"NOSTR\",VLOOKUP(B184,strlook!A:C,2,FALSE))","v":"NOSTR"},"NOSTR"]
[0,{"$f":"VALUE(MID(rawrtf!A185,FIND(\"TFPSTR\",rawrtf!A185,1)+6,3))","v":{"$error":"#VALUE!"}},{"$f":"IF(ISERROR(B185),\"NOSTR\",VLOOKUP(B185,strlook!A:C,2,FALSE))","v":"NOSTR"},"NOSTR"]
[0,{"$f":"VALUE(MID(rawrtf!A186,FIND(\"TFPSTR\",rawrtf!A186,1)+6,3))","v":{"$error":"#VALUE!"}},{"$f":"IF(ISERROR(B186),\"NOSTR\",VLOOKUP(B186,strlook!A:C,2,FALSE))","v":"NOSTR"},"NOSTR"]
[0,{"$f":"VALUE(MID(rawrtf!A187,FIND(\"TFPSTR\",rawrtf!A187,1)+6,3))","v":{"$error":"#VALUE!"}},{"$f":"IF(ISERROR(B187),\"NOSTR\",VLOOKUP(B187,strlook!A:C,2,FALSE))","v":"NOSTR"},"NOSTR"]
[0,{"$f":"VALUE(MID(rawrtf!A188,FIND(\"TFPSTR\",rawrtf!A188,1)+6,3))","v":{"$error":"#VALUE!"}},{"$f":"IF(ISERROR(B188),\"NOSTR\",VLOOKUP(B188,strlook!A:C,2,FALSE))","v":"NOSTR"},"NOSTR"]
[0,{"$f":"VALUE(MID(rawrtf!A189,FIND(\"TFPSTR\",rawrtf!A189,1)+6,3))","v":{"$error":"#VALUE!"}},{"$f":"IF(ISERROR(B189),\"NOSTR\",VLOOKUP(B189,strlook!A:C,2,FALSE))","v":"NOSTR"},"NOSTR"]
[0,{"$f":"VALUE(MID(rawrtf!A190,FIND(\"TFPSTR\",rawrtf!A190,1)+6,3))","v":{"$error":"#VALUE!"}},{"$f":"IF(ISERROR(B190),\"NOSTR\",VLOOKUP(B190,strlook!A:C,2,FALSE))","v":"NOSTR"},"NOSTR"]
[0,{"$f":"VALUE(MID(rawrtf!A191,FIND(\"TFPSTR\",rawrtf!A191,1)+6,3))","v":{"$error":"#VALUE!"}},{"$f":"IF(ISERROR(B191),\"NOSTR\",VLOOKUP(B191,strlook!A:C,2,FALSE))","v":"NOSTR"},"NOSTR"]
[0,{"$f":"VALUE(MID(rawrtf!A192,FIND(\"TFPSTR\",rawrtf!A192,1)+6,3))","v":{"$error":"#VALUE!"}},{"$f":"IF(ISERROR(B192),\"NOSTR\",VLOOKUP(B192,strlook!A:C,2,FALSE))","v":"NOSTR"},"NOSTR"]
[0,{"$f":"VALUE(MID(rawrtf!A193,FIND(\"TFPSTR\",rawrtf!A193,1)+6,3))","v":{"$error":"#VALUE!"}},{"$f":"IF(ISERROR(B193),\"NOSTR\",VLOOKUP(B193,strlook!A:C,2,FALSE))","v":"NOSTR"},"NOSTR"]
[0,{"$f":"VALUE(MID(rawrtf!A194,FIND(\"TFPSTR\",rawrtf!A194,1)+6,3))","v":{"$error":"#VALUE!"}},{"$f":"IF(ISERROR(B194),\"NOSTR\",VLOOKUP(B194,strlook!A:C,2,FALSE))","v":"NOSTR"},"NOSTR"]
[0,{"$f":"VALUE(MID(rawrtf!A195,FIND(\"TFPSTR\",rawrtf!A195,1)+6,3))","v":{"$error":"#VALUE!"}},{"$f":"IF(ISERROR(B195),\"NOSTR\",VLOOKUP(B195,strlook!A:C,2,FALSE))","v":"NOSTR"},"NOSTR"]
[0,{"$f":"VALUE(MID(rawrtf!A196,FIND(\"TFPSTR\",rawrtf!A196,1)+6,3))","v":{"$error":"#VALUE!"}},{"$f":"IF(ISERROR(B196),\"NOSTR\",VLOOKUP(B196,strlook!A:C,2,FALSE))","v":"NOSTR"},"NOSTR"]
[0,{"$f":"VALUE(MID(rawrtf!A197,FIND(\"TFPSTR\",rawrtf!A197,1)+6,3))","v":{"$error":"#VALUE!"}},{"$f":"IF(ISERROR(B197),\"NOSTR\",VLOOKUP(B197,strlook!A:C,2,FALSE))","v":"NOSTR"},"NOSTR"]
[0,{"$f":"VALUE(MID(rawrtf!A198,FIND(\"TFPSTR\",rawrtf!A198,1)+6,3))","v":{"$error":"#VALUE!"}},{"$f":"IF(ISERROR(B198),\"NOSTR\",VLOOKUP(B198,strlook!A:C,2,FALSE))","v":"NOSTR"},"NOSTR"]
[0,{"$f":"VALUE(MID(rawrtf!A199,FIND(\"TFPSTR\",rawrtf!A199,1)+6,3))","v":{"$error":"#VALUE!"}},{"$f":"IF(ISERROR(B199),\"NOSTR\",VLOOKUP(B199,strlook!A:C,2,FALSE))","v":"NOSTR"},"NOSTR"]
[0,{"$f":"VALUE(MID(rawrtf!A200,FIND(\"TFPSTR\",rawrtf!A200,1)+6,3))","v":{"$error":"#VALUE!"}},{"$f":"IF(ISERROR(B200),\"NOSTR\",VLOOKUP(B200,strlook!A:C,2,FALSE))","v":"NOSTR"},"NOSTR"]
[0,{"$f":"VALUE(MID(rawrtf!A201,FIND(\"TFPSTR\",rawrtf!A201,1)+6,3))","v":{"$error":"#VALUE!"}},{"$f":"IF(ISERROR(B201),\"NOSTR\",VLOOKUP(B201,strlook!A:C,2,FALSE))","v":"NOSTR"},"NOSTR"]
[0,{"$f":"VALUE(MID(rawrtf!A202,FIND(\"TFPSTR\",rawrtf!A202,1)+6,3))","v":{"$error":"#VALUE!"}},{"$f":"IF(ISERROR(B202),\"NOSTR\",VLOOKUP(B202,strlook!A:C,2,FALSE))","v":"NOSTR"},"NOSTR"]
[0,{"$f":"VALUE(MID(rawrtf!A203,FIND(\"TFPSTR\",rawrtf!A203,1)+6,3))","v":{"$error":"#VALUE!"}},{"$f":"IF(ISERROR(B203),\"NOSTR\",VLOOKUP(B203,strlook!A:C,2,FALSE))","v":"NOSTR"},"NOSTR"]
[0,{"$f":"VALUE(MID(rawrtf!A204,FIND(\"TFPSTR\",rawrtf!A204,1)+6,3))","v":{"$error":"#VALUE!"}},{"$f":"IF(ISERROR(B204),\"NOSTR\",VLOOKUP(B204,strlook!A:C,2,FALSE))","v":"NOSTR"},"NOSTR"]
[0,{"$f":"VALUE(MID(rawrtf!A205,FIND(\"TFPSTR\",rawrtf!A205,1)+6,3))","v":{"$error":"#VALUE!"}},{"$f":"IF(ISERROR(B205),\"NOSTR\",VLOOKUP(B205,strlook!A:C,2,FALSE))","v":"NOSTR"},"NOSTR"]
[0,{"$f":"VALUE(MID(rawrtf!A206,FIND(\"TFPSTR\",rawrtf!A206,1)+6,3))","v":{"$error":"#VALUE!"}},{"$f":"IF(ISERROR(B206),\"NOSTR\",VLOOKUP(B206,strlook!A:C,2,FALSE))","v":"NOSTR"},"NOSTR"]
[0,{"$f":"VALUE(MID(rawrtf!A207,FIND(\"TFPSTR\",rawrtf!A207,1)+6,3))","v":{"$error":"#VALUE!"}},{"$f":"IF(ISERROR(B207),\"NOSTR\",VLOOKUP(B207,strlook!A:C,2,FALSE))","v":"NOSTR"},"NOSTR"]
[0,{"$f":"VALUE(MID(rawrtf!A208,FIND(\"TFPSTR\",rawrtf!A208,1)+6,3))","v":{"$error":"#VALUE!"}},{"$f":"IF(ISERROR(B208),\"NOSTR\",VLOOKUP(B208,strlook!A:C,2,FALSE))","v":"NOSTR"},"NOSTR"]
[0,{"$f":"VALUE(MID(rawrtf!A209,FIND(\"TFPSTR\",rawrtf!A209,1)+6,3))","v":{"$error":"#VALUE!"}},{"$f":"IF(ISERROR(B209),\"NOSTR\",VLOOKUP(B209,strlook!A:C,2,FALSE))","v":"NOSTR"},"NOSTR"]
[0,{"$f":"VALUE(MID(rawrtf!A210,FIND(\"TFPSTR\",rawrtf!A210,1)+6,3))","v":{"$error":"#VALUE!"}},{"$f":"IF(ISERROR(B210),\"NOSTR\",VLOOKUP(B210,strlook!A:C,2,FALSE))","v":"NOSTR"},"NOSTR"]
[0,{"$f":"VALUE(MID(rawrtf!A211,FIND(\"TFPSTR\",rawrtf!A211,1)+6,3))","v":{"$error":"#VALUE!"}},{"$f":"IF(ISERROR(B211),\"NOSTR\",VLOOKUP(B211,strlook!A:C,2,FALSE))","v":"NOSTR"},"NOSTR"]
[0,{"$f":"VALUE(MID(rawrtf!A212,FIND(\"TFPSTR\",rawrtf!A212,1)+6,3))","v":{"$error":"#VALUE!"}},{"$f":"IF(ISERROR(B212),\"NOSTR\",VLOOKUP(B212,strlook!A:C,2,FALSE))","v":"NOSTR"},"NOSTR"]
[0,{"$f":"VALUE(MID(rawrtf!A213,FIND(\"TFPSTR\",rawrtf!A213,1)+6,3))","v":{"$error":"#VALUE!"}},{"$f":"IF(ISERROR(B213),\"NOSTR\",VLOOKUP(B213,strlook!A:C,2,FALSE))","v":"NOSTR"},"NOSTR"]
[0,{"$f":"VALUE(MID(rawrtf!A214,FIND(\"TFPSTR\",rawrtf!A214,1)+6,3))","v":{"$error":"#VALUE!"}},{"$f":"IF(ISERROR(B214),\"NOSTR\",VLOOKUP(B214,strlook!A:C,2,FALSE))","v":"NOSTR"},"NOSTR"]
[1,{"$f":"VALUE(MID(rawrtf!A215,FIND(\"TFPSTR\",rawrtf!A215,1)+6,3))","v":103},{"$f":"IF(ISERROR(B215),\"NOSTR\",VLOOKUP(B215,strlook!A:C,2,FALSE))","v":"Missing Field - FirmNam-Ans1"},"Missing Field - FirmNam-Ans1"]
[0,{"$f":"VALUE(MID(rawrtf!A216,FIND(\"TFPSTR\",rawrtf!A216,1)+6,3))","v":{"$error":"#VALUE!"}},{"$f":"IF(ISERROR(B216),\"NOSTR\",VLOOKUP(B216,strlook!A:C,2,FALSE))","v":"NOSTR"},"NOSTR"]
[0,{"$f":"VALUE(MID(rawrtf!A217,FIND(\"TFPSTR\",rawrtf!A217,1)+6,3))","v":{"$error":"#VALUE!"}},{"$f":"IF(ISERROR(B217),\"NOSTR\",VLOOKUP(B217,strlook!A:C,2,FALSE))","v":"NOSTR"},"NOSTR"]
[0,{"$f":"VALUE(MID(rawrtf!A218,FIND(\"TFPSTR\",rawrtf!A218,1)+6,3))","v":{"$error":"#VALUE!"}},{"$f":"IF(ISERROR(B218),\"NOSTR\",VLOOKUP(B218,strlook!A:C,2,FALSE))","v":"NOSTR"},"NOSTR"]
[0,{"$f":"VALUE(MID(rawrtf!A219,FIND(\"TFPSTR\",rawrtf!A219,1)+6,3))","v":{"$error":"#VALUE!"}},{"$f":"IF(ISERROR(B219),\"NOSTR\",VLOOKUP(B219,strlook!A:C,2,FALSE))","v":"NOSTR"},"NOSTR"]
[0,{"$f":"VALUE(MID(rawrtf!A220,FIND(\"TFPSTR\",rawrtf!A220,1)+6,3))","v":{"$error":"#VALUE!"}},{"$f":"IF(ISERROR(B220),\"NOSTR\",VLOOKUP(B220,strlook!A:C,2,FALSE))","v":"NOSTR"},"NOSTR"]
[0,{"$f":"VALUE(MID(rawrtf!A221,FIND(\"TFPSTR\",rawrtf!A221,1)+6,3))","v":{"$error":"#VALUE!"}},{"$f":"IF(ISERROR(B221),\"NOSTR\",VLOOKUP(B221,strlook!A:C,2,FALSE))","v":"NOSTR"},"NOSTR"]
[0,{"$f":"VALUE(MID(rawrtf!A222,FIND(\"TFPSTR\",rawrtf!A222,1)+6,3))","v":{"$error":"#VALUE!"}},{"$f":"IF(ISERROR(B222),\"NOSTR\",VLOOKUP(B222,strlook!A:C,2,FALSE))","v":"NOSTR"},"NOSTR"]
[0,{"$f":"VALUE(MID(rawrtf!A223,FIND(\"TFPSTR\",rawrtf!A223,1)+6,3))","v":{"$error":"#VALUE!"}},{"$f":"IF(ISERROR(B223),\"NOSTR\",VLOOKUP(B223,strlook!A:C,2,FALSE))","v":"NOSTR"},"NOSTR"]
[0,{"$f":"VALUE(MID(rawrtf!A224,FIND(\"TFPSTR\",rawrtf!A224,1)+6,3))","v":{"$error":"#VALUE!"}},{"$f":"IF(ISERROR(B224),\"NOSTR\",VLOOKUP(B224,strlook!A:C,2,FALSE))","v":"NOSTR"},"NOSTR"]
[0,{"$f":"VALUE(MID(rawrtf!A225,FIND(\"TFPSTR\",rawrtf!A225,1)+6,3))","v":{"$error":"#VALUE!"}},{"$f":"IF(ISERROR(B225),\"NOSTR\",VLOOKUP(B225,strlook!A:C,2,FALSE))","v":"NOSTR"},"NOSTR"]
[0,{"$f":"VALUE(MID(rawrtf!A226,FIND(\"TFPSTR\",rawrtf!A226,1)+6,3))","v":{"$error":"#VALUE!"}},{"$f":"IF(ISERROR(B226),\"NOSTR\",VLOOKUP(B226,strlook!A:C,2,FALSE))","v":"NOSTR"},"NOSTR"]
[0,{"$f":"VALUE(MID(rawrtf!A227,FIND(\"TFPSTR\",rawrtf!A227,1)+6,3))","v":{"$error":"#VALUE!"}},{"$f":"IF(ISERROR(B227),\"NOSTR\",VLOOKUP(B227,strlook!A:C,2,FALSE))","v":"NOSTR"},"NOSTR"]
[0,{"$f":"VALUE(MID(rawrtf!A228,FIND(\"TFPSTR\",rawrtf!A228,1)+6,3))","v":{"$error":"#VALUE!"}},{"$f":"IF(ISERROR(B228),\"NOSTR\",VLOOKUP(B228,strlook!A:C,2,FALSE))","v":"NOSTR"},"NOSTR"]
[{"$f":"IF(ISERROR(B229),0,1)","v":0},{"$f":"VALUE(MID(rawrtf!A229,FIND(\"TFPSTR\",rawrtf!A229,1)+6,3))","v":{"$error":"#VALUE!"}},{"$f":"IF(ISERROR(B229),\"NOSTR\",VLOOKUP(B229,strlook!A:C,2,FALSE))","v":"NOSTR"},{"$f":"IF(ISNA(C229),\"ERROR MISSING TFPSTR \"&B229,C229)","v":"NOSTR"}]
[0,{"$f":"VALUE(MID(rawrtf!A230,FIND(\"TFPSTR\",rawrtf!A230,1)+6,3))","v":{"$error":"#VALUE!"}},{"$f":"IF(ISERROR(B230),\"NOSTR\",VLOOKUP(B230,strlook!A:C,2,FALSE))","v":"NOSTR"},"NOSTR"]
[0,{"$f":"VALUE(MID(rawrtf!A231,FIND(\"TFPSTR\",rawrtf!A231,1)+6,3))","v":{"$error":"#VALUE!"}},{"$f":"IF(ISERROR(B231),\"NOSTR\",VLOOKUP(B231,strlook!A:C,2,FALSE))","v":"NOSTR"},"NOSTR"]
[0,{"$f":"VALUE(MID(rawrtf!A232,FIND(\"TFPSTR\",rawrtf!A232,1)+6,3))","v":{"$error":"#VALUE!"}},{"$f":"IF(ISERROR(B232),\"NOSTR\",VLOOKUP(B232,strlook!A:C,2,FALSE))","v":"NOSTR"},"NOSTR"]
[1,{"$f":"VALUE(MID(rawrtf!A233,FIND(\"TFPSTR\",rawrtf!A233,1)+6,3))","v":103},{"$f":"IF(ISERROR(B233),\"NOSTR\",VLOOKUP(B233,strlook!A:C,2,FALSE))","v":"Missing Field - FirmNam-Ans1"},"Missing Field - FirmNam-Ans1"]
[1,{"$f":"VALUE(MID(rawrtf!A234,FIND(\"TFPSTR\",rawrtf!A234,1)+6,3))","v":104},{"$f":"IF(ISERROR(B234),\"NOSTR\",VLOOKUP(B234,strlook!A:C,2,FALSE))","v":"Missing Field - FirmAdd-Ans1"},"Missing Field - FirmAdd-Ans1"]
[0,{"$f":"VALUE(MID(rawrtf!A235,FIND(\"TFPSTR\",rawrtf!A235,1)+6,3))","v":{"$error":"#VALUE!"}},{"$f":"IF(ISERROR(B235),\"NOSTR\",VLOOKUP(B235,strlook!A:C,2,FALSE))","v":"NOSTR"},"NOSTR"]
[0,{"$f":"VALUE(MID(rawrtf!A236,FIND(\"TFPSTR\",rawrtf!A236,1)+6,3))","v":{"$error":"#VALUE!"}},{"$f":"IF(ISERROR(B236),\"NOSTR\",VLOOKUP(B236,strlook!A:C,2,FALSE))","v":"NOSTR"},"NOSTR"]
[0,{"$f":"VALUE(MID(rawrtf!A237,FIND(\"TFPSTR\",rawrtf!A237,1)+6,3))","v":{"$error":"#VALUE!"}},{"$f":"IF(ISERROR(B237),\"NOSTR\",VLOOKUP(B237,strlook!A:C,2,FALSE))","v":"NOSTR"},"NOSTR"]
[0,{"$f":"VALUE(MID(rawrtf!A238,FIND(\"TFPSTR\",rawrtf!A238,1)+6,3))","v":{"$error":"#VALUE!"}},{"$f":"IF(ISERROR(B238),\"NOSTR\",VLOOKUP(B238,strlook!A:C,2,FALSE))","v":"NOSTR"},"NOSTR"]
[1,{"$f":"VALUE(MID(rawrtf!A239,FIND(\"TFPSTR\",rawrtf!A239,1)+6,3))","v":103},{"$f":"IF(ISERROR(B239),\"NOSTR\",VLOOKUP(B239,strlook!A:C,2,FALSE))","v":"Missing Field - FirmNam-Ans1"},"Missing Field - FirmNam-Ans1"]
[1,{"$f":"VALUE(MID(rawrtf!A240,FIND(\"TFPSTR\",rawrtf!A240,1)+6,3))","v":107},{"$f":"IF(ISERROR(B240),\"NOSTR\",VLOOKUP(B240,strlook!A:C,2,FALSE))","v":"Missing Field - MktObj-Ans1"},"Missing Field - MktObj-Ans1"]
[1,{"$f":"VALUE(MID(rawrtf!A241,FIND(\"TFPSTR\",rawrtf!A241,1)+6,3))","v":532},{"$f":"IF(ISERROR(B241),\"NOSTR\",VLOOKUP(B241,strlook!A:C,2,FALSE))","v":"£0"},"£0"]
[0,{"$f":"VALUE(MID(rawrtf!A242,FIND(\"TFPSTR\",rawrtf!A242,1)+6,3))","v":{"$error":"#VALUE!"}},{"$f":"IF(ISERROR(B242),\"NOSTR\",VLOOKUP(B242,strlook!A:C,2,FALSE))","v":"NOSTR"},"NOSTR"]
[0,{"$f":"VALUE(MID(rawrtf!A243,FIND(\"TFPSTR\",rawrtf!A243,1)+6,3))","v":{"$error":"#VALUE!"}},{"$f":"IF(ISERROR(B243),\"NOSTR\",VLOOKUP(B243,strlook!A:C,2,FALSE))","v":"NOSTR"},"NOSTR"]
[0,{"$f":"VALUE(MID(rawrtf!A244,FIND(\"TFPSTR\",rawrtf!A244,1)+6,3))","v":{"$error":"#VALUE!"}},{"$f":"IF(ISERROR(B244),\"NOSTR\",VLOOKUP(B244,strlook!A:C,2,FALSE))","v":"NOSTR"},"NOSTR"]
[0,{"$f":"VALUE(MID(rawrtf!A245,FIND(\"TFPSTR\",rawrtf!A245,1)+6,3))","v":{"$error":"#VALUE!"}},{"$f":"IF(ISERROR(B245),\"NOSTR\",VLOOKUP(B245,strlook!A:C,2,FALSE))","v":"NOSTR"},"NOSTR"]
[0,{"$f":"VALUE(MID(rawrtf!A246,FIND(\"TFPSTR\",rawrtf!A246,1)+6,3))","v":{"$error":"#VALUE!"}},{"$f":"IF(ISERROR(B246),\"NOSTR\",VLOOKUP(B246,strlook!A:C,2,FALSE))","v":"NOSTR"},"NOSTR"]
[1,{"$f":"VALUE(MID(rawrtf!A247,FIND(\"TFPSTR\",rawrtf!A247,1)+6,3))","v":103},{"$f":"IF(ISERROR(B247),\"NOSTR\",VLOOKUP(B247,strlook!A:C,2,FALSE))","v":"Missing Field - FirmNam-Ans1"},"Missing Field - FirmNam-Ans1"]
[1,{"$f":"VALUE(MID(rawrtf!A248,FIND(\"TFPSTR\",rawrtf!A248,1)+6,3))","v":105},{"$f":"IF(ISERROR(B248),\"NOSTR\",VLOOKUP(B248,strlook!A:C,2,FALSE))","v":"Missing Field - FirmProd-Ans1"},"Missing Field - FirmProd-Ans1"]
[1,{"$f":"VALUE(MID(rawrtf!A249,FIND(\"TFPSTR\",rawrtf!A249,1)+6,3))","v":150},{"$f":"IF(ISERROR(B249),\"NOSTR\",VLOOKUP(B249,strlook!A:C,2,FALSE))","v":"£0"},"£0"]
[1,{"$f":"VALUE(MID(rawrtf!A250,FIND(\"TFPSTR\",rawrtf!A250,1)+6,3))","v":151},{"$f":"IF(ISERROR(B250),\"NOSTR\",VLOOKUP(B250,strlook!A:C,2,FALSE))","v":0},0]
[1,{"$f":"VALUE(MID(rawrtf!A251,FIND(\"TFPSTR\",rawrtf!A251,1)+6,3))","v":111},{"$f":"IF(ISERROR(B251),\"NOSTR\",VLOOKUP(B251,strlook!A:C,2,FALSE))","v":"Missing Field - Region-Ans1"},"Missing Field - Region-Ans1"]
[1,{"$f":"VALUE(MID(rawrtf!A252,FIND(\"TFPSTR\",rawrtf!A252,1)+6,3))","v":112},{"$f":"IF(ISERROR(B252),\"NOSTR\",VLOOKUP(B252,strlook!A:C,2,FALSE))","v":100},100]
[1,{"$f":"VALUE(MID(rawrtf!A253,FIND(\"TFPSTR\",rawrtf!A253,1)+6,3))","v":113},{"$f":"IF(ISERROR(B253),\"NOSTR\",VLOOKUP(B253,strlook!A:C,2,FALSE))","v":0},0]
[1,{"$f":"VALUE(MID(rawrtf!A254,FIND(\"TFPSTR\",rawrtf!A254,1)+6,3))","v":114},{"$f":"IF(ISERROR(B254),\"NOSTR\",VLOOKUP(B254,strlook!A:C,2,FALSE))","v":0},0]
[0,{"$f":"VALUE(MID(rawrtf!A255,FIND(\"TFPSTR\",rawrtf!A255,1)+6,3))","v":{"$error":"#VALUE!"}},{"$f":"IF(ISERROR(B255),\"NOSTR\",VLOOKUP(B255,strlook!A:C,2,FALSE))","v":"NOSTR"},"NOSTR"]
[1,{"$f":"VALUE(MID(rawrtf!A256,FIND(\"TFPSTR\",rawrtf!A256,1)+6,3))","v":103},{"$f":"IF(ISERROR(B256),\"NOSTR\",VLOOKUP(B256,strlook!A:C,2,FALSE))","v":"Missing Field - FirmNam-Ans1"},"Missing Field - FirmNam-Ans1"]
[1,{"$f":"VALUE(MID(rawrtf!A257,FIND(\"TFPSTR\",rawrtf!A257,1)+6,3))","v":115},{"$f":"IF(ISERROR(B257),\"NOSTR\",VLOOKUP(B257,strlook!A:C,2,FALSE))","v":"Missing Field - CompLst1-Ans1"},"Missing Field - CompLst1-Ans1"]
[1,{"$f":"VALUE(MID(rawrtf!A258,FIND(\"TFPSTR\",rawrtf!A258,1)+6,3))","v":116},{"$f":"IF(ISERROR(B258),\"NOSTR\",VLOOKUP(B258,strlook!A:C,2,FALSE))","v":0},0]
[1,{"$f":"VALUE(MID(rawrtf!A259,FIND(\"TFPSTR\",rawrtf!A259,1)+6,3))","v":117},{"$f":"IF(ISERROR(B259),\"NOSTR\",VLOOKUP(B259,strlook!A:C,2,FALSE))","v":"Missing Field - CompLst2-Ans1"},"Missing Field - CompLst2-Ans1"]
[1,{"$f":"VALUE(MID(rawrtf!A260,FIND(\"TFPSTR\",rawrtf!A260,1)+6,3))","v":118},{"$f":"IF(ISERROR(B260),\"NOSTR\",VLOOKUP(B260,strlook!A:C,2,FALSE))","v":0},0]
[1,{"$f":"VALUE(MID(rawrtf!A261,FIND(\"TFPSTR\",rawrtf!A261,1)+6,3))","v":119},{"$f":"IF(ISERROR(B261),\"NOSTR\",VLOOKUP(B261,strlook!A:C,2,FALSE))","v":"Missing Field - CompLst3-Ans1"},"Missing Field - CompLst3-Ans1"]
[1,{"$f":"VALUE(MID(rawrtf!A262,FIND(\"TFPSTR\",rawrtf!A262,1)+6,3))","v":120},{"$f":"IF(ISERROR(B262),\"NOSTR\",VLOOKUP(B262,strlook!A:C,2,FALSE))","v":0},0]
[1,{"$f":"VALUE(MID(rawrtf!A263,FIND(\"TFPSTR\",rawrtf!A263,1)+6,3))","v":121},{"$f":"IF(ISERROR(B263),\"NOSTR\",VLOOKUP(B263,strlook!A:C,2,FALSE))","v":"Missing Field - CompLst4-Ans1"},"Missing Field - CompLst4-Ans1"]
[1,{"$f":"VALUE(MID(rawrtf!A264,FIND(\"TFPSTR\",rawrtf!A264,1)+6,3))","v":122},{"$f":"IF(ISERROR(B264),\"NOSTR\",VLOOKUP(B264,strlook!A:C,2,FALSE))","v":0},0]
[1,{"$f":"VALUE(MID(rawrtf!A265,FIND(\"TFPSTR\",rawrtf!A265,1)+6,3))","v":123},{"$f":"IF(ISERROR(B265),\"NOSTR\",VLOOKUP(B265,strlook!A:C,2,FALSE))","v":"Missing Field - CompLst5-Ans1"},"Missing Field - CompLst5-Ans1"]
[1,{"$f":"VALUE(MID(rawrtf!A266,FIND(\"TFPSTR\",rawrtf!A266,1)+6,3))","v":124},{"$f":"IF(ISERROR(B266),\"NOSTR\",VLOOKUP(B266,strlook!A:C,2,FALSE))","v":0},0]
[1,{"$f":"VALUE(MID(rawrtf!A267,FIND(\"TFPSTR\",rawrtf!A267,1)+6,3))","v":125},{"$f":"IF(ISERROR(B267),\"NOSTR\",VLOOKUP(B267,strlook!A:C,2,FALSE))","v":"Missing Field - CompLst6-Ans1"},"Missing Field - CompLst6-Ans1"]
[1,{"$f":"VALUE(MID(rawrtf!A268,FIND(\"TFPSTR\",rawrtf!A268,1)+6,3))","v":126},{"$f":"IF(ISERROR(B268),\"NOSTR\",VLOOKUP(B268,strlook!A:C,2,FALSE))","v":0},0]
[1,{"$f":"VALUE(MID(rawrtf!A269,FIND(\"TFPSTR\",rawrtf!A269,1)+6,3))","v":127},{"$f":"IF(ISERROR(B269),\"NOSTR\",VLOOKUP(B269,strlook!A:C,2,FALSE))","v":"Missing Field - CompLst7-Ans1"},"Missing Field - CompLst7-Ans1"]
[1,{"$f":"VALUE(MID(rawrtf!A270,FIND(\"TFPSTR\",rawrtf!A270,1)+6,3))","v":128},{"$f":"IF(ISERROR(B270),\"NOSTR\",VLOOKUP(B270,strlook!A:C,2,FALSE))","v":0},0]
[1,{"$f":"VALUE(MID(rawrtf!A271,FIND(\"TFPSTR\",rawrtf!A271,1)+6,3))","v":129},{"$f":"IF(ISERROR(B271),\"NOSTR\",VLOOKUP(B271,strlook!A:C,2,FALSE))","v":"Missing Field - CompLst8-Ans1"},"Missing Field - CompLst8-Ans1"]
[1,{"$f":"VALUE(MID(rawrtf!A272,FIND(\"TFPSTR\",rawrtf!A272,1)+6,3))","v":130},{"$f":"IF(ISERROR(B272),\"NOSTR\",VLOOKUP(B272,strlook!A:C,2,FALSE))","v":0},0]
[1,{"$f":"VALUE(MID(rawrtf!A273,FIND(\"TFPSTR\",rawrtf!A273,1)+6,3))","v":131},{"$f":"IF(ISERROR(B273),\"NOSTR\",VLOOKUP(B273,strlook!A:C,2,FALSE))","v":"Missing Field - CompLst9-Ans1"},"Missing Field - CompLst9-Ans1"]
[1,{"$f":"VALUE(MID(rawrtf!A274,FIND(\"TFPSTR\",rawrtf!A274,1)+6,3))","v":132},{"$f":"IF(ISERROR(B274),\"NOSTR\",VLOOKUP(B274,strlook!A:C,2,FALSE))","v":0},0]
[0,{"$f":"VALUE(MID(rawrtf!A275,FIND(\"TFPSTR\",rawrtf!A275,1)+6,3))","v":{"$error":"#VALUE!"}},{"$f":"IF(ISERROR(B275),\"NOSTR\",VLOOKUP(B275,strlook!A:C,2,FALSE))","v":"NOSTR"},"NOSTR"]
[0,{"$f":"VALUE(MID(rawrtf!A276,FIND(\"TFPSTR\",rawrtf!A276,1)+6,3))","v":{"$error":"#VALUE!"}},{"$f":"IF(ISERROR(B276),\"NOSTR\",VLOOKUP(B276,strlook!A:C,2,FALSE))","v":"NOSTR"},"NOSTR"]
[1,{"$f":"VALUE(MID(rawrtf!A277,FIND(\"TFPSTR\",rawrtf!A277,1)+6,3))","v":106},{"$f":"IF(ISERROR(B277),\"NOSTR\",VLOOKUP(B277,strlook!A:C,2,FALSE))","v":"Missing Field - BusObj-Ans1"},"Missing Field - BusObj-Ans1"]
[0,{"$f":"VALUE(MID(rawrtf!A278,FIND(\"TFPSTR\",rawrtf!A278,1)+6,3))","v":{"$error":"#VALUE!"}},{"$f":"IF(ISERROR(B278),\"NOSTR\",VLOOKUP(B278,strlook!A:C,2,FALSE))","v":"NOSTR"},"NOSTR"]
[1,{"$f":"VALUE(MID(rawrtf!A279,FIND(\"TFPSTR\",rawrtf!A279,1)+6,3))","v":107},{"$f":"IF(ISERROR(B279),\"NOSTR\",VLOOKUP(B279,strlook!A:C,2,FALSE))","v":"Missing Field - MktObj-Ans1"},"Missing Field - MktObj-Ans1"]
[1,{"$f":"VALUE(MID(rawrtf!A280,FIND(\"TFPSTR\",rawrtf!A280,1)+6,3))","v":108},{"$f":"IF(ISERROR(B280),\"NOSTR\",VLOOKUP(B280,strlook!A:C,2,FALSE))","v":"£0"},"£0"]
[1,{"$f":"VALUE(MID(rawrtf!A281,FIND(\"TFPSTR\",rawrtf!A281,1)+6,3))","v":109},{"$f":"IF(ISERROR(B281),\"NOSTR\",VLOOKUP(B281,strlook!A:C,2,FALSE))","v":0},0]
[0,{"$f":"VALUE(MID(rawrtf!A282,FIND(\"TFPSTR\",rawrtf!A282,1)+6,3))","v":{"$error":"#VALUE!"}},{"$f":"IF(ISERROR(B282),\"NOSTR\",VLOOKUP(B282,strlook!A:C,2,FALSE))","v":"NOSTR"},"NOSTR"]
[0,{"$f":"VALUE(MID(rawrtf!A283,FIND(\"TFPSTR\",rawrtf!A283,1)+6,3))","v":{"$error":"#VALUE!"}},{"$f":"IF(ISERROR(B283),\"NOSTR\",VLOOKUP(B283,strlook!A:C,2,FALSE))","v":"NOSTR"},"NOSTR"]
[1,{"$f":"VALUE(MID(rawrtf!A284,FIND(\"TFPSTR\",rawrtf!A284,1)+6,3))","v":133},{"$f":"IF(ISERROR(B284),\"NOSTR\",VLOOKUP(B284,strlook!A:C,2,FALSE))","v":"Missing Field - TargAud-Ans1"},"Missing Field - TargAud-Ans1"]
[0,{"$f":"VALUE(MID(rawrtf!A285,FIND(\"TFPSTR\",rawrtf!A285,1)+6,3))","v":{"$error":"#VALUE!"}},{"$f":"IF(ISERROR(B285),\"NOSTR\",VLOOKUP(B285,strlook!A:C,2,FALSE))","v":"NOSTR"},"NOSTR"]
[0,{"$f":"VALUE(MID(rawrtf!A286,FIND(\"TFPSTR\",rawrtf!A286,1)+6,3))","v":{"$error":"#VALUE!"}},{"$f":"IF(ISERROR(B286),\"NOSTR\",VLOOKUP(B286,strlook!A:C,2,FALSE))","v":"NOSTR"},"NOSTR"]
[0,{"$f":"VALUE(MID(rawrtf!A287,FIND(\"TFPSTR\",rawrtf!A287,1)+6,3))","v":{"$error":"#VALUE!"}},{"$f":"IF(ISERROR(B287),\"NOSTR\",VLOOKUP(B287,strlook!A:C,2,FALSE))","v":"NOSTR"},"NOSTR"]
[0,{"$f":"VALUE(MID(rawrtf!A288,FIND(\"TFPSTR\",rawrtf!A288,1)+6,3))","v":{"$error":"#VALUE!"}},{"$f":"IF(ISERROR(B288),\"NOSTR\",VLOOKUP(B288,strlook!A:C,2,FALSE))","v":"NOSTR"},"NOSTR"]
[0,{"$f":"VALUE(MID(rawrtf!A289,FIND(\"TFPSTR\",rawrtf!A289,1)+6,3))","v":{"$error":"#VALUE!"}},{"$f":"IF(ISERROR(B289),\"NOSTR\",VLOOKUP(B289,strlook!A:C,2,FALSE))","v":"NOSTR"},"NOSTR"]
[0,{"$f":"VALUE(MID(rawrtf!A290,FIND(\"TFPSTR\",rawrtf!A290,1)+6,3))","v":{"$error":"#VALUE!"}},{"$f":"IF(ISERROR(B290),\"NOSTR\",VLOOKUP(B290,strlook!A:C,2,FALSE))","v":"NOSTR"},"NOSTR"]
[0,{"$f":"VALUE(MID(rawrtf!A291,FIND(\"TFPSTR\",rawrtf!A291,1)+6,3))","v":{"$error":"#VALUE!"}},{"$f":"IF(ISERROR(B291),\"NOSTR\",VLOOKUP(B291,strlook!A:C,2,FALSE))","v":"NOSTR"},"NOSTR"]
[0,{"$f":"VALUE(MID(rawrtf!A292,FIND(\"TFPSTR\",rawrtf!A292,1)+6,3))","v":{"$error":"#VALUE!"}},{"$f":"IF(ISERROR(B292),\"NOSTR\",VLOOKUP(B292,strlook!A:C,2,FALSE))","v":"NOSTR"},"NOSTR"]
[{"$f":"IF(ISERROR(B293),0,1)","v":1},{"$f":"VALUE(MID(rawrtf!A293,FIND(\"TFPSTR\",rawrtf!A293,1)+6,3))","v":136},{"$f":"IF(ISERROR(B293),\"NOSTR\",VLOOKUP(B293,strlook!A:C,2,FALSE))","v":"Missing Field - Prop-Ans1"},{"$f":"IF(ISNA(C293),\"ERROR MISSING TFPSTR \"&B293,C293)","v":"Missing Field - Prop-Ans1"}]
[1,{"$f":"VALUE(MID(rawrtf!A294,FIND(\"TFPSTR\",rawrtf!A294,1)+6,3))","v":137},{"$f":"IF(ISERROR(B294),\"NOSTR\",VLOOKUP(B294,strlook!A:C,2,FALSE))","v":"Missing Field - Subst-Ans1"},"Missing Field - Subst-Ans1"]
[0,{"$f":"VALUE(MID(rawrtf!A295,FIND(\"TFPSTR\",rawrtf!A295,1)+6,3))","v":{"$error":"#VALUE!"}},{"$f":"IF(ISERROR(B295),\"NOSTR\",VLOOKUP(B295,strlook!A:C,2,FALSE))","v":"NOSTR"},"NOSTR"]
[0,{"$f":"VALUE(MID(rawrtf!A296,FIND(\"TFPSTR\",rawrtf!A296,1)+6,3))","v":{"$error":"#VALUE!"}},{"$f":"IF(ISERROR(B296),\"NOSTR\",VLOOKUP(B296,strlook!A:C,2,FALSE))","v":"NOSTR"},"NOSTR"]
[0,{"$f":"VALUE(MID(rawrtf!A297,FIND(\"TFPSTR\",rawrtf!A297,1)+6,3))","v":{"$error":"#VALUE!"}},{"$f":"IF(ISERROR(B297),\"NOSTR\",VLOOKUP(B297,strlook!A:C,2,FALSE))","v":"NOSTR"},"NOSTR"]
[0,{"$f":"VALUE(MID(rawrtf!A298,FIND(\"TFPSTR\",rawrtf!A298,1)+6,3))","v":{"$error":"#VALUE!"}},{"$f":"IF(ISERROR(B298),\"NOSTR\",VLOOKUP(B298,strlook!A:C,2,FALSE))","v":"NOSTR"},"NOSTR"]
[0,{"$f":"VALUE(MID(rawrtf!A299,FIND(\"TFPSTR\",rawrtf!A299,1)+6,3))","v":{"$error":"#VALUE!"}},{"$f":"IF(ISERROR(B299),\"NOSTR\",VLOOKUP(B299,strlook!A:C,2,FALSE))","v":"NOSTR"},"NOSTR"]
[0,{"$f":"VALUE(MID(rawrtf!A300,FIND(\"TFPSTR\",rawrtf!A300,1)+6,3))","v":{"$error":"#VALUE!"}},{"$f":"IF(ISERROR(B300),\"NOSTR\",VLOOKUP(B300,strlook!A:C,2,FALSE))","v":"NOSTR"},"NOSTR"]
[1,{"$f":"VALUE(MID(rawrtf!A301,FIND(\"TFPSTR\",rawrtf!A301,1)+6,3))","v":193},{"$f":"IF(ISERROR(B301),\"NOSTR\",VLOOKUP(B301,strlook!A:C,2,FALSE))","v":"Missing Field - CORE MARKETING PROGRAMME - Alert1"},"Missing Field - CORE MARKETING PROGRAMME - Alert1"]
[1,{"$f":"VALUE(MID(rawrtf!A302,FIND(\"TFPSTR\",rawrtf!A302,1)+6,3))","v":194},{"$f":"IF(ISERROR(B302),\"NOSTR\",VLOOKUP(B302,strlook!A:C,2,FALSE))","v":"Missing Field - CORE MARKETING PROGRAMME - Alert2"},"Missing Field - CORE MARKETING PROGRAMME - Alert2"]
[1,{"$f":"VALUE(MID(rawrtf!A303,FIND(\"TFPSTR\",rawrtf!A303,1)+6,3))","v":195},{"$f":"IF(ISERROR(B303),\"NOSTR\",VLOOKUP(B303,strlook!A:C,2,FALSE))","v":"Missing Field - CORE MARKETING PROGRAMME - Alert3"},"Missing Field - CORE MARKETING PROGRAMME - Alert3"]
[1,{"$f":"VALUE(MID(rawrtf!A304,FIND(\"TFPSTR\",rawrtf!A304,1)+6,3))","v":196},{"$f":"IF(ISERROR(B304),\"NOSTR\",VLOOKUP(B304,strlook!A:C,2,FALSE))","v":"Missing Field - CORE MARKETING PROGRAMME - Alert4"},"Missing Field - CORE MARKETING PROGRAMME - Alert4"]
[1,{"$f":"VALUE(MID(rawrtf!A305,FIND(\"TFPSTR\",rawrtf!A305,1)+6,3))","v":197},{"$f":"IF(ISERROR(B305),\"NOSTR\",VLOOKUP(B305,strlook!A:C,2,FALSE))","v":"Missing Field - CORE MARKETING PROGRAMME - Alert5"},"Missing Field - CORE MARKETING PROGRAMME - Alert5"]
[1,{"$f":"VALUE(MID(rawrtf!A306,FIND(\"TFPSTR\",rawrtf!A306,1)+6,3))","v":198},{"$f":"IF(ISERROR(B306),\"NOSTR\",VLOOKUP(B306,strlook!A:C,2,FALSE))","v":"Missing Field - CORE MARKETING PROGRAMME - Alert6"},"Missing Field - CORE MARKETING PROGRAMME - Alert6"]
[1,{"$f":"VALUE(MID(rawrtf!A307,FIND(\"TFPSTR\",rawrtf!A307,1)+6,3))","v":199},{"$f":"IF(ISERROR(B307),\"NOSTR\",VLOOKUP(B307,strlook!A:C,2,FALSE))","v":"Missing Field - CORE MARKETING PROGRAMME - Alert7"},"Missing Field - CORE MARKETING PROGRAMME - Alert7"]
[1,{"$f":"VALUE(MID(rawrtf!A308,FIND(\"TFPSTR\",rawrtf!A308,1)+6,3))","v":200},{"$f":"IF(ISERROR(B308),\"NOSTR\",VLOOKUP(B308,strlook!A:C,2,FALSE))","v":"Missing Field - CORE MARKETING PROGRAMME - Alert8"},"Missing Field - CORE MARKETING PROGRAMME - Alert8"]
[1,{"$f":"VALUE(MID(rawrtf!A309,FIND(\"TFPSTR\",rawrtf!A309,1)+6,3))","v":201},{"$f":"IF(ISERROR(B309),\"NOSTR\",VLOOKUP(B309,strlook!A:C,2,FALSE))","v":"Missing Field - CORE MARKETING PROGRAMME - Alert9"},"Missing Field - CORE MARKETING PROGRAMME - Alert9"]
[1,{"$f":"VALUE(MID(rawrtf!A310,FIND(\"TFPSTR\",rawrtf!A310,1)+6,3))","v":202},{"$f":"IF(ISERROR(B310),\"NOSTR\",VLOOKUP(B310,strlook!A:C,2,FALSE))","v":"Missing Field - CORE MARKETING PROGRAMME - Alert10"},"Missing Field - CORE MARKETING PROGRAMME - Alert10"]
[1,{"$f":"VALUE(MID(rawrtf!A311,FIND(\"TFPSTR\",rawrtf!A311,1)+6,3))","v":203},{"$f":"IF(ISERROR(B311),\"NOSTR\",VLOOKUP(B311,strlook!A:C,2,FALSE))","v":"Missing Field - CORE MARKETING PROGRAMME - Alert11"},"Missing Field - CORE MARKETING PROGRAMME - Alert11"]
[1,{"$f":"VALUE(MID(rawrtf!A312,FIND(\"TFPSTR\",rawrtf!A312,1)+6,3))","v":204},{"$f":"IF(ISERROR(B312),\"NOSTR\",VLOOKUP(B312,strlook!A:C,2,FALSE))","v":"Missing Field - CORE MARKETING PROGRAMME - Alert12"},"Missing Field - CORE MARKETING PROGRAMME - Alert12"]
[1,{"$f":"VALUE(MID(rawrtf!A313,FIND(\"TFPSTR\",rawrtf!A313,1)+6,3))","v":205},{"$f":"IF(ISERROR(B313),\"NOSTR\",VLOOKUP(B313,strlook!A:C,2,FALSE))","v":"Missing Field - CORE MARKETING PROGRAMME - Alert13"},"Missing Field - CORE MARKETING PROGRAMME - Alert13"]
[1,{"$f":"VALUE(MID(rawrtf!A314,FIND(\"TFPSTR\",rawrtf!A314,1)+6,3))","v":206},{"$f":"IF(ISERROR(B314),\"NOSTR\",VLOOKUP(B314,strlook!A:C,2,FALSE))","v":"Missing Field - CORE MARKETING PROGRAMME - Alert14"},"Missing Field - CORE MARKETING PROGRAMME - Alert14"]
[1,{"$f":"VALUE(MID(rawrtf!A315,FIND(\"TFPSTR\",rawrtf!A315,1)+6,3))","v":207},{"$f":"IF(ISERROR(B315),\"NOSTR\",VLOOKUP(B315,strlook!A:C,2,FALSE))","v":"Missing Field - CORE MARKETING PROGRAMME - Alert15"},"Missing Field - CORE MARKETING PROGRAMME - Alert15"]
[1,{"$f":"VALUE(MID(rawrtf!A316,FIND(\"TFPSTR\",rawrtf!A316,1)+6,3))","v":208},{"$f":"IF(ISERROR(B316),\"NOSTR\",VLOOKUP(B316,strlook!A:C,2,FALSE))","v":"Missing Field - CORE MARKETING PROGRAMME - Alert16"},"Missing Field - CORE MARKETING PROGRAMME - Alert16"]
[1,{"$f":"VALUE(MID(rawrtf!A317,FIND(\"TFPSTR\",rawrtf!A317,1)+6,3))","v":209},{"$f":"IF(ISERROR(B317),\"NOSTR\",VLOOKUP(B317,strlook!A:C,2,FALSE))","v":"Missing Field - CORE MARKETING PROGRAMME - Alert17"},"Missing Field - CORE MARKETING PROGRAMME - Alert17"]
[1,{"$f":"VALUE(MID(rawrtf!A318,FIND(\"TFPSTR\",rawrtf!A318,1)+6,3))","v":210},{"$f":"IF(ISERROR(B318),\"NOSTR\",VLOOKUP(B318,strlook!A:C,2,FALSE))","v":"Missing Field - CORE MARKETING PROGRAMME - Alert18"},"Missing Field - CORE MARKETING PROGRAMME - Alert18"]
[1,{"$f":"VALUE(MID(rawrtf!A319,FIND(\"TFPSTR\",rawrtf!A319,1)+6,3))","v":211},{"$f":"IF(ISERROR(B319),\"NOSTR\",VLOOKUP(B319,strlook!A:C,2,FALSE))","v":"Missing Field - CORE MARKETING PROGRAMME - Alert19"},"Missing Field - CORE MARKETING PROGRAMME - Alert19"]
[1,{"$f":"VALUE(MID(rawrtf!A320,FIND(\"TFPSTR\",rawrtf!A320,1)+6,3))","v":212},{"$f":"IF(ISERROR(B320),\"NOSTR\",VLOOKUP(B320,strlook!A:C,2,FALSE))","v":"Missing Field - CORE MARKETING PROGRAMME - Alert20"},"Missing Field - CORE MARKETING PROGRAMME - Alert20"]
[0,{"$f":"VALUE(MID(rawrtf!A321,FIND(\"TFPSTR\",rawrtf!A321,1)+6,3))","v":{"$error":"#VALUE!"}},{"$f":"IF(ISERROR(B321),\"NOSTR\",VLOOKUP(B321,strlook!A:C,2,FALSE))","v":"NOSTR"},"NOSTR"]
[1,{"$f":"VALUE(MID(rawrtf!A322,FIND(\"TFPSTR\",rawrtf!A322,1)+6,3))","v":214},{"$f":"IF(ISERROR(B322),\"NOSTR\",VLOOKUP(B322,strlook!A:C,2,FALSE))","v":"Missing Field - CORE MARKETING PROGRAMME - Inform1"},"Missing Field - CORE MARKETING PROGRAMME - Inform1"]
[1,{"$f":"VALUE(MID(rawrtf!A323,FIND(\"TFPSTR\",rawrtf!A323,1)+6,3))","v":215},{"$f":"IF(ISERROR(B323),\"NOSTR\",VLOOKUP(B323,strlook!A:C,2,FALSE))","v":"Missing Field - CORE MARKETING PROGRAMME - Inform2"},"Missing Field - CORE MARKETING PROGRAMME - Inform2"]
[1,{"$f":"VALUE(MID(rawrtf!A324,FIND(\"TFPSTR\",rawrtf!A324,1)+6,3))","v":216},{"$f":"IF(ISERROR(B324),\"NOSTR\",VLOOKUP(B324,strlook!A:C,2,FALSE))","v":"Missing Field - CORE MARKETING PROGRAMME - Inform3"},"Missing Field - CORE MARKETING PROGRAMME - Inform3"]
[1,{"$f":"VALUE(MID(rawrtf!A325,FIND(\"TFPSTR\",rawrtf!A325,1)+6,3))","v":217},{"$f":"IF(ISERROR(B325),\"NOSTR\",VLOOKUP(B325,strlook!A:C,2,FALSE))","v":"Missing Field - CORE MARKETING PROGRAMME - Inform4"},"Missing Field - CORE MARKETING PROGRAMME - Inform4"]
[1,{"$f":"VALUE(MID(rawrtf!A326,FIND(\"TFPSTR\",rawrtf!A326,1)+6,3))","v":218},{"$f":"IF(ISERROR(B326),\"NOSTR\",VLOOKUP(B326,strlook!A:C,2,FALSE))","v":"Missing Field - CORE MARKETING PROGRAMME - Inform5"},"Missing Field - CORE MARKETING PROGRAMME - Inform5"]
[1,{"$f":"VALUE(MID(rawrtf!A327,FIND(\"TFPSTR\",rawrtf!A327,1)+6,3))","v":219},{"$f":"IF(ISERROR(B327),\"NOSTR\",VLOOKUP(B327,strlook!A:C,2,FALSE))","v":"Missing Field - CORE MARKETING PROGRAMME - Inform6"},"Missing Field - CORE MARKETING PROGRAMME - Inform6"]
[1,{"$f":"VALUE(MID(rawrtf!A328,FIND(\"TFPSTR\",rawrtf!A328,1)+6,3))","v":220},{"$f":"IF(ISERROR(B328),\"NOSTR\",VLOOKUP(B328,strlook!A:C,2,FALSE))","v":"Missing Field - CORE MARKETING PROGRAMME - Inform7"},"Missing Field - CORE MARKETING PROGRAMME - Inform7"]
[1,{"$f":"VALUE(MID(rawrtf!A329,FIND(\"TFPSTR\",rawrtf!A329,1)+6,3))","v":221},{"$f":"IF(ISERROR(B329),\"NOSTR\",VLOOKUP(B329,strlook!A:C,2,FALSE))","v":"Missing Field - CORE MARKETING PROGRAMME - Inform8"},"Missing Field - CORE MARKETING PROGRAMME - Inform8"]
[1,{"$f":"VALUE(MID(rawrtf!A330,FIND(\"TFPSTR\",rawrtf!A330,1)+6,3))","v":222},{"$f":"IF(ISERROR(B330),\"NOSTR\",VLOOKUP(B330,strlook!A:C,2,FALSE))","v":"Missing Field - CORE MARKETING PROGRAMME - Inform9"},"Missing Field - CORE MARKETING PROGRAMME - Inform9"]
[1,{"$f":"VALUE(MID(rawrtf!A331,FIND(\"TFPSTR\",rawrtf!A331,1)+6,3))","v":223},{"$f":"IF(ISERROR(B331),\"NOSTR\",VLOOKUP(B331,strlook!A:C,2,FALSE))","v":"Missing Field - CORE MARKETING PROGRAMME - Inform10"},"Missing Field - CORE MARKETING PROGRAMME - Inform10"]
[1,{"$f":"VALUE(MID(rawrtf!A332,FIND(\"TFPSTR\",rawrtf!A332,1)+6,3))","v":224},{"$f":"IF(ISERROR(B332),\"NOSTR\",VLOOKUP(B332,strlook!A:C,2,FALSE))","v":"Missing Field - CORE MARKETING PROGRAMME - Inform11"},"Missing Field - CORE MARKETING PROGRAMME - Inform11"]
[1,{"$f":"VALUE(MID(rawrtf!A333,FIND(\"TFPSTR\",rawrtf!A333,1)+6,3))","v":225},{"$f":"IF(ISERROR(B333),\"NOSTR\",VLOOKUP(B333,strlook!A:C,2,FALSE))","v":"Missing Field - CORE MARKETING PROGRAMME - Inform12"},"Missing Field - CORE MARKETING PROGRAMME - Inform12"]
[1,{"$f":"VALUE(MID(rawrtf!A334,FIND(\"TFPSTR\",rawrtf!A334,1)+6,3))","v":226},{"$f":"IF(ISERROR(B334),\"NOSTR\",VLOOKUP(B334,strlook!A:C,2,FALSE))","v":"Missing Field - CORE MARKETING PROGRAMME - Inform13"},"Missing Field - CORE MARKETING PROGRAMME - Inform13"]
[1,{"$f":"VALUE(MID(rawrtf!A335,FIND(\"TFPSTR\",rawrtf!A335,1)+6,3))","v":227},{"$f":"IF(ISERROR(B335),\"NOSTR\",VLOOKUP(B335,strlook!A:C,2,FALSE))","v":"Missing Field - CORE MARKETING PROGRAMME - Inform14"},"Missing Field - CORE MARKETING PROGRAMME - Inform14"]
[1,{"$f":"VALUE(MID(rawrtf!A336,FIND(\"TFPSTR\",rawrtf!A336,1)+6,3))","v":228},{"$f":"IF(ISERROR(B336),\"NOSTR\",VLOOKUP(B336,strlook!A:C,2,FALSE))","v":"Missing Field - CORE MARKETING PROGRAMME - Inform15"},"Missing Field - CORE MARKETING PROGRAMME - Inform15"]
[1,{"$f":"VALUE(MID(rawrtf!A337,FIND(\"TFPSTR\",rawrtf!A337,1)+6,3))","v":229},{"$f":"IF(ISERROR(B337),\"NOSTR\",VLOOKUP(B337,strlook!A:C,2,FALSE))","v":"Missing Field - CORE MARKETING PROGRAMME - Inform16"},"Missing Field - CORE MARKETING PROGRAMME - Inform16"]
[1,{"$f":"VALUE(MID(rawrtf!A338,FIND(\"TFPSTR\",rawrtf!A338,1)+6,3))","v":230},{"$f":"IF(ISERROR(B338),\"NOSTR\",VLOOKUP(B338,strlook!A:C,2,FALSE))","v":"Missing Field - CORE MARKETING PROGRAMME - Inform17"},"Missing Field - CORE MARKETING PROGRAMME - Inform17"]
[1,{"$f":"VALUE(MID(rawrtf!A339,FIND(\"TFPSTR\",rawrtf!A339,1)+6,3))","v":231},{"$f":"IF(ISERROR(B339),\"NOSTR\",VLOOKUP(B339,strlook!A:C,2,FALSE))","v":"Missing Field - CORE MARKETING PROGRAMME - Inform18"},"Missing Field - CORE MARKETING PROGRAMME - Inform18"]
[1,{"$f":"VALUE(MID(rawrtf!A340,FIND(\"TFPSTR\",rawrtf!A340,1)+6,3))","v":232},{"$f":"IF(ISERROR(B340),\"NOSTR\",VLOOKUP(B340,strlook!A:C,2,FALSE))","v":"Missing Field - CORE MARKETING PROGRAMME - Inform19"},"Missing Field - CORE MARKETING PROGRAMME - Inform19"]
[1,{"$f":"VALUE(MID(rawrtf!A341,FIND(\"TFPSTR\",rawrtf!A341,1)+6,3))","v":233},{"$f":"IF(ISERROR(B341),\"NOSTR\",VLOOKUP(B341,strlook!A:C,2,FALSE))","v":"Missing Field - CORE MARKETING PROGRAMME - Inform20"},"Missing Field - CORE MARKETING PROGRAMME - Inform20"]
[0,{"$f":"VALUE(MID(rawrtf!A342,FIND(\"TFPSTR\",rawrtf!A342,1)+6,3))","v":{"$error":"#VALUE!"}},{"$f":"IF(ISERROR(B342),\"NOSTR\",VLOOKUP(B342,strlook!A:C,2,FALSE))","v":"NOSTR"},"NOSTR"]
[1,{"$f":"VALUE(MID(rawrtf!A343,FIND(\"TFPSTR\",rawrtf!A343,1)+6,3))","v":235},{"$f":"IF(ISERROR(B343),\"NOSTR\",VLOOKUP(B343,strlook!A:C,2,FALSE))","v":"Missing Field - CORE MARKETING PROGRAMME - Set App1"},"Missing Field - CORE MARKETING PROGRAMME - Set App1"]
[1,{"$f":"VALUE(MID(rawrtf!A344,FIND(\"TFPSTR\",rawrtf!A344,1)+6,3))","v":236},{"$f":"IF(ISERROR(B344),\"NOSTR\",VLOOKUP(B344,strlook!A:C,2,FALSE))","v":"Missing Field - CORE MARKETING PROGRAMME - Set App2"},"Missing Field - CORE MARKETING PROGRAMME - Set App2"]
[1,{"$f":"VALUE(MID(rawrtf!A345,FIND(\"TFPSTR\",rawrtf!A345,1)+6,3))","v":237},{"$f":"IF(ISERROR(B345),\"NOSTR\",VLOOKUP(B345,strlook!A:C,2,FALSE))","v":"Missing Field - CORE MARKETING PROGRAMME - Set App3"},"Missing Field - CORE MARKETING PROGRAMME - Set App3"]
[1,{"$f":"VALUE(MID(rawrtf!A346,FIND(\"TFPSTR\",rawrtf!A346,1)+6,3))","v":238},{"$f":"IF(ISERROR(B346),\"NOSTR\",VLOOKUP(B346,strlook!A:C,2,FALSE))","v":"Missing Field - CORE MARKETING PROGRAMME - Set App4"},"Missing Field - CORE MARKETING PROGRAMME - Set App4"]
[1,{"$f":"VALUE(MID(rawrtf!A347,FIND(\"TFPSTR\",rawrtf!A347,1)+6,3))","v":239},{"$f":"IF(ISERROR(B347),\"NOSTR\",VLOOKUP(B347,strlook!A:C,2,FALSE))","v":"Missing Field - CORE MARKETING PROGRAMME - Set App5"},"Missing Field - CORE MARKETING PROGRAMME - Set App5"]
[1,{"$f":"VALUE(MID(rawrtf!A348,FIND(\"TFPSTR\",rawrtf!A348,1)+6,3))","v":240},{"$f":"IF(ISERROR(B348),\"NOSTR\",VLOOKUP(B348,strlook!A:C,2,FALSE))","v":"Missing Field - CORE MARKETING PROGRAMME - Set App6"},"Missing Field - CORE MARKETING PROGRAMME - Set App6"]
[1,{"$f":"VALUE(MID(rawrtf!A349,FIND(\"TFPSTR\",rawrtf!A349,1)+6,3))","v":241},{"$f":"IF(ISERROR(B349),\"NOSTR\",VLOOKUP(B349,strlook!A:C,2,FALSE))","v":"Missing Field - CORE MARKETING PROGRAMME - Set App7"},"Missing Field - CORE MARKETING PROGRAMME - Set App7"]
[1,{"$f":"VALUE(MID(rawrtf!A350,FIND(\"TFPSTR\",rawrtf!A350,1)+6,3))","v":242},{"$f":"IF(ISERROR(B350),\"NOSTR\",VLOOKUP(B350,strlook!A:C,2,FALSE))","v":"Missing Field - CORE MARKETING PROGRAMME - Set App8"},"Missing Field - CORE MARKETING PROGRAMME - Set App8"]
[1,{"$f":"VALUE(MID(rawrtf!A351,FIND(\"TFPSTR\",rawrtf!A351,1)+6,3))","v":243},{"$f":"IF(ISERROR(B351),\"NOSTR\",VLOOKUP(B351,strlook!A:C,2,FALSE))","v":"Missing Field - CORE MARKETING PROGRAMME - Set App9"},"Missing Field - CORE MARKETING PROGRAMME - Set App9"]
[1,{"$f":"VALUE(MID(rawrtf!A352,FIND(\"TFPSTR\",rawrtf!A352,1)+6,3))","v":244},{"$f":"IF(ISERROR(B352),\"NOSTR\",VLOOKUP(B352,strlook!A:C,2,FALSE))","v":"Missing Field - CORE MARKETING PROGRAMME - Set App10"},"Missing Field - CORE MARKETING PROGRAMME - Set App10"]
[1,{"$f":"VALUE(MID(rawrtf!A353,FIND(\"TFPSTR\",rawrtf!A353,1)+6,3))","v":245},{"$f":"IF(ISERROR(B353),\"NOSTR\",VLOOKUP(B353,strlook!A:C,2,FALSE))","v":"Missing Field - CORE MARKETING PROGRAMME - Set App11"},"Missing Field - CORE MARKETING PROGRAMME - Set App11"]
[1,{"$f":"VALUE(MID(rawrtf!A354,FIND(\"TFPSTR\",rawrtf!A354,1)+6,3))","v":246},{"$f":"IF(ISERROR(B354),\"NOSTR\",VLOOKUP(B354,strlook!A:C,2,FALSE))","v":"Missing Field - CORE MARKETING PROGRAMME - Set App12"},"Missing Field - CORE MARKETING PROGRAMME - Set App12"]
[1,{"$f":"VALUE(MID(rawrtf!A355,FIND(\"TFPSTR\",rawrtf!A355,1)+6,3))","v":247},{"$f":"IF(ISERROR(B355),\"NOSTR\",VLOOKUP(B355,strlook!A:C,2,FALSE))","v":"Missing Field - CORE MARKETING PROGRAMME - Set App13"},"Missing Field - CORE MARKETING PROGRAMME - Set App13"]
[1,{"$f":"VALUE(MID(rawrtf!A356,FIND(\"TFPSTR\",rawrtf!A356,1)+6,3))","v":248},{"$f":"IF(ISERROR(B356),\"NOSTR\",VLOOKUP(B356,strlook!A:C,2,FALSE))","v":"Missing Field - CORE MARKETING PROGRAMME - Set App14"},"Missing Field - CORE MARKETING PROGRAMME - Set App14"]
[{"$f":"IF(ISERROR(B357),0,1)","v":1},{"$f":"VALUE(MID(rawrtf!A357,FIND(\"TFPSTR\",rawrtf!A357,1)+6,3))","v":249},{"$f":"IF(ISERROR(B357),\"NOSTR\",VLOOKUP(B357,strlook!A:C,2,FALSE))","v":"Missing Field - CORE MARKETING PROGRAMME - Set App15"},{"$f":"IF(ISNA(C357),\"ERROR MISSING TFPSTR \"&B357,C357)","v":"Missing Field - CORE MARKETING PROGRAMME - Set App15"}]
[1,{"$f":"VALUE(MID(rawrtf!A358,FIND(\"TFPSTR\",rawrtf!A358,1)+6,3))","v":250},{"$f":"IF(ISERROR(B358),\"NOSTR\",VLOOKUP(B358,strlook!A:C,2,FALSE))","v":"Missing Field - CORE MARKETING PROGRAMME - Set App16"},"Missing Field - CORE MARKETING PROGRAMME - Set App16"]
[1,{"$f":"VALUE(MID(rawrtf!A359,FIND(\"TFPSTR\",rawrtf!A359,1)+6,3))","v":251},{"$f":"IF(ISERROR(B359),\"NOSTR\",VLOOKUP(B359,strlook!A:C,2,FALSE))","v":"Missing Field - CORE MARKETING PROGRAMME - Set App17"},"Missing Field - CORE MARKETING PROGRAMME - Set App17"]
[1,{"$f":"VALUE(MID(rawrtf!A360,FIND(\"TFPSTR\",rawrtf!A360,1)+6,3))","v":252},{"$f":"IF(ISERROR(B360),\"NOSTR\",VLOOKUP(B360,strlook!A:C,2,FALSE))","v":"Missing Field - CORE MARKETING PROGRAMME - Set App18"},"Missing Field - CORE MARKETING PROGRAMME - Set App18"]
[1,{"$f":"VALUE(MID(rawrtf!A361,FIND(\"TFPSTR\",rawrtf!A361,1)+6,3))","v":253},{"$f":"IF(ISERROR(B361),\"NOSTR\",VLOOKUP(B361,strlook!A:C,2,FALSE))","v":"Missing Field - CORE MARKETING PROGRAMME - Set App19"},"Missing Field - CORE MARKETING PROGRAMME - Set App19"]
[1,{"$f":"VALUE(MID(rawrtf!A362,FIND(\"TFPSTR\",rawrtf!A362,1)+6,3))","v":254},{"$f":"IF(ISERROR(B362),\"NOSTR\",VLOOKUP(B362,strlook!A:C,2,FALSE))","v":"Missing Field - CORE MARKETING PROGRAMME - Set App20"},"Missing Field - CORE MARKETING PROGRAMME - Set App20"]
[0,{"$f":"VALUE(MID(rawrtf!A363,FIND(\"TFPSTR\",rawrtf!A363,1)+6,3))","v":{"$error":"#VALUE!"}},{"$f":"IF(ISERROR(B363),\"NOSTR\",VLOOKUP(B363,strlook!A:C,2,FALSE))","v":"NOSTR"},"NOSTR"]
[1,{"$f":"VALUE(MID(rawrtf!A364,FIND(\"TFPSTR\",rawrtf!A364,1)+6,3))","v":256},{"$f":"IF(ISERROR(B364),\"NOSTR\",VLOOKUP(B364,strlook!A:C,2,FALSE))","v":"Missing Field - CORE MARKETING PROGRAMME - Close Sale1"},"Missing Field - CORE MARKETING PROGRAMME - Close Sale1"]
[1,{"$f":"VALUE(MID(rawrtf!A365,FIND(\"TFPSTR\",rawrtf!A365,1)+6,3))","v":257},{"$f":"IF(ISERROR(B365),\"NOSTR\",VLOOKUP(B365,strlook!A:C,2,FALSE))","v":"Missing Field - CORE MARKETING PROGRAMME - Close Sale2"},"Missing Field - CORE MARKETING PROGRAMME - Close Sale2"]
[1,{"$f":"VALUE(MID(rawrtf!A366,FIND(\"TFPSTR\",rawrtf!A366,1)+6,3))","v":258},{"$f":"IF(ISERROR(B366),\"NOSTR\",VLOOKUP(B366,strlook!A:C,2,FALSE))","v":"Missing Field - CORE MARKETING PROGRAMME - Close Sale3"},"Missing Field - CORE MARKETING PROGRAMME - Close Sale3"]
[1,{"$f":"VALUE(MID(rawrtf!A367,FIND(\"TFPSTR\",rawrtf!A367,1)+6,3))","v":259},{"$f":"IF(ISERROR(B367),\"NOSTR\",VLOOKUP(B367,strlook!A:C,2,FALSE))","v":"Missing Field - CORE MARKETING PROGRAMME - Close Sale4"},"Missing Field - CORE MARKETING PROGRAMME - Close Sale4"]
[1,{"$f":"VALUE(MID(rawrtf!A368,FIND(\"TFPSTR\",rawrtf!A368,1)+6,3))","v":260},{"$f":"IF(ISERROR(B368),\"NOSTR\",VLOOKUP(B368,strlook!A:C,2,FALSE))","v":"Missing Field - CORE MARKETING PROGRAMME - Close Sale5"},"Missing Field - CORE MARKETING PROGRAMME - Close Sale5"]
[1,{"$f":"VALUE(MID(rawrtf!A369,FIND(\"TFPSTR\",rawrtf!A369,1)+6,3))","v":261},{"$f":"IF(ISERROR(B369),\"NOSTR\",VLOOKUP(B369,strlook!A:C,2,FALSE))","v":"Missing Field - CORE MARKETING PROGRAMME - Close Sale6"},"Missing Field - CORE MARKETING PROGRAMME - Close Sale6"]
[1,{"$f":"VALUE(MID(rawrtf!A370,FIND(\"TFPSTR\",rawrtf!A370,1)+6,3))","v":262},{"$f":"IF(ISERROR(B370),\"NOSTR\",VLOOKUP(B370,strlook!A:C,2,FALSE))","v":"Missing Field - CORE MARKETING PROGRAMME - Close Sale7"},"Missing Field - CORE MARKETING PROGRAMME - Close Sale7"]
[1,{"$f":"VALUE(MID(rawrtf!A371,FIND(\"TFPSTR\",rawrtf!A371,1)+6,3))","v":263},{"$f":"IF(ISERROR(B371),\"NOSTR\",VLOOKUP(B371,strlook!A:C,2,FALSE))","v":"Missing Field - CORE MARKETING PROGRAMME - Close Sale8"},"Missing Field - CORE MARKETING PROGRAMME - Close Sale8"]
[1,{"$f":"VALUE(MID(rawrtf!A372,FIND(\"TFPSTR\",rawrtf!A372,1)+6,3))","v":264},{"$f":"IF(ISERROR(B372),\"NOSTR\",VLOOKUP(B372,strlook!A:C,2,FALSE))","v":"Missing Field - CORE MARKETING PROGRAMME - Close Sale9"},"Missing Field - CORE MARKETING PROGRAMME - Close Sale9"]
[1,{"$f":"VALUE(MID(rawrtf!A373,FIND(\"TFPSTR\",rawrtf!A373,1)+6,3))","v":265},{"$f":"IF(ISERROR(B373),\"NOSTR\",VLOOKUP(B373,strlook!A:C,2,FALSE))","v":"Missing Field - CORE MARKETING PROGRAMME - Close Sale10"},"Missing Field - CORE MARKETING PROGRAMME - Close Sale10"]
[1,{"$f":"VALUE(MID(rawrtf!A374,FIND(\"TFPSTR\",rawrtf!A374,1)+6,3))","v":266},{"$f":"IF(ISERROR(B374),\"NOSTR\",VLOOKUP(B374,strlook!A:C,2,FALSE))","v":"Missing Field - CORE MARKETING PROGRAMME - Close Sale11"},"Missing Field - CORE MARKETING PROGRAMME - Close Sale11"]
[1,{"$f":"VALUE(MID(rawrtf!A375,FIND(\"TFPSTR\",rawrtf!A375,1)+6,3))","v":267},{"$f":"IF(ISERROR(B375),\"NOSTR\",VLOOKUP(B375,strlook!A:C,2,FALSE))","v":"Missing Field - CORE MARKETING PROGRAMME - Close Sale12"},"Missing Field - CORE MARKETING PROGRAMME - Close Sale12"]
[1,{"$f":"VALUE(MID(rawrtf!A376,FIND(\"TFPSTR\",rawrtf!A376,1)+6,3))","v":268},{"$f":"IF(ISERROR(B376),\"NOSTR\",VLOOKUP(B376,strlook!A:C,2,FALSE))","v":"Missing Field - CORE MARKETING PROGRAMME - Close Sale13"},"Missing Field - CORE MARKETING PROGRAMME - Close Sale13"]
[1,{"$f":"VALUE(MID(rawrtf!A377,FIND(\"TFPSTR\",rawrtf!A377,1)+6,3))","v":269},{"$f":"IF(ISERROR(B377),\"NOSTR\",VLOOKUP(B377,strlook!A:C,2,FALSE))","v":"Missing Field - CORE MARKETING PROGRAMME - Close Sale14"},"Missing Field - CORE MARKETING PROGRAMME - Close Sale14"]
[1,{"$f":"VALUE(MID(rawrtf!A378,FIND(\"TFPSTR\",rawrtf!A378,1)+6,3))","v":270},{"$f":"IF(ISERROR(B378),\"NOSTR\",VLOOKUP(B378,strlook!A:C,2,FALSE))","v":"Missing Field - CORE MARKETING PROGRAMME - Close Sale15"},"Missing Field - CORE MARKETING PROGRAMME - Close Sale15"]
[1,{"$f":"VALUE(MID(rawrtf!A379,FIND(\"TFPSTR\",rawrtf!A379,1)+6,3))","v":271},{"$f":"IF(ISERROR(B379),\"NOSTR\",VLOOKUP(B379,strlook!A:C,2,FALSE))","v":"Missing Field - CORE MARKETING PROGRAMME - Close Sale16"},"Missing Field - CORE MARKETING PROGRAMME - Close Sale16"]
[1,{"$f":"VALUE(MID(rawrtf!A380,FIND(\"TFPSTR\",rawrtf!A380,1)+6,3))","v":272},{"$f":"IF(ISERROR(B380),\"NOSTR\",VLOOKUP(B380,strlook!A:C,2,FALSE))","v":"Missing Field - CORE MARKETING PROGRAMME - Close Sale17"},"Missing Field - CORE MARKETING PROGRAMME - Close Sale17"]
[1,{"$f":"VALUE(MID(rawrtf!A381,FIND(\"TFPSTR\",rawrtf!A381,1)+6,3))","v":273},{"$f":"IF(ISERROR(B381),\"NOSTR\",VLOOKUP(B381,strlook!A:C,2,FALSE))","v":"Missing Field - CORE MARKETING PROGRAMME - Close Sale18"},"Missing Field - CORE MARKETING PROGRAMME - Close Sale18"]
[1,{"$f":"VALUE(MID(rawrtf!A382,FIND(\"TFPSTR\",rawrtf!A382,1)+6,3))","v":274},{"$f":"IF(ISERROR(B382),\"NOSTR\",VLOOKUP(B382,strlook!A:C,2,FALSE))","v":"Missing Field - CORE MARKETING PROGRAMME - Close Sale19"},"Missing Field - CORE MARKETING PROGRAMME - Close Sale19"]
[1,{"$f":"VALUE(MID(rawrtf!A383,FIND(\"TFPSTR\",rawrtf!A383,1)+6,3))","v":275},{"$f":"IF(ISERROR(B383),\"NOSTR\",VLOOKUP(B383,strlook!A:C,2,FALSE))","v":"Missing Field - CORE MARKETING PROGRAMME - Close Sale20"},"Missing Field - CORE MARKETING PROGRAMME - Close Sale20"]
[0,{"$f":"VALUE(MID(rawrtf!A384,FIND(\"TFPSTR\",rawrtf!A384,1)+6,3))","v":{"$error":"#VALUE!"}},{"$f":"IF(ISERROR(B384),\"NOSTR\",VLOOKUP(B384,strlook!A:C,2,FALSE))","v":"NOSTR"},"NOSTR"]
[0,{"$f":"VALUE(MID(rawrtf!A385,FIND(\"TFPSTR\",rawrtf!A385,1)+6,3))","v":{"$error":"#VALUE!"}},{"$f":"IF(ISERROR(B385),\"NOSTR\",VLOOKUP(B385,strlook!A:C,2,FALSE))","v":"NOSTR"},"NOSTR"]
[0,{"$f":"VALUE(MID(rawrtf!A386,FIND(\"TFPSTR\",rawrtf!A386,1)+6,3))","v":{"$error":"#VALUE!"}},{"$f":"IF(ISERROR(B386),\"NOSTR\",VLOOKUP(B386,strlook!A:C,2,FALSE))","v":"NOSTR"},"NOSTR"]
[1,{"$f":"VALUE(MID(rawrtf!A387,FIND(\"TFPSTR\",rawrtf!A387,1)+6,3))","v":171},{"$f":"IF(ISERROR(B387),\"NOSTR\",VLOOKUP(B387,strlook!A:C,2,FALSE))","v":"Missing Field - PPLst1-Ans1"},"Missing Field - PPLst1-Ans1"]
[1,{"$f":"VALUE(MID(rawrtf!A388,FIND(\"TFPSTR\",rawrtf!A388,1)+6,3))","v":172},{"$f":"IF(ISERROR(B388),\"NOSTR\",VLOOKUP(B388,strlook!A:C,2,FALSE))","v":"Missing Field - PPLst1-Ans2"},"Missing Field - PPLst1-Ans2"]
[1,{"$f":"VALUE(MID(rawrtf!A389,FIND(\"TFPSTR\",rawrtf!A389,1)+6,3))","v":173},{"$f":"IF(ISERROR(B389),\"NOSTR\",VLOOKUP(B389,strlook!A:C,2,FALSE))","v":"Missing Field - PPLst2-Ans1"},"Missing Field - PPLst2-Ans1"]
[1,{"$f":"VALUE(MID(rawrtf!A390,FIND(\"TFPSTR\",rawrtf!A390,1)+6,3))","v":174},{"$f":"IF(ISERROR(B390),\"NOSTR\",VLOOKUP(B390,strlook!A:C,2,FALSE))","v":"Missing Field - PPLst2-Ans2"},"Missing Field - PPLst2-Ans2"]
[1,{"$f":"VALUE(MID(rawrtf!A391,FIND(\"TFPSTR\",rawrtf!A391,1)+6,3))","v":175},{"$f":"IF(ISERROR(B391),\"NOSTR\",VLOOKUP(B391,strlook!A:C,2,FALSE))","v":"Missing Field - PPLst3-Ans1"},"Missing Field - PPLst3-Ans1"]
[1,{"$f":"VALUE(MID(rawrtf!A392,FIND(\"TFPSTR\",rawrtf!A392,1)+6,3))","v":176},{"$f":"IF(ISERROR(B392),\"NOSTR\",VLOOKUP(B392,strlook!A:C,2,FALSE))","v":"Missing Field - PPLst3-Ans2"},"Missing Field - PPLst3-Ans2"]
[1,{"$f":"VALUE(MID(rawrtf!A393,FIND(\"TFPSTR\",rawrtf!A393,1)+6,3))","v":177},{"$f":"IF(ISERROR(B393),\"NOSTR\",VLOOKUP(B393,strlook!A:C,2,FALSE))","v":"Missing Field - PPLst4-Ans1"},"Missing Field - PPLst4-Ans1"]
[1,{"$f":"VALUE(MID(rawrtf!A394,FIND(\"TFPSTR\",rawrtf!A394,1)+6,3))","v":178},{"$f":"IF(ISERROR(B394),\"NOSTR\",VLOOKUP(B394,strlook!A:C,2,FALSE))","v":"Missing Field - PPLst4-Ans2"},"Missing Field - PPLst4-Ans2"]
[1,{"$f":"VALUE(MID(rawrtf!A395,FIND(\"TFPSTR\",rawrtf!A395,1)+6,3))","v":179},{"$f":"IF(ISERROR(B395),\"NOSTR\",VLOOKUP(B395,strlook!A:C,2,FALSE))","v":"Missing Field - PPLst5-Ans1"},"Missing Field - PPLst5-Ans1"]
[1,{"$f":"VALUE(MID(rawrtf!A396,FIND(\"TFPSTR\",rawrtf!A396,1)+6,3))","v":180},{"$f":"IF(ISERROR(B396),\"NOSTR\",VLOOKUP(B396,strlook!A:C,2,FALSE))","v":"Missing Field - PPLst5-Ans2"},"Missing Field - PPLst5-Ans2"]
[1,{"$f":"VALUE(MID(rawrtf!A397,FIND(\"TFPSTR\",rawrtf!A397,1)+6,3))","v":181},{"$f":"IF(ISERROR(B397),\"NOSTR\",VLOOKUP(B397,strlook!A:C,2,FALSE))","v":"Missing Field - PPLst6-Ans1"},"Missing Field - PPLst6-Ans1"]
[1,{"$f":"VALUE(MID(rawrtf!A398,FIND(\"TFPSTR\",rawrtf!A398,1)+6,3))","v":182},{"$f":"IF(ISERROR(B398),\"NOSTR\",VLOOKUP(B398,strlook!A:C,2,FALSE))","v":"Missing Field - PPLst6-Ans2"},"Missing Field - PPLst6-Ans2"]
[1,{"$f":"VALUE(MID(rawrtf!A399,FIND(\"TFPSTR\",rawrtf!A399,1)+6,3))","v":183},{"$f":"IF(ISERROR(B399),\"NOSTR\",VLOOKUP(B399,strlook!A:C,2,FALSE))","v":"Missing Field - PPLst7-Ans1"},"Missing Field - PPLst7-Ans1"]
[1,{"$f":"VALUE(MID(rawrtf!A400,FIND(\"TFPSTR\",rawrtf!A400,1)+6,3))","v":184},{"$f":"IF(ISERROR(B400),\"NOSTR\",VLOOKUP(B400,strlook!A:C,2,FALSE))","v":"Missing Field - PPLst7-Ans2"},"Missing Field - PPLst7-Ans2"]
[1,{"$f":"VALUE(MID(rawrtf!A401,FIND(\"TFPSTR\",rawrtf!A401,1)+6,3))","v":185},{"$f":"IF(ISERROR(B401),\"NOSTR\",VLOOKUP(B401,strlook!A:C,2,FALSE))","v":"Missing Field - PPLst8-Ans1"},"Missing Field - PPLst8-Ans1"]
[1,{"$f":"VALUE(MID(rawrtf!A402,FIND(\"TFPSTR\",rawrtf!A402,1)+6,3))","v":186},{"$f":"IF(ISERROR(B402),\"NOSTR\",VLOOKUP(B402,strlook!A:C,2,FALSE))","v":"Missing Field - PPLst8-Ans2"},"Missing Field - PPLst8-Ans2"]
[1,{"$f":"VALUE(MID(rawrtf!A403,FIND(\"TFPSTR\",rawrtf!A403,1)+6,3))","v":187},{"$f":"IF(ISERROR(B403),\"NOSTR\",VLOOKUP(B403,strlook!A:C,2,FALSE))","v":"Missing Field - PPLst9-Ans1"},"Missing Field - PPLst9-Ans1"]
[1,{"$f":"VALUE(MID(rawrtf!A404,FIND(\"TFPSTR\",rawrtf!A404,1)+6,3))","v":188},{"$f":"IF(ISERROR(B404),\"NOSTR\",VLOOKUP(B404,strlook!A:C,2,FALSE))","v":"Missing Field - PPLst9-Ans2"},"Missing Field - PPLst9-Ans2"]
[0,{"$f":"VALUE(MID(rawrtf!A405,FIND(\"TFPSTR\",rawrtf!A405,1)+6,3))","v":{"$error":"#VALUE!"}},{"$f":"IF(ISERROR(B405),\"NOSTR\",VLOOKUP(B405,strlook!A:C,2,FALSE))","v":"NOSTR"},"NOSTR"]
[0,{"$f":"VALUE(MID(rawrtf!A406,FIND(\"TFPSTR\",rawrtf!A406,1)+6,3))","v":{"$error":"#VALUE!"}},{"$f":"IF(ISERROR(B406),\"NOSTR\",VLOOKUP(B406,strlook!A:C,2,FALSE))","v":"NOSTR"},"NOSTR"]
[1,{"$f":"VALUE(MID(rawrtf!A407,FIND(\"TFPSTR\",rawrtf!A407,1)+6,3))","v":278},{"$f":"IF(ISERROR(B407),\"NOSTR\",VLOOKUP(B407,strlook!A:C,2,FALSE))","v":"Missing Field - SALES PROMOTIONS - Alert1"},"Missing Field - SALES PROMOTIONS - Alert1"]
[1,{"$f":"VALUE(MID(rawrtf!A408,FIND(\"TFPSTR\",rawrtf!A408,1)+6,3))","v":279},{"$f":"IF(ISERROR(B408),\"NOSTR\",VLOOKUP(B408,strlook!A:C,2,FALSE))","v":"Missing Field - SALES PROMOTIONS - Alert2"},"Missing Field - SALES PROMOTIONS - Alert2"]
[1,{"$f":"VALUE(MID(rawrtf!A409,FIND(\"TFPSTR\",rawrtf!A409,1)+6,3))","v":280},{"$f":"IF(ISERROR(B409),\"NOSTR\",VLOOKUP(B409,strlook!A:C,2,FALSE))","v":"Missing Field - SALES PROMOTIONS - Alert3"},"Missing Field - SALES PROMOTIONS - Alert3"]
[1,{"$f":"VALUE(MID(rawrtf!A410,FIND(\"TFPSTR\",rawrtf!A410,1)+6,3))","v":281},{"$f":"IF(ISERROR(B410),\"NOSTR\",VLOOKUP(B410,strlook!A:C,2,FALSE))","v":"Missing Field - SALES PROMOTIONS - Alert4"},"Missing Field - SALES PROMOTIONS - Alert4"]
[1,{"$f":"VALUE(MID(rawrtf!A411,FIND(\"TFPSTR\",rawrtf!A411,1)+6,3))","v":282},{"$f":"IF(ISERROR(B411),\"NOSTR\",VLOOKUP(B411,strlook!A:C,2,FALSE))","v":"Missing Field - SALES PROMOTIONS - Alert5"},"Missing Field - SALES PROMOTIONS - Alert5"]
[1,{"$f":"VALUE(MID(rawrtf!A412,FIND(\"TFPSTR\",rawrtf!A412,1)+6,3))","v":283},{"$f":"IF(ISERROR(B412),\"NOSTR\",VLOOKUP(B412,strlook!A:C,2,FALSE))","v":"Missing Field - SALES PROMOTIONS - Alert6"},"Missing Field - SALES PROMOTIONS - Alert6"]
[1,{"$f":"VALUE(MID(rawrtf!A413,FIND(\"TFPSTR\",rawrtf!A413,1)+6,3))","v":284},{"$f":"IF(ISERROR(B413),\"NOSTR\",VLOOKUP(B413,strlook!A:C,2,FALSE))","v":"Missing Field - SALES PROMOTIONS - Alert7"},"Missing Field - SALES PROMOTIONS - Alert7"]
[1,{"$f":"VALUE(MID(rawrtf!A414,FIND(\"TFPSTR\",rawrtf!A414,1)+6,3))","v":285},{"$f":"IF(ISERROR(B414),\"NOSTR\",VLOOKUP(B414,strlook!A:C,2,FALSE))","v":"Missing Field - SALES PROMOTIONS - Alert8"},"Missing Field - SALES PROMOTIONS - Alert8"]
[1,{"$f":"VALUE(MID(rawrtf!A415,FIND(\"TFPSTR\",rawrtf!A415,1)+6,3))","v":286},{"$f":"IF(ISERROR(B415),\"NOSTR\",VLOOKUP(B415,strlook!A:C,2,FALSE))","v":"Missing Field - SALES PROMOTIONS - Alert9"},"Missing Field - SALES PROMOTIONS - Alert9"]
[1,{"$f":"VALUE(MID(rawrtf!A416,FIND(\"TFPSTR\",rawrtf!A416,1)+6,3))","v":287},{"$f":"IF(ISERROR(B416),\"NOSTR\",VLOOKUP(B416,strlook!A:C,2,FALSE))","v":"Missing Field - SALES PROMOTIONS - Alert10"},"Missing Field - SALES PROMOTIONS - Alert10"]
[1,{"$f":"VALUE(MID(rawrtf!A417,FIND(\"TFPSTR\",rawrtf!A417,1)+6,3))","v":288},{"$f":"IF(ISERROR(B417),\"NOSTR\",VLOOKUP(B417,strlook!A:C,2,FALSE))","v":"Missing Field - SALES PROMOTIONS - Alert11"},"Missing Field - SALES PROMOTIONS - Alert11"]
[1,{"$f":"VALUE(MID(rawrtf!A418,FIND(\"TFPSTR\",rawrtf!A418,1)+6,3))","v":289},{"$f":"IF(ISERROR(B418),\"NOSTR\",VLOOKUP(B418,strlook!A:C,2,FALSE))","v":"Missing Field - SALES PROMOTIONS - Alert12"},"Missing Field - SALES PROMOTIONS - Alert12"]
[1,{"$f":"VALUE(MID(rawrtf!A419,FIND(\"TFPSTR\",rawrtf!A419,1)+6,3))","v":290},{"$f":"IF(ISERROR(B419),\"NOSTR\",VLOOKUP(B419,strlook!A:C,2,FALSE))","v":"Missing Field - SALES PROMOTIONS - Alert13"},"Missing Field - SALES PROMOTIONS - Alert13"]
[1,{"$f":"VALUE(MID(rawrtf!A420,FIND(\"TFPSTR\",rawrtf!A420,1)+6,3))","v":291},{"$f":"IF(ISERROR(B420),\"NOSTR\",VLOOKUP(B420,strlook!A:C,2,FALSE))","v":"Missing Field - SALES PROMOTIONS - Alert14"},"Missing Field - SALES PROMOTIONS - Alert14"]
[{"$f":"IF(ISERROR(B421),0,1)","v":1},{"$f":"VALUE(MID(rawrtf!A421,FIND(\"TFPSTR\",rawrtf!A421,1)+6,3))","v":292},{"$f":"IF(ISERROR(B421),\"NOSTR\",VLOOKUP(B421,strlook!A:C,2,FALSE))","v":"Missing Field - SALES PROMOTIONS - Alert15"},{"$f":"IF(ISNA(C421),\"ERROR MISSING TFPSTR \"&B421,C421)","v":"Missing Field - SALES PROMOTIONS - Alert15"}]
[1,{"$f":"VALUE(MID(rawrtf!A422,FIND(\"TFPSTR\",rawrtf!A422,1)+6,3))","v":293},{"$f":"IF(ISERROR(B422),\"NOSTR\",VLOOKUP(B422,strlook!A:C,2,FALSE))","v":"Missing Field - SALES PROMOTIONS - Alert16"},"Missing Field - SALES PROMOTIONS - Alert16"]
[1,{"$f":"VALUE(MID(rawrtf!A423,FIND(\"TFPSTR\",rawrtf!A423,1)+6,3))","v":294},{"$f":"IF(ISERROR(B423),\"NOSTR\",VLOOKUP(B423,strlook!A:C,2,FALSE))","v":"Missing Field - SALES PROMOTIONS - Alert17"},"Missing Field - SALES PROMOTIONS - Alert17"]
[1,{"$f":"VALUE(MID(rawrtf!A424,FIND(\"TFPSTR\",rawrtf!A424,1)+6,3))","v":295},{"$f":"IF(ISERROR(B424),\"NOSTR\",VLOOKUP(B424,strlook!A:C,2,FALSE))","v":"Missing Field - SALES PROMOTIONS - Alert18"},"Missing Field - SALES PROMOTIONS - Alert18"]
[1,{"$f":"VALUE(MID(rawrtf!A425,FIND(\"TFPSTR\",rawrtf!A425,1)+6,3))","v":296},{"$f":"IF(ISERROR(B425),\"NOSTR\",VLOOKUP(B425,strlook!A:C,2,FALSE))","v":"Missing Field - SALES PROMOTIONS - Alert19"},"Missing Field - SALES PROMOTIONS - Alert19"]
[1,{"$f":"VALUE(MID(rawrtf!A426,FIND(\"TFPSTR\",rawrtf!A426,1)+6,3))","v":297},{"$f":"IF(ISERROR(B426),\"NOSTR\",VLOOKUP(B426,strlook!A:C,2,FALSE))","v":"Missing Field - SALES PROMOTIONS - Alert20"},"Missing Field - SALES PROMOTIONS - Alert20"]
[1,{"$f":"VALUE(MID(rawrtf!A427,FIND(\"TFPSTR\",rawrtf!A427,1)+6,3))","v":103},{"$f":"IF(ISERROR(B427),\"NOSTR\",VLOOKUP(B427,strlook!A:C,2,FALSE))","v":"Missing Field - FirmNam-Ans1"},"Missing Field - FirmNam-Ans1"]
[1,{"$f":"VALUE(MID(rawrtf!A428,FIND(\"TFPSTR\",rawrtf!A428,1)+6,3))","v":299},{"$f":"IF(ISERROR(B428),\"NOSTR\",VLOOKUP(B428,strlook!A:C,2,FALSE))","v":"Missing Field - SALES PROMOTIONS - Inform1"},"Missing Field - SALES PROMOTIONS - Inform1"]
[1,{"$f":"VALUE(MID(rawrtf!A429,FIND(\"TFPSTR\",rawrtf!A429,1)+6,3))","v":300},{"$f":"IF(ISERROR(B429),\"NOSTR\",VLOOKUP(B429,strlook!A:C,2,FALSE))","v":"Missing Field - SALES PROMOTIONS - Inform2"},"Missing Field - SALES PROMOTIONS - Inform2"]
[1,{"$f":"VALUE(MID(rawrtf!A430,FIND(\"TFPSTR\",rawrtf!A430,1)+6,3))","v":301},{"$f":"IF(ISERROR(B430),\"NOSTR\",VLOOKUP(B430,strlook!A:C,2,FALSE))","v":"Missing Field - SALES PROMOTIONS - Inform3"},"Missing Field - SALES PROMOTIONS - Inform3"]
[1,{"$f":"VALUE(MID(rawrtf!A431,FIND(\"TFPSTR\",rawrtf!A431,1)+6,3))","v":302},{"$f":"IF(ISERROR(B431),\"NOSTR\",VLOOKUP(B431,strlook!A:C,2,FALSE))","v":"Missing Field - SALES PROMOTIONS - Inform4"},"Missing Field - SALES PROMOTIONS - Inform4"]
[1,{"$f":"VALUE(MID(rawrtf!A432,FIND(\"TFPSTR\",rawrtf!A432,1)+6,3))","v":303},{"$f":"IF(ISERROR(B432),\"NOSTR\",VLOOKUP(B432,strlook!A:C,2,FALSE))","v":"Missing Field - SALES PROMOTIONS - Inform5"},"Missing Field - SALES PROMOTIONS - Inform5"]
[1,{"$f":"VALUE(MID(rawrtf!A433,FIND(\"TFPSTR\",rawrtf!A433,1)+6,3))","v":304},{"$f":"IF(ISERROR(B433),\"NOSTR\",VLOOKUP(B433,strlook!A:C,2,FALSE))","v":"Missing Field - SALES PROMOTIONS - Inform6"},"Missing Field - SALES PROMOTIONS - Inform6"]
[1,{"$f":"VALUE(MID(rawrtf!A434,FIND(\"TFPSTR\",rawrtf!A434,1)+6,3))","v":305},{"$f":"IF(ISERROR(B434),\"NOSTR\",VLOOKUP(B434,strlook!A:C,2,FALSE))","v":"Missing Field - SALES PROMOTIONS - Inform7"},"Missing Field - SALES PROMOTIONS - Inform7"]
[1,{"$f":"VALUE(MID(rawrtf!A435,FIND(\"TFPSTR\",rawrtf!A435,1)+6,3))","v":306},{"$f":"IF(ISERROR(B435),\"NOSTR\",VLOOKUP(B435,strlook!A:C,2,FALSE))","v":"Missing Field - SALES PROMOTIONS - Inform8"},"Missing Field - SALES PROMOTIONS - Inform8"]
[1,{"$f":"VALUE(MID(rawrtf!A436,FIND(\"TFPSTR\",rawrtf!A436,1)+6,3))","v":307},{"$f":"IF(ISERROR(B436),\"NOSTR\",VLOOKUP(B436,strlook!A:C,2,FALSE))","v":"Missing Field - SALES PROMOTIONS - Inform9"},"Missing Field - SALES PROMOTIONS - Inform9"]
[1,{"$f":"VALUE(MID(rawrtf!A437,FIND(\"TFPSTR\",rawrtf!A437,1)+6,3))","v":308},{"$f":"IF(ISERROR(B437),\"NOSTR\",VLOOKUP(B437,strlook!A:C,2,FALSE))","v":"Missing Field - SALES PROMOTIONS - Inform10"},"Missing Field - SALES PROMOTIONS - Inform10"]
[1,{"$f":"VALUE(MID(rawrtf!A438,FIND(\"TFPSTR\",rawrtf!A438,1)+6,3))","v":309},{"$f":"IF(ISERROR(B438),\"NOSTR\",VLOOKUP(B438,strlook!A:C,2,FALSE))","v":"Missing Field - SALES PROMOTIONS - Inform11"},"Missing Field - SALES PROMOTIONS - Inform11"]
[1,{"$f":"VALUE(MID(rawrtf!A439,FIND(\"TFPSTR\",rawrtf!A439,1)+6,3))","v":310},{"$f":"IF(ISERROR(B439),\"NOSTR\",VLOOKUP(B439,strlook!A:C,2,FALSE))","v":"Missing Field - SALES PROMOTIONS - Inform12"},"Missing Field - SALES PROMOTIONS - Inform12"]
[1,{"$f":"VALUE(MID(rawrtf!A440,FIND(\"TFPSTR\",rawrtf!A440,1)+6,3))","v":311},{"$f":"IF(ISERROR(B440),\"NOSTR\",VLOOKUP(B440,strlook!A:C,2,FALSE))","v":"Missing Field - SALES PROMOTIONS - Inform13"},"Missing Field - SALES PROMOTIONS - Inform13"]
[1,{"$f":"VALUE(MID(rawrtf!A441,FIND(\"TFPSTR\",rawrtf!A441,1)+6,3))","v":312},{"$f":"IF(ISERROR(B441),\"NOSTR\",VLOOKUP(B441,strlook!A:C,2,FALSE))","v":"Missing Field - SALES PROMOTIONS - Inform14"},"Missing Field - SALES PROMOTIONS - Inform14"]
[1,{"$f":"VALUE(MID(rawrtf!A442,FIND(\"TFPSTR\",rawrtf!A442,1)+6,3))","v":313},{"$f":"IF(ISERROR(B442),\"NOSTR\",VLOOKUP(B442,strlook!A:C,2,FALSE))","v":"Missing Field - SALES PROMOTIONS - Inform15"},"Missing Field - SALES PROMOTIONS - Inform15"]
[1,{"$f":"VALUE(MID(rawrtf!A443,FIND(\"TFPSTR\",rawrtf!A443,1)+6,3))","v":314},{"$f":"IF(ISERROR(B443),\"NOSTR\",VLOOKUP(B443,strlook!A:C,2,FALSE))","v":"Missing Field - SALES PROMOTIONS - Inform16"},"Missing Field - SALES PROMOTIONS - Inform16"]
[1,{"$f":"VALUE(MID(rawrtf!A444,FIND(\"TFPSTR\",rawrtf!A444,1)+6,3))","v":315},{"$f":"IF(ISERROR(B444),\"NOSTR\",VLOOKUP(B444,strlook!A:C,2,FALSE))","v":"Missing Field - SALES PROMOTIONS - Inform17"},"Missing Field - SALES PROMOTIONS - Inform17"]
[1,{"$f":"VALUE(MID(rawrtf!A445,FIND(\"TFPSTR\",rawrtf!A445,1)+6,3))","v":316},{"$f":"IF(ISERROR(B445),\"NOSTR\",VLOOKUP(B445,strlook!A:C,2,FALSE))","v":"Missing Field - SALES PROMOTIONS - Inform18"},"Missing Field - SALES PROMOTIONS - Inform18"]
[1,{"$f":"VALUE(MID(rawrtf!A446,FIND(\"TFPSTR\",rawrtf!A446,1)+6,3))","v":317},{"$f":"IF(ISERROR(B446),\"NOSTR\",VLOOKUP(B446,strlook!A:C,2,FALSE))","v":"Missing Field - SALES PROMOTIONS - Inform19"},"Missing Field - SALES PROMOTIONS - Inform19"]
[1,{"$f":"VALUE(MID(rawrtf!A447,FIND(\"TFPSTR\",rawrtf!A447,1)+6,3))","v":318},{"$f":"IF(ISERROR(B447),\"NOSTR\",VLOOKUP(B447,strlook!A:C,2,FALSE))","v":"Missing Field - SALES PROMOTIONS - Inform20"},"Missing Field - SALES PROMOTIONS - Inform20"]
[0,{"$f":"VALUE(MID(rawrtf!A448,FIND(\"TFPSTR\",rawrtf!A448,1)+6,3))","v":{"$error":"#VALUE!"}},{"$f":"IF(ISERROR(B448),\"NOSTR\",VLOOKUP(B448,strlook!A:C,2,FALSE))","v":"NOSTR"},"NOSTR"]
[1,{"$f":"VALUE(MID(rawrtf!A449,FIND(\"TFPSTR\",rawrtf!A449,1)+6,3))","v":320},{"$f":"IF(ISERROR(B449),\"NOSTR\",VLOOKUP(B449,strlook!A:C,2,FALSE))","v":"Missing Field - SALES PROMOTIONS -Set App1"},"Missing Field - SALES PROMOTIONS -Set App1"]
[1,{"$f":"VALUE(MID(rawrtf!A450,FIND(\"TFPSTR\",rawrtf!A450,1)+6,3))","v":321},{"$f":"IF(ISERROR(B450),\"NOSTR\",VLOOKUP(B450,strlook!A:C,2,FALSE))","v":"Missing Field - SALES PROMOTIONS -Set App2"},"Missing Field - SALES PROMOTIONS -Set App2"]
[1,{"$f":"VALUE(MID(rawrtf!A451,FIND(\"TFPSTR\",rawrtf!A451,1)+6,3))","v":322},{"$f":"IF(ISERROR(B451),\"NOSTR\",VLOOKUP(B451,strlook!A:C,2,FALSE))","v":"Missing Field - SALES PROMOTIONS -Set App3"},"Missing Field - SALES PROMOTIONS -Set App3"]
[1,{"$f":"VALUE(MID(rawrtf!A452,FIND(\"TFPSTR\",rawrtf!A452,1)+6,3))","v":323},{"$f":"IF(ISERROR(B452),\"NOSTR\",VLOOKUP(B452,strlook!A:C,2,FALSE))","v":"Missing Field - SALES PROMOTIONS -Set App4"},"Missing Field - SALES PROMOTIONS -Set App4"]
[1,{"$f":"VALUE(MID(rawrtf!A453,FIND(\"TFPSTR\",rawrtf!A453,1)+6,3))","v":324},{"$f":"IF(ISERROR(B453),\"NOSTR\",VLOOKUP(B453,strlook!A:C,2,FALSE))","v":"Missing Field - SALES PROMOTIONS -Set App5"},"Missing Field - SALES PROMOTIONS -Set App5"]
[1,{"$f":"VALUE(MID(rawrtf!A454,FIND(\"TFPSTR\",rawrtf!A454,1)+6,3))","v":325},{"$f":"IF(ISERROR(B454),\"NOSTR\",VLOOKUP(B454,strlook!A:C,2,FALSE))","v":"Missing Field - SALES PROMOTIONS -Set App6"},"Missing Field - SALES PROMOTIONS -Set App6"]
[1,{"$f":"VALUE(MID(rawrtf!A455,FIND(\"TFPSTR\",rawrtf!A455,1)+6,3))","v":326},{"$f":"IF(ISERROR(B455),\"NOSTR\",VLOOKUP(B455,strlook!A:C,2,FALSE))","v":"Missing Field - SALES PROMOTIONS -Set App7"},"Missing Field - SALES PROMOTIONS -Set App7"]
[1,{"$f":"VALUE(MID(rawrtf!A456,FIND(\"TFPSTR\",rawrtf!A456,1)+6,3))","v":327},{"$f":"IF(ISERROR(B456),\"NOSTR\",VLOOKUP(B456,strlook!A:C,2,FALSE))","v":"Missing Field - SALES PROMOTIONS -Set App8"},"Missing Field - SALES PROMOTIONS -Set App8"]
[1,{"$f":"VALUE(MID(rawrtf!A457,FIND(\"TFPSTR\",rawrtf!A457,1)+6,3))","v":328},{"$f":"IF(ISERROR(B457),\"NOSTR\",VLOOKUP(B457,strlook!A:C,2,FALSE))","v":"Missing Field - SALES PROMOTIONS -Set App9"},"Missing Field - SALES PROMOTIONS -Set App9"]
[1,{"$f":"VALUE(MID(rawrtf!A458,FIND(\"TFPSTR\",rawrtf!A458,1)+6,3))","v":329},{"$f":"IF(ISERROR(B458),\"NOSTR\",VLOOKUP(B458,strlook!A:C,2,FALSE))","v":"Missing Field - SALES PROMOTIONS -Set App10"},"Missing Field - SALES PROMOTIONS -Set App10"]
[1,{"$f":"VALUE(MID(rawrtf!A459,FIND(\"TFPSTR\",rawrtf!A459,1)+6,3))","v":330},{"$f":"IF(ISERROR(B459),\"NOSTR\",VLOOKUP(B459,strlook!A:C,2,FALSE))","v":"Missing Field - SALES PROMOTIONS -Set App11"},"Missing Field - SALES PROMOTIONS -Set App11"]
[1,{"$f":"VALUE(MID(rawrtf!A460,FIND(\"TFPSTR\",rawrtf!A460,1)+6,3))","v":331},{"$f":"IF(ISERROR(B460),\"NOSTR\",VLOOKUP(B460,strlook!A:C,2,FALSE))","v":"Missing Field - SALES PROMOTIONS -Set App12"},"Missing Field - SALES PROMOTIONS -Set App12"]
[1,{"$f":"VALUE(MID(rawrtf!A461,FIND(\"TFPSTR\",rawrtf!A461,1)+6,3))","v":332},{"$f":"IF(ISERROR(B461),\"NOSTR\",VLOOKUP(B461,strlook!A:C,2,FALSE))","v":"Missing Field - SALES PROMOTIONS -Set App13"},"Missing Field - SALES PROMOTIONS -Set App13"]
[1,{"$f":"VALUE(MID(rawrtf!A462,FIND(\"TFPSTR\",rawrtf!A462,1)+6,3))","v":333},{"$f":"IF(ISERROR(B462),\"NOSTR\",VLOOKUP(B462,strlook!A:C,2,FALSE))","v":"Missing Field - SALES PROMOTIONS -Set App14"},"Missing Field - SALES PROMOTIONS -Set App14"]
[1,{"$f":"VALUE(MID(rawrtf!A463,FIND(\"TFPSTR\",rawrtf!A463,1)+6,3))","v":334},{"$f":"IF(ISERROR(B463),\"NOSTR\",VLOOKUP(B463,strlook!A:C,2,FALSE))","v":"Missing Field - SALES PROMOTIONS -Set App15"},"Missing Field - SALES PROMOTIONS -Set App15"]
[1,{"$f":"VALUE(MID(rawrtf!A464,FIND(\"TFPSTR\",rawrtf!A464,1)+6,3))","v":335},{"$f":"IF(ISERROR(B464),\"NOSTR\",VLOOKUP(B464,strlook!A:C,2,FALSE))","v":"Missing Field - SALES PROMOTIONS -Set App16"},"Missing Field - SALES PROMOTIONS -Set App16"]
[1,{"$f":"VALUE(MID(rawrtf!A465,FIND(\"TFPSTR\",rawrtf!A465,1)+6,3))","v":336},{"$f":"IF(ISERROR(B465),\"NOSTR\",VLOOKUP(B465,strlook!A:C,2,FALSE))","v":"Missing Field - SALES PROMOTIONS -Set App17"},"Missing Field - SALES PROMOTIONS -Set App17"]
[1,{"$f":"VALUE(MID(rawrtf!A466,FIND(\"TFPSTR\",rawrtf!A466,1)+6,3))","v":337},{"$f":"IF(ISERROR(B466),\"NOSTR\",VLOOKUP(B466,strlook!A:C,2,FALSE))","v":"Missing Field - SALES PROMOTIONS -Set App18"},"Missing Field - SALES PROMOTIONS -Set App18"]
[1,{"$f":"VALUE(MID(rawrtf!A467,FIND(\"TFPSTR\",rawrtf!A467,1)+6,3))","v":338},{"$f":"IF(ISERROR(B467),\"NOSTR\",VLOOKUP(B467,strlook!A:C,2,FALSE))","v":"Missing Field - SALES PROMOTIONS -Set App19"},"Missing Field - SALES PROMOTIONS -Set App19"]
[1,{"$f":"VALUE(MID(rawrtf!A468,FIND(\"TFPSTR\",rawrtf!A468,1)+6,3))","v":339},{"$f":"IF(ISERROR(B468),\"NOSTR\",VLOOKUP(B468,strlook!A:C,2,FALSE))","v":"Missing Field - SALES PROMOTIONS -Set App20"},"Missing Field - SALES PROMOTIONS -Set App20"]
[0,{"$f":"VALUE(MID(rawrtf!A469,FIND(\"TFPSTR\",rawrtf!A469,1)+6,3))","v":{"$error":"#VALUE!"}},{"$f":"IF(ISERROR(B469),\"NOSTR\",VLOOKUP(B469,strlook!A:C,2,FALSE))","v":"NOSTR"},"NOSTR"]
[1,{"$f":"VALUE(MID(rawrtf!A470,FIND(\"TFPSTR\",rawrtf!A470,1)+6,3))","v":341},{"$f":"IF(ISERROR(B470),\"NOSTR\",VLOOKUP(B470,strlook!A:C,2,FALSE))","v":"Missing Field - SALES PROMOTIONS -Close Sale1"},"Missing Field - SALES PROMOTIONS -Close Sale1"]
[1,{"$f":"VALUE(MID(rawrtf!A471,FIND(\"TFPSTR\",rawrtf!A471,1)+6,3))","v":342},{"$f":"IF(ISERROR(B471),\"NOSTR\",VLOOKUP(B471,strlook!A:C,2,FALSE))","v":"Missing Field - SALES PROMOTIONS -Close Sale2"},"Missing Field - SALES PROMOTIONS -Close Sale2"]
[1,{"$f":"VALUE(MID(rawrtf!A472,FIND(\"TFPSTR\",rawrtf!A472,1)+6,3))","v":343},{"$f":"IF(ISERROR(B472),\"NOSTR\",VLOOKUP(B472,strlook!A:C,2,FALSE))","v":"Missing Field - SALES PROMOTIONS -Close Sale3"},"Missing Field - SALES PROMOTIONS -Close Sale3"]
[1,{"$f":"VALUE(MID(rawrtf!A473,FIND(\"TFPSTR\",rawrtf!A473,1)+6,3))","v":344},{"$f":"IF(ISERROR(B473),\"NOSTR\",VLOOKUP(B473,strlook!A:C,2,FALSE))","v":"Missing Field - SALES PROMOTIONS -Close Sale4"},"Missing Field - SALES PROMOTIONS -Close Sale4"]
[1,{"$f":"VALUE(MID(rawrtf!A474,FIND(\"TFPSTR\",rawrtf!A474,1)+6,3))","v":345},{"$f":"IF(ISERROR(B474),\"NOSTR\",VLOOKUP(B474,strlook!A:C,2,FALSE))","v":"Missing Field - SALES PROMOTIONS -Close Sale5"},"Missing Field - SALES PROMOTIONS -Close Sale5"]
[1,{"$f":"VALUE(MID(rawrtf!A475,FIND(\"TFPSTR\",rawrtf!A475,1)+6,3))","v":346},{"$f":"IF(ISERROR(B475),\"NOSTR\",VLOOKUP(B475,strlook!A:C,2,FALSE))","v":"Missing Field - SALES PROMOTIONS -Close Sale6"},"Missing Field - SALES PROMOTIONS -Close Sale6"]
[1,{"$f":"VALUE(MID(rawrtf!A476,FIND(\"TFPSTR\",rawrtf!A476,1)+6,3))","v":347},{"$f":"IF(ISERROR(B476),\"NOSTR\",VLOOKUP(B476,strlook!A:C,2,FALSE))","v":"Missing Field - SALES PROMOTIONS -Close Sale7"},"Missing Field - SALES PROMOTIONS -Close Sale7"]
[1,{"$f":"VALUE(MID(rawrtf!A477,FIND(\"TFPSTR\",rawrtf!A477,1)+6,3))","v":348},{"$f":"IF(ISERROR(B477),\"NOSTR\",VLOOKUP(B477,strlook!A:C,2,FALSE))","v":"Missing Field - SALES PROMOTIONS -Close Sale8"},"Missing Field - SALES PROMOTIONS -Close Sale8"]
[1,{"$f":"VALUE(MID(rawrtf!A478,FIND(\"TFPSTR\",rawrtf!A478,1)+6,3))","v":349},{"$f":"IF(ISERROR(B478),\"NOSTR\",VLOOKUP(B478,strlook!A:C,2,FALSE))","v":"Missing Field - SALES PROMOTIONS -Close Sale9"},"Missing Field - SALES PROMOTIONS -Close Sale9"]
[1,{"$f":"VALUE(MID(rawrtf!A479,FIND(\"TFPSTR\",rawrtf!A479,1)+6,3))","v":350},{"$f":"IF(ISERROR(B479),\"NOSTR\",VLOOKUP(B479,strlook!A:C,2,FALSE))","v":"Missing Field - SALES PROMOTIONS -Close Sale10"},"Missing Field - SALES PROMOTIONS -Close Sale10"]
[1,{"$f":"VALUE(MID(rawrtf!A480,FIND(\"TFPSTR\",rawrtf!A480,1)+6,3))","v":351},{"$f":"IF(ISERROR(B480),\"NOSTR\",VLOOKUP(B480,strlook!A:C,2,FALSE))","v":"Missing Field - SALES PROMOTIONS -Close Sale11"},"Missing Field - SALES PROMOTIONS -Close Sale11"]
[1,{"$f":"VALUE(MID(rawrtf!A481,FIND(\"TFPSTR\",rawrtf!A481,1)+6,3))","v":352},{"$f":"IF(ISERROR(B481),\"NOSTR\",VLOOKUP(B481,strlook!A:C,2,FALSE))","v":"Missing Field - SALES PROMOTIONS -Close Sale12"},"Missing Field - SALES PROMOTIONS -Close Sale12"]
[1,{"$f":"VALUE(MID(rawrtf!A482,FIND(\"TFPSTR\",rawrtf!A482,1)+6,3))","v":353},{"$f":"IF(ISERROR(B482),\"NOSTR\",VLOOKUP(B482,strlook!A:C,2,FALSE))","v":"Missing Field - SALES PROMOTIONS -Close Sale13"},"Missing Field - SALES PROMOTIONS -Close Sale13"]
[1,{"$f":"VALUE(MID(rawrtf!A483,FIND(\"TFPSTR\",rawrtf!A483,1)+6,3))","v":354},{"$f":"IF(ISERROR(B483),\"NOSTR\",VLOOKUP(B483,strlook!A:C,2,FALSE))","v":"Missing Field - SALES PROMOTIONS -Close Sale14"},"Missing Field - SALES PROMOTIONS -Close Sale14"]
[1,{"$f":"VALUE(MID(rawrtf!A484,FIND(\"TFPSTR\",rawrtf!A484,1)+6,3))","v":355},{"$f":"IF(ISERROR(B484),\"NOSTR\",VLOOKUP(B484,strlook!A:C,2,FALSE))","v":"Missing Field - SALES PROMOTIONS -Close Sale15"},"Missing Field - SALES PROMOTIONS -Close Sale15"]
[{"$f":"IF(ISERROR(B485),0,1)","v":1},{"$f":"VALUE(MID(rawrtf!A485,FIND(\"TFPSTR\",rawrtf!A485,1)+6,3))","v":356},{"$f":"IF(ISERROR(B485),\"NOSTR\",VLOOKUP(B485,strlook!A:C,2,FALSE))","v":"Missing Field - SALES PROMOTIONS -Close Sale16"},{"$f":"IF(ISNA(C485),\"ERROR MISSING TFPSTR \"&B485,C485)","v":"Missing Field - SALES PROMOTIONS -Close Sale16"}]
[1,{"$f":"VALUE(MID(rawrtf!A486,FIND(\"TFPSTR\",rawrtf!A486,1)+6,3))","v":357},{"$f":"IF(ISERROR(B486),\"NOSTR\",VLOOKUP(B486,strlook!A:C,2,FALSE))","v":"Missing Field - SALES PROMOTIONS -Close Sale17"},"Missing Field - SALES PROMOTIONS -Close Sale17"]
[1,{"$f":"VALUE(MID(rawrtf!A487,FIND(\"TFPSTR\",rawrtf!A487,1)+6,3))","v":358},{"$f":"IF(ISERROR(B487),\"NOSTR\",VLOOKUP(B487,strlook!A:C,2,FALSE))","v":"Missing Field - SALES PROMOTIONS -Close Sale18"},"Missing Field - SALES PROMOTIONS -Close Sale18"]
[1,{"$f":"VALUE(MID(rawrtf!A488,FIND(\"TFPSTR\",rawrtf!A488,1)+6,3))","v":359},{"$f":"IF(ISERROR(B488),\"NOSTR\",VLOOKUP(B488,strlook!A:C,2,FALSE))","v":"Missing Field - SALES PROMOTIONS -Close Sale19"},"Missing Field - SALES PROMOTIONS -Close Sale19"]
[1,{"$f":"VALUE(MID(rawrtf!A489,FIND(\"TFPSTR\",rawrtf!A489,1)+6,3))","v":360},{"$f":"IF(ISERROR(B489),\"NOSTR\",VLOOKUP(B489,strlook!A:C,2,FALSE))","v":"Missing Field - SALES PROMOTIONS -Close Sale20"},"Missing Field - SALES PROMOTIONS -Close Sale20"]
[0,{"$f":"VALUE(MID(rawrtf!A490,FIND(\"TFPSTR\",rawrtf!A490,1)+6,3))","v":{"$error":"#VALUE!"}},{"$f":"IF(ISERROR(B490),\"NOSTR\",VLOOKUP(B490,strlook!A:C,2,FALSE))","v":"NOSTR"},"NOSTR"]
[0,{"$f":"VALUE(MID(rawrtf!A491,FIND(\"TFPSTR\",rawrtf!A491,1)+6,3))","v":{"$error":"#VALUE!"}},{"$f":"IF(ISERROR(B491),\"NOSTR\",VLOOKUP(B491,strlook!A:C,2,FALSE))","v":"NOSTR"},"NOSTR"]
[0,{"$f":"VALUE(MID(rawrtf!A492,FIND(\"TFPSTR\",rawrtf!A492,1)+6,3))","v":{"$error":"#VALUE!"}},{"$f":"IF(ISERROR(B492),\"NOSTR\",VLOOKUP(B492,strlook!A:C,2,FALSE))","v":"NOSTR"},"NOSTR"]
[1,{"$f":"VALUE(MID(rawrtf!A493,FIND(\"TFPSTR\",rawrtf!A493,1)+6,3))","v":153},{"$f":"IF(ISERROR(B493),\"NOSTR\",VLOOKUP(B493,strlook!A:C,2,FALSE))","v":"Missing Field - CPLst1-Ans1"},"Missing Field - CPLst1-Ans1"]
[1,{"$f":"VALUE(MID(rawrtf!A494,FIND(\"TFPSTR\",rawrtf!A494,1)+6,3))","v":154},{"$f":"IF(ISERROR(B494),\"NOSTR\",VLOOKUP(B494,strlook!A:C,2,FALSE))","v":"Missing Field - CPLst1-Ans2"},"Missing Field - CPLst1-Ans2"]
[1,{"$f":"VALUE(MID(rawrtf!A495,FIND(\"TFPSTR\",rawrtf!A495,1)+6,3))","v":155},{"$f":"IF(ISERROR(B495),\"NOSTR\",VLOOKUP(B495,strlook!A:C,2,FALSE))","v":"Missing Field - CPLst2-Ans1"},"Missing Field - CPLst2-Ans1"]
[1,{"$f":"VALUE(MID(rawrtf!A496,FIND(\"TFPSTR\",rawrtf!A496,1)+6,3))","v":156},{"$f":"IF(ISERROR(B496),\"NOSTR\",VLOOKUP(B496,strlook!A:C,2,FALSE))","v":"Missing Field - CPLst2-Ans2"},"Missing Field - CPLst2-Ans2"]
[1,{"$f":"VALUE(MID(rawrtf!A497,FIND(\"TFPSTR\",rawrtf!A497,1)+6,3))","v":157},{"$f":"IF(ISERROR(B497),\"NOSTR\",VLOOKUP(B497,strlook!A:C,2,FALSE))","v":"Missing Field - CPLst3-Ans1"},"Missing Field - CPLst3-Ans1"]
[1,{"$f":"VALUE(MID(rawrtf!A498,FIND(\"TFPSTR\",rawrtf!A498,1)+6,3))","v":158},{"$f":"IF(ISERROR(B498),\"NOSTR\",VLOOKUP(B498,strlook!A:C,2,FALSE))","v":"Missing Field - CPLst3-Ans2"},"Missing Field - CPLst3-Ans2"]
[1,{"$f":"VALUE(MID(rawrtf!A499,FIND(\"TFPSTR\",rawrtf!A499,1)+6,3))","v":159},{"$f":"IF(ISERROR(B499),\"NOSTR\",VLOOKUP(B499,strlook!A:C,2,FALSE))","v":"Missing Field - CPLst4-Ans1"},"Missing Field - CPLst4-Ans1"]
[1,{"$f":"VALUE(MID(rawrtf!A500,FIND(\"TFPSTR\",rawrtf!A500,1)+6,3))","v":160},{"$f":"IF(ISERROR(B500),\"NOSTR\",VLOOKUP(B500,strlook!A:C,2,FALSE))","v":"Missing Field - CPLst4-Ans2"},"Missing Field - CPLst4-Ans2"]
[1,{"$f":"VALUE(MID(rawrtf!A501,FIND(\"TFPSTR\",rawrtf!A501,1)+6,3))","v":161},{"$f":"IF(ISERROR(B501),\"NOSTR\",VLOOKUP(B501,strlook!A:C,2,FALSE))","v":"Missing Field - CPLst5-Ans1"},"Missing Field - CPLst5-Ans1"]
[1,{"$f":"VALUE(MID(rawrtf!A502,FIND(\"TFPSTR\",rawrtf!A502,1)+6,3))","v":162},{"$f":"IF(ISERROR(B502),\"NOSTR\",VLOOKUP(B502,strlook!A:C,2,FALSE))","v":"Missing Field - CPLst5-Ans2"},"Missing Field - CPLst5-Ans2"]
[1,{"$f":"VALUE(MID(rawrtf!A503,FIND(\"TFPSTR\",rawrtf!A503,1)+6,3))","v":163},{"$f":"IF(ISERROR(B503),\"NOSTR\",VLOOKUP(B503,strlook!A:C,2,FALSE))","v":"Missing Field - CPLst6-Ans1"},"Missing Field - CPLst6-Ans1"]
[1,{"$f":"VALUE(MID(rawrtf!A504,FIND(\"TFPSTR\",rawrtf!A504,1)+6,3))","v":164},{"$f":"IF(ISERROR(B504),\"NOSTR\",VLOOKUP(B504,strlook!A:C,2,FALSE))","v":"Missing Field - CPLst6-Ans2"},"Missing Field - CPLst6-Ans2"]
[1,{"$f":"VALUE(MID(rawrtf!A505,FIND(\"TFPSTR\",rawrtf!A505,1)+6,3))","v":165},{"$f":"IF(ISERROR(B505),\"NOSTR\",VLOOKUP(B505,strlook!A:C,2,FALSE))","v":"Missing Field - CPLst7-Ans1"},"Missing Field - CPLst7-Ans1"]
[1,{"$f":"VALUE(MID(rawrtf!A506,FIND(\"TFPSTR\",rawrtf!A506,1)+6,3))","v":166},{"$f":"IF(ISERROR(B506),\"NOSTR\",VLOOKUP(B506,strlook!A:C,2,FALSE))","v":"Missing Field - CPLst7-Ans2"},"Missing Field - CPLst7-Ans2"]
[1,{"$f":"VALUE(MID(rawrtf!A507,FIND(\"TFPSTR\",rawrtf!A507,1)+6,3))","v":167},{"$f":"IF(ISERROR(B507),\"NOSTR\",VLOOKUP(B507,strlook!A:C,2,FALSE))","v":"Missing Field - CPLst8-Ans1"},"Missing Field - CPLst8-Ans1"]
[1,{"$f":"VALUE(MID(rawrtf!A508,FIND(\"TFPSTR\",rawrtf!A508,1)+6,3))","v":168},{"$f":"IF(ISERROR(B508),\"NOSTR\",VLOOKUP(B508,strlook!A:C,2,FALSE))","v":"Missing Field - CPLst8-Ans2"},"Missing Field - CPLst8-Ans2"]
[1,{"$f":"VALUE(MID(rawrtf!A509,FIND(\"TFPSTR\",rawrtf!A509,1)+6,3))","v":169},{"$f":"IF(ISERROR(B509),\"NOSTR\",VLOOKUP(B509,strlook!A:C,2,FALSE))","v":"Missing Field - CPLst9-Ans1"},"Missing Field - CPLst9-Ans1"]
[1,{"$f":"VALUE(MID(rawrtf!A510,FIND(\"TFPSTR\",rawrtf!A510,1)+6,3))","v":170},{"$f":"IF(ISERROR(B510),\"NOSTR\",VLOOKUP(B510,strlook!A:C,2,FALSE))","v":"Missing Field - CPLst9-Ans2"},"Missing Field - CPLst9-Ans2"]
[1,{"$f":"VALUE(MID(rawrtf!A511,FIND(\"TFPSTR\",rawrtf!A511,1)+6,3))","v":103},{"$f":"IF(ISERROR(B511),\"NOSTR\",VLOOKUP(B511,strlook!A:C,2,FALSE))","v":"Missing Field - FirmNam-Ans1"},"Missing Field - FirmNam-Ans1"]
[1,{"$f":"VALUE(MID(rawrtf!A512,FIND(\"TFPSTR\",rawrtf!A512,1)+6,3))","v":363},{"$f":"IF(ISERROR(B512),\"NOSTR\",VLOOKUP(B512,strlook!A:C,2,FALSE))","v":"Missing Field - CUSTOMER PROMOTIONS - Alert1"},"Missing Field - CUSTOMER PROMOTIONS - Alert1"]
[1,{"$f":"VALUE(MID(rawrtf!A513,FIND(\"TFPSTR\",rawrtf!A513,1)+6,3))","v":364},{"$f":"IF(ISERROR(B513),\"NOSTR\",VLOOKUP(B513,strlook!A:C,2,FALSE))","v":"Missing Field - CUSTOMER PROMOTIONS - Alert2"},"Missing Field - CUSTOMER PROMOTIONS - Alert2"]
[1,{"$f":"VALUE(MID(rawrtf!A514,FIND(\"TFPSTR\",rawrtf!A514,1)+6,3))","v":365},{"$f":"IF(ISERROR(B514),\"NOSTR\",VLOOKUP(B514,strlook!A:C,2,FALSE))","v":"Missing Field - CUSTOMER PROMOTIONS - Alert3"},"Missing Field - CUSTOMER PROMOTIONS - Alert3"]
[1,{"$f":"VALUE(MID(rawrtf!A515,FIND(\"TFPSTR\",rawrtf!A515,1)+6,3))","v":366},{"$f":"IF(ISERROR(B515),\"NOSTR\",VLOOKUP(B515,strlook!A:C,2,FALSE))","v":"Missing Field - CUSTOMER PROMOTIONS - Alert4"},"Missing Field - CUSTOMER PROMOTIONS - Alert4"]
[1,{"$f":"VALUE(MID(rawrtf!A516,FIND(\"TFPSTR\",rawrtf!A516,1)+6,3))","v":367},{"$f":"IF(ISERROR(B516),\"NOSTR\",VLOOKUP(B516,strlook!A:C,2,FALSE))","v":"Missing Field - CUSTOMER PROMOTIONS - Alert5"},"Missing Field - CUSTOMER PROMOTIONS - Alert5"]
[1,{"$f":"VALUE(MID(rawrtf!A517,FIND(\"TFPSTR\",rawrtf!A517,1)+6,3))","v":368},{"$f":"IF(ISERROR(B517),\"NOSTR\",VLOOKUP(B517,strlook!A:C,2,FALSE))","v":"Missing Field - CUSTOMER PROMOTIONS - Alert6"},"Missing Field - CUSTOMER PROMOTIONS - Alert6"]
[1,{"$f":"VALUE(MID(rawrtf!A518,FIND(\"TFPSTR\",rawrtf!A518,1)+6,3))","v":369},{"$f":"IF(ISERROR(B518),\"NOSTR\",VLOOKUP(B518,strlook!A:C,2,FALSE))","v":"Missing Field - CUSTOMER PROMOTIONS - Alert7"},"Missing Field - CUSTOMER PROMOTIONS - Alert7"]
[1,{"$f":"VALUE(MID(rawrtf!A519,FIND(\"TFPSTR\",rawrtf!A519,1)+6,3))","v":370},{"$f":"IF(ISERROR(B519),\"NOSTR\",VLOOKUP(B519,strlook!A:C,2,FALSE))","v":"Missing Field - CUSTOMER PROMOTIONS - Alert8"},"Missing Field - CUSTOMER PROMOTIONS - Alert8"]
[1,{"$f":"VALUE(MID(rawrtf!A520,FIND(\"TFPSTR\",rawrtf!A520,1)+6,3))","v":371},{"$f":"IF(ISERROR(B520),\"NOSTR\",VLOOKUP(B520,strlook!A:C,2,FALSE))","v":"Missing Field - CUSTOMER PROMOTIONS - Alert9"},"Missing Field - CUSTOMER PROMOTIONS - Alert9"]
[1,{"$f":"VALUE(MID(rawrtf!A521,FIND(\"TFPSTR\",rawrtf!A521,1)+6,3))","v":372},{"$f":"IF(ISERROR(B521),\"NOSTR\",VLOOKUP(B521,strlook!A:C,2,FALSE))","v":"Missing Field - CUSTOMER PROMOTIONS - Alert10"},"Missing Field - CUSTOMER PROMOTIONS - Alert10"]
[1,{"$f":"VALUE(MID(rawrtf!A522,FIND(\"TFPSTR\",rawrtf!A522,1)+6,3))","v":373},{"$f":"IF(ISERROR(B522),\"NOSTR\",VLOOKUP(B522,strlook!A:C,2,FALSE))","v":"Missing Field - CUSTOMER PROMOTIONS - Alert11"},"Missing Field - CUSTOMER PROMOTIONS - Alert11"]
[1,{"$f":"VALUE(MID(rawrtf!A523,FIND(\"TFPSTR\",rawrtf!A523,1)+6,3))","v":374},{"$f":"IF(ISERROR(B523),\"NOSTR\",VLOOKUP(B523,strlook!A:C,2,FALSE))","v":"Missing Field - CUSTOMER PROMOTIONS - Alert12"},"Missing Field - CUSTOMER PROMOTIONS - Alert12"]
[1,{"$f":"VALUE(MID(rawrtf!A524,FIND(\"TFPSTR\",rawrtf!A524,1)+6,3))","v":375},{"$f":"IF(ISERROR(B524),\"NOSTR\",VLOOKUP(B524,strlook!A:C,2,FALSE))","v":"Missing Field - CUSTOMER PROMOTIONS - Alert13"},"Missing Field - CUSTOMER PROMOTIONS - Alert13"]
[1,{"$f":"VALUE(MID(rawrtf!A525,FIND(\"TFPSTR\",rawrtf!A525,1)+6,3))","v":376},{"$f":"IF(ISERROR(B525),\"NOSTR\",VLOOKUP(B525,strlook!A:C,2,FALSE))","v":"Missing Field - CUSTOMER PROMOTIONS - Alert14"},"Missing Field - CUSTOMER PROMOTIONS - Alert14"]
[1,{"$f":"VALUE(MID(rawrtf!A526,FIND(\"TFPSTR\",rawrtf!A526,1)+6,3))","v":377},{"$f":"IF(ISERROR(B526),\"NOSTR\",VLOOKUP(B526,strlook!A:C,2,FALSE))","v":"Missing Field - CUSTOMER PROMOTIONS - Alert15"},"Missing Field - CUSTOMER PROMOTIONS - Alert15"]
[1,{"$f":"VALUE(MID(rawrtf!A527,FIND(\"TFPSTR\",rawrtf!A527,1)+6,3))","v":378},{"$f":"IF(ISERROR(B527),\"NOSTR\",VLOOKUP(B527,strlook!A:C,2,FALSE))","v":"Missing Field - CUSTOMER PROMOTIONS - Alert16"},"Missing Field - CUSTOMER PROMOTIONS - Alert16"]
[1,{"$f":"VALUE(MID(rawrtf!A528,FIND(\"TFPSTR\",rawrtf!A528,1)+6,3))","v":379},{"$f":"IF(ISERROR(B528),\"NOSTR\",VLOOKUP(B528,strlook!A:C,2,FALSE))","v":"Missing Field - CUSTOMER PROMOTIONS - Alert17"},"Missing Field - CUSTOMER PROMOTIONS - Alert17"]
[1,{"$f":"VALUE(MID(rawrtf!A529,FIND(\"TFPSTR\",rawrtf!A529,1)+6,3))","v":380},{"$f":"IF(ISERROR(B529),\"NOSTR\",VLOOKUP(B529,strlook!A:C,2,FALSE))","v":"Missing Field - CUSTOMER PROMOTIONS - Alert18"},"Missing Field - CUSTOMER PROMOTIONS - Alert18"]
[1,{"$f":"VALUE(MID(rawrtf!A530,FIND(\"TFPSTR\",rawrtf!A530,1)+6,3))","v":381},{"$f":"IF(ISERROR(B530),\"NOSTR\",VLOOKUP(B530,strlook!A:C,2,FALSE))","v":"Missing Field - CUSTOMER PROMOTIONS - Alert19"},"Missing Field - CUSTOMER PROMOTIONS - Alert19"]
[1,{"$f":"VALUE(MID(rawrtf!A531,FIND(\"TFPSTR\",rawrtf!A531,1)+6,3))","v":382},{"$f":"IF(ISERROR(B531),\"NOSTR\",VLOOKUP(B531,strlook!A:C,2,FALSE))","v":"Missing Field - CUSTOMER PROMOTIONS - Alert20"},"Missing Field - CUSTOMER PROMOTIONS - Alert20"]
[0,{"$f":"VALUE(MID(rawrtf!A532,FIND(\"TFPSTR\",rawrtf!A532,1)+6,3))","v":{"$error":"#VALUE!"}},{"$f":"IF(ISERROR(B532),\"NOSTR\",VLOOKUP(B532,strlook!A:C,2,FALSE))","v":"NOSTR"},"NOSTR"]
[1,{"$f":"VALUE(MID(rawrtf!A533,FIND(\"TFPSTR\",rawrtf!A533,1)+6,3))","v":384},{"$f":"IF(ISERROR(B533),\"NOSTR\",VLOOKUP(B533,strlook!A:C,2,FALSE))","v":"Missing Field - CUSTOMER PROMOTIONS - Inform1"},"Missing Field - CUSTOMER PROMOTIONS - Inform1"]
[1,{"$f":"VALUE(MID(rawrtf!A534,FIND(\"TFPSTR\",rawrtf!A534,1)+6,3))","v":385},{"$f":"IF(ISERROR(B534),\"NOSTR\",VLOOKUP(B534,strlook!A:C,2,FALSE))","v":"Missing Field - CUSTOMER PROMOTIONS - Inform2"},"Missing Field - CUSTOMER PROMOTIONS - Inform2"]
[1,{"$f":"VALUE(MID(rawrtf!A535,FIND(\"TFPSTR\",rawrtf!A535,1)+6,3))","v":386},{"$f":"IF(ISERROR(B535),\"NOSTR\",VLOOKUP(B535,strlook!A:C,2,FALSE))","v":"Missing Field - CUSTOMER PROMOTIONS - Inform3"},"Missing Field - CUSTOMER PROMOTIONS - Inform3"]
[1,{"$f":"VALUE(MID(rawrtf!A536,FIND(\"TFPSTR\",rawrtf!A536,1)+6,3))","v":387},{"$f":"IF(ISERROR(B536),\"NOSTR\",VLOOKUP(B536,strlook!A:C,2,FALSE))","v":"Missing Field - CUSTOMER PROMOTIONS - Inform4"},"Missing Field - CUSTOMER PROMOTIONS - Inform4"]
[1,{"$f":"VALUE(MID(rawrtf!A537,FIND(\"TFPSTR\",rawrtf!A537,1)+6,3))","v":388},{"$f":"IF(ISERROR(B537),\"NOSTR\",VLOOKUP(B537,strlook!A:C,2,FALSE))","v":"Missing Field - CUSTOMER PROMOTIONS - Inform5"},"Missing Field - CUSTOMER PROMOTIONS - Inform5"]
[1,{"$f":"VALUE(MID(rawrtf!A538,FIND(\"TFPSTR\",rawrtf!A538,1)+6,3))","v":389},{"$f":"IF(ISERROR(B538),\"NOSTR\",VLOOKUP(B538,strlook!A:C,2,FALSE))","v":"Missing Field - CUSTOMER PROMOTIONS - Inform6"},"Missing Field - CUSTOMER PROMOTIONS - Inform6"]
[1,{"$f":"VALUE(MID(rawrtf!A539,FIND(\"TFPSTR\",rawrtf!A539,1)+6,3))","v":390},{"$f":"IF(ISERROR(B539),\"NOSTR\",VLOOKUP(B539,strlook!A:C,2,FALSE))","v":"Missing Field - CUSTOMER PROMOTIONS - Inform7"},"Missing Field - CUSTOMER PROMOTIONS - Inform7"]
[1,{"$f":"VALUE(MID(rawrtf!A540,FIND(\"TFPSTR\",rawrtf!A540,1)+6,3))","v":391},{"$f":"IF(ISERROR(B540),\"NOSTR\",VLOOKUP(B540,strlook!A:C,2,FALSE))","v":"Missing Field - CUSTOMER PROMOTIONS - Inform8"},"Missing Field - CUSTOMER PROMOTIONS - Inform8"]
[1,{"$f":"VALUE(MID(rawrtf!A541,FIND(\"TFPSTR\",rawrtf!A541,1)+6,3))","v":392},{"$f":"IF(ISERROR(B541),\"NOSTR\",VLOOKUP(B541,strlook!A:C,2,FALSE))","v":"Missing Field - CUSTOMER PROMOTIONS - Inform9"},"Missing Field - CUSTOMER PROMOTIONS - Inform9"]
[1,{"$f":"VALUE(MID(rawrtf!A542,FIND(\"TFPSTR\",rawrtf!A542,1)+6,3))","v":393},{"$f":"IF(ISERROR(B542),\"NOSTR\",VLOOKUP(B542,strlook!A:C,2,FALSE))","v":"Missing Field - CUSTOMER PROMOTIONS - Inform10"},"Missing Field - CUSTOMER PROMOTIONS - Inform10"]
[1,{"$f":"VALUE(MID(rawrtf!A543,FIND(\"TFPSTR\",rawrtf!A543,1)+6,3))","v":394},{"$f":"IF(ISERROR(B543),\"NOSTR\",VLOOKUP(B543,strlook!A:C,2,FALSE))","v":"Missing Field - CUSTOMER PROMOTIONS - Inform11"},"Missing Field - CUSTOMER PROMOTIONS - Inform11"]
[1,{"$f":"VALUE(MID(rawrtf!A544,FIND(\"TFPSTR\",rawrtf!A544,1)+6,3))","v":395},{"$f":"IF(ISERROR(B544),\"NOSTR\",VLOOKUP(B544,strlook!A:C,2,FALSE))","v":"Missing Field - CUSTOMER PROMOTIONS - Inform12"},"Missing Field - CUSTOMER PROMOTIONS - Inform12"]
[1,{"$f":"VALUE(MID(rawrtf!A545,FIND(\"TFPSTR\",rawrtf!A545,1)+6,3))","v":396},{"$f":"IF(ISERROR(B545),\"NOSTR\",VLOOKUP(B545,strlook!A:C,2,FALSE))","v":"Missing Field - CUSTOMER PROMOTIONS - Inform13"},"Missing Field - CUSTOMER PROMOTIONS - Inform13"]
[1,{"$f":"VALUE(MID(rawrtf!A546,FIND(\"TFPSTR\",rawrtf!A546,1)+6,3))","v":397},{"$f":"IF(ISERROR(B546),\"NOSTR\",VLOOKUP(B546,strlook!A:C,2,FALSE))","v":"Missing Field - CUSTOMER PROMOTIONS - Inform14"},"Missing Field - CUSTOMER PROMOTIONS - Inform14"]
[1,{"$f":"VALUE(MID(rawrtf!A547,FIND(\"TFPSTR\",rawrtf!A547,1)+6,3))","v":398},{"$f":"IF(ISERROR(B547),\"NOSTR\",VLOOKUP(B547,strlook!A:C,2,FALSE))","v":"Missing Field - CUSTOMER PROMOTIONS - Inform15"},"Missing Field - CUSTOMER PROMOTIONS - Inform15"]
[1,{"$f":"VALUE(MID(rawrtf!A548,FIND(\"TFPSTR\",rawrtf!A548,1)+6,3))","v":399},{"$f":"IF(ISERROR(B548),\"NOSTR\",VLOOKUP(B548,strlook!A:C,2,FALSE))","v":"Missing Field - CUSTOMER PROMOTIONS - Inform16"},"Missing Field - CUSTOMER PROMOTIONS - Inform16"]
[{"$f":"IF(ISERROR(B549),0,1)","v":1},{"$f":"VALUE(MID(rawrtf!A549,FIND(\"TFPSTR\",rawrtf!A549,1)+6,3))","v":400},{"$f":"IF(ISERROR(B549),\"NOSTR\",VLOOKUP(B549,strlook!A:C,2,FALSE))","v":"Missing Field - CUSTOMER PROMOTIONS - Inform17"},{"$f":"IF(ISNA(C549),\"ERROR MISSING TFPSTR \"&B549,C549)","v":"Missing Field - CUSTOMER PROMOTIONS - Inform17"}]
[1,{"$f":"VALUE(MID(rawrtf!A550,FIND(\"TFPSTR\",rawrtf!A550,1)+6,3))","v":401},{"$f":"IF(ISERROR(B550),\"NOSTR\",VLOOKUP(B550,strlook!A:C,2,FALSE))","v":"Missing Field - CUSTOMER PROMOTIONS - Inform18"},"Missing Field - CUSTOMER PROMOTIONS - Inform18"]
[1,{"$f":"VALUE(MID(rawrtf!A551,FIND(\"TFPSTR\",rawrtf!A551,1)+6,3))","v":402},{"$f":"IF(ISERROR(B551),\"NOSTR\",VLOOKUP(B551,strlook!A:C,2,FALSE))","v":"Missing Field - CUSTOMER PROMOTIONS - Inform19"},"Missing Field - CUSTOMER PROMOTIONS - Inform19"]
[1,{"$f":"VALUE(MID(rawrtf!A552,FIND(\"TFPSTR\",rawrtf!A552,1)+6,3))","v":403},{"$f":"IF(ISERROR(B552),\"NOSTR\",VLOOKUP(B552,strlook!A:C,2,FALSE))","v":"Missing Field - CUSTOMER PROMOTIONS - Inform20"},"Missing Field - CUSTOMER PROMOTIONS - Inform20"]
[0,{"$f":"VALUE(MID(rawrtf!A553,FIND(\"TFPSTR\",rawrtf!A553,1)+6,3))","v":{"$error":"#VALUE!"}},{"$f":"IF(ISERROR(B553),\"NOSTR\",VLOOKUP(B553,strlook!A:C,2,FALSE))","v":"NOSTR"},"NOSTR"]
[1,{"$f":"VALUE(MID(rawrtf!A554,FIND(\"TFPSTR\",rawrtf!A554,1)+6,3))","v":405},{"$f":"IF(ISERROR(B554),\"NOSTR\",VLOOKUP(B554,strlook!A:C,2,FALSE))","v":"Missing Field - CUSTOMER PROMOTIONS - Set App1"},"Missing Field - CUSTOMER PROMOTIONS - Set App1"]
[1,{"$f":"VALUE(MID(rawrtf!A555,FIND(\"TFPSTR\",rawrtf!A555,1)+6,3))","v":406},{"$f":"IF(ISERROR(B555),\"NOSTR\",VLOOKUP(B555,strlook!A:C,2,FALSE))","v":"Missing Field - CUSTOMER PROMOTIONS - Set App2"},"Missing Field - CUSTOMER PROMOTIONS - Set App2"]
[1,{"$f":"VALUE(MID(rawrtf!A556,FIND(\"TFPSTR\",rawrtf!A556,1)+6,3))","v":407},{"$f":"IF(ISERROR(B556),\"NOSTR\",VLOOKUP(B556,strlook!A:C,2,FALSE))","v":"Missing Field - CUSTOMER PROMOTIONS - Set App3"},"Missing Field - CUSTOMER PROMOTIONS - Set App3"]
[1,{"$f":"VALUE(MID(rawrtf!A557,FIND(\"TFPSTR\",rawrtf!A557,1)+6,3))","v":408},{"$f":"IF(ISERROR(B557),\"NOSTR\",VLOOKUP(B557,strlook!A:C,2,FALSE))","v":"Missing Field - CUSTOMER PROMOTIONS - Set App4"},"Missing Field - CUSTOMER PROMOTIONS - Set App4"]
[1,{"$f":"VALUE(MID(rawrtf!A558,FIND(\"TFPSTR\",rawrtf!A558,1)+6,3))","v":409},{"$f":"IF(ISERROR(B558),\"NOSTR\",VLOOKUP(B558,strlook!A:C,2,FALSE))","v":"Missing Field - CUSTOMER PROMOTIONS - Set App5"},"Missing Field - CUSTOMER PROMOTIONS - Set App5"]
[1,{"$f":"VALUE(MID(rawrtf!A559,FIND(\"TFPSTR\",rawrtf!A559,1)+6,3))","v":410},{"$f":"IF(ISERROR(B559),\"NOSTR\",VLOOKUP(B559,strlook!A:C,2,FALSE))","v":"Missing Field - CUSTOMER PROMOTIONS - Set App6"},"Missing Field - CUSTOMER PROMOTIONS - Set App6"]
[1,{"$f":"VALUE(MID(rawrtf!A560,FIND(\"TFPSTR\",rawrtf!A560,1)+6,3))","v":411},{"$f":"IF(ISERROR(B560),\"NOSTR\",VLOOKUP(B560,strlook!A:C,2,FALSE))","v":"Missing Field - CUSTOMER PROMOTIONS - Set App7"},"Missing Field - CUSTOMER PROMOTIONS - Set App7"]
[1,{"$f":"VALUE(MID(rawrtf!A561,FIND(\"TFPSTR\",rawrtf!A561,1)+6,3))","v":412},{"$f":"IF(ISERROR(B561),\"NOSTR\",VLOOKUP(B561,strlook!A:C,2,FALSE))","v":"Missing Field - CUSTOMER PROMOTIONS - Set App8"},"Missing Field - CUSTOMER PROMOTIONS - Set App8"]
[1,{"$f":"VALUE(MID(rawrtf!A562,FIND(\"TFPSTR\",rawrtf!A562,1)+6,3))","v":413},{"$f":"IF(ISERROR(B562),\"NOSTR\",VLOOKUP(B562,strlook!A:C,2,FALSE))","v":"Missing Field - CUSTOMER PROMOTIONS - Set App9"},"Missing Field - CUSTOMER PROMOTIONS - Set App9"]
[1,{"$f":"VALUE(MID(rawrtf!A563,FIND(\"TFPSTR\",rawrtf!A563,1)+6,3))","v":414},{"$f":"IF(ISERROR(B563),\"NOSTR\",VLOOKUP(B563,strlook!A:C,2,FALSE))","v":"Missing Field - CUSTOMER PROMOTIONS - Set App10"},"Missing Field - CUSTOMER PROMOTIONS - Set App10"]
[1,{"$f":"VALUE(MID(rawrtf!A564,FIND(\"TFPSTR\",rawrtf!A564,1)+6,3))","v":415},{"$f":"IF(ISERROR(B564),\"NOSTR\",VLOOKUP(B564,strlook!A:C,2,FALSE))","v":"Missing Field - CUSTOMER PROMOTIONS - Set App11"},"Missing Field - CUSTOMER PROMOTIONS - Set App11"]
[1,{"$f":"VALUE(MID(rawrtf!A565,FIND(\"TFPSTR\",rawrtf!A565,1)+6,3))","v":416},{"$f":"IF(ISERROR(B565),\"NOSTR\",VLOOKUP(B565,strlook!A:C,2,FALSE))","v":"Missing Field - CUSTOMER PROMOTIONS - Set App12"},"Missing Field - CUSTOMER PROMOTIONS - Set App12"]
[1,{"$f":"VALUE(MID(rawrtf!A566,FIND(\"TFPSTR\",rawrtf!A566,1)+6,3))","v":417},{"$f":"IF(ISERROR(B566),\"NOSTR\",VLOOKUP(B566,strlook!A:C,2,FALSE))","v":"Missing Field - CUSTOMER PROMOTIONS - Set App13"},"Missing Field - CUSTOMER PROMOTIONS - Set App13"]
[1,{"$f":"VALUE(MID(rawrtf!A567,FIND(\"TFPSTR\",rawrtf!A567,1)+6,3))","v":418},{"$f":"IF(ISERROR(B567),\"NOSTR\",VLOOKUP(B567,strlook!A:C,2,FALSE))","v":"Missing Field - CUSTOMER PROMOTIONS - Set App14"},"Missing Field - CUSTOMER PROMOTIONS - Set App14"]
[1,{"$f":"VALUE(MID(rawrtf!A568,FIND(\"TFPSTR\",rawrtf!A568,1)+6,3))","v":419},{"$f":"IF(ISERROR(B568),\"NOSTR\",VLOOKUP(B568,strlook!A:C,2,FALSE))","v":"Missing Field - CUSTOMER PROMOTIONS - Set App15"},"Missing Field - CUSTOMER PROMOTIONS - Set App15"]
[1,{"$f":"VALUE(MID(rawrtf!A569,FIND(\"TFPSTR\",rawrtf!A569,1)+6,3))","v":420},{"$f":"IF(ISERROR(B569),\"NOSTR\",VLOOKUP(B569,strlook!A:C,2,FALSE))","v":"Missing Field - CUSTOMER PROMOTIONS - Set App16"},"Missing Field - CUSTOMER PROMOTIONS - Set App16"]
[1,{"$f":"VALUE(MID(rawrtf!A570,FIND(\"TFPSTR\",rawrtf!A570,1)+6,3))","v":421},{"$f":"IF(ISERROR(B570),\"NOSTR\",VLOOKUP(B570,strlook!A:C,2,FALSE))","v":"Missing Field - CUSTOMER PROMOTIONS - Set App17"},"Missing Field - CUSTOMER PROMOTIONS - Set App17"]
[1,{"$f":"VALUE(MID(rawrtf!A571,FIND(\"TFPSTR\",rawrtf!A571,1)+6,3))","v":422},{"$f":"IF(ISERROR(B571),\"NOSTR\",VLOOKUP(B571,strlook!A:C,2,FALSE))","v":"Missing Field - CUSTOMER PROMOTIONS - Set App18"},"Missing Field - CUSTOMER PROMOTIONS - Set App18"]
[1,{"$f":"VALUE(MID(rawrtf!A572,FIND(\"TFPSTR\",rawrtf!A572,1)+6,3))","v":423},{"$f":"IF(ISERROR(B572),\"NOSTR\",VLOOKUP(B572,strlook!A:C,2,FALSE))","v":"Missing Field - CUSTOMER PROMOTIONS - Set App19"},"Missing Field - CUSTOMER PROMOTIONS - Set App19"]
[1,{"$f":"VALUE(MID(rawrtf!A573,FIND(\"TFPSTR\",rawrtf!A573,1)+6,3))","v":424},{"$f":"IF(ISERROR(B573),\"NOSTR\",VLOOKUP(B573,strlook!A:C,2,FALSE))","v":"Missing Field - CUSTOMER PROMOTIONS - Set App20"},"Missing Field - CUSTOMER PROMOTIONS - Set App20"]
[0,{"$f":"VALUE(MID(rawrtf!A574,FIND(\"TFPSTR\",rawrtf!A574,1)+6,3))","v":{"$error":"#VALUE!"}},{"$f":"IF(ISERROR(B574),\"NOSTR\",VLOOKUP(B574,strlook!A:C,2,FALSE))","v":"NOSTR"},"NOSTR"]
[1,{"$f":"VALUE(MID(rawrtf!A575,FIND(\"TFPSTR\",rawrtf!A575,1)+6,3))","v":426},{"$f":"IF(ISERROR(B575),\"NOSTR\",VLOOKUP(B575,strlook!A:C,2,FALSE))","v":"Missing Field - CUSTOMER PROMOTIONS - Close Sale1"},"Missing Field - CUSTOMER PROMOTIONS - Close Sale1"]
[1,{"$f":"VALUE(MID(rawrtf!A576,FIND(\"TFPSTR\",rawrtf!A576,1)+6,3))","v":427},{"$f":"IF(ISERROR(B576),\"NOSTR\",VLOOKUP(B576,strlook!A:C,2,FALSE))","v":"Missing Field - CUSTOMER PROMOTIONS - Close Sale2"},"Missing Field - CUSTOMER PROMOTIONS - Close Sale2"]
[1,{"$f":"VALUE(MID(rawrtf!A577,FIND(\"TFPSTR\",rawrtf!A577,1)+6,3))","v":428},{"$f":"IF(ISERROR(B577),\"NOSTR\",VLOOKUP(B577,strlook!A:C,2,FALSE))","v":"Missing Field - CUSTOMER PROMOTIONS - Close Sale3"},"Missing Field - CUSTOMER PROMOTIONS - Close Sale3"]
[1,{"$f":"VALUE(MID(rawrtf!A578,FIND(\"TFPSTR\",rawrtf!A578,1)+6,3))","v":429},{"$f":"IF(ISERROR(B578),\"NOSTR\",VLOOKUP(B578,strlook!A:C,2,FALSE))","v":"Missing Field - CUSTOMER PROMOTIONS - Close Sale4"},"Missing Field - CUSTOMER PROMOTIONS - Close Sale4"]
[1,{"$f":"VALUE(MID(rawrtf!A579,FIND(\"TFPSTR\",rawrtf!A579,1)+6,3))","v":430},{"$f":"IF(ISERROR(B579),\"NOSTR\",VLOOKUP(B579,strlook!A:C,2,FALSE))","v":"Missing Field - CUSTOMER PROMOTIONS - Close Sale5"},"Missing Field - CUSTOMER PROMOTIONS - Close Sale5"]
[1,{"$f":"VALUE(MID(rawrtf!A580,FIND(\"TFPSTR\",rawrtf!A580,1)+6,3))","v":431},{"$f":"IF(ISERROR(B580),\"NOSTR\",VLOOKUP(B580,strlook!A:C,2,FALSE))","v":"Missing Field - CUSTOMER PROMOTIONS - Close Sale6"},"Missing Field - CUSTOMER PROMOTIONS - Close Sale6"]
[1,{"$f":"VALUE(MID(rawrtf!A581,FIND(\"TFPSTR\",rawrtf!A581,1)+6,3))","v":432},{"$f":"IF(ISERROR(B581),\"NOSTR\",VLOOKUP(B581,strlook!A:C,2,FALSE))","v":"Missing Field - CUSTOMER PROMOTIONS - Close Sale7"},"Missing Field - CUSTOMER PROMOTIONS - Close Sale7"]
[1,{"$f":"VALUE(MID(rawrtf!A582,FIND(\"TFPSTR\",rawrtf!A582,1)+6,3))","v":433},{"$f":"IF(ISERROR(B582),\"NOSTR\",VLOOKUP(B582,strlook!A:C,2,FALSE))","v":"Missing Field - CUSTOMER PROMOTIONS - Close Sale8"},"Missing Field - CUSTOMER PROMOTIONS - Close Sale8"]
[1,{"$f":"VALUE(MID(rawrtf!A583,FIND(\"TFPSTR\",rawrtf!A583,1)+6,3))","v":434},{"$f":"IF(ISERROR(B583),\"NOSTR\",VLOOKUP(B583,strlook!A:C,2,FALSE))","v":"Missing Field - CUSTOMER PROMOTIONS - Close Sale9"},"Missing Field - CUSTOMER PROMOTIONS - Close Sale9"]
[1,{"$f":"VALUE(MID(rawrtf!A584,FIND(\"TFPSTR\",rawrtf!A584,1)+6,3))","v":435},{"$f":"IF(ISERROR(B584),\"NOSTR\",VLOOKUP(B584,strlook!A:C,2,FALSE))","v":"Missing Field - CUSTOMER PROMOTIONS - Close Sale10"},"Missing Field - CUSTOMER PROMOTIONS - Close Sale10"]
[1,{"$f":"VALUE(MID(rawrtf!A585,FIND(\"TFPSTR\",rawrtf!A585,1)+6,3))","v":436},{"$f":"IF(ISERROR(B585),\"NOSTR\",VLOOKUP(B585,strlook!A:C,2,FALSE))","v":"Missing Field - CUSTOMER PROMOTIONS - Close Sale11"},"Missing Field - CUSTOMER PROMOTIONS - Close Sale11"]
[1,{"$f":"VALUE(MID(rawrtf!A586,FIND(\"TFPSTR\",rawrtf!A586,1)+6,3))","v":437},{"$f":"IF(ISERROR(B586),\"NOSTR\",VLOOKUP(B586,strlook!A:C,2,FALSE))","v":"Missing Field - CUSTOMER PROMOTIONS - Close Sale12"},"Missing Field - CUSTOMER PROMOTIONS - Close Sale12"]
[1,{"$f":"VALUE(MID(rawrtf!A587,FIND(\"TFPSTR\",rawrtf!A587,1)+6,3))","v":438},{"$f":"IF(ISERROR(B587),\"NOSTR\",VLOOKUP(B587,strlook!A:C,2,FALSE))","v":"Missing Field - CUSTOMER PROMOTIONS - Close Sale13"},"Missing Field - CUSTOMER PROMOTIONS - Close Sale13"]
[1,{"$f":"VALUE(MID(rawrtf!A588,FIND(\"TFPSTR\",rawrtf!A588,1)+6,3))","v":439},{"$f":"IF(ISERROR(B588),\"NOSTR\",VLOOKUP(B588,strlook!A:C,2,FALSE))","v":"Missing Field - CUSTOMER PROMOTIONS - Close Sale14"},"Missing Field - CUSTOMER PROMOTIONS - Close Sale14"]
[1,{"$f":"VALUE(MID(rawrtf!A589,FIND(\"TFPSTR\",rawrtf!A589,1)+6,3))","v":440},{"$f":"IF(ISERROR(B589),\"NOSTR\",VLOOKUP(B589,strlook!A:C,2,FALSE))","v":"Missing Field - CUSTOMER PROMOTIONS - Close Sale15"},"Missing Field - CUSTOMER PROMOTIONS - Close Sale15"]
[1,{"$f":"VALUE(MID(rawrtf!A590,FIND(\"TFPSTR\",rawrtf!A590,1)+6,3))","v":441},{"$f":"IF(ISERROR(B590),\"NOSTR\",VLOOKUP(B590,strlook!A:C,2,FALSE))","v":"Missing Field - CUSTOMER PROMOTIONS - Close Sale16"},"Missing Field - CUSTOMER PROMOTIONS - Close Sale16"]
[1,{"$f":"VALUE(MID(rawrtf!A591,FIND(\"TFPSTR\",rawrtf!A591,1)+6,3))","v":442},{"$f":"IF(ISERROR(B591),\"NOSTR\",VLOOKUP(B591,strlook!A:C,2,FALSE))","v":"Missing Field - CUSTOMER PROMOTIONS - Close Sale17"},"Missing Field - CUSTOMER PROMOTIONS - Close Sale17"]
[1,{"$f":"VALUE(MID(rawrtf!A592,FIND(\"TFPSTR\",rawrtf!A592,1)+6,3))","v":443},{"$f":"IF(ISERROR(B592),\"NOSTR\",VLOOKUP(B592,strlook!A:C,2,FALSE))","v":"Missing Field - CUSTOMER PROMOTIONS - Close Sale18"},"Missing Field - CUSTOMER PROMOTIONS - Close Sale18"]
[1,{"$f":"VALUE(MID(rawrtf!A593,FIND(\"TFPSTR\",rawrtf!A593,1)+6,3))","v":444},{"$f":"IF(ISERROR(B593),\"NOSTR\",VLOOKUP(B593,strlook!A:C,2,FALSE))","v":"Missing Field - CUSTOMER PROMOTIONS - Close Sale19"},"Missing Field - CUSTOMER PROMOTIONS - Close Sale19"]
[1,{"$f":"VALUE(MID(rawrtf!A594,FIND(\"TFPSTR\",rawrtf!A594,1)+6,3))","v":445},{"$f":"IF(ISERROR(B594),\"NOSTR\",VLOOKUP(B594,strlook!A:C,2,FALSE))","v":"Missing Field - CUSTOMER PROMOTIONS - Close Sale20"},"Missing Field - CUSTOMER PROMOTIONS - Close Sale20"]
[0,{"$f":"VALUE(MID(rawrtf!A595,FIND(\"TFPSTR\",rawrtf!A595,1)+6,3))","v":{"$error":"#VALUE!"}},{"$f":"IF(ISERROR(B595),\"NOSTR\",VLOOKUP(B595,strlook!A:C,2,FALSE))","v":"NOSTR"},"NOSTR"]
[0,{"$f":"VALUE(MID(rawrtf!A596,FIND(\"TFPSTR\",rawrtf!A596,1)+6,3))","v":{"$error":"#VALUE!"}},{"$f":"IF(ISERROR(B596),\"NOSTR\",VLOOKUP(B596,strlook!A:C,2,FALSE))","v":"NOSTR"},"NOSTR"]
[0,{"$f":"VALUE(MID(rawrtf!A597,FIND(\"TFPSTR\",rawrtf!A597,1)+6,3))","v":{"$error":"#VALUE!"}},{"$f":"IF(ISERROR(B597),\"NOSTR\",VLOOKUP(B597,strlook!A:C,2,FALSE))","v":"NOSTR"},"NOSTR"]
[1,{"$f":"VALUE(MID(rawrtf!A598,FIND(\"TFPSTR\",rawrtf!A598,1)+6,3))","v":103},{"$f":"IF(ISERROR(B598),\"NOSTR\",VLOOKUP(B598,strlook!A:C,2,FALSE))","v":"Missing Field - FirmNam-Ans1"},"Missing Field - FirmNam-Ans1"]
[1,{"$f":"VALUE(MID(rawrtf!A599,FIND(\"TFPSTR\",rawrtf!A599,1)+6,3))","v":448},{"$f":"IF(ISERROR(B599),\"NOSTR\",VLOOKUP(B599,strlook!A:C,2,FALSE))","v":"Missing Field - CRM PROGRAMME - Alert1"},"Missing Field - CRM PROGRAMME - Alert1"]
[1,{"$f":"VALUE(MID(rawrtf!A600,FIND(\"TFPSTR\",rawrtf!A600,1)+6,3))","v":449},{"$f":"IF(ISERROR(B600),\"NOSTR\",VLOOKUP(B600,strlook!A:C,2,FALSE))","v":"Missing Field - CRM PROGRAMME - Alert2"},"Missing Field - CRM PROGRAMME - Alert2"]
[1,{"$f":"VALUE(MID(rawrtf!A601,FIND(\"TFPSTR\",rawrtf!A601,1)+6,3))","v":450},{"$f":"IF(ISERROR(B601),\"NOSTR\",VLOOKUP(B601,strlook!A:C,2,FALSE))","v":"Missing Field - CRM PROGRAMME - Alert3"},"Missing Field - CRM PROGRAMME - Alert3"]
[1,{"$f":"VALUE(MID(rawrtf!A602,FIND(\"TFPSTR\",rawrtf!A602,1)+6,3))","v":451},{"$f":"IF(ISERROR(B602),\"NOSTR\",VLOOKUP(B602,strlook!A:C,2,FALSE))","v":"Missing Field - CRM PROGRAMME - Alert4"},"Missing Field - CRM PROGRAMME - Alert4"]
[1,{"$f":"VALUE(MID(rawrtf!A603,FIND(\"TFPSTR\",rawrtf!A603,1)+6,3))","v":452},{"$f":"IF(ISERROR(B603),\"NOSTR\",VLOOKUP(B603,strlook!A:C,2,FALSE))","v":"Missing Field - CRM PROGRAMME - Alert5"},"Missing Field - CRM PROGRAMME - Alert5"]
[1,{"$f":"VALUE(MID(rawrtf!A604,FIND(\"TFPSTR\",rawrtf!A604,1)+6,3))","v":453},{"$f":"IF(ISERROR(B604),\"NOSTR\",VLOOKUP(B604,strlook!A:C,2,FALSE))","v":"Missing Field - CRM PROGRAMME - Alert6"},"Missing Field - CRM PROGRAMME - Alert6"]
[1,{"$f":"VALUE(MID(rawrtf!A605,FIND(\"TFPSTR\",rawrtf!A605,1)+6,3))","v":454},{"$f":"IF(ISERROR(B605),\"NOSTR\",VLOOKUP(B605,strlook!A:C,2,FALSE))","v":"Missing Field - CRM PROGRAMME - Alert7"},"Missing Field - CRM PROGRAMME - Alert7"]
[1,{"$f":"VALUE(MID(rawrtf!A606,FIND(\"TFPSTR\",rawrtf!A606,1)+6,3))","v":455},{"$f":"IF(ISERROR(B606),\"NOSTR\",VLOOKUP(B606,strlook!A:C,2,FALSE))","v":"Missing Field - CRM PROGRAMME - Alert8"},"Missing Field - CRM PROGRAMME - Alert8"]
[1,{"$f":"VALUE(MID(rawrtf!A607,FIND(\"TFPSTR\",rawrtf!A607,1)+6,3))","v":456},{"$f":"IF(ISERROR(B607),\"NOSTR\",VLOOKUP(B607,strlook!A:C,2,FALSE))","v":"Missing Field - CRM PROGRAMME - Alert9"},"Missing Field - CRM PROGRAMME - Alert9"]
[1,{"$f":"VALUE(MID(rawrtf!A608,FIND(\"TFPSTR\",rawrtf!A608,1)+6,3))","v":457},{"$f":"IF(ISERROR(B608),\"NOSTR\",VLOOKUP(B608,strlook!A:C,2,FALSE))","v":"Missing Field - CRM PROGRAMME - Alert10"},"Missing Field - CRM PROGRAMME - Alert10"]
[1,{"$f":"VALUE(MID(rawrtf!A609,FIND(\"TFPSTR\",rawrtf!A609,1)+6,3))","v":458},{"$f":"IF(ISERROR(B609),\"NOSTR\",VLOOKUP(B609,strlook!A:C,2,FALSE))","v":"Missing Field - CRM PROGRAMME - Alert11"},"Missing Field - CRM PROGRAMME - Alert11"]
[1,{"$f":"VALUE(MID(rawrtf!A610,FIND(\"TFPSTR\",rawrtf!A610,1)+6,3))","v":459},{"$f":"IF(ISERROR(B610),\"NOSTR\",VLOOKUP(B610,strlook!A:C,2,FALSE))","v":"Missing Field - CRM PROGRAMME - Alert12"},"Missing Field - CRM PROGRAMME - Alert12"]
[1,{"$f":"VALUE(MID(rawrtf!A611,FIND(\"TFPSTR\",rawrtf!A611,1)+6,3))","v":460},{"$f":"IF(ISERROR(B611),\"NOSTR\",VLOOKUP(B611,strlook!A:C,2,FALSE))","v":"Missing Field - CRM PROGRAMME - Alert13"},"Missing Field - CRM PROGRAMME - Alert13"]
[1,{"$f":"VALUE(MID(rawrtf!A612,FIND(\"TFPSTR\",rawrtf!A612,1)+6,3))","v":461},{"$f":"IF(ISERROR(B612),\"NOSTR\",VLOOKUP(B612,strlook!A:C,2,FALSE))","v":"Missing Field - CRM PROGRAMME - Alert14"},"Missing Field - CRM PROGRAMME - Alert14"]
[{"$f":"IF(ISERROR(B613),0,1)","v":1},{"$f":"VALUE(MID(rawrtf!A613,FIND(\"TFPSTR\",rawrtf!A613,1)+6,3))","v":462},{"$f":"IF(ISERROR(B613),\"NOSTR\",VLOOKUP(B613,strlook!A:C,2,FALSE))","v":"Missing Field - CRM PROGRAMME - Alert15"},{"$f":"IF(ISNA(C613),\"ERROR MISSING TFPSTR \"&B613,C613)","v":"Missing Field - CRM PROGRAMME - Alert15"}]
[1,{"$f":"VALUE(MID(rawrtf!A614,FIND(\"TFPSTR\",rawrtf!A614,1)+6,3))","v":463},{"$f":"IF(ISERROR(B614),\"NOSTR\",VLOOKUP(B614,strlook!A:C,2,FALSE))","v":"Missing Field - CRM PROGRAMME - Alert16"},"Missing Field - CRM PROGRAMME - Alert16"]
[1,{"$f":"VALUE(MID(rawrtf!A615,FIND(\"TFPSTR\",rawrtf!A615,1)+6,3))","v":464},{"$f":"IF(ISERROR(B615),\"NOSTR\",VLOOKUP(B615,strlook!A:C,2,FALSE))","v":"Missing Field - CRM PROGRAMME - Alert17"},"Missing Field - CRM PROGRAMME - Alert17"]
[1,{"$f":"VALUE(MID(rawrtf!A616,FIND(\"TFPSTR\",rawrtf!A616,1)+6,3))","v":465},{"$f":"IF(ISERROR(B616),\"NOSTR\",VLOOKUP(B616,strlook!A:C,2,FALSE))","v":"Missing Field - CRM PROGRAMME - Alert18"},"Missing Field - CRM PROGRAMME - Alert18"]
[1,{"$f":"VALUE(MID(rawrtf!A617,FIND(\"TFPSTR\",rawrtf!A617,1)+6,3))","v":466},{"$f":"IF(ISERROR(B617),\"NOSTR\",VLOOKUP(B617,strlook!A:C,2,FALSE))","v":"Missing Field - CRM PROGRAMME - Alert19"},"Missing Field - CRM PROGRAMME - Alert19"]
[1,{"$f":"VALUE(MID(rawrtf!A618,FIND(\"TFPSTR\",rawrtf!A618,1)+6,3))","v":467},{"$f":"IF(ISERROR(B618),\"NOSTR\",VLOOKUP(B618,strlook!A:C,2,FALSE))","v":"Missing Field - CRM PROGRAMME - Alert20"},"Missing Field - CRM PROGRAMME - Alert20"]
[1,{"$f":"VALUE(MID(rawrtf!A619,FIND(\"TFPSTR\",rawrtf!A619,1)+6,3))","v":105},{"$f":"IF(ISERROR(B619),\"NOSTR\",VLOOKUP(B619,strlook!A:C,2,FALSE))","v":"Missing Field - FirmProd-Ans1"},"Missing Field - FirmProd-Ans1"]
[1,{"$f":"VALUE(MID(rawrtf!A620,FIND(\"TFPSTR\",rawrtf!A620,1)+6,3))","v":469},{"$f":"IF(ISERROR(B620),\"NOSTR\",VLOOKUP(B620,strlook!A:C,2,FALSE))","v":"Missing Field - CRM PROGRAMME - Inform1"},"Missing Field - CRM PROGRAMME - Inform1"]
[1,{"$f":"VALUE(MID(rawrtf!A621,FIND(\"TFPSTR\",rawrtf!A621,1)+6,3))","v":470},{"$f":"IF(ISERROR(B621),\"NOSTR\",VLOOKUP(B621,strlook!A:C,2,FALSE))","v":"Missing Field - CRM PROGRAMME - Inform2"},"Missing Field - CRM PROGRAMME - Inform2"]
[1,{"$f":"VALUE(MID(rawrtf!A622,FIND(\"TFPSTR\",rawrtf!A622,1)+6,3))","v":471},{"$f":"IF(ISERROR(B622),\"NOSTR\",VLOOKUP(B622,strlook!A:C,2,FALSE))","v":"Missing Field - CRM PROGRAMME - Inform3"},"Missing Field - CRM PROGRAMME - Inform3"]
[1,{"$f":"VALUE(MID(rawrtf!A623,FIND(\"TFPSTR\",rawrtf!A623,1)+6,3))","v":472},{"$f":"IF(ISERROR(B623),\"NOSTR\",VLOOKUP(B623,strlook!A:C,2,FALSE))","v":"Missing Field - CRM PROGRAMME - Inform4"},"Missing Field - CRM PROGRAMME - Inform4"]
[1,{"$f":"VALUE(MID(rawrtf!A624,FIND(\"TFPSTR\",rawrtf!A624,1)+6,3))","v":473},{"$f":"IF(ISERROR(B624),\"NOSTR\",VLOOKUP(B624,strlook!A:C,2,FALSE))","v":"Missing Field - CRM PROGRAMME - Inform5"},"Missing Field - CRM PROGRAMME - Inform5"]
[1,{"$f":"VALUE(MID(rawrtf!A625,FIND(\"TFPSTR\",rawrtf!A625,1)+6,3))","v":474},{"$f":"IF(ISERROR(B625),\"NOSTR\",VLOOKUP(B625,strlook!A:C,2,FALSE))","v":"Missing Field - CRM PROGRAMME - Inform6"},"Missing Field - CRM PROGRAMME - Inform6"]
[1,{"$f":"VALUE(MID(rawrtf!A626,FIND(\"TFPSTR\",rawrtf!A626,1)+6,3))","v":475},{"$f":"IF(ISERROR(B626),\"NOSTR\",VLOOKUP(B626,strlook!A:C,2,FALSE))","v":"Missing Field - CRM PROGRAMME - Inform7"},"Missing Field - CRM PROGRAMME - Inform7"]
[1,{"$f":"VALUE(MID(rawrtf!A627,FIND(\"TFPSTR\",rawrtf!A627,1)+6,3))","v":476},{"$f":"IF(ISERROR(B627),\"NOSTR\",VLOOKUP(B627,strlook!A:C,2,FALSE))","v":"Missing Field - CRM PROGRAMME - Inform8"},"Missing Field - CRM PROGRAMME - Inform8"]
[1,{"$f":"VALUE(MID(rawrtf!A628,FIND(\"TFPSTR\",rawrtf!A628,1)+6,3))","v":477},{"$f":"IF(ISERROR(B628),\"NOSTR\",VLOOKUP(B628,strlook!A:C,2,FALSE))","v":"Missing Field - CRM PROGRAMME - Inform9"},"Missing Field - CRM PROGRAMME - Inform9"]
[1,{"$f":"VALUE(MID(rawrtf!A629,FIND(\"TFPSTR\",rawrtf!A629,1)+6,3))","v":478},{"$f":"IF(ISERROR(B629),\"NOSTR\",VLOOKUP(B629,strlook!A:C,2,FALSE))","v":"Missing Field - CRM PROGRAMME - Inform10"},"Missing Field - CRM PROGRAMME - Inform10"]
[1,{"$f":"VALUE(MID(rawrtf!A630,FIND(\"TFPSTR\",rawrtf!A630,1)+6,3))","v":479},{"$f":"IF(ISERROR(B630),\"NOSTR\",VLOOKUP(B630,strlook!A:C,2,FALSE))","v":"Missing Field - CRM PROGRAMME - Inform11"},"Missing Field - CRM PROGRAMME - Inform11"]
[1,{"$f":"VALUE(MID(rawrtf!A631,FIND(\"TFPSTR\",rawrtf!A631,1)+6,3))","v":480},{"$f":"IF(ISERROR(B631),\"NOSTR\",VLOOKUP(B631,strlook!A:C,2,FALSE))","v":"Missing Field - CRM PROGRAMME - Inform12"},"Missing Field - CRM PROGRAMME - Inform12"]
[1,{"$f":"VALUE(MID(rawrtf!A632,FIND(\"TFPSTR\",rawrtf!A632,1)+6,3))","v":481},{"$f":"IF(ISERROR(B632),\"NOSTR\",VLOOKUP(B632,strlook!A:C,2,FALSE))","v":"Missing Field - CRM PROGRAMME - Inform13"},"Missing Field - CRM PROGRAMME - Inform13"]
[1,{"$f":"VALUE(MID(rawrtf!A633,FIND(\"TFPSTR\",rawrtf!A633,1)+6,3))","v":482},{"$f":"IF(ISERROR(B633),\"NOSTR\",VLOOKUP(B633,strlook!A:C,2,FALSE))","v":"Missing Field - CRM PROGRAMME - Inform14"},"Missing Field - CRM PROGRAMME - Inform14"]
[1,{"$f":"VALUE(MID(rawrtf!A634,FIND(\"TFPSTR\",rawrtf!A634,1)+6,3))","v":483},{"$f":"IF(ISERROR(B634),\"NOSTR\",VLOOKUP(B634,strlook!A:C,2,FALSE))","v":"Missing Field - CRM PROGRAMME - Inform15"},"Missing Field - CRM PROGRAMME - Inform15"]
[1,{"$f":"VALUE(MID(rawrtf!A635,FIND(\"TFPSTR\",rawrtf!A635,1)+6,3))","v":484},{"$f":"IF(ISERROR(B635),\"NOSTR\",VLOOKUP(B635,strlook!A:C,2,FALSE))","v":"Missing Field - CRM PROGRAMME - Inform16"},"Missing Field - CRM PROGRAMME - Inform16"]
[1,{"$f":"VALUE(MID(rawrtf!A636,FIND(\"TFPSTR\",rawrtf!A636,1)+6,3))","v":485},{"$f":"IF(ISERROR(B636),\"NOSTR\",VLOOKUP(B636,strlook!A:C,2,FALSE))","v":"Missing Field - CRM PROGRAMME - Inform17"},"Missing Field - CRM PROGRAMME - Inform17"]
[1,{"$f":"VALUE(MID(rawrtf!A637,FIND(\"TFPSTR\",rawrtf!A637,1)+6,3))","v":486},{"$f":"IF(ISERROR(B637),\"NOSTR\",VLOOKUP(B637,strlook!A:C,2,FALSE))","v":"Missing Field - CRM PROGRAMME - Inform18"},"Missing Field - CRM PROGRAMME - Inform18"]
[1,{"$f":"VALUE(MID(rawrtf!A638,FIND(\"TFPSTR\",rawrtf!A638,1)+6,3))","v":487},{"$f":"IF(ISERROR(B638),\"NOSTR\",VLOOKUP(B638,strlook!A:C,2,FALSE))","v":"Missing Field - CRM PROGRAMME - Inform19"},"Missing Field - CRM PROGRAMME - Inform19"]
[1,{"$f":"VALUE(MID(rawrtf!A639,FIND(\"TFPSTR\",rawrtf!A639,1)+6,3))","v":488},{"$f":"IF(ISERROR(B639),\"NOSTR\",VLOOKUP(B639,strlook!A:C,2,FALSE))","v":"Missing Field - CRM PROGRAMME - Inform20"},"Missing Field - CRM PROGRAMME - Inform20"]
[0,{"$f":"VALUE(MID(rawrtf!A640,FIND(\"TFPSTR\",rawrtf!A640,1)+6,3))","v":{"$error":"#VALUE!"}},{"$f":"IF(ISERROR(B640),\"NOSTR\",VLOOKUP(B640,strlook!A:C,2,FALSE))","v":"NOSTR"},"NOSTR"]
[1,{"$f":"VALUE(MID(rawrtf!A641,FIND(\"TFPSTR\",rawrtf!A641,1)+6,3))","v":490},{"$f":"IF(ISERROR(B641),\"NOSTR\",VLOOKUP(B641,strlook!A:C,2,FALSE))","v":"Missing Field - CRM PROGRAMME - Set App1"},"Missing Field - CRM PROGRAMME - Set App1"]
[1,{"$f":"VALUE(MID(rawrtf!A642,FIND(\"TFPSTR\",rawrtf!A642,1)+6,3))","v":491},{"$f":"IF(ISERROR(B642),\"NOSTR\",VLOOKUP(B642,strlook!A:C,2,FALSE))","v":"Missing Field - CRM PROGRAMME - Set App2"},"Missing Field - CRM PROGRAMME - Set App2"]
[1,{"$f":"VALUE(MID(rawrtf!A643,FIND(\"TFPSTR\",rawrtf!A643,1)+6,3))","v":492},{"$f":"IF(ISERROR(B643),\"NOSTR\",VLOOKUP(B643,strlook!A:C,2,FALSE))","v":"Missing Field - CRM PROGRAMME - Set App3"},"Missing Field - CRM PROGRAMME - Set App3"]
[1,{"$f":"VALUE(MID(rawrtf!A644,FIND(\"TFPSTR\",rawrtf!A644,1)+6,3))","v":493},{"$f":"IF(ISERROR(B644),\"NOSTR\",VLOOKUP(B644,strlook!A:C,2,FALSE))","v":"Missing Field - CRM PROGRAMME - Set App4"},"Missing Field - CRM PROGRAMME - Set App4"]
[1,{"$f":"VALUE(MID(rawrtf!A645,FIND(\"TFPSTR\",rawrtf!A645,1)+6,3))","v":494},{"$f":"IF(ISERROR(B645),\"NOSTR\",VLOOKUP(B645,strlook!A:C,2,FALSE))","v":"Missing Field - CRM PROGRAMME - Set App5"},"Missing Field - CRM PROGRAMME - Set App5"]
[1,{"$f":"VALUE(MID(rawrtf!A646,FIND(\"TFPSTR\",rawrtf!A646,1)+6,3))","v":495},{"$f":"IF(ISERROR(B646),\"NOSTR\",VLOOKUP(B646,strlook!A:C,2,FALSE))","v":"Missing Field - CRM PROGRAMME - Set App6"},"Missing Field - CRM PROGRAMME - Set App6"]
[1,{"$f":"VALUE(MID(rawrtf!A647,FIND(\"TFPSTR\",rawrtf!A647,1)+6,3))","v":496},{"$f":"IF(ISERROR(B647),\"NOSTR\",VLOOKUP(B647,strlook!A:C,2,FALSE))","v":"Missing Field - CRM PROGRAMME - Set App7"},"Missing Field - CRM PROGRAMME - Set App7"]
[1,{"$f":"VALUE(MID(rawrtf!A648,FIND(\"TFPSTR\",rawrtf!A648,1)+6,3))","v":497},{"$f":"IF(ISERROR(B648),\"NOSTR\",VLOOKUP(B648,strlook!A:C,2,FALSE))","v":"Missing Field - CRM PROGRAMME - Set App8"},"Missing Field - CRM PROGRAMME - Set App8"]
[1,{"$f":"VALUE(MID(rawrtf!A649,FIND(\"TFPSTR\",rawrtf!A649,1)+6,3))","v":498},{"$f":"IF(ISERROR(B649),\"NOSTR\",VLOOKUP(B649,strlook!A:C,2,FALSE))","v":"Missing Field - CRM PROGRAMME - Set App9"},"Missing Field - CRM PROGRAMME - Set App9"]
[1,{"$f":"VALUE(MID(rawrtf!A650,FIND(\"TFPSTR\",rawrtf!A650,1)+6,3))","v":499},{"$f":"IF(ISERROR(B650),\"NOSTR\",VLOOKUP(B650,strlook!A:C,2,FALSE))","v":"Missing Field - CRM PROGRAMME - Set App10"},"Missing Field - CRM PROGRAMME - Set App10"]
[1,{"$f":"VALUE(MID(rawrtf!A651,FIND(\"TFPSTR\",rawrtf!A651,1)+6,3))","v":500},{"$f":"IF(ISERROR(B651),\"NOSTR\",VLOOKUP(B651,strlook!A:C,2,FALSE))","v":"Missing Field - CRM PROGRAMME - Set App11"},"Missing Field - CRM PROGRAMME - Set App11"]
[1,{"$f":"VALUE(MID(rawrtf!A652,FIND(\"TFPSTR\",rawrtf!A652,1)+6,3))","v":501},{"$f":"IF(ISERROR(B652),\"NOSTR\",VLOOKUP(B652,strlook!A:C,2,FALSE))","v":"Missing Field - CRM PROGRAMME - Set App12"},"Missing Field - CRM PROGRAMME - Set App12"]
[1,{"$f":"VALUE(MID(rawrtf!A653,FIND(\"TFPSTR\",rawrtf!A653,1)+6,3))","v":502},{"$f":"IF(ISERROR(B653),\"NOSTR\",VLOOKUP(B653,strlook!A:C,2,FALSE))","v":"Missing Field - CRM PROGRAMME - Set App13"},"Missing Field - CRM PROGRAMME - Set App13"]
[1,{"$f":"VALUE(MID(rawrtf!A654,FIND(\"TFPSTR\",rawrtf!A654,1)+6,3))","v":503},{"$f":"IF(ISERROR(B654),\"NOSTR\",VLOOKUP(B654,strlook!A:C,2,FALSE))","v":"Missing Field - CRM PROGRAMME - Set App14"},"Missing Field - CRM PROGRAMME - Set App14"]
[1,{"$f":"VALUE(MID(rawrtf!A655,FIND(\"TFPSTR\",rawrtf!A655,1)+6,3))","v":504},{"$f":"IF(ISERROR(B655),\"NOSTR\",VLOOKUP(B655,strlook!A:C,2,FALSE))","v":"Missing Field - CRM PROGRAMME - Set App15"},"Missing Field - CRM PROGRAMME - Set App15"]
[1,{"$f":"VALUE(MID(rawrtf!A656,FIND(\"TFPSTR\",rawrtf!A656,1)+6,3))","v":505},{"$f":"IF(ISERROR(B656),\"NOSTR\",VLOOKUP(B656,strlook!A:C,2,FALSE))","v":"Missing Field - CRM PROGRAMME - Set App16"},"Missing Field - CRM PROGRAMME - Set App16"]
[1,{"$f":"VALUE(MID(rawrtf!A657,FIND(\"TFPSTR\",rawrtf!A657,1)+6,3))","v":506},{"$f":"IF(ISERROR(B657),\"NOSTR\",VLOOKUP(B657,strlook!A:C,2,FALSE))","v":"Missing Field - CRM PROGRAMME - Set App17"},"Missing Field - CRM PROGRAMME - Set App17"]
[1,{"$f":"VALUE(MID(rawrtf!A658,FIND(\"TFPSTR\",rawrtf!A658,1)+6,3))","v":507},{"$f":"IF(ISERROR(B658),\"NOSTR\",VLOOKUP(B658,strlook!A:C,2,FALSE))","v":"Missing Field - CRM PROGRAMME - Set App18"},"Missing Field - CRM PROGRAMME - Set App18"]
[1,{"$f":"VALUE(MID(rawrtf!A659,FIND(\"TFPSTR\",rawrtf!A659,1)+6,3))","v":508},{"$f":"IF(ISERROR(B659),\"NOSTR\",VLOOKUP(B659,strlook!A:C,2,FALSE))","v":"Missing Field - CRM PROGRAMME - Set App19"},"Missing Field - CRM PROGRAMME - Set App19"]
[1,{"$f":"VALUE(MID(rawrtf!A660,FIND(\"TFPSTR\",rawrtf!A660,1)+6,3))","v":509},{"$f":"IF(ISERROR(B660),\"NOSTR\",VLOOKUP(B660,strlook!A:C,2,FALSE))","v":"Missing Field - CRM PROGRAMME - Set App20"},"Missing Field - CRM PROGRAMME - Set App20"]
[0,{"$f":"VALUE(MID(rawrtf!A661,FIND(\"TFPSTR\",rawrtf!A661,1)+6,3))","v":{"$error":"#VALUE!"}},{"$f":"IF(ISERROR(B661),\"NOSTR\",VLOOKUP(B661,strlook!A:C,2,FALSE))","v":"NOSTR"},"NOSTR"]
[1,{"$f":"VALUE(MID(rawrtf!A662,FIND(\"TFPSTR\",rawrtf!A662,1)+6,3))","v":511},{"$f":"IF(ISERROR(B662),\"NOSTR\",VLOOKUP(B662,strlook!A:C,2,FALSE))","v":"Missing Field - CRM PROGRAMME - Close Sale1"},"Missing Field - CRM PROGRAMME - Close Sale1"]
[1,{"$f":"VALUE(MID(rawrtf!A663,FIND(\"TFPSTR\",rawrtf!A663,1)+6,3))","v":512},{"$f":"IF(ISERROR(B663),\"NOSTR\",VLOOKUP(B663,strlook!A:C,2,FALSE))","v":"Missing Field - CRM PROGRAMME - Close Sale2"},"Missing Field - CRM PROGRAMME - Close Sale2"]
[1,{"$f":"VALUE(MID(rawrtf!A664,FIND(\"TFPSTR\",rawrtf!A664,1)+6,3))","v":513},{"$f":"IF(ISERROR(B664),\"NOSTR\",VLOOKUP(B664,strlook!A:C,2,FALSE))","v":"Missing Field - CRM PROGRAMME - Close Sale3"},"Missing Field - CRM PROGRAMME - Close Sale3"]
[1,{"$f":"VALUE(MID(rawrtf!A665,FIND(\"TFPSTR\",rawrtf!A665,1)+6,3))","v":514},{"$f":"IF(ISERROR(B665),\"NOSTR\",VLOOKUP(B665,strlook!A:C,2,FALSE))","v":"Missing Field - CRM PROGRAMME - Close Sale4"},"Missing Field - CRM PROGRAMME - Close Sale4"]
[1,{"$f":"VALUE(MID(rawrtf!A666,FIND(\"TFPSTR\",rawrtf!A666,1)+6,3))","v":515},{"$f":"IF(ISERROR(B666),\"NOSTR\",VLOOKUP(B666,strlook!A:C,2,FALSE))","v":"Missing Field - CRM PROGRAMME - Close Sale5"},"Missing Field - CRM PROGRAMME - Close Sale5"]
[1,{"$f":"VALUE(MID(rawrtf!A667,FIND(\"TFPSTR\",rawrtf!A667,1)+6,3))","v":516},{"$f":"IF(ISERROR(B667),\"NOSTR\",VLOOKUP(B667,strlook!A:C,2,FALSE))","v":"Missing Field - CRM PROGRAMME - Close Sale6"},"Missing Field - CRM PROGRAMME - Close Sale6"]
[1,{"$f":"VALUE(MID(rawrtf!A668,FIND(\"TFPSTR\",rawrtf!A668,1)+6,3))","v":517},{"$f":"IF(ISERROR(B668),\"NOSTR\",VLOOKUP(B668,strlook!A:C,2,FALSE))","v":"Missing Field - CRM PROGRAMME - Close Sale7"},"Missing Field - CRM PROGRAMME - Close Sale7"]
[1,{"$f":"VALUE(MID(rawrtf!A669,FIND(\"TFPSTR\",rawrtf!A669,1)+6,3))","v":518},{"$f":"IF(ISERROR(B669),\"NOSTR\",VLOOKUP(B669,strlook!A:C,2,FALSE))","v":"Missing Field - CRM PROGRAMME - Close Sale8"},"Missing Field - CRM PROGRAMME - Close Sale8"]
[1,{"$f":"VALUE(MID(rawrtf!A670,FIND(\"TFPSTR\",rawrtf!A670,1)+6,3))","v":519},{"$f":"IF(ISERROR(B670),\"NOSTR\",VLOOKUP(B670,strlook!A:C,2,FALSE))","v":"Missing Field - CRM PROGRAMME - Close Sale9"},"Missing Field - CRM PROGRAMME - Close Sale9"]
[1,{"$f":"VALUE(MID(rawrtf!A671,FIND(\"TFPSTR\",rawrtf!A671,1)+6,3))","v":520},{"$f":"IF(ISERROR(B671),\"NOSTR\",VLOOKUP(B671,strlook!A:C,2,FALSE))","v":"Missing Field - CRM PROGRAMME - Close Sale10"},"Missing Field - CRM PROGRAMME - Close Sale10"]
[1,{"$f":"VALUE(MID(rawrtf!A672,FIND(\"TFPSTR\",rawrtf!A672,1)+6,3))","v":521},{"$f":"IF(ISERROR(B672),\"NOSTR\",VLOOKUP(B672,strlook!A:C,2,FALSE))","v":"Missing Field - CRM PROGRAMME - Close Sale11"},"Missing Field - CRM PROGRAMME - Close Sale11"]
[1,{"$f":"VALUE(MID(rawrtf!A673,FIND(\"TFPSTR\",rawrtf!A673,1)+6,3))","v":522},{"$f":"IF(ISERROR(B673),\"NOSTR\",VLOOKUP(B673,strlook!A:C,2,FALSE))","v":"Missing Field - CRM PROGRAMME - Close Sale12"},"Missing Field - CRM PROGRAMME - Close Sale12"]
[1,{"$f":"VALUE(MID(rawrtf!A674,FIND(\"TFPSTR\",rawrtf!A674,1)+6,3))","v":523},{"$f":"IF(ISERROR(B674),\"NOSTR\",VLOOKUP(B674,strlook!A:C,2,FALSE))","v":"Missing Field - CRM PROGRAMME - Close Sale13"},"Missing Field - CRM PROGRAMME - Close Sale13"]
[1,{"$f":"VALUE(MID(rawrtf!A675,FIND(\"TFPSTR\",rawrtf!A675,1)+6,3))","v":524},{"$f":"IF(ISERROR(B675),\"NOSTR\",VLOOKUP(B675,strlook!A:C,2,FALSE))","v":"Missing Field - CRM PROGRAMME - Close Sale14"},"Missing Field - CRM PROGRAMME - Close Sale14"]
[1,{"$f":"VALUE(MID(rawrtf!A676,FIND(\"TFPSTR\",rawrtf!A676,1)+6,3))","v":525},{"$f":"IF(ISERROR(B676),\"NOSTR\",VLOOKUP(B676,strlook!A:C,2,FALSE))","v":"Missing Field - CRM PROGRAMME - Close Sale15"},"Missing Field - CRM PROGRAMME - Close Sale15"]
[{"$f":"IF(ISERROR(B677),0,1)","v":1},{"$f":"VALUE(MID(rawrtf!A677,FIND(\"TFPSTR\",rawrtf!A677,1)+6,3))","v":526},{"$f":"IF(ISERROR(B677),\"NOSTR\",VLOOKUP(B677,strlook!A:C,2,FALSE))","v":"Missing Field - CRM PROGRAMME - Close Sale16"},{"$f":"IF(ISNA(C677),\"ERROR MISSING TFPSTR \"&B677,C677)","v":"Missing Field - CRM PROGRAMME - Close Sale16"}]
[1,{"$f":"VALUE(MID(rawrtf!A678,FIND(\"TFPSTR\",rawrtf!A678,1)+6,3))","v":527},{"$f":"IF(ISERROR(B678),\"NOSTR\",VLOOKUP(B678,strlook!A:C,2,FALSE))","v":"Missing Field - CRM PROGRAMME - Close Sale17"},"Missing Field - CRM PROGRAMME - Close Sale17"]
[1,{"$f":"VALUE(MID(rawrtf!A679,FIND(\"TFPSTR\",rawrtf!A679,1)+6,3))","v":528},{"$f":"IF(ISERROR(B679),\"NOSTR\",VLOOKUP(B679,strlook!A:C,2,FALSE))","v":"Missing Field - CRM PROGRAMME - Close Sale18"},"Missing Field - CRM PROGRAMME - Close Sale18"]
[1,{"$f":"VALUE(MID(rawrtf!A680,FIND(\"TFPSTR\",rawrtf!A680,1)+6,3))","v":529},{"$f":"IF(ISERROR(B680),\"NOSTR\",VLOOKUP(B680,strlook!A:C,2,FALSE))","v":"Missing Field - CRM PROGRAMME - Close Sale19"},"Missing Field - CRM PROGRAMME - Close Sale19"]
[1,{"$f":"VALUE(MID(rawrtf!A681,FIND(\"TFPSTR\",rawrtf!A681,1)+6,3))","v":530},{"$f":"IF(ISERROR(B681),\"NOSTR\",VLOOKUP(B681,strlook!A:C,2,FALSE))","v":"Missing Field - CRM PROGRAMME - Close Sale20"},"Missing Field - CRM PROGRAMME - Close Sale20"]
[0,{"$f":"VALUE(MID(rawrtf!A682,FIND(\"TFPSTR\",rawrtf!A682,1)+6,3))","v":{"$error":"#VALUE!"}},{"$f":"IF(ISERROR(B682),\"NOSTR\",VLOOKUP(B682,strlook!A:C,2,FALSE))","v":"NOSTR"},"NOSTR"]
[1,{"$f":"VALUE(MID(rawrtf!A683,FIND(\"TFPSTR\",rawrtf!A683,1)+6,3))","v":531},{"$f":"IF(ISERROR(B683),\"NOSTR\",VLOOKUP(B683,strlook!A:C,2,FALSE))","v":"TOTAL BUDGET (Pounds)                                     £0"},"TOTAL BUDGET (Pounds)                                     £0"]
[1,{"$f":"VALUE(MID(rawrtf!A684,FIND(\"TFPSTR\",rawrtf!A684,1)+6,3))","v":533},{"$f":"IF(ISERROR(B684),\"NOSTR\",VLOOKUP(B684,strlook!A:C,2,FALSE))","v":"Missing Field - Budget Item 2 - Desc"},"Missing Field - Budget Item 2 - Desc"]
[1,{"$f":"VALUE(MID(rawrtf!A685,FIND(\"TFPSTR\",rawrtf!A685,1)+6,3))","v":535},{"$f":"IF(ISERROR(B685),\"NOSTR\",VLOOKUP(B685,strlook!A:C,2,FALSE))","v":"Missing Field - Budget Item 3 - Desc"},"Missing Field - Budget Item 3 - Desc"]
[1,{"$f":"VALUE(MID(rawrtf!A686,FIND(\"TFPSTR\",rawrtf!A686,1)+6,3))","v":537},{"$f":"IF(ISERROR(B686),\"NOSTR\",VLOOKUP(B686,strlook!A:C,2,FALSE))","v":"Missing Field - Budget Item 4 - Desc"},"Missing Field - Budget Item 4 - Desc"]
[1,{"$f":"VALUE(MID(rawrtf!A687,FIND(\"TFPSTR\",rawrtf!A687,1)+6,3))","v":539},{"$f":"IF(ISERROR(B687),\"NOSTR\",VLOOKUP(B687,strlook!A:C,2,FALSE))","v":"Missing Field - Budget Item 5 - Desc"},"Missing Field - Budget Item 5 - Desc"]
[1,{"$f":"VALUE(MID(rawrtf!A688,FIND(\"TFPSTR\",rawrtf!A688,1)+6,3))","v":541},{"$f":"IF(ISERROR(B688),\"NOSTR\",VLOOKUP(B688,strlook!A:C,2,FALSE))","v":"Missing Field - Budget Item 6 - Desc"},"Missing Field - Budget Item 6 - Desc"]
[1,{"$f":"VALUE(MID(rawrtf!A689,FIND(\"TFPSTR\",rawrtf!A689,1)+6,3))","v":543},{"$f":"IF(ISERROR(B689),\"NOSTR\",VLOOKUP(B689,strlook!A:C,2,FALSE))","v":"Missing Field - Budget Item 7 - Desc"},"Missing Field - Budget Item 7 - Desc"]
[1,{"$f":"VALUE(MID(rawrtf!A690,FIND(\"TFPSTR\",rawrtf!A690,1)+6,3))","v":545},{"$f":"IF(ISERROR(B690),\"NOSTR\",VLOOKUP(B690,strlook!A:C,2,FALSE))","v":"Missing Field - Budget Item 8 - Desc"},"Missing Field - Budget Item 8 - Desc"]
[1,{"$f":"VALUE(MID(rawrtf!A691,FIND(\"TFPSTR\",rawrtf!A691,1)+6,3))","v":547},{"$f":"IF(ISERROR(B691),\"NOSTR\",VLOOKUP(B691,strlook!A:C,2,FALSE))","v":"Missing Field - Budget Item 9 - Desc"},"Missing Field - Budget Item 9 - Desc"]
[1,{"$f":"VALUE(MID(rawrtf!A692,FIND(\"TFPSTR\",rawrtf!A692,1)+6,3))","v":549},{"$f":"IF(ISERROR(B692),\"NOSTR\",VLOOKUP(B692,strlook!A:C,2,FALSE))","v":"Missing Field - Budget Item 10 - Desc"},"Missing Field - Budget Item 10 - Desc"]
[1,{"$f":"VALUE(MID(rawrtf!A693,FIND(\"TFPSTR\",rawrtf!A693,1)+6,3))","v":551},{"$f":"IF(ISERROR(B693),\"NOSTR\",VLOOKUP(B693,strlook!A:C,2,FALSE))","v":"Missing Field - Budget Item 11 - Desc"},"Missing Field - Budget Item 11 - Desc"]
[1,{"$f":"VALUE(MID(rawrtf!A694,FIND(\"TFPSTR\",rawrtf!A694,1)+6,3))","v":553},{"$f":"IF(ISERROR(B694),\"NOSTR\",VLOOKUP(B694,strlook!A:C,2,FALSE))","v":"Missing Field - Budget Item 12 - Desc"},"Missing Field - Budget Item 12 - Desc"]
[1,{"$f":"VALUE(MID(rawrtf!A695,FIND(\"TFPSTR\",rawrtf!A695,1)+6,3))","v":555},{"$f":"IF(ISERROR(B695),\"NOSTR\",VLOOKUP(B695,strlook!A:C,2,FALSE))","v":"Missing Field - Budget Item 13 - Desc"},"Missing Field - Budget Item 13 - Desc"]
[1,{"$f":"VALUE(MID(rawrtf!A696,FIND(\"TFPSTR\",rawrtf!A696,1)+6,3))","v":557},{"$f":"IF(ISERROR(B696),\"NOSTR\",VLOOKUP(B696,strlook!A:C,2,FALSE))","v":"Missing Field - Budget Item 14 - Desc"},"Missing Field - Budget Item 14 - Desc"]
[1,{"$f":"VALUE(MID(rawrtf!A697,FIND(\"TFPSTR\",rawrtf!A697,1)+6,3))","v":559},{"$f":"IF(ISERROR(B697),\"NOSTR\",VLOOKUP(B697,strlook!A:C,2,FALSE))","v":"Missing Field - Budget Item 15 - Desc"},"Missing Field - Budget Item 15 - Desc"]
[1,{"$f":"VALUE(MID(rawrtf!A698,FIND(\"TFPSTR\",rawrtf!A698,1)+6,3))","v":561},{"$f":"IF(ISERROR(B698),\"NOSTR\",VLOOKUP(B698,strlook!A:C,2,FALSE))","v":"Missing Field - Budget Item 16 - Desc"},"Missing Field - Budget Item 16 - Desc"]
[1,{"$f":"VALUE(MID(rawrtf!A699,FIND(\"TFPSTR\",rawrtf!A699,1)+6,3))","v":563},{"$f":"IF(ISERROR(B699),\"NOSTR\",VLOOKUP(B699,strlook!A:C,2,FALSE))","v":"Missing Field - Budget Item 17 - Desc"},"Missing Field - Budget Item 17 - Desc"]
[1,{"$f":"VALUE(MID(rawrtf!A700,FIND(\"TFPSTR\",rawrtf!A700,1)+6,3))","v":565},{"$f":"IF(ISERROR(B700),\"NOSTR\",VLOOKUP(B700,strlook!A:C,2,FALSE))","v":"Missing Field - Budget Item 18 - Desc"},"Missing Field - Budget Item 18 - Desc"]
[1,{"$f":"VALUE(MID(rawrtf!A701,FIND(\"TFPSTR\",rawrtf!A701,1)+6,3))","v":567},{"$f":"IF(ISERROR(B701),\"NOSTR\",VLOOKUP(B701,strlook!A:C,2,FALSE))","v":"Missing Field - Budget Item 19 - Desc"},"Missing Field - Budget Item 19 - Desc"]
[1,{"$f":"VALUE(MID(rawrtf!A702,FIND(\"TFPSTR\",rawrtf!A702,1)+6,3))","v":569},{"$f":"IF(ISERROR(B702),\"NOSTR\",VLOOKUP(B702,strlook!A:C,2,FALSE))","v":"Missing Field - Budget Item 20 - Desc"},"Missing Field - Budget Item 20 - Desc"]
[1,{"$f":"VALUE(MID(rawrtf!A703,FIND(\"TFPSTR\",rawrtf!A703,1)+6,3))","v":571},{"$f":"IF(ISERROR(B703),\"NOSTR\",VLOOKUP(B703,strlook!A:C,2,FALSE))","v":"Missing Field - Budget Item 21 - Desc"},"Missing Field - Budget Item 21 - Desc"]
[1,{"$f":"VALUE(MID(rawrtf!A704,FIND(\"TFPSTR\",rawrtf!A704,1)+6,3))","v":573},{"$f":"IF(ISERROR(B704),\"NOSTR\",VLOOKUP(B704,strlook!A:C,2,FALSE))","v":"Missing Field - Budget Item 22 - Desc"},"Missing Field - Budget Item 22 - Desc"]
[1,{"$f":"VALUE(MID(rawrtf!A705,FIND(\"TFPSTR\",rawrtf!A705,1)+6,3))","v":575},{"$f":"IF(ISERROR(B705),\"NOSTR\",VLOOKUP(B705,strlook!A:C,2,FALSE))","v":"Missing Field - Budget Item 23 - Desc"},"Missing Field - Budget Item 23 - Desc"]
[1,{"$f":"VALUE(MID(rawrtf!A706,FIND(\"TFPSTR\",rawrtf!A706,1)+6,3))","v":577},{"$f":"IF(ISERROR(B706),\"NOSTR\",VLOOKUP(B706,strlook!A:C,2,FALSE))","v":"Missing Field - Budget Item 24 - Desc"},"Missing Field - Budget Item 24 - Desc"]
[1,{"$f":"VALUE(MID(rawrtf!A707,FIND(\"TFPSTR\",rawrtf!A707,1)+6,3))","v":579},{"$f":"IF(ISERROR(B707),\"NOSTR\",VLOOKUP(B707,strlook!A:C,2,FALSE))","v":"Missing Field - Budget Item 25 - Desc"},"Missing Field - Budget Item 25 - Desc"]
[1,{"$f":"VALUE(MID(rawrtf!A708,FIND(\"TFPSTR\",rawrtf!A708,1)+6,3))","v":581},{"$f":"IF(ISERROR(B708),\"NOSTR\",VLOOKUP(B708,strlook!A:C,2,FALSE))","v":"Missing Field - Budget Item 26 - Desc"},"Missing Field - Budget Item 26 - Desc"]
[1,{"$f":"VALUE(MID(rawrtf!A709,FIND(\"TFPSTR\",rawrtf!A709,1)+6,3))","v":583},{"$f":"IF(ISERROR(B709),\"NOSTR\",VLOOKUP(B709,strlook!A:C,2,FALSE))","v":"Missing Field - Budget Item 27 - Desc"},"Missing Field - Budget Item 27 - Desc"]
[1,{"$f":"VALUE(MID(rawrtf!A710,FIND(\"TFPSTR\",rawrtf!A710,1)+6,3))","v":585},{"$f":"IF(ISERROR(B710),\"NOSTR\",VLOOKUP(B710,strlook!A:C,2,FALSE))","v":"Missing Field - Budget Item 28 - Desc"},"Missing Field - Budget Item 28 - Desc"]
[1,{"$f":"VALUE(MID(rawrtf!A711,FIND(\"TFPSTR\",rawrtf!A711,1)+6,3))","v":587},{"$f":"IF(ISERROR(B711),\"NOSTR\",VLOOKUP(B711,strlook!A:C,2,FALSE))","v":"Missing Field - Budget Item 29 - Desc"},"Missing Field - Budget Item 29 - Desc"]
[1,{"$f":"VALUE(MID(rawrtf!A712,FIND(\"TFPSTR\",rawrtf!A712,1)+6,3))","v":589},{"$f":"IF(ISERROR(B712),\"NOSTR\",VLOOKUP(B712,strlook!A:C,2,FALSE))","v":"Missing Field - Budget Item 30 - Desc"},"Missing Field - Budget Item 30 - Desc"]
[1,{"$f":"VALUE(MID(rawrtf!A713,FIND(\"TFPSTR\",rawrtf!A713,1)+6,3))","v":591},{"$f":"IF(ISERROR(B713),\"NOSTR\",VLOOKUP(B713,strlook!A:C,2,FALSE))","v":"Missing Field - Budget Item 31 - Desc"},"Missing Field - Budget Item 31 - Desc"]
[1,{"$f":"VALUE(MID(rawrtf!A714,FIND(\"TFPSTR\",rawrtf!A714,1)+6,3))","v":593},{"$f":"IF(ISERROR(B714),\"NOSTR\",VLOOKUP(B714,strlook!A:C,2,FALSE))","v":"Missing Field - Budget Item 32 - Desc"},"Missing Field - Budget Item 32 - Desc"]
[1,{"$f":"VALUE(MID(rawrtf!A715,FIND(\"TFPSTR\",rawrtf!A715,1)+6,3))","v":595},{"$f":"IF(ISERROR(B715),\"NOSTR\",VLOOKUP(B715,strlook!A:C,2,FALSE))","v":"Missing Field - Budget Item 33 - Desc"},"Missing Field - Budget Item 33 - Desc"]
[1,{"$f":"VALUE(MID(rawrtf!A716,FIND(\"TFPSTR\",rawrtf!A716,1)+6,3))","v":597},{"$f":"IF(ISERROR(B716),\"NOSTR\",VLOOKUP(B716,strlook!A:C,2,FALSE))","v":"Missing Field - Budget Item 34 - Desc"},"Missing Field - Budget Item 34 - Desc"]
[1,{"$f":"VALUE(MID(rawrtf!A717,FIND(\"TFPSTR\",rawrtf!A717,1)+6,3))","v":599},{"$f":"IF(ISERROR(B717),\"NOSTR\",VLOOKUP(B717,strlook!A:C,2,FALSE))","v":"Missing Field - Budget Item 35 - Desc"},"Missing Field - Budget Item 35 - Desc"]
[1,{"$f":"VALUE(MID(rawrtf!A718,FIND(\"TFPSTR\",rawrtf!A718,1)+6,3))","v":601},{"$f":"IF(ISERROR(B718),\"NOSTR\",VLOOKUP(B718,strlook!A:C,2,FALSE))","v":"Missing Field - Budget Item 36 - Desc"},"Missing Field - Budget Item 36 - Desc"]
[1,{"$f":"VALUE(MID(rawrtf!A719,FIND(\"TFPSTR\",rawrtf!A719,1)+6,3))","v":603},{"$f":"IF(ISERROR(B719),\"NOSTR\",VLOOKUP(B719,strlook!A:C,2,FALSE))","v":"Missing Field - Budget Item 37 - Desc"},"Missing Field - Budget Item 37 - Desc"]
[1,{"$f":"VALUE(MID(rawrtf!A720,FIND(\"TFPSTR\",rawrtf!A720,1)+6,3))","v":605},{"$f":"IF(ISERROR(B720),\"NOSTR\",VLOOKUP(B720,strlook!A:C,2,FALSE))","v":"Missing Field - Budget Item 38 - Desc"},"Missing Field - Budget Item 38 - Desc"]
[1,{"$f":"VALUE(MID(rawrtf!A721,FIND(\"TFPSTR\",rawrtf!A721,1)+6,3))","v":607},{"$f":"IF(ISERROR(B721),\"NOSTR\",VLOOKUP(B721,strlook!A:C,2,FALSE))","v":"Missing Field - Budget Item 39 - Desc"},"Missing Field - Budget Item 39 - Desc"]
[1,{"$f":"VALUE(MID(rawrtf!A722,FIND(\"TFPSTR\",rawrtf!A722,1)+6,3))","v":609},{"$f":"IF(ISERROR(B722),\"NOSTR\",VLOOKUP(B722,strlook!A:C,2,FALSE))","v":"Missing Field - Budget Item 40 - Desc"},"Missing Field - Budget Item 40 - Desc"]
[1,{"$f":"VALUE(MID(rawrtf!A723,FIND(\"TFPSTR\",rawrtf!A723,1)+6,3))","v":611},{"$f":"IF(ISERROR(B723),\"NOSTR\",VLOOKUP(B723,strlook!A:C,2,FALSE))","v":"Missing Field - Budget Item 41 - Desc"},"Missing Field - Budget Item 41 - Desc"]
[1,{"$f":"VALUE(MID(rawrtf!A724,FIND(\"TFPSTR\",rawrtf!A724,1)+6,3))","v":613},{"$f":"IF(ISERROR(B724),\"NOSTR\",VLOOKUP(B724,strlook!A:C,2,FALSE))","v":"Missing Field - Budget Item 42 - Desc"},"Missing Field - Budget Item 42 - Desc"]
[1,{"$f":"VALUE(MID(rawrtf!A725,FIND(\"TFPSTR\",rawrtf!A725,1)+6,3))","v":615},{"$f":"IF(ISERROR(B725),\"NOSTR\",VLOOKUP(B725,strlook!A:C,2,FALSE))","v":"Missing Field - Budget Item 43 - Desc"},"Missing Field - Budget Item 43 - Desc"]
[1,{"$f":"VALUE(MID(rawrtf!A726,FIND(\"TFPSTR\",rawrtf!A726,1)+6,3))","v":617},{"$f":"IF(ISERROR(B726),\"NOSTR\",VLOOKUP(B726,strlook!A:C,2,FALSE))","v":"Missing Field - Budget Item 44 - Desc"},"Missing Field - Budget Item 44 - Desc"]
[1,{"$f":"VALUE(MID(rawrtf!A727,FIND(\"TFPSTR\",rawrtf!A727,1)+6,3))","v":619},{"$f":"IF(ISERROR(B727),\"NOSTR\",VLOOKUP(B727,strlook!A:C,2,FALSE))","v":"Missing Field - Budget Item 45 - Desc"},"Missing Field - Budget Item 45 - Desc"]
[1,{"$f":"VALUE(MID(rawrtf!A728,FIND(\"TFPSTR\",rawrtf!A728,1)+6,3))","v":621},{"$f":"IF(ISERROR(B728),\"NOSTR\",VLOOKUP(B728,strlook!A:C,2,FALSE))","v":"Missing Field - Budget Item 46 - Desc"},"Missing Field - Budget Item 46 - Desc"]
[1,{"$f":"VALUE(MID(rawrtf!A729,FIND(\"TFPSTR\",rawrtf!A729,1)+6,3))","v":623},{"$f":"IF(ISERROR(B729),\"NOSTR\",VLOOKUP(B729,strlook!A:C,2,FALSE))","v":"Missing Field - Budget Item 47 - Desc"},"Missing Field - Budget Item 47 - Desc"]
[1,{"$f":"VALUE(MID(rawrtf!A730,FIND(\"TFPSTR\",rawrtf!A730,1)+6,3))","v":625},{"$f":"IF(ISERROR(B730),\"NOSTR\",VLOOKUP(B730,strlook!A:C,2,FALSE))","v":"Missing Field - Budget Item 48 - Desc"},"Missing Field - Budget Item 48 - Desc"]
[1,{"$f":"VALUE(MID(rawrtf!A731,FIND(\"TFPSTR\",rawrtf!A731,1)+6,3))","v":627},{"$f":"IF(ISERROR(B731),\"NOSTR\",VLOOKUP(B731,strlook!A:C,2,FALSE))","v":"Missing Field - Budget Item 49 - Desc"},"Missing Field - Budget Item 49 - Desc"]
[1,{"$f":"VALUE(MID(rawrtf!A732,FIND(\"TFPSTR\",rawrtf!A732,1)+6,3))","v":629},{"$f":"IF(ISERROR(B732),\"NOSTR\",VLOOKUP(B732,strlook!A:C,2,FALSE))","v":"Missing Field - Budget Item 50 - Desc"},"Missing Field - Budget Item 50 - Desc"]
[1,{"$f":"VALUE(MID(rawrtf!A733,FIND(\"TFPSTR\",rawrtf!A733,1)+6,3))","v":631},{"$f":"IF(ISERROR(B733),\"NOSTR\",VLOOKUP(B733,strlook!A:C,2,FALSE))","v":"Missing Field - Budget Item 51 - Desc"},"Missing Field - Budget Item 51 - Desc"]
[1,{"$f":"VALUE(MID(rawrtf!A734,FIND(\"TFPSTR\",rawrtf!A734,1)+6,3))","v":633},{"$f":"IF(ISERROR(B734),\"NOSTR\",VLOOKUP(B734,strlook!A:C,2,FALSE))","v":"Missing Field - Budget Item 52 - Desc"},"Missing Field - Budget Item 52 - Desc"]
[1,{"$f":"VALUE(MID(rawrtf!A735,FIND(\"TFPSTR\",rawrtf!A735,1)+6,3))","v":635},{"$f":"IF(ISERROR(B735),\"NOSTR\",VLOOKUP(B735,strlook!A:C,2,FALSE))","v":"Missing Field - Budget Item 53 - Desc"},"Missing Field - Budget Item 53 - Desc"]
[1,{"$f":"VALUE(MID(rawrtf!A736,FIND(\"TFPSTR\",rawrtf!A736,1)+6,3))","v":637},{"$f":"IF(ISERROR(B736),\"NOSTR\",VLOOKUP(B736,strlook!A:C,2,FALSE))","v":"Missing Field - Budget Item 54 - Desc"},"Missing Field - Budget Item 54 - Desc"]
[1,{"$f":"VALUE(MID(rawrtf!A737,FIND(\"TFPSTR\",rawrtf!A737,1)+6,3))","v":639},{"$f":"IF(ISERROR(B737),\"NOSTR\",VLOOKUP(B737,strlook!A:C,2,FALSE))","v":"Missing Field - Budget Item 55 - Desc"},"Missing Field - Budget Item 55 - Desc"]
[1,{"$f":"VALUE(MID(rawrtf!A738,FIND(\"TFPSTR\",rawrtf!A738,1)+6,3))","v":641},{"$f":"IF(ISERROR(B738),\"NOSTR\",VLOOKUP(B738,strlook!A:C,2,FALSE))","v":"Missing Field - Budget Item 56 - Desc"},"Missing Field - Budget Item 56 - Desc"]
[1,{"$f":"VALUE(MID(rawrtf!A739,FIND(\"TFPSTR\",rawrtf!A739,1)+6,3))","v":643},{"$f":"IF(ISERROR(B739),\"NOSTR\",VLOOKUP(B739,strlook!A:C,2,FALSE))","v":"Missing Field - Budget Item 57 - Desc"},"Missing Field - Budget Item 57 - Desc"]
[1,{"$f":"VALUE(MID(rawrtf!A740,FIND(\"TFPSTR\",rawrtf!A740,1)+6,3))","v":645},{"$f":"IF(ISERROR(B740),\"NOSTR\",VLOOKUP(B740,strlook!A:C,2,FALSE))","v":"Missing Field - Budget Item 58 - Desc"},"Missing Field - Budget Item 58 - Desc"]
[{"$f":"IF(ISERROR(B741),0,1)","v":1},{"$f":"VALUE(MID(rawrtf!A741,FIND(\"TFPSTR\",rawrtf!A741,1)+6,3))","v":647},{"$f":"IF(ISERROR(B741),\"NOSTR\",VLOOKUP(B741,strlook!A:C,2,FALSE))","v":"Missing Field - Budget Item 59 - Desc"},{"$f":"IF(ISNA(C741),\"ERROR MISSING TFPSTR \"&B741,C741)","v":"Missing Field - Budget Item 59 - Desc"}]
[1,{"$f":"VALUE(MID(rawrtf!A742,FIND(\"TFPSTR\",rawrtf!A742,1)+6,3))","v":649},{"$f":"IF(ISERROR(B742),\"NOSTR\",VLOOKUP(B742,strlook!A:C,2,FALSE))","v":"Missing Field - Budget Item 60 - Desc"},"Missing Field - Budget Item 60 - Desc"]
[1,{"$f":"VALUE(MID(rawrtf!A743,FIND(\"TFPSTR\",rawrtf!A743,1)+6,3))","v":651},{"$f":"IF(ISERROR(B743),\"NOSTR\",VLOOKUP(B743,strlook!A:C,2,FALSE))","v":"Missing Field - Budget Item 61 - Desc"},"Missing Field - Budget Item 61 - Desc"]
[1,{"$f":"VALUE(MID(rawrtf!A744,FIND(\"TFPSTR\",rawrtf!A744,1)+6,3))","v":653},{"$f":"IF(ISERROR(B744),\"NOSTR\",VLOOKUP(B744,strlook!A:C,2,FALSE))","v":"Missing Field - Budget Item 62 - Desc"},"Missing Field - Budget Item 62 - Desc"]
[1,{"$f":"VALUE(MID(rawrtf!A745,FIND(\"TFPSTR\",rawrtf!A745,1)+6,3))","v":655},{"$f":"IF(ISERROR(B745),\"NOSTR\",VLOOKUP(B745,strlook!A:C,2,FALSE))","v":"Missing Field - Budget Item 63 - Desc"},"Missing Field - Budget Item 63 - Desc"]
[1,{"$f":"VALUE(MID(rawrtf!A746,FIND(\"TFPSTR\",rawrtf!A746,1)+6,3))","v":657},{"$f":"IF(ISERROR(B746),\"NOSTR\",VLOOKUP(B746,strlook!A:C,2,FALSE))","v":"Missing Field - Budget Item 64 - Desc"},"Missing Field - Budget Item 64 - Desc"]
[1,{"$f":"VALUE(MID(rawrtf!A747,FIND(\"TFPSTR\",rawrtf!A747,1)+6,3))","v":659},{"$f":"IF(ISERROR(B747),\"NOSTR\",VLOOKUP(B747,strlook!A:C,2,FALSE))","v":"Missing Field - Budget Item 65 - Desc"},"Missing Field - Budget Item 65 - Desc"]
[1,{"$f":"VALUE(MID(rawrtf!A748,FIND(\"TFPSTR\",rawrtf!A748,1)+6,3))","v":661},{"$f":"IF(ISERROR(B748),\"NOSTR\",VLOOKUP(B748,strlook!A:C,2,FALSE))","v":"Missing Field - Budget Item 66 - Desc"},"Missing Field - Budget Item 66 - Desc"]
[1,{"$f":"VALUE(MID(rawrtf!A749,FIND(\"TFPSTR\",rawrtf!A749,1)+6,3))","v":663},{"$f":"IF(ISERROR(B749),\"NOSTR\",VLOOKUP(B749,strlook!A:C,2,FALSE))","v":"Missing Field - Budget Item 67 - Desc"},"Missing Field - Budget Item 67 - Desc"]
[1,{"$f":"VALUE(MID(rawrtf!A750,FIND(\"TFPSTR\",rawrtf!A750,1)+6,3))","v":665},{"$f":"IF(ISERROR(B750),\"NOSTR\",VLOOKUP(B750,strlook!A:C,2,FALSE))","v":"Missing Field - Budget Item 68 - Desc"},"Missing Field - Budget Item 68 - Desc"]
[1,{"$f":"VALUE(MID(rawrtf!A751,FIND(\"TFPSTR\",rawrtf!A751,1)+6,3))","v":667},{"$f":"IF(ISERROR(B751),\"NOSTR\",VLOOKUP(B751,strlook!A:C,2,FALSE))","v":"Missing Field - Budget Item 69 - Desc"},"Missing Field - Budget Item 69 - Desc"]
[1,{"$f":"VALUE(MID(rawrtf!A752,FIND(\"TFPSTR\",rawrtf!A752,1)+6,3))","v":669},{"$f":"IF(ISERROR(B752),\"NOSTR\",VLOOKUP(B752,strlook!A:C,2,FALSE))","v":"Missing Field - Budget Item 70 - Desc"},"Missing Field - Budget Item 70 - Desc"]
[1,{"$f":"VALUE(MID(rawrtf!A753,FIND(\"TFPSTR\",rawrtf!A753,1)+6,3))","v":671},{"$f":"IF(ISERROR(B753),\"NOSTR\",VLOOKUP(B753,strlook!A:C,2,FALSE))","v":"Missing Field - Budget Item 71 - Desc"},"Missing Field - Budget Item 71 - Desc"]
[1,{"$f":"VALUE(MID(rawrtf!A754,FIND(\"TFPSTR\",rawrtf!A754,1)+6,3))","v":673},{"$f":"IF(ISERROR(B754),\"NOSTR\",VLOOKUP(B754,strlook!A:C,2,FALSE))","v":"Missing Field - Budget Item 72 - Desc"},"Missing Field - Budget Item 72 - Desc"]
[1,{"$f":"VALUE(MID(rawrtf!A755,FIND(\"TFPSTR\",rawrtf!A755,1)+6,3))","v":675},{"$f":"IF(ISERROR(B755),\"NOSTR\",VLOOKUP(B755,strlook!A:C,2,FALSE))","v":"Missing Field - Budget Item 73 - Desc"},"Missing Field - Budget Item 73 - Desc"]
[1,{"$f":"VALUE(MID(rawrtf!A756,FIND(\"TFPSTR\",rawrtf!A756,1)+6,3))","v":677},{"$f":"IF(ISERROR(B756),\"NOSTR\",VLOOKUP(B756,strlook!A:C,2,FALSE))","v":"Missing Field - Budget Item 74 - Desc"},"Missing Field - Budget Item 74 - Desc"]
[1,{"$f":"VALUE(MID(rawrtf!A757,FIND(\"TFPSTR\",rawrtf!A757,1)+6,3))","v":679},{"$f":"IF(ISERROR(B757),\"NOSTR\",VLOOKUP(B757,strlook!A:C,2,FALSE))","v":"Missing Field - Budget Item 75 - Desc"},"Missing Field - Budget Item 75 - Desc"]
[1,{"$f":"VALUE(MID(rawrtf!A758,FIND(\"TFPSTR\",rawrtf!A758,1)+6,3))","v":681},{"$f":"IF(ISERROR(B758),\"NOSTR\",VLOOKUP(B758,strlook!A:C,2,FALSE))","v":"Missing Field - Budget Item 76 - Desc"},"Missing Field - Budget Item 76 - Desc"]
[1,{"$f":"VALUE(MID(rawrtf!A759,FIND(\"TFPSTR\",rawrtf!A759,1)+6,3))","v":683},{"$f":"IF(ISERROR(B759),\"NOSTR\",VLOOKUP(B759,strlook!A:C,2,FALSE))","v":"Missing Field - Budget Item 77 - Desc"},"Missing Field - Budget Item 77 - Desc"]
[1,{"$f":"VALUE(MID(rawrtf!A760,FIND(\"TFPSTR\",rawrtf!A760,1)+6,3))","v":685},{"$f":"IF(ISERROR(B760),\"NOSTR\",VLOOKUP(B760,strlook!A:C,2,FALSE))","v":"Missing Field - Budget Item 78 - Desc"},"Missing Field - Budget Item 78 - Desc"]
[1,{"$f":"VALUE(MID(rawrtf!A761,FIND(\"TFPSTR\",rawrtf!A761,1)+6,3))","v":687},{"$f":"IF(ISERROR(B761),\"NOSTR\",VLOOKUP(B761,strlook!A:C,2,FALSE))","v":"Missing Field - Budget Item 79 - Desc"},"Missing Field - Budget Item 79 - Desc"]
[1,{"$f":"VALUE(MID(rawrtf!A762,FIND(\"TFPSTR\",rawrtf!A762,1)+6,3))","v":689},{"$f":"IF(ISERROR(B762),\"NOSTR\",VLOOKUP(B762,strlook!A:C,2,FALSE))","v":"Missing Field - Budget Item 80 - Desc"},"Missing Field - Budget Item 80 - Desc"]
[1,{"$f":"VALUE(MID(rawrtf!A763,FIND(\"TFPSTR\",rawrtf!A763,1)+6,3))","v":691},{"$f":"IF(ISERROR(B763),\"NOSTR\",VLOOKUP(B763,strlook!A:C,2,FALSE))","v":"Missing Field - Budget Item 81 - Desc"},"Missing Field - Budget Item 81 - Desc"]
[1,{"$f":"VALUE(MID(rawrtf!A764,FIND(\"TFPSTR\",rawrtf!A764,1)+6,3))","v":693},{"$f":"IF(ISERROR(B764),\"NOSTR\",VLOOKUP(B764,strlook!A:C,2,FALSE))","v":"Missing Field - Budget Item 82 - Desc"},"Missing Field - Budget Item 82 - Desc"]
[1,{"$f":"VALUE(MID(rawrtf!A765,FIND(\"TFPSTR\",rawrtf!A765,1)+6,3))","v":695},{"$f":"IF(ISERROR(B765),\"NOSTR\",VLOOKUP(B765,strlook!A:C,2,FALSE))","v":"Missing Field - Budget Item 83 - Desc"},"Missing Field - Budget Item 83 - Desc"]
[1,{"$f":"VALUE(MID(rawrtf!A766,FIND(\"TFPSTR\",rawrtf!A766,1)+6,3))","v":697},{"$f":"IF(ISERROR(B766),\"NOSTR\",VLOOKUP(B766,strlook!A:C,2,FALSE))","v":"Missing Field - Budget Item 84 - Desc"},"Missing Field - Budget Item 84 - Desc"]
[1,{"$f":"VALUE(MID(rawrtf!A767,FIND(\"TFPSTR\",rawrtf!A767,1)+6,3))","v":699},{"$f":"IF(ISERROR(B767),\"NOSTR\",VLOOKUP(B767,strlook!A:C,2,FALSE))","v":"Missing Field - Budget Item 85 - Desc"},"Missing Field - Budget Item 85 - Desc"]
[0,{"$f":"VALUE(MID(rawrtf!A768,FIND(\"TFPSTR\",rawrtf!A768,1)+6,3))","v":{"$error":"#VALUE!"}},{"$f":"IF(ISERROR(B768),\"NOSTR\",VLOOKUP(B768,strlook!A:C,2,FALSE))","v":"NOSTR"},"NOSTR"]
[0,{"$f":"VALUE(MID(rawrtf!A769,FIND(\"TFPSTR\",rawrtf!A769,1)+6,3))","v":{"$error":"#VALUE!"}},{"$f":"IF(ISERROR(B769),\"NOSTR\",VLOOKUP(B769,strlook!A:C,2,FALSE))","v":"NOSTR"},"NOSTR"]
[0,{"$f":"VALUE(MID(rawrtf!A770,FIND(\"TFPSTR\",rawrtf!A770,1)+6,3))","v":{"$error":"#VALUE!"}},{"$f":"IF(ISERROR(B770),\"NOSTR\",VLOOKUP(B770,strlook!A:C,2,FALSE))","v":"NOSTR"},"NOSTR"]
[0,{"$f":"VALUE(MID(rawrtf!A771,FIND(\"TFPSTR\",rawrtf!A771,1)+6,3))","v":{"$error":"#VALUE!"}},{"$f":"IF(ISERROR(B771),\"NOSTR\",VLOOKUP(B771,strlook!A:C,2,FALSE))","v":"NOSTR"},"NOSTR"]
[0,{"$f":"VALUE(MID(rawrtf!A772,FIND(\"TFPSTR\",rawrtf!A772,1)+6,3))","v":{"$error":"#VALUE!"}},{"$f":"IF(ISERROR(B772),\"NOSTR\",VLOOKUP(B772,strlook!A:C,2,FALSE))","v":"NOSTR"},"NOSTR"]
[0,{"$f":"VALUE(MID(rawrtf!A773,FIND(\"TFPSTR\",rawrtf!A773,1)+6,3))","v":{"$error":"#VALUE!"}},{"$f":"IF(ISERROR(B773),\"NOSTR\",VLOOKUP(B773,strlook!A:C,2,FALSE))","v":"NOSTR"},"NOSTR"]
[0,{"$f":"VALUE(MID(rawrtf!A774,FIND(\"TFPSTR\",rawrtf!A774,1)+6,3))","v":{"$error":"#VALUE!"}},{"$f":"IF(ISERROR(B774),\"NOSTR\",VLOOKUP(B774,strlook!A:C,2,FALSE))","v":"NOSTR"},"NOSTR"]
[0,{"$f":"VALUE(MID(rawrtf!A775,FIND(\"TFPSTR\",rawrtf!A775,1)+6,3))","v":{"$error":"#VALUE!"}},{"$f":"IF(ISERROR(B775),\"NOSTR\",VLOOKUP(B775,strlook!A:C,2,FALSE))","v":"NOSTR"},"NOSTR"]
[0,{"$f":"VALUE(MID(rawrtf!A776,FIND(\"TFPSTR\",rawrtf!A776,1)+6,3))","v":{"$error":"#VALUE!"}},{"$f":"IF(ISERROR(B776),\"NOSTR\",VLOOKUP(B776,strlook!A:C,2,FALSE))","v":"NOSTR"},"NOSTR"]
[0,{"$f":"VALUE(MID(rawrtf!A777,FIND(\"TFPSTR\",rawrtf!A777,1)+6,3))","v":{"$error":"#VALUE!"}},{"$f":"IF(ISERROR(B777),\"NOSTR\",VLOOKUP(B777,strlook!A:C,2,FALSE))","v":"NOSTR"},"NOSTR"]
[0,{"$f":"VALUE(MID(rawrtf!A778,FIND(\"TFPSTR\",rawrtf!A778,1)+6,3))","v":{"$error":"#VALUE!"}},{"$f":"IF(ISERROR(B778),\"NOSTR\",VLOOKUP(B778,strlook!A:C,2,FALSE))","v":"NOSTR"},"NOSTR"]
[0,{"$f":"VALUE(MID(rawrtf!A779,FIND(\"TFPSTR\",rawrtf!A779,1)+6,3))","v":{"$error":"#VALUE!"}},{"$f":"IF(ISERROR(B779),\"NOSTR\",VLOOKUP(B779,strlook!A:C,2,FALSE))","v":"NOSTR"},"NOSTR"]
[0,{"$f":"VALUE(MID(rawrtf!A780,FIND(\"TFPSTR\",rawrtf!A780,1)+6,3))","v":{"$error":"#VALUE!"}},{"$f":"IF(ISERROR(B780),\"NOSTR\",VLOOKUP(B780,strlook!A:C,2,FALSE))","v":"NOSTR"},"NOSTR"]
[0,{"$f":"VALUE(MID(rawrtf!A781,FIND(\"TFPSTR\",rawrtf!A781,1)+6,3))","v":{"$error":"#VALUE!"}},{"$f":"IF(ISERROR(B781),\"NOSTR\",VLOOKUP(B781,strlook!A:C,2,FALSE))","v":"NOSTR"},"NOSTR"]
[0,{"$f":"VALUE(MID(rawrtf!A782,FIND(\"TFPSTR\",rawrtf!A782,1)+6,3))","v":{"$error":"#VALUE!"}},{"$f":"IF(ISERROR(B782),\"NOSTR\",VLOOKUP(B782,strlook!A:C,2,FALSE))","v":"NOSTR"},"NOSTR"]
[0,{"$f":"VALUE(MID(rawrtf!A783,FIND(\"TFPSTR\",rawrtf!A783,1)+6,3))","v":{"$error":"#VALUE!"}},{"$f":"IF(ISERROR(B783),\"NOSTR\",VLOOKUP(B783,strlook!A:C,2,FALSE))","v":"NOSTR"},"NOSTR"]
[0,{"$f":"VALUE(MID(rawrtf!A784,FIND(\"TFPSTR\",rawrtf!A784,1)+6,3))","v":{"$error":"#VALUE!"}},{"$f":"IF(ISERROR(B784),\"NOSTR\",VLOOKUP(B784,strlook!A:C,2,FALSE))","v":"NOSTR"},"NOSTR"]
[0,{"$f":"VALUE(MID(rawrtf!A785,FIND(\"TFPSTR\",rawrtf!A785,1)+6,3))","v":{"$error":"#VALUE!"}},{"$f":"IF(ISERROR(B785),\"NOSTR\",VLOOKUP(B785,strlook!A:C,2,FALSE))","v":"NOSTR"},"NOSTR"]
[0,{"$f":"VALUE(MID(rawrtf!A786,FIND(\"TFPSTR\",rawrtf!A786,1)+6,3))","v":{"$error":"#VALUE!"}},{"$f":"IF(ISERROR(B786),\"NOSTR\",VLOOKUP(B786,strlook!A:C,2,FALSE))","v":"NOSTR"},"NOSTR"]
[0,{"$f":"VALUE(MID(rawrtf!A787,FIND(\"TFPSTR\",rawrtf!A787,1)+6,3))","v":{"$error":"#VALUE!"}},{"$f":"IF(ISERROR(B787),\"NOSTR\",VLOOKUP(B787,strlook!A:C,2,FALSE))","v":"NOSTR"},"NOSTR"]
[0,{"$f":"VALUE(MID(rawrtf!A788,FIND(\"TFPSTR\",rawrtf!A788,1)+6,3))","v":{"$error":"#VALUE!"}},{"$f":"IF(ISERROR(B788),\"NOSTR\",VLOOKUP(B788,strlook!A:C,2,FALSE))","v":"NOSTR"},"NOSTR"]
[0,{"$f":"VALUE(MID(rawrtf!A789,FIND(\"TFPSTR\",rawrtf!A789,1)+6,3))","v":{"$error":"#VALUE!"}},{"$f":"IF(ISERROR(B789),\"NOSTR\",VLOOKUP(B789,strlook!A:C,2,FALSE))","v":"NOSTR"},"NOSTR"]
[0,{"$f":"VALUE(MID(rawrtf!A790,FIND(\"TFPSTR\",rawrtf!A790,1)+6,3))","v":{"$error":"#VALUE!"}},{"$f":"IF(ISERROR(B790),\"NOSTR\",VLOOKUP(B790,strlook!A:C,2,FALSE))","v":"NOSTR"},"NOSTR"]
[0,{"$f":"VALUE(MID(rawrtf!A791,FIND(\"TFPSTR\",rawrtf!A791,1)+6,3))","v":{"$error":"#VALUE!"}},{"$f":"IF(ISERROR(B791),\"NOSTR\",VLOOKUP(B791,strlook!A:C,2,FALSE))","v":"NOSTR"},"NOSTR"]
[0,{"$f":"VALUE(MID(rawrtf!A792,FIND(\"TFPSTR\",rawrtf!A792,1)+6,3))","v":{"$error":"#VALUE!"}},{"$f":"IF(ISERROR(B792),\"NOSTR\",VLOOKUP(B792,strlook!A:C,2,FALSE))","v":"NOSTR"},"NOSTR"]
[0,{"$f":"VALUE(MID(rawrtf!A793,FIND(\"TFPSTR\",rawrtf!A793,1)+6,3))","v":{"$error":"#VALUE!"}},{"$f":"IF(ISERROR(B793),\"NOSTR\",VLOOKUP(B793,strlook!A:C,2,FALSE))","v":"NOSTR"},"NOSTR"]
[0,{"$f":"VALUE(MID(rawrtf!A794,FIND(\"TFPSTR\",rawrtf!A794,1)+6,3))","v":{"$error":"#VALUE!"}},{"$f":"IF(ISERROR(B794),\"NOSTR\",VLOOKUP(B794,strlook!A:C,2,FALSE))","v":"NOSTR"},"NOSTR"]
[0,{"$f":"VALUE(MID(rawrtf!A795,FIND(\"TFPSTR\",rawrtf!A795,1)+6,3))","v":{"$error":"#VALUE!"}},{"$f":"IF(ISERROR(B795),\"NOSTR\",VLOOKUP(B795,strlook!A:C,2,FALSE))","v":"NOSTR"},"NOSTR"]
[0,{"$f":"VALUE(MID(rawrtf!A796,FIND(\"TFPSTR\",rawrtf!A796,1)+6,3))","v":{"$error":"#VALUE!"}},{"$f":"IF(ISERROR(B796),\"NOSTR\",VLOOKUP(B796,strlook!A:C,2,FALSE))","v":"NOSTR"},"NOSTR"]
[0,{"$f":"VALUE(MID(rawrtf!A797,FIND(\"TFPSTR\",rawrtf!A797,1)+6,3))","v":{"$error":"#VALUE!"}},{"$f":"IF(ISERROR(B797),\"NOSTR\",VLOOKUP(B797,strlook!A:C,2,FALSE))","v":"NOSTR"},"NOSTR"]
[0,{"$f":"VALUE(MID(rawrtf!A798,FIND(\"TFPSTR\",rawrtf!A798,1)+6,3))","v":{"$error":"#VALUE!"}},{"$f":"IF(ISERROR(B798),\"NOSTR\",VLOOKUP(B798,strlook!A:C,2,FALSE))","v":"NOSTR"},"NOSTR"]
[0,{"$f":"VALUE(MID(rawrtf!A799,FIND(\"TFPSTR\",rawrtf!A799,1)+6,3))","v":{"$error":"#VALUE!"}},{"$f":"IF(ISERROR(B799),\"NOSTR\",VLOOKUP(B799,strlook!A:C,2,FALSE))","v":"NOSTR"},"NOSTR"]
[0,{"$f":"VALUE(MID(rawrtf!A800,FIND(\"TFPSTR\",rawrtf!A800,1)+6,3))","v":{"$error":"#VALUE!"}},{"$f":"IF(ISERROR(B800),\"NOSTR\",VLOOKUP(B800,strlook!A:C,2,FALSE))","v":"NOSTR"},"NOSTR"]
[0,{"$f":"VALUE(MID(rawrtf!A801,FIND(\"TFPSTR\",rawrtf!A801,1)+6,3))","v":{"$error":"#VALUE!"}},{"$f":"IF(ISERROR(B801),\"NOSTR\",VLOOKUP(B801,strlook!A:C,2,FALSE))","v":"NOSTR"},"NOSTR"]
[0,{"$f":"VALUE(MID(rawrtf!A802,FIND(\"TFPSTR\",rawrtf!A802,1)+6,3))","v":{"$error":"#VALUE!"}},{"$f":"IF(ISERROR(B802),\"NOSTR\",VLOOKUP(B802,strlook!A:C,2,FALSE))","v":"NOSTR"},"NOSTR"]
[0,{"$f":"VALUE(MID(rawrtf!A803,FIND(\"TFPSTR\",rawrtf!A803,1)+6,3))","v":{"$error":"#VALUE!"}},{"$f":"IF(ISERROR(B803),\"NOSTR\",VLOOKUP(B803,strlook!A:C,2,FALSE))","v":"NOSTR"},"NOSTR"]
[0,{"$f":"VALUE(MID(rawrtf!A804,FIND(\"TFPSTR\",rawrtf!A804,1)+6,3))","v":{"$error":"#VALUE!"}},{"$f":"IF(ISERROR(B804),\"NOSTR\",VLOOKUP(B804,strlook!A:C,2,FALSE))","v":"NOSTR"},"NOSTR"]
[{"$f":"IF(ISERROR(B805),0,1)","v":0},{"$f":"VALUE(MID(rawrtf!A805,FIND(\"TFPSTR\",rawrtf!A805,1)+6,3))","v":{"$error":"#VALUE!"}},{"$f":"IF(ISERROR(B805),\"NOSTR\",VLOOKUP(B805,strlook!A:C,2,FALSE))","v":"NOSTR"},{"$f":"IF(ISNA(C805),\"ERROR MISSING TFPSTR \"&B805,C805)","v":"NOSTR"}]
[0,{"$f":"VALUE(MID(rawrtf!A806,FIND(\"TFPSTR\",rawrtf!A806,1)+6,3))","v":{"$error":"#VALUE!"}},{"$f":"IF(ISERROR(B806),\"NOSTR\",VLOOKUP(B806,strlook!A:C,2,FALSE))","v":"NOSTR"},"NOSTR"]
[0,{"$f":"VALUE(MID(rawrtf!A807,FIND(\"TFPSTR\",rawrtf!A807,1)+6,3))","v":{"$error":"#VALUE!"}},{"$f":"IF(ISERROR(B807),\"NOSTR\",VLOOKUP(B807,strlook!A:C,2,FALSE))","v":"NOSTR"},"NOSTR"]
[0,{"$f":"VALUE(MID(rawrtf!A808,FIND(\"TFPSTR\",rawrtf!A808,1)+6,3))","v":{"$error":"#VALUE!"}},{"$f":"IF(ISERROR(B808),\"NOSTR\",VLOOKUP(B808,strlook!A:C,2,FALSE))","v":"NOSTR"},"NOSTR"]
[0,{"$f":"VALUE(MID(rawrtf!A809,FIND(\"TFPSTR\",rawrtf!A809,1)+6,3))","v":{"$error":"#VALUE!"}},{"$f":"IF(ISERROR(B809),\"NOSTR\",VLOOKUP(B809,strlook!A:C,2,FALSE))","v":"NOSTR"},"NOSTR"]
[0,{"$f":"VALUE(MID(rawrtf!A810,FIND(\"TFPSTR\",rawrtf!A810,1)+6,3))","v":{"$error":"#VALUE!"}},{"$f":"IF(ISERROR(B810),\"NOSTR\",VLOOKUP(B810,strlook!A:C,2,FALSE))","v":"NOSTR"},"NOSTR"]
[0,{"$f":"VALUE(MID(rawrtf!A811,FIND(\"TFPSTR\",rawrtf!A811,1)+6,3))","v":{"$error":"#VALUE!"}},{"$f":"IF(ISERROR(B811),\"NOSTR\",VLOOKUP(B811,strlook!A:C,2,FALSE))","v":"NOSTR"},"NOSTR"]
[0,{"$f":"VALUE(MID(rawrtf!A812,FIND(\"TFPSTR\",rawrtf!A812,1)+6,3))","v":{"$error":"#VALUE!"}},{"$f":"IF(ISERROR(B812),\"NOSTR\",VLOOKUP(B812,strlook!A:C,2,FALSE))","v":"NOSTR"},"NOSTR"]
[0,{"$f":"VALUE(MID(rawrtf!A813,FIND(\"TFPSTR\",rawrtf!A813,1)+6,3))","v":{"$error":"#VALUE!"}},{"$f":"IF(ISERROR(B813),\"NOSTR\",VLOOKUP(B813,strlook!A:C,2,FALSE))","v":"NOSTR"},"NOSTR"]
[0,{"$f":"VALUE(MID(rawrtf!A814,FIND(\"TFPSTR\",rawrtf!A814,1)+6,3))","v":{"$error":"#VALUE!"}},{"$f":"IF(ISERROR(B814),\"NOSTR\",VLOOKUP(B814,strlook!A:C,2,FALSE))","v":"NOSTR"},"NOSTR"]
[0,{"$f":"VALUE(MID(rawrtf!A815,FIND(\"TFPSTR\",rawrtf!A815,1)+6,3))","v":{"$error":"#VALUE!"}},{"$f":"IF(ISERROR(B815),\"NOSTR\",VLOOKUP(B815,strlook!A:C,2,FALSE))","v":"NOSTR"},"NOSTR"]
[0,{"$f":"VALUE(MID(rawrtf!A816,FIND(\"TFPSTR\",rawrtf!A816,1)+6,3))","v":{"$error":"#VALUE!"}},{"$f":"IF(ISERROR(B816),\"NOSTR\",VLOOKUP(B816,strlook!A:C,2,FALSE))","v":"NOSTR"},"NOSTR"]
[0,{"$f":"VALUE(MID(rawrtf!A817,FIND(\"TFPSTR\",rawrtf!A817,1)+6,3))","v":{"$error":"#VALUE!"}},{"$f":"IF(ISERROR(B817),\"NOSTR\",VLOOKUP(B817,strlook!A:C,2,FALSE))","v":"NOSTR"},"NOSTR"]
[0,{"$f":"VALUE(MID(rawrtf!A818,FIND(\"TFPSTR\",rawrtf!A818,1)+6,3))","v":{"$error":"#VALUE!"}},{"$f":"IF(ISERROR(B818),\"NOSTR\",VLOOKUP(B818,strlook!A:C,2,FALSE))","v":"NOSTR"},"NOSTR"]
[0,{"$f":"VALUE(MID(rawrtf!A819,FIND(\"TFPSTR\",rawrtf!A819,1)+6,3))","v":{"$error":"#VALUE!"}},{"$f":"IF(ISERROR(B819),\"NOSTR\",VLOOKUP(B819,strlook!A:C,2,FALSE))","v":"NOSTR"},"NOSTR"]
[0,{"$f":"VALUE(MID(rawrtf!A820,FIND(\"TFPSTR\",rawrtf!A820,1)+6,3))","v":{"$error":"#VALUE!"}},{"$f":"IF(ISERROR(B820),\"NOSTR\",VLOOKUP(B820,strlook!A:C,2,FALSE))","v":"NOSTR"},"NOSTR"]
[0,{"$f":"VALUE(MID(rawrtf!A821,FIND(\"TFPSTR\",rawrtf!A821,1)+6,3))","v":{"$error":"#VALUE!"}},{"$f":"IF(ISERROR(B821),\"NOSTR\",VLOOKUP(B821,strlook!A:C,2,FALSE))","v":"NOSTR"},"NOSTR"]
[0,{"$f":"VALUE(MID(rawrtf!A822,FIND(\"TFPSTR\",rawrtf!A822,1)+6,3))","v":{"$error":"#VALUE!"}},{"$f":"IF(ISERROR(B822),\"NOSTR\",VLOOKUP(B822,strlook!A:C,2,FALSE))","v":"NOSTR"},"NOSTR"]
[0,{"$f":"VALUE(MID(rawrtf!A823,FIND(\"TFPSTR\",rawrtf!A823,1)+6,3))","v":{"$error":"#VALUE!"}},{"$f":"IF(ISERROR(B823),\"NOSTR\",VLOOKUP(B823,strlook!A:C,2,FALSE))","v":"NOSTR"},"NOSTR"]
[0,{"$f":"VALUE(MID(rawrtf!A824,FIND(\"TFPSTR\",rawrtf!A824,1)+6,3))","v":{"$error":"#VALUE!"}},{"$f":"IF(ISERROR(B824),\"NOSTR\",VLOOKUP(B824,strlook!A:C,2,FALSE))","v":"NOSTR"},"NOSTR"]
[0,{"$f":"VALUE(MID(rawrtf!A825,FIND(\"TFPSTR\",rawrtf!A825,1)+6,3))","v":{"$error":"#VALUE!"}},{"$f":"IF(ISERROR(B825),\"NOSTR\",VLOOKUP(B825,strlook!A:C,2,FALSE))","v":"NOSTR"},"NOSTR"]
[0,{"$f":"VALUE(MID(rawrtf!A826,FIND(\"TFPSTR\",rawrtf!A826,1)+6,3))","v":{"$error":"#VALUE!"}},{"$f":"IF(ISERROR(B826),\"NOSTR\",VLOOKUP(B826,strlook!A:C,2,FALSE))","v":"NOSTR"},"NOSTR"]
[0,{"$f":"VALUE(MID(rawrtf!A827,FIND(\"TFPSTR\",rawrtf!A827,1)+6,3))","v":{"$error":"#VALUE!"}},{"$f":"IF(ISERROR(B827),\"NOSTR\",VLOOKUP(B827,strlook!A:C,2,FALSE))","v":"NOSTR"},"NOSTR"]
[0,{"$f":"VALUE(MID(rawrtf!A828,FIND(\"TFPSTR\",rawrtf!A828,1)+6,3))","v":{"$error":"#VALUE!"}},{"$f":"IF(ISERROR(B828),\"NOSTR\",VLOOKUP(B828,strlook!A:C,2,FALSE))","v":"NOSTR"},"NOSTR"]
[0,{"$f":"VALUE(MID(rawrtf!A829,FIND(\"TFPSTR\",rawrtf!A829,1)+6,3))","v":{"$error":"#VALUE!"}},{"$f":"IF(ISERROR(B829),\"NOSTR\",VLOOKUP(B829,strlook!A:C,2,FALSE))","v":"NOSTR"},"NOSTR"]
[0,{"$f":"VALUE(MID(rawrtf!A830,FIND(\"TFPSTR\",rawrtf!A830,1)+6,3))","v":{"$error":"#VALUE!"}},{"$f":"IF(ISERROR(B830),\"NOSTR\",VLOOKUP(B830,strlook!A:C,2,FALSE))","v":"NOSTR"},"NOSTR"]
[0,{"$f":"VALUE(MID(rawrtf!A831,FIND(\"TFPSTR\",rawrtf!A831,1)+6,3))","v":{"$error":"#VALUE!"}},{"$f":"IF(ISERROR(B831),\"NOSTR\",VLOOKUP(B831,strlook!A:C,2,FALSE))","v":"NOSTR"},"NOSTR"]
[0,{"$f":"VALUE(MID(rawrtf!A832,FIND(\"TFPSTR\",rawrtf!A832,1)+6,3))","v":{"$error":"#VALUE!"}},{"$f":"IF(ISERROR(B832),\"NOSTR\",VLOOKUP(B832,strlook!A:C,2,FALSE))","v":"NOSTR"},"NOSTR"]
[0,{"$f":"VALUE(MID(rawrtf!A833,FIND(\"TFPSTR\",rawrtf!A833,1)+6,3))","v":{"$error":"#VALUE!"}},{"$f":"IF(ISERROR(B833),\"NOSTR\",VLOOKUP(B833,strlook!A:C,2,FALSE))","v":"NOSTR"},"NOSTR"]
[0,{"$f":"VALUE(MID(rawrtf!A834,FIND(\"TFPSTR\",rawrtf!A834,1)+6,3))","v":{"$error":"#VALUE!"}},{"$f":"IF(ISERROR(B834),\"NOSTR\",VLOOKUP(B834,strlook!A:C,2,FALSE))","v":"NOSTR"},"NOSTR"]
[0,{"$f":"VALUE(MID(rawrtf!A835,FIND(\"TFPSTR\",rawrtf!A835,1)+6,3))","v":{"$error":"#VALUE!"}},{"$f":"IF(ISERROR(B835),\"NOSTR\",VLOOKUP(B835,strlook!A:C,2,FALSE))","v":"NOSTR"},"NOSTR"]
[0,{"$f":"VALUE(MID(rawrtf!A836,FIND(\"TFPSTR\",rawrtf!A836,1)+6,3))","v":{"$error":"#VALUE!"}},{"$f":"IF(ISERROR(B836),\"NOSTR\",VLOOKUP(B836,strlook!A:C,2,FALSE))","v":"NOSTR"},"NOSTR"]
[0,{"$f":"VALUE(MID(rawrtf!A837,FIND(\"TFPSTR\",rawrtf!A837,1)+6,3))","v":{"$error":"#VALUE!"}},{"$f":"IF(ISERROR(B837),\"NOSTR\",VLOOKUP(B837,strlook!A:C,2,FALSE))","v":"NOSTR"},"NOSTR"]
[0,{"$f":"VALUE(MID(rawrtf!A838,FIND(\"TFPSTR\",rawrtf!A838,1)+6,3))","v":{"$error":"#VALUE!"}},{"$f":"IF(ISERROR(B838),\"NOSTR\",VLOOKUP(B838,strlook!A:C,2,FALSE))","v":"NOSTR"},"NOSTR"]
[0,{"$f":"VALUE(MID(rawrtf!A839,FIND(\"TFPSTR\",rawrtf!A839,1)+6,3))","v":{"$error":"#VALUE!"}},{"$f":"IF(ISERROR(B839),\"NOSTR\",VLOOKUP(B839,strlook!A:C,2,FALSE))","v":"NOSTR"},"NOSTR"]
[0,{"$f":"VALUE(MID(rawrtf!A840,FIND(\"TFPSTR\",rawrtf!A840,1)+6,3))","v":{"$error":"#VALUE!"}},{"$f":"IF(ISERROR(B840),\"NOSTR\",VLOOKUP(B840,strlook!A:C,2,FALSE))","v":"NOSTR"},"NOSTR"]
[0,{"$f":"VALUE(MID(rawrtf!A841,FIND(\"TFPSTR\",rawrtf!A841,1)+6,3))","v":{"$error":"#VALUE!"}},{"$f":"IF(ISERROR(B841),\"NOSTR\",VLOOKUP(B841,strlook!A:C,2,FALSE))","v":"NOSTR"},"NOSTR"]
[0,{"$f":"VALUE(MID(rawrtf!A842,FIND(\"TFPSTR\",rawrtf!A842,1)+6,3))","v":{"$error":"#VALUE!"}},{"$f":"IF(ISERROR(B842),\"NOSTR\",VLOOKUP(B842,strlook!A:C,2,FALSE))","v":"NOSTR"},"NOSTR"]
[0,{"$f":"VALUE(MID(rawrtf!A843,FIND(\"TFPSTR\",rawrtf!A843,1)+6,3))","v":{"$error":"#VALUE!"}},{"$f":"IF(ISERROR(B843),\"NOSTR\",VLOOKUP(B843,strlook!A:C,2,FALSE))","v":"NOSTR"},"NOSTR"]
[0,{"$f":"VALUE(MID(rawrtf!A844,FIND(\"TFPSTR\",rawrtf!A844,1)+6,3))","v":{"$error":"#VALUE!"}},{"$f":"IF(ISERROR(B844),\"NOSTR\",VLOOKUP(B844,strlook!A:C,2,FALSE))","v":"NOSTR"},"NOSTR"]
[0,{"$f":"VALUE(MID(rawrtf!A845,FIND(\"TFPSTR\",rawrtf!A845,1)+6,3))","v":{"$error":"#VALUE!"}},{"$f":"IF(ISERROR(B845),\"NOSTR\",VLOOKUP(B845,strlook!A:C,2,FALSE))","v":"NOSTR"},"NOSTR"]
[0,{"$f":"VALUE(MID(rawrtf!A846,FIND(\"TFPSTR\",rawrtf!A846,1)+6,3))","v":{"$error":"#VALUE!"}},{"$f":"IF(ISERROR(B846),\"NOSTR\",VLOOKUP(B846,strlook!A:C,2,FALSE))","v":"NOSTR"},"NOSTR"]
[0,{"$f":"VALUE(MID(rawrtf!A847,FIND(\"TFPSTR\",rawrtf!A847,1)+6,3))","v":{"$error":"#VALUE!"}},{"$f":"IF(ISERROR(B847),\"NOSTR\",VLOOKUP(B847,strlook!A:C,2,FALSE))","v":"NOSTR"},"NOSTR"]
[0,{"$f":"VALUE(MID(rawrtf!A848,FIND(\"TFPSTR\",rawrtf!A848,1)+6,3))","v":{"$error":"#VALUE!"}},{"$f":"IF(ISERROR(B848),\"NOSTR\",VLOOKUP(B848,strlook!A:C,2,FALSE))","v":"NOSTR"},"NOSTR"]
[0,{"$f":"VALUE(MID(rawrtf!A849,FIND(\"TFPSTR\",rawrtf!A849,1)+6,3))","v":{"$error":"#VALUE!"}},{"$f":"IF(ISERROR(B849),\"NOSTR\",VLOOKUP(B849,strlook!A:C,2,FALSE))","v":"NOSTR"},"NOSTR"]
[0,{"$f":"VALUE(MID(rawrtf!A850,FIND(\"TFPSTR\",rawrtf!A850,1)+6,3))","v":{"$error":"#VALUE!"}},{"$f":"IF(ISERROR(B850),\"NOSTR\",VLOOKUP(B850,strlook!A:C,2,FALSE))","v":"NOSTR"},"NOSTR"]
[0,{"$f":"VALUE(MID(rawrtf!A851,FIND(\"TFPSTR\",rawrtf!A851,1)+6,3))","v":{"$error":"#VALUE!"}},{"$f":"IF(ISERROR(B851),\"NOSTR\",VLOOKUP(B851,strlook!A:C,2,FALSE))","v":"NOSTR"},"NOSTR"]
[0,{"$f":"VALUE(MID(rawrtf!A852,FIND(\"TFPSTR\",rawrtf!A852,1)+6,3))","v":{"$error":"#VALUE!"}},{"$f":"IF(ISERROR(B852),\"NOSTR\",VLOOKUP(B852,strlook!A:C,2,FALSE))","v":"NOSTR"},"NOSTR"]
[0,{"$f":"VALUE(MID(rawrtf!A853,FIND(\"TFPSTR\",rawrtf!A853,1)+6,3))","v":{"$error":"#VALUE!"}},{"$f":"IF(ISERROR(B853),\"NOSTR\",VLOOKUP(B853,strlook!A:C,2,FALSE))","v":"NOSTR"},"NOSTR"]
[0,{"$f":"VALUE(MID(rawrtf!A854,FIND(\"TFPSTR\",rawrtf!A854,1)+6,3))","v":{"$error":"#VALUE!"}},{"$f":"IF(ISERROR(B854),\"NOSTR\",VLOOKUP(B854,strlook!A:C,2,FALSE))","v":"NOSTR"},"NOSTR"]
[0,{"$f":"VALUE(MID(rawrtf!A855,FIND(\"TFPSTR\",rawrtf!A855,1)+6,3))","v":{"$error":"#VALUE!"}},{"$f":"IF(ISERROR(B855),\"NOSTR\",VLOOKUP(B855,strlook!A:C,2,FALSE))","v":"NOSTR"},"NOSTR"]
[0,{"$f":"VALUE(MID(rawrtf!A856,FIND(\"TFPSTR\",rawrtf!A856,1)+6,3))","v":{"$error":"#VALUE!"}},{"$f":"IF(ISERROR(B856),\"NOSTR\",VLOOKUP(B856,strlook!A:C,2,FALSE))","v":"NOSTR"},"NOSTR"]
[0,{"$f":"VALUE(MID(rawrtf!A857,FIND(\"TFPSTR\",rawrtf!A857,1)+6,3))","v":{"$error":"#VALUE!"}},{"$f":"IF(ISERROR(B857),\"NOSTR\",VLOOKUP(B857,strlook!A:C,2,FALSE))","v":"NOSTR"},"NOSTR"]
[0,{"$f":"VALUE(MID(rawrtf!A858,FIND(\"TFPSTR\",rawrtf!A858,1)+6,3))","v":{"$error":"#VALUE!"}},{"$f":"IF(ISERROR(B858),\"NOSTR\",VLOOKUP(B858,strlook!A:C,2,FALSE))","v":"NOSTR"},"NOSTR"]
[0,{"$f":"VALUE(MID(rawrtf!A859,FIND(\"TFPSTR\",rawrtf!A859,1)+6,3))","v":{"$error":"#VALUE!"}},{"$f":"IF(ISERROR(B859),\"NOSTR\",VLOOKUP(B859,strlook!A:C,2,FALSE))","v":"NOSTR"},"NOSTR"]
[0,{"$f":"VALUE(MID(rawrtf!A860,FIND(\"TFPSTR\",rawrtf!A860,1)+6,3))","v":{"$error":"#VALUE!"}},{"$f":"IF(ISERROR(B860),\"NOSTR\",VLOOKUP(B860,strlook!A:C,2,FALSE))","v":"NOSTR"},"NOSTR"]
[0,{"$f":"VALUE(MID(rawrtf!A861,FIND(\"TFPSTR\",rawrtf!A861,1)+6,3))","v":{"$error":"#VALUE!"}},{"$f":"IF(ISERROR(B861),\"NOSTR\",VLOOKUP(B861,strlook!A:C,2,FALSE))","v":"NOSTR"},"NOSTR"]
[0,{"$f":"VALUE(MID(rawrtf!A862,FIND(\"TFPSTR\",rawrtf!A862,1)+6,3))","v":{"$error":"#VALUE!"}},{"$f":"IF(ISERROR(B862),\"NOSTR\",VLOOKUP(B862,strlook!A:C,2,FALSE))","v":"NOSTR"},"NOSTR"]
[0,{"$f":"VALUE(MID(rawrtf!A863,FIND(\"TFPSTR\",rawrtf!A863,1)+6,3))","v":{"$error":"#VALUE!"}},{"$f":"IF(ISERROR(B863),\"NOSTR\",VLOOKUP(B863,strlook!A:C,2,FALSE))","v":"NOSTR"},"NOSTR"]
[0,{"$f":"VALUE(MID(rawrtf!A864,FIND(\"TFPSTR\",rawrtf!A864,1)+6,3))","v":{"$error":"#VALUE!"}},{"$f":"IF(ISERROR(B864),\"NOSTR\",VLOOKUP(B864,strlook!A:C,2,FALSE))","v":"NOSTR"},"NOSTR"]
[0,{"$f":"VALUE(MID(rawrtf!A865,FIND(\"TFPSTR\",rawrtf!A865,1)+6,3))","v":{"$error":"#VALUE!"}},{"$f":"IF(ISERROR(B865),\"NOSTR\",VLOOKUP(B865,strlook!A:C,2,FALSE))","v":"NOSTR"},"NOSTR"]
[0,{"$f":"VALUE(MID(rawrtf!A866,FIND(\"TFPSTR\",rawrtf!A866,1)+6,3))","v":{"$error":"#VALUE!"}},{"$f":"IF(ISERROR(B866),\"NOSTR\",VLOOKUP(B866,strlook!A:C,2,FALSE))","v":"NOSTR"},"NOSTR"]
[0,{"$f":"VALUE(MID(rawrtf!A867,FIND(\"TFPSTR\",rawrtf!A867,1)+6,3))","v":{"$error":"#VALUE!"}},{"$f":"IF(ISERROR(B867),\"NOSTR\",VLOOKUP(B867,strlook!A:C,2,FALSE))","v":"NOSTR"},"NOSTR"]
[0,{"$f":"VALUE(MID(rawrtf!A868,FIND(\"TFPSTR\",rawrtf!A868,1)+6,3))","v":{"$error":"#VALUE!"}},{"$f":"IF(ISERROR(B868),\"NOSTR\",VLOOKUP(B868,strlook!A:C,2,FALSE))","v":"NOSTR"},"NOSTR"]
[{"$f":"IF(ISERROR(B869),0,1)","v":0},{"$f":"VALUE(MID(rawrtf!A869,FIND(\"TFPSTR\",rawrtf!A869,1)+6,3))","v":{"$error":"#VALUE!"}},{"$f":"IF(ISERROR(B869),\"NOSTR\",VLOOKUP(B869,strlook!A:C,2,FALSE))","v":"NOSTR"},{"$f":"IF(ISNA(C869),\"ERROR MISSING TFPSTR \"&B869,C869)","v":"NOSTR"}]
[0,{"$f":"VALUE(MID(rawrtf!A870,FIND(\"TFPSTR\",rawrtf!A870,1)+6,3))","v":{"$error":"#VALUE!"}},{"$f":"IF(ISERROR(B870),\"NOSTR\",VLOOKUP(B870,strlook!A:C,2,FALSE))","v":"NOSTR"},"NOSTR"]
[0,{"$f":"VALUE(MID(rawrtf!A871,FIND(\"TFPSTR\",rawrtf!A871,1)+6,3))","v":{"$error":"#VALUE!"}},{"$f":"IF(ISERROR(B871),\"NOSTR\",VLOOKUP(B871,strlook!A:C,2,FALSE))","v":"NOSTR"},"NOSTR"]
[0,{"$f":"VALUE(MID(rawrtf!A872,FIND(\"TFPSTR\",rawrtf!A872,1)+6,3))","v":{"$error":"#VALUE!"}},{"$f":"IF(ISERROR(B872),\"NOSTR\",VLOOKUP(B872,strlook!A:C,2,FALSE))","v":"NOSTR"},"NOSTR"]
[0,{"$f":"VALUE(MID(rawrtf!A873,FIND(\"TFPSTR\",rawrtf!A873,1)+6,3))","v":{"$error":"#VALUE!"}},{"$f":"IF(ISERROR(B873),\"NOSTR\",VLOOKUP(B873,strlook!A:C,2,FALSE))","v":"NOSTR"},"NOSTR"]
[0,{"$f":"VALUE(MID(rawrtf!A874,FIND(\"TFPSTR\",rawrtf!A874,1)+6,3))","v":{"$error":"#VALUE!"}},{"$f":"IF(ISERROR(B874),\"NOSTR\",VLOOKUP(B874,strlook!A:C,2,FALSE))","v":"NOSTR"},"NOSTR"]
[0,{"$f":"VALUE(MID(rawrtf!A875,FIND(\"TFPSTR\",rawrtf!A875,1)+6,3))","v":{"$error":"#VALUE!"}},{"$f":"IF(ISERROR(B875),\"NOSTR\",VLOOKUP(B875,strlook!A:C,2,FALSE))","v":"NOSTR"},"NOSTR"]
[0,{"$f":"VALUE(MID(rawrtf!A876,FIND(\"TFPSTR\",rawrtf!A876,1)+6,3))","v":{"$error":"#VALUE!"}},{"$f":"IF(ISERROR(B876),\"NOSTR\",VLOOKUP(B876,strlook!A:C,2,FALSE))","v":"NOSTR"},"NOSTR"]
[0,{"$f":"VALUE(MID(rawrtf!A877,FIND(\"TFPSTR\",rawrtf!A877,1)+6,3))","v":{"$error":"#VALUE!"}},{"$f":"IF(ISERROR(B877),\"NOSTR\",VLOOKUP(B877,strlook!A:C,2,FALSE))","v":"NOSTR"},"NOSTR"]
[0,{"$f":"VALUE(MID(rawrtf!A878,FIND(\"TFPSTR\",rawrtf!A878,1)+6,3))","v":{"$error":"#VALUE!"}},{"$f":"IF(ISERROR(B878),\"NOSTR\",VLOOKUP(B878,strlook!A:C,2,FALSE))","v":"NOSTR"},"NOSTR"]
[0,{"$f":"VALUE(MID(rawrtf!A879,FIND(\"TFPSTR\",rawrtf!A879,1)+6,3))","v":{"$error":"#VALUE!"}},{"$f":"IF(ISERROR(B879),\"NOSTR\",VLOOKUP(B879,strlook!A:C,2,FALSE))","v":"NOSTR"},"NOSTR"]
[0,{"$f":"VALUE(MID(rawrtf!A880,FIND(\"TFPSTR\",rawrtf!A880,1)+6,3))","v":{"$error":"#VALUE!"}},{"$f":"IF(ISERROR(B880),\"NOSTR\",VLOOKUP(B880,strlook!A:C,2,FALSE))","v":"NOSTR"},"NOSTR"]
[0,{"$f":"VALUE(MID(rawrtf!A881,FIND(\"TFPSTR\",rawrtf!A881,1)+6,3))","v":{"$error":"#VALUE!"}},{"$f":"IF(ISERROR(B881),\"NOSTR\",VLOOKUP(B881,strlook!A:C,2,FALSE))","v":"NOSTR"},"NOSTR"]
[0,{"$f":"VALUE(MID(rawrtf!A882,FIND(\"TFPSTR\",rawrtf!A882,1)+6,3))","v":{"$error":"#VALUE!"}},{"$f":"IF(ISERROR(B882),\"NOSTR\",VLOOKUP(B882,strlook!A:C,2,FALSE))","v":"NOSTR"},"NOSTR"]
[0,{"$f":"VALUE(MID(rawrtf!A883,FIND(\"TFPSTR\",rawrtf!A883,1)+6,3))","v":{"$error":"#VALUE!"}},{"$f":"IF(ISERROR(B883),\"NOSTR\",VLOOKUP(B883,strlook!A:C,2,FALSE))","v":"NOSTR"},"NOSTR"]
[0,{"$f":"VALUE(MID(rawrtf!A884,FIND(\"TFPSTR\",rawrtf!A884,1)+6,3))","v":{"$error":"#VALUE!"}},{"$f":"IF(ISERROR(B884),\"NOSTR\",VLOOKUP(B884,strlook!A:C,2,FALSE))","v":"NOSTR"},"NOSTR"]
[0,{"$f":"VALUE(MID(rawrtf!A885,FIND(\"TFPSTR\",rawrtf!A885,1)+6,3))","v":{"$error":"#VALUE!"}},{"$f":"IF(ISERROR(B885),\"NOSTR\",VLOOKUP(B885,strlook!A:C,2,FALSE))","v":"NOSTR"},"NOSTR"]
[0,{"$f":"VALUE(MID(rawrtf!A886,FIND(\"TFPSTR\",rawrtf!A886,1)+6,3))","v":{"$error":"#VALUE!"}},{"$f":"IF(ISERROR(B886),\"NOSTR\",VLOOKUP(B886,strlook!A:C,2,FALSE))","v":"NOSTR"},"NOSTR"]
[0,{"$f":"VALUE(MID(rawrtf!A887,FIND(\"TFPSTR\",rawrtf!A887,1)+6,3))","v":{"$error":"#VALUE!"}},{"$f":"IF(ISERROR(B887),\"NOSTR\",VLOOKUP(B887,strlook!A:C,2,FALSE))","v":"NOSTR"},"NOSTR"]
[0,{"$f":"VALUE(MID(rawrtf!A888,FIND(\"TFPSTR\",rawrtf!A888,1)+6,3))","v":{"$error":"#VALUE!"}},{"$f":"IF(ISERROR(B888),\"NOSTR\",VLOOKUP(B888,strlook!A:C,2,FALSE))","v":"NOSTR"},"NOSTR"]
[0,{"$f":"VALUE(MID(rawrtf!A889,FIND(\"TFPSTR\",rawrtf!A889,1)+6,3))","v":{"$error":"#VALUE!"}},{"$f":"IF(ISERROR(B889),\"NOSTR\",VLOOKUP(B889,strlook!A:C,2,FALSE))","v":"NOSTR"},"NOSTR"]
[0,{"$f":"VALUE(MID(rawrtf!A890,FIND(\"TFPSTR\",rawrtf!A890,1)+6,3))","v":{"$error":"#VALUE!"}},{"$f":"IF(ISERROR(B890),\"NOSTR\",VLOOKUP(B890,strlook!A:C,2,FALSE))","v":"NOSTR"},"NOSTR"]
[0,{"$f":"VALUE(MID(rawrtf!A891,FIND(\"TFPSTR\",rawrtf!A891,1)+6,3))","v":{"$error":"#VALUE!"}},{"$f":"IF(ISERROR(B891),\"NOSTR\",VLOOKUP(B891,strlook!A:C,2,FALSE))","v":"NOSTR"},"NOSTR"]
[0,{"$f":"VALUE(MID(rawrtf!A892,FIND(\"TFPSTR\",rawrtf!A892,1)+6,3))","v":{"$error":"#VALUE!"}},{"$f":"IF(ISERROR(B892),\"NOSTR\",VLOOKUP(B892,strlook!A:C,2,FALSE))","v":"NOSTR"},"NOSTR"]
[0,{"$f":"VALUE(MID(rawrtf!A893,FIND(\"TFPSTR\",rawrtf!A893,1)+6,3))","v":{"$error":"#VALUE!"}},{"$f":"IF(ISERROR(B893),\"NOSTR\",VLOOKUP(B893,strlook!A:C,2,FALSE))","v":"NOSTR"},"NOSTR"]
[0,{"$f":"VALUE(MID(rawrtf!A894,FIND(\"TFPSTR\",rawrtf!A894,1)+6,3))","v":{"$error":"#VALUE!"}},{"$f":"IF(ISERROR(B894),\"NOSTR\",VLOOKUP(B894,strlook!A:C,2,FALSE))","v":"NOSTR"},"NOSTR"]
[0,{"$f":"VALUE(MID(rawrtf!A895,FIND(\"TFPSTR\",rawrtf!A895,1)+6,3))","v":{"$error":"#VALUE!"}},{"$f":"IF(ISERROR(B895),\"NOSTR\",VLOOKUP(B895,strlook!A:C,2,FALSE))","v":"NOSTR"},"NOSTR"]
[0,{"$f":"VALUE(MID(rawrtf!A896,FIND(\"TFPSTR\",rawrtf!A896,1)+6,3))","v":{"$error":"#VALUE!"}},{"$f":"IF(ISERROR(B896),\"NOSTR\",VLOOKUP(B896,strlook!A:C,2,FALSE))","v":"NOSTR"},"NOSTR"]
[0,{"$f":"VALUE(MID(rawrtf!A897,FIND(\"TFPSTR\",rawrtf!A897,1)+6,3))","v":{"$error":"#VALUE!"}},{"$f":"IF(ISERROR(B897),\"NOSTR\",VLOOKUP(B897,strlook!A:C,2,FALSE))","v":"NOSTR"},"NOSTR"]
[0,{"$f":"VALUE(MID(rawrtf!A898,FIND(\"TFPSTR\",rawrtf!A898,1)+6,3))","v":{"$error":"#VALUE!"}},{"$f":"IF(ISERROR(B898),\"NOSTR\",VLOOKUP(B898,strlook!A:C,2,FALSE))","v":"NOSTR"},"NOSTR"]
[0,{"$f":"VALUE(MID(rawrtf!A899,FIND(\"TFPSTR\",rawrtf!A899,1)+6,3))","v":{"$error":"#VALUE!"}},{"$f":"IF(ISERROR(B899),\"NOSTR\",VLOOKUP(B899,strlook!A:C,2,FALSE))","v":"NOSTR"},"NOSTR"]
[0,{"$f":"VALUE(MID(rawrtf!A900,FIND(\"TFPSTR\",rawrtf!A900,1)+6,3))","v":{"$error":"#VALUE!"}},{"$f":"IF(ISERROR(B900),\"NOSTR\",VLOOKUP(B900,strlook!A:C,2,FALSE))","v":"NOSTR"},"NOSTR"]
[0,{"$f":"VALUE(MID(rawrtf!A901,FIND(\"TFPSTR\",rawrtf!A901,1)+6,3))","v":{"$error":"#VALUE!"}},{"$f":"IF(ISERROR(B901),\"NOSTR\",VLOOKUP(B901,strlook!A:C,2,FALSE))","v":"NOSTR"},"NOSTR"]
[0,{"$f":"VALUE(MID(rawrtf!A902,FIND(\"TFPSTR\",rawrtf!A902,1)+6,3))","v":{"$error":"#VALUE!"}},{"$f":"IF(ISERROR(B902),\"NOSTR\",VLOOKUP(B902,strlook!A:C,2,FALSE))","v":"NOSTR"},"NOSTR"]
[0,{"$f":"VALUE(MID(rawrtf!A903,FIND(\"TFPSTR\",rawrtf!A903,1)+6,3))","v":{"$error":"#VALUE!"}},{"$f":"IF(ISERROR(B903),\"NOSTR\",VLOOKUP(B903,strlook!A:C,2,FALSE))","v":"NOSTR"},"NOSTR"]
[0,{"$f":"VALUE(MID(rawrtf!A904,FIND(\"TFPSTR\",rawrtf!A904,1)+6,3))","v":{"$error":"#VALUE!"}},{"$f":"IF(ISERROR(B904),\"NOSTR\",VLOOKUP(B904,strlook!A:C,2,FALSE))","v":"NOSTR"},"NOSTR"]
[0,{"$f":"VALUE(MID(rawrtf!A905,FIND(\"TFPSTR\",rawrtf!A905,1)+6,3))","v":{"$error":"#VALUE!"}},{"$f":"IF(ISERROR(B905),\"NOSTR\",VLOOKUP(B905,strlook!A:C,2,FALSE))","v":"NOSTR"},"NOSTR"]
[0,{"$f":"VALUE(MID(rawrtf!A906,FIND(\"TFPSTR\",rawrtf!A906,1)+6,3))","v":{"$error":"#VALUE!"}},{"$f":"IF(ISERROR(B906),\"NOSTR\",VLOOKUP(B906,strlook!A:C,2,FALSE))","v":"NOSTR"},"NOSTR"]
[0,{"$f":"VALUE(MID(rawrtf!A907,FIND(\"TFPSTR\",rawrtf!A907,1)+6,3))","v":{"$error":"#VALUE!"}},{"$f":"IF(ISERROR(B907),\"NOSTR\",VLOOKUP(B907,strlook!A:C,2,FALSE))","v":"NOSTR"},"NOSTR"]
[0,{"$f":"VALUE(MID(rawrtf!A908,FIND(\"TFPSTR\",rawrtf!A908,1)+6,3))","v":{"$error":"#VALUE!"}},{"$f":"IF(ISERROR(B908),\"NOSTR\",VLOOKUP(B908,strlook!A:C,2,FALSE))","v":"NOSTR"},"NOSTR"]
[0,{"$f":"VALUE(MID(rawrtf!A909,FIND(\"TFPSTR\",rawrtf!A909,1)+6,3))","v":{"$error":"#VALUE!"}},{"$f":"IF(ISERROR(B909),\"NOSTR\",VLOOKUP(B909,strlook!A:C,2,FALSE))","v":"NOSTR"},"NOSTR"]
[0,{"$f":"VALUE(MID(rawrtf!A910,FIND(\"TFPSTR\",rawrtf!A910,1)+6,3))","v":{"$error":"#VALUE!"}},{"$f":"IF(ISERROR(B910),\"NOSTR\",VLOOKUP(B910,strlook!A:C,2,FALSE))","v":"NOSTR"},"NOSTR"]
[0,{"$f":"VALUE(MID(rawrtf!A911,FIND(\"TFPSTR\",rawrtf!A911,1)+6,3))","v":{"$error":"#VALUE!"}},{"$f":"IF(ISERROR(B911),\"NOSTR\",VLOOKUP(B911,strlook!A:C,2,FALSE))","v":"NOSTR"},"NOSTR"]
[0,{"$f":"VALUE(MID(rawrtf!A912,FIND(\"TFPSTR\",rawrtf!A912,1)+6,3))","v":{"$error":"#VALUE!"}},{"$f":"IF(ISERROR(B912),\"NOSTR\",VLOOKUP(B912,strlook!A:C,2,FALSE))","v":"NOSTR"},"NOSTR"]
[0,{"$f":"VALUE(MID(rawrtf!A913,FIND(\"TFPSTR\",rawrtf!A913,1)+6,3))","v":{"$error":"#VALUE!"}},{"$f":"IF(ISERROR(B913),\"NOSTR\",VLOOKUP(B913,strlook!A:C,2,FALSE))","v":"NOSTR"},"NOSTR"]
[0,{"$f":"VALUE(MID(rawrtf!A914,FIND(\"TFPSTR\",rawrtf!A914,1)+6,3))","v":{"$error":"#VALUE!"}},{"$f":"IF(ISERROR(B914),\"NOSTR\",VLOOKUP(B914,strlook!A:C,2,FALSE))","v":"NOSTR"},"NOSTR"]
[0,{"$f":"VALUE(MID(rawrtf!A915,FIND(\"TFPSTR\",rawrtf!A915,1)+6,3))","v":{"$error":"#VALUE!"}},{"$f":"IF(ISERROR(B915),\"NOSTR\",VLOOKUP(B915,strlook!A:C,2,FALSE))","v":"NOSTR"},"NOSTR"]
[0,{"$f":"VALUE(MID(rawrtf!A916,FIND(\"TFPSTR\",rawrtf!A916,1)+6,3))","v":{"$error":"#VALUE!"}},{"$f":"IF(ISERROR(B916),\"NOSTR\",VLOOKUP(B916,strlook!A:C,2,FALSE))","v":"NOSTR"},"NOSTR"]
[0,{"$f":"VALUE(MID(rawrtf!A917,FIND(\"TFPSTR\",rawrtf!A917,1)+6,3))","v":{"$error":"#VALUE!"}},{"$f":"IF(ISERROR(B917),\"NOSTR\",VLOOKUP(B917,strlook!A:C,2,FALSE))","v":"NOSTR"},"NOSTR"]
[0,{"$f":"VALUE(MID(rawrtf!A918,FIND(\"TFPSTR\",rawrtf!A918,1)+6,3))","v":{"$error":"#VALUE!"}},{"$f":"IF(ISERROR(B918),\"NOSTR\",VLOOKUP(B918,strlook!A:C,2,FALSE))","v":"NOSTR"},"NOSTR"]
[0,{"$f":"VALUE(MID(rawrtf!A919,FIND(\"TFPSTR\",rawrtf!A919,1)+6,3))","v":{"$error":"#VALUE!"}},{"$f":"IF(ISERROR(B919),\"NOSTR\",VLOOKUP(B919,strlook!A:C,2,FALSE))","v":"NOSTR"},"NOSTR"]
[0,{"$f":"VALUE(MID(rawrtf!A920,FIND(\"TFPSTR\",rawrtf!A920,1)+6,3))","v":{"$error":"#VALUE!"}},{"$f":"IF(ISERROR(B920),\"NOSTR\",VLOOKUP(B920,strlook!A:C,2,FALSE))","v":"NOSTR"},"NOSTR"]
[0,{"$f":"VALUE(MID(rawrtf!A921,FIND(\"TFPSTR\",rawrtf!A921,1)+6,3))","v":{"$error":"#VALUE!"}},{"$f":"IF(ISERROR(B921),\"NOSTR\",VLOOKUP(B921,strlook!A:C,2,FALSE))","v":"NOSTR"},"NOSTR"]
[0,{"$f":"VALUE(MID(rawrtf!A922,FIND(\"TFPSTR\",rawrtf!A922,1)+6,3))","v":{"$error":"#VALUE!"}},{"$f":"IF(ISERROR(B922),\"NOSTR\",VLOOKUP(B922,strlook!A:C,2,FALSE))","v":"NOSTR"},"NOSTR"]
[0,{"$f":"VALUE(MID(rawrtf!A923,FIND(\"TFPSTR\",rawrtf!A923,1)+6,3))","v":{"$error":"#VALUE!"}},{"$f":"IF(ISERROR(B923),\"NOSTR\",VLOOKUP(B923,strlook!A:C,2,FALSE))","v":"NOSTR"},"NOSTR"]
[0,{"$f":"VALUE(MID(rawrtf!A924,FIND(\"TFPSTR\",rawrtf!A924,1)+6,3))","v":{"$error":"#VALUE!"}},{"$f":"IF(ISERROR(B924),\"NOSTR\",VLOOKUP(B924,strlook!A:C,2,FALSE))","v":"NOSTR"},"NOSTR"]
[0,{"$f":"VALUE(MID(rawrtf!A925,FIND(\"TFPSTR\",rawrtf!A925,1)+6,3))","v":{"$error":"#VALUE!"}},{"$f":"IF(ISERROR(B925),\"NOSTR\",VLOOKUP(B925,strlook!A:C,2,FALSE))","v":"NOSTR"},"NOSTR"]
[0,{"$f":"VALUE(MID(rawrtf!A926,FIND(\"TFPSTR\",rawrtf!A926,1)+6,3))","v":{"$error":"#VALUE!"}},{"$f":"IF(ISERROR(B926),\"NOSTR\",VLOOKUP(B926,strlook!A:C,2,FALSE))","v":"NOSTR"},"NOSTR"]
[0,{"$f":"VALUE(MID(rawrtf!A927,FIND(\"TFPSTR\",rawrtf!A927,1)+6,3))","v":{"$error":"#VALUE!"}},{"$f":"IF(ISERROR(B927),\"NOSTR\",VLOOKUP(B927,strlook!A:C,2,FALSE))","v":"NOSTR"},"NOSTR"]
[0,{"$f":"VALUE(MID(rawrtf!A928,FIND(\"TFPSTR\",rawrtf!A928,1)+6,3))","v":{"$error":"#VALUE!"}},{"$f":"IF(ISERROR(B928),\"NOSTR\",VLOOKUP(B928,strlook!A:C,2,FALSE))","v":"NOSTR"},"NOSTR"]
[0,{"$f":"VALUE(MID(rawrtf!A929,FIND(\"TFPSTR\",rawrtf!A929,1)+6,3))","v":{"$error":"#VALUE!"}},{"$f":"IF(ISERROR(B929),\"NOSTR\",VLOOKUP(B929,strlook!A:C,2,FALSE))","v":"NOSTR"},"NOSTR"]
[0,{"$f":"VALUE(MID(rawrtf!A930,FIND(\"TFPSTR\",rawrtf!A930,1)+6,3))","v":{"$error":"#VALUE!"}},{"$f":"IF(ISERROR(B930),\"NOSTR\",VLOOKUP(B930,strlook!A:C,2,FALSE))","v":"NOSTR"},"NOSTR"]
[0,{"$f":"VALUE(MID(rawrtf!A931,FIND(\"TFPSTR\",rawrtf!A931,1)+6,3))","v":{"$error":"#VALUE!"}},{"$f":"IF(ISERROR(B931),\"NOSTR\",VLOOKUP(B931,strlook!A:C,2,FALSE))","v":"NOSTR"},"NOSTR"]
[0,{"$f":"VALUE(MID(rawrtf!A932,FIND(\"TFPSTR\",rawrtf!A932,1)+6,3))","v":{"$error":"#VALUE!"}},{"$f":"IF(ISERROR(B932),\"NOSTR\",VLOOKUP(B932,strlook!A:C,2,FALSE))","v":"NOSTR"},"NOSTR"]
[{"$f":"IF(ISERROR(B933),0,1)","v":0},{"$f":"VALUE(MID(rawrtf!A933,FIND(\"TFPSTR\",rawrtf!A933,1)+6,3))","v":{"$error":"#VALUE!"}},{"$f":"IF(ISERROR(B933),\"NOSTR\",VLOOKUP(B933,strlook!A:C,2,FALSE))","v":"NOSTR"},{"$f":"IF(ISNA(C933),\"ERROR MISSING TFPSTR \"&B933,C933)","v":"NOSTR"}]
[0,{"$f":"VALUE(MID(rawrtf!A934,FIND(\"TFPSTR\",rawrtf!A934,1)+6,3))","v":{"$error":"#VALUE!"}},{"$f":"IF(ISERROR(B934),\"NOSTR\",VLOOKUP(B934,strlook!A:C,2,FALSE))","v":"NOSTR"},"NOSTR"]
[0,{"$f":"VALUE(MID(rawrtf!A935,FIND(\"TFPSTR\",rawrtf!A935,1)+6,3))","v":{"$error":"#VALUE!"}},{"$f":"IF(ISERROR(B935),\"NOSTR\",VLOOKUP(B935,strlook!A:C,2,FALSE))","v":"NOSTR"},"NOSTR"]
[0,{"$f":"VALUE(MID(rawrtf!A936,FIND(\"TFPSTR\",rawrtf!A936,1)+6,3))","v":{"$error":"#VALUE!"}},{"$f":"IF(ISERROR(B936),\"NOSTR\",VLOOKUP(B936,strlook!A:C,2,FALSE))","v":"NOSTR"},"NOSTR"]
[0,{"$f":"VALUE(MID(rawrtf!A937,FIND(\"TFPSTR\",rawrtf!A937,1)+6,3))","v":{"$error":"#VALUE!"}},{"$f":"IF(ISERROR(B937),\"NOSTR\",VLOOKUP(B937,strlook!A:C,2,FALSE))","v":"NOSTR"},"NOSTR"]
[0,{"$f":"VALUE(MID(rawrtf!A938,FIND(\"TFPSTR\",rawrtf!A938,1)+6,3))","v":{"$error":"#VALUE!"}},{"$f":"IF(ISERROR(B938),\"NOSTR\",VLOOKUP(B938,strlook!A:C,2,FALSE))","v":"NOSTR"},"NOSTR"]
[0,{"$f":"VALUE(MID(rawrtf!A939,FIND(\"TFPSTR\",rawrtf!A939,1)+6,3))","v":{"$error":"#VALUE!"}},{"$f":"IF(ISERROR(B939),\"NOSTR\",VLOOKUP(B939,strlook!A:C,2,FALSE))","v":"NOSTR"},"NOSTR"]
[0,{"$f":"VALUE(MID(rawrtf!A940,FIND(\"TFPSTR\",rawrtf!A940,1)+6,3))","v":{"$error":"#VALUE!"}},{"$f":"IF(ISERROR(B940),\"NOSTR\",VLOOKUP(B940,strlook!A:C,2,FALSE))","v":"NOSTR"},"NOSTR"]
[0,{"$f":"VALUE(MID(rawrtf!A941,FIND(\"TFPSTR\",rawrtf!A941,1)+6,3))","v":{"$error":"#VALUE!"}},{"$f":"IF(ISERROR(B941),\"NOSTR\",VLOOKUP(B941,strlook!A:C,2,FALSE))","v":"NOSTR"},"NOSTR"]
[0,{"$f":"VALUE(MID(rawrtf!A942,FIND(\"TFPSTR\",rawrtf!A942,1)+6,3))","v":{"$error":"#VALUE!"}},{"$f":"IF(ISERROR(B942),\"NOSTR\",VLOOKUP(B942,strlook!A:C,2,FALSE))","v":"NOSTR"},"NOSTR"]
[0,{"$f":"VALUE(MID(rawrtf!A943,FIND(\"TFPSTR\",rawrtf!A943,1)+6,3))","v":{"$error":"#VALUE!"}},{"$f":"IF(ISERROR(B943),\"NOSTR\",VLOOKUP(B943,strlook!A:C,2,FALSE))","v":"NOSTR"},"NOSTR"]
[0,{"$f":"VALUE(MID(rawrtf!A944,FIND(\"TFPSTR\",rawrtf!A944,1)+6,3))","v":{"$error":"#VALUE!"}},{"$f":"IF(ISERROR(B944),\"NOSTR\",VLOOKUP(B944,strlook!A:C,2,FALSE))","v":"NOSTR"},"NOSTR"]
[0,{"$f":"VALUE(MID(rawrtf!A945,FIND(\"TFPSTR\",rawrtf!A945,1)+6,3))","v":{"$error":"#VALUE!"}},{"$f":"IF(ISERROR(B945),\"NOSTR\",VLOOKUP(B945,strlook!A:C,2,FALSE))","v":"NOSTR"},"NOSTR"]
[0,{"$f":"VALUE(MID(rawrtf!A946,FIND(\"TFPSTR\",rawrtf!A946,1)+6,3))","v":{"$error":"#VALUE!"}},{"$f":"IF(ISERROR(B946),\"NOSTR\",VLOOKUP(B946,strlook!A:C,2,FALSE))","v":"NOSTR"},"NOSTR"]
[0,{"$f":"VALUE(MID(rawrtf!A947,FIND(\"TFPSTR\",rawrtf!A947,1)+6,3))","v":{"$error":"#VALUE!"}},{"$f":"IF(ISERROR(B947),\"NOSTR\",VLOOKUP(B947,strlook!A:C,2,FALSE))","v":"NOSTR"},"NOSTR"]
[0,{"$f":"VALUE(MID(rawrtf!A948,FIND(\"TFPSTR\",rawrtf!A948,1)+6,3))","v":{"$error":"#VALUE!"}},{"$f":"IF(ISERROR(B948),\"NOSTR\",VLOOKUP(B948,strlook!A:C,2,FALSE))","v":"NOSTR"},"NOSTR"]
[0,{"$f":"VALUE(MID(rawrtf!A949,FIND(\"TFPSTR\",rawrtf!A949,1)+6,3))","v":{"$error":"#VALUE!"}},{"$f":"IF(ISERROR(B949),\"NOSTR\",VLOOKUP(B949,strlook!A:C,2,FALSE))","v":"NOSTR"},"NOSTR"]
[0,{"$f":"VALUE(MID(rawrtf!A950,FIND(\"TFPSTR\",rawrtf!A950,1)+6,3))","v":{"$error":"#VALUE!"}},{"$f":"IF(ISERROR(B950),\"NOSTR\",VLOOKUP(B950,strlook!A:C,2,FALSE))","v":"NOSTR"},"NOSTR"]
[0,{"$f":"VALUE(MID(rawrtf!A951,FIND(\"TFPSTR\",rawrtf!A951,1)+6,3))","v":{"$error":"#VALUE!"}},{"$f":"IF(ISERROR(B951),\"NOSTR\",VLOOKUP(B951,strlook!A:C,2,FALSE))","v":"NOSTR"},"NOSTR"]
[0,{"$f":"VALUE(MID(rawrtf!A952,FIND(\"TFPSTR\",rawrtf!A952,1)+6,3))","v":{"$error":"#VALUE!"}},{"$f":"IF(ISERROR(B952),\"NOSTR\",VLOOKUP(B952,strlook!A:C,2,FALSE))","v":"NOSTR"},"NOSTR"]
[0,{"$f":"VALUE(MID(rawrtf!A953,FIND(\"TFPSTR\",rawrtf!A953,1)+6,3))","v":{"$error":"#VALUE!"}},{"$f":"IF(ISERROR(B953),\"NOSTR\",VLOOKUP(B953,strlook!A:C,2,FALSE))","v":"NOSTR"},"NOSTR"]
[0,{"$f":"VALUE(MID(rawrtf!A954,FIND(\"TFPSTR\",rawrtf!A954,1)+6,3))","v":{"$error":"#VALUE!"}},{"$f":"IF(ISERROR(B954),\"NOSTR\",VLOOKUP(B954,strlook!A:C,2,FALSE))","v":"NOSTR"},"NOSTR"]
[0,{"$f":"VALUE(MID(rawrtf!A955,FIND(\"TFPSTR\",rawrtf!A955,1)+6,3))","v":{"$error":"#VALUE!"}},{"$f":"IF(ISERROR(B955),\"NOSTR\",VLOOKUP(B955,strlook!A:C,2,FALSE))","v":"NOSTR"},"NOSTR"]
[0,{"$f":"VALUE(MID(rawrtf!A956,FIND(\"TFPSTR\",rawrtf!A956,1)+6,3))","v":{"$error":"#VALUE!"}},{"$f":"IF(ISERROR(B956),\"NOSTR\",VLOOKUP(B956,strlook!A:C,2,FALSE))","v":"NOSTR"},"NOSTR"]
[0,{"$f":"VALUE(MID(rawrtf!A957,FIND(\"TFPSTR\",rawrtf!A957,1)+6,3))","v":{"$error":"#VALUE!"}},{"$f":"IF(ISERROR(B957),\"NOSTR\",VLOOKUP(B957,strlook!A:C,2,FALSE))","v":"NOSTR"},"NOSTR"]
[0,{"$f":"VALUE(MID(rawrtf!A958,FIND(\"TFPSTR\",rawrtf!A958,1)+6,3))","v":{"$error":"#VALUE!"}},{"$f":"IF(ISERROR(B958),\"NOSTR\",VLOOKUP(B958,strlook!A:C,2,FALSE))","v":"NOSTR"},"NOSTR"]
[0,{"$f":"VALUE(MID(rawrtf!A959,FIND(\"TFPSTR\",rawrtf!A959,1)+6,3))","v":{"$error":"#VALUE!"}},{"$f":"IF(ISERROR(B959),\"NOSTR\",VLOOKUP(B959,strlook!A:C,2,FALSE))","v":"NOSTR"},"NOSTR"]
[0,{"$f":"VALUE(MID(rawrtf!A960,FIND(\"TFPSTR\",rawrtf!A960,1)+6,3))","v":{"$error":"#VALUE!"}},{"$f":"IF(ISERROR(B960),\"NOSTR\",VLOOKUP(B960,strlook!A:C,2,FALSE))","v":"NOSTR"},"NOSTR"]
[0,{"$f":"VALUE(MID(rawrtf!A961,FIND(\"TFPSTR\",rawrtf!A961,1)+6,3))","v":{"$error":"#VALUE!"}},{"$f":"IF(ISERROR(B961),\"NOSTR\",VLOOKUP(B961,strlook!A:C,2,FALSE))","v":"NOSTR"},"NOSTR"]
[0,{"$f":"VALUE(MID(rawrtf!A962,FIND(\"TFPSTR\",rawrtf!A962,1)+6,3))","v":{"$error":"#VALUE!"}},{"$f":"IF(ISERROR(B962),\"NOSTR\",VLOOKUP(B962,strlook!A:C,2,FALSE))","v":"NOSTR"},"NOSTR"]
[0,{"$f":"VALUE(MID(rawrtf!A963,FIND(\"TFPSTR\",rawrtf!A963,1)+6,3))","v":{"$error":"#VALUE!"}},{"$f":"IF(ISERROR(B963),\"NOSTR\",VLOOKUP(B963,strlook!A:C,2,FALSE))","v":"NOSTR"},"NOSTR"]
[0,{"$f":"VALUE(MID(rawrtf!A964,FIND(\"TFPSTR\",rawrtf!A964,1)+6,3))","v":{"$error":"#VALUE!"}},{"$f":"IF(ISERROR(B964),\"NOSTR\",VLOOKUP(B964,strlook!A:C,2,FALSE))","v":"NOSTR"},"NOSTR"]
[0,{"$f":"VALUE(MID(rawrtf!A965,FIND(\"TFPSTR\",rawrtf!A965,1)+6,3))","v":{"$error":"#VALUE!"}},{"$f":"IF(ISERROR(B965),\"NOSTR\",VLOOKUP(B965,strlook!A:C,2,FALSE))","v":"NOSTR"},"NOSTR"]
[0,{"$f":"VALUE(MID(rawrtf!A966,FIND(\"TFPSTR\",rawrtf!A966,1)+6,3))","v":{"$error":"#VALUE!"}},{"$f":"IF(ISERROR(B966),\"NOSTR\",VLOOKUP(B966,strlook!A:C,2,FALSE))","v":"NOSTR"},"NOSTR"]
[0,{"$f":"VALUE(MID(rawrtf!A967,FIND(\"TFPSTR\",rawrtf!A967,1)+6,3))","v":{"$error":"#VALUE!"}},{"$f":"IF(ISERROR(B967),\"NOSTR\",VLOOKUP(B967,strlook!A:C,2,FALSE))","v":"NOSTR"},"NOSTR"]
[0,{"$f":"VALUE(MID(rawrtf!A968,FIND(\"TFPSTR\",rawrtf!A968,1)+6,3))","v":{"$error":"#VALUE!"}},{"$f":"IF(ISERROR(B968),\"NOSTR\",VLOOKUP(B968,strlook!A:C,2,FALSE))","v":"NOSTR"},"NOSTR"]
[0,{"$f":"VALUE(MID(rawrtf!A969,FIND(\"TFPSTR\",rawrtf!A969,1)+6,3))","v":{"$error":"#VALUE!"}},{"$f":"IF(ISERROR(B969),\"NOSTR\",VLOOKUP(B969,strlook!A:C,2,FALSE))","v":"NOSTR"},"NOSTR"]
[0,{"$f":"VALUE(MID(rawrtf!A970,FIND(\"TFPSTR\",rawrtf!A970,1)+6,3))","v":{"$error":"#VALUE!"}},{"$f":"IF(ISERROR(B970),\"NOSTR\",VLOOKUP(B970,strlook!A:C,2,FALSE))","v":"NOSTR"},"NOSTR"]
[0,{"$f":"VALUE(MID(rawrtf!A971,FIND(\"TFPSTR\",rawrtf!A971,1)+6,3))","v":{"$error":"#VALUE!"}},{"$f":"IF(ISERROR(B971),\"NOSTR\",VLOOKUP(B971,strlook!A:C,2,FALSE))","v":"NOSTR"},"NOSTR"]
[0,{"$f":"VALUE(MID(rawrtf!A972,FIND(\"TFPSTR\",rawrtf!A972,1)+6,3))","v":{"$error":"#VALUE!"}},{"$f":"IF(ISERROR(B972),\"NOSTR\",VLOOKUP(B972,strlook!A:C,2,FALSE))","v":"NOSTR"},"NOSTR"]
[0,{"$f":"VALUE(MID(rawrtf!A973,FIND(\"TFPSTR\",rawrtf!A973,1)+6,3))","v":{"$error":"#VALUE!"}},{"$f":"IF(ISERROR(B973),\"NOSTR\",VLOOKUP(B973,strlook!A:C,2,FALSE))","v":"NOSTR"},"NOSTR"]
[0,{"$f":"VALUE(MID(rawrtf!A974,FIND(\"TFPSTR\",rawrtf!A974,1)+6,3))","v":{"$error":"#VALUE!"}},{"$f":"IF(ISERROR(B974),\"NOSTR\",VLOOKUP(B974,strlook!A:C,2,FALSE))","v":"NOSTR"},"NOSTR"]
[0,{"$f":"VALUE(MID(rawrtf!A975,FIND(\"TFPSTR\",rawrtf!A975,1)+6,3))","v":{"$error":"#VALUE!"}},{"$f":"IF(ISERROR(B975),\"NOSTR\",VLOOKUP(B975,strlook!A:C,2,FALSE))","v":"NOSTR"},"NOSTR"]
[0,{"$f":"VALUE(MID(rawrtf!A976,FIND(\"TFPSTR\",rawrtf!A976,1)+6,3))","v":{"$error":"#VALUE!"}},{"$f":"IF(ISERROR(B976),\"NOSTR\",VLOOKUP(B976,strlook!A:C,2,FALSE))","v":"NOSTR"},"NOSTR"]
[0,{"$f":"VALUE(MID(rawrtf!A977,FIND(\"TFPSTR\",rawrtf!A977,1)+6,3))","v":{"$error":"#VALUE!"}},{"$f":"IF(ISERROR(B977),\"NOSTR\",VLOOKUP(B977,strlook!A:C,2,FALSE))","v":"NOSTR"},"NOSTR"]
[0,{"$f":"VALUE(MID(rawrtf!A978,FIND(\"TFPSTR\",rawrtf!A978,1)+6,3))","v":{"$error":"#VALUE!"}},{"$f":"IF(ISERROR(B978),\"NOSTR\",VLOOKUP(B978,strlook!A:C,2,FALSE))","v":"NOSTR"},"NOSTR"]
[0,{"$f":"VALUE(MID(rawrtf!A979,FIND(\"TFPSTR\",rawrtf!A979,1)+6,3))","v":{"$error":"#VALUE!"}},{"$f":"IF(ISERROR(B979),\"NOSTR\",VLOOKUP(B979,strlook!A:C,2,FALSE))","v":"NOSTR"},"NOSTR"]
[0,{"$f":"VALUE(MID(rawrtf!A980,FIND(\"TFPSTR\",rawrtf!A980,1)+6,3))","v":{"$error":"#VALUE!"}},{"$f":"IF(ISERROR(B980),\"NOSTR\",VLOOKUP(B980,strlook!A:C,2,FALSE))","v":"NOSTR"},"NOSTR"]
[0,{"$f":"VALUE(MID(rawrtf!A981,FIND(\"TFPSTR\",rawrtf!A981,1)+6,3))","v":{"$error":"#VALUE!"}},{"$f":"IF(ISERROR(B981),\"NOSTR\",VLOOKUP(B981,strlook!A:C,2,FALSE))","v":"NOSTR"},"NOSTR"]
[0,{"$f":"VALUE(MID(rawrtf!A982,FIND(\"TFPSTR\",rawrtf!A982,1)+6,3))","v":{"$error":"#VALUE!"}},{"$f":"IF(ISERROR(B982),\"NOSTR\",VLOOKUP(B982,strlook!A:C,2,FALSE))","v":"NOSTR"},"NOSTR"]
[0,{"$f":"VALUE(MID(rawrtf!A983,FIND(\"TFPSTR\",rawrtf!A983,1)+6,3))","v":{"$error":"#VALUE!"}},{"$f":"IF(ISERROR(B983),\"NOSTR\",VLOOKUP(B983,strlook!A:C,2,FALSE))","v":"NOSTR"},"NOSTR"]
[0,{"$f":"VALUE(MID(rawrtf!A984,FIND(\"TFPSTR\",rawrtf!A984,1)+6,3))","v":{"$error":"#VALUE!"}},{"$f":"IF(ISERROR(B984),\"NOSTR\",VLOOKUP(B984,strlook!A:C,2,FALSE))","v":"NOSTR"},"NOSTR"]
[0,{"$f":"VALUE(MID(rawrtf!A985,FIND(\"TFPSTR\",rawrtf!A985,1)+6,3))","v":{"$error":"#VALUE!"}},{"$f":"IF(ISERROR(B985),\"NOSTR\",VLOOKUP(B985,strlook!A:C,2,FALSE))","v":"NOSTR"},"NOSTR"]
[0,{"$f":"VALUE(MID(rawrtf!A986,FIND(\"TFPSTR\",rawrtf!A986,1)+6,3))","v":{"$error":"#VALUE!"}},{"$f":"IF(ISERROR(B986),\"NOSTR\",VLOOKUP(B986,strlook!A:C,2,FALSE))","v":"NOSTR"},"NOSTR"]
[0,{"$f":"VALUE(MID(rawrtf!A987,FIND(\"TFPSTR\",rawrtf!A987,1)+6,3))","v":{"$error":"#VALUE!"}},{"$f":"IF(ISERROR(B987),\"NOSTR\",VLOOKUP(B987,strlook!A:C,2,FALSE))","v":"NOSTR"},"NOSTR"]
[0,{"$f":"VALUE(MID(rawrtf!A988,FIND(\"TFPSTR\",rawrtf!A988,1)+6,3))","v":{"$error":"#VALUE!"}},{"$f":"IF(ISERROR(B988),\"NOSTR\",VLOOKUP(B988,strlook!A:C,2,FALSE))","v":"NOSTR"},"NOSTR"]
[0,{"$f":"VALUE(MID(rawrtf!A989,FIND(\"TFPSTR\",rawrtf!A989,1)+6,3))","v":{"$error":"#VALUE!"}},{"$f":"IF(ISERROR(B989),\"NOSTR\",VLOOKUP(B989,strlook!A:C,2,FALSE))","v":"NOSTR"},"NOSTR"]
[0,{"$f":"VALUE(MID(rawrtf!A990,FIND(\"TFPSTR\",rawrtf!A990,1)+6,3))","v":{"$error":"#VALUE!"}},{"$f":"IF(ISERROR(B990),\"NOSTR\",VLOOKUP(B990,strlook!A:C,2,FALSE))","v":"NOSTR"},"NOSTR"]
[0,{"$f":"VALUE(MID(rawrtf!A991,FIND(\"TFPSTR\",rawrtf!A991,1)+6,3))","v":{"$error":"#VALUE!"}},{"$f":"IF(ISERROR(B991),\"NOSTR\",VLOOKUP(B991,strlook!A:C,2,FALSE))","v":"NOSTR"},"NOSTR"]
[0,{"$f":"VALUE(MID(rawrtf!A992,FIND(\"TFPSTR\",rawrtf!A992,1)+6,3))","v":{"$error":"#VALUE!"}},{"$f":"IF(ISERROR(B992),\"NOSTR\",VLOOKUP(B992,strlook!A:C,2,FALSE))","v":"NOSTR"},"NOSTR"]
[0,{"$f":"VALUE(MID(rawrtf!A993,FIND(\"TFPSTR\",rawrtf!A993,1)+6,3))","v":{"$error":"#VALUE!"}},{"$f":"IF(ISERROR(B993),\"NOSTR\",VLOOKUP(B993,strlook!A:C,2,FALSE))","v":"NOSTR"},"NOSTR"]
[0,{"$f":"VALUE(MID(rawrtf!A994,FIND(\"TFPSTR\",rawrtf!A994,1)+6,3))","v":{"$error":"#VALUE!"}},{"$f":"IF(ISERROR(B994),\"NOSTR\",VLOOKUP(B994,strlook!A:C,2,FALSE))","v":"NOSTR"},"NOSTR"]
[0,{"$f":"VALUE(MID(rawrtf!A995,FIND(\"TFPSTR\",rawrtf!A995,1)+6,3))","v":{"$error":"#VALUE!"}},{"$f":"IF(ISERROR(B995),\"NOSTR\",VLOOKUP(B995,strlook!A:C,2,FALSE))","v":"NOSTR"},"NOSTR"]
[0,{"$f":"VALUE(MID(rawrtf!A996,FIND(\"TFPSTR\",rawrtf!A996,1)+6,3))","v":{"$error":"#VALUE!"}},{"$f":"IF(ISERROR(B996),\"NOSTR\",VLOOKUP(B996,strlook!A:C,2,FALSE))","v":"NOSTR"},"NOSTR"]
[{"$f":"IF(ISERROR(B997),0,1)","v":0},{"$f":"VALUE(MID(rawrtf!A997,FIND(\"TFPSTR\",rawrtf!A997,1)+6,3))","v":{"$error":"#VALUE!"}},{"$f":"IF(ISERROR(B997),\"NOSTR\",VLOOKUP(B997,strlook!A:C,2,FALSE))","v":"NOSTR"},{"$f":"IF(ISNA(C997),\"ERROR MISSING TFPSTR \"&B997,C997)","v":"NOSTR"}]
[{"$f":"IF(ISERROR(B998),0,1)","v":0},{"$f":"VALUE(MID(rawrtf!A998,FIND(\"TFPSTR\",rawrtf!A998,1)+6,3))","v":{"$error":"#VALUE!"}},{"$f":"IF(ISERROR(B998),\"NOSTR\",VLOOKUP(B998,strlook!A:C,2,FALSE))","v":"NOSTR"},{"$f":"IF(ISNA(C998),\"ERROR MISSING TFPSTR \"&B998,C998)","v":"NOSTR"}]
[{"$f":"IF(ISERROR(B999),0,1)","v":0},{"$f":"VALUE(MID(rawrtf!A999,FIND(\"TFPSTR\",rawrtf!A999,1)+6,3))","v":{"$error":"#VALUE!"}},{"$f":"IF(ISERROR(B999),\"NOSTR\",VLOOKUP(B999,strlook!A:C,2,FALSE))","v":"NOSTR"},{"$f":"IF(ISNA(C999),\"ERROR MISSING TFPSTR \"&B999,C999)","v":"NOSTR"}]
[{"$f":"IF(ISERROR(B1000),0,1)","v":0},{"$f":"VALUE(MID(rawrtf!A1000,FIND(\"TFPSTR\",rawrtf!A1000,1)+6,3))","v":{"$error":"#VALUE!"}},{"$f":"IF(ISERROR(B1000),\"NOSTR\",VLOOKUP(B1000,strlook!A:C,2,FALSE))","v":"NOSTR"},{"$f":"IF(ISNA(C1000),\"ERROR MISSING TFPSTR \"&B1000,C1000)","v":"NOSTR"}]

{"sheet":"taglook","index":13,"n_rows":600,"n_cols":3,"rows_kept":600,"cut":false,"hidden":true,"merged":[]}
["TFPTAG","Flag"]
[{"$f":"strlook!A2","v":102},{"$f":"IF(LEFT(strlook!B2,16)=\"Missing Field - \",0,1)","v":1}]
[{"$f":"strlook!A3","v":103},{"$f":"IF(LEFT(strlook!B3,16)=\"Missing Field - \",0,1)","v":0}]
[{"$f":"strlook!A4","v":104},{"$f":"IF(LEFT(strlook!B4,16)=\"Missing Field - \",0,1)","v":0}]
[{"$f":"strlook!A5","v":105},{"$f":"IF(LEFT(strlook!B5,16)=\"Missing Field - \",0,1)","v":0}]
[{"$f":"strlook!A6","v":106},{"$f":"IF(LEFT(strlook!B6,16)=\"Missing Field - \",0,1)","v":0}]
[{"$f":"strlook!A7","v":107},{"$f":"IF(LEFT(strlook!B7,16)=\"Missing Field - \",0,1)","v":0}]
[{"$f":"strlook!A8","v":108},{"$f":"IF(LEFT(strlook!B8,16)=\"Missing Field - \",0,1)","v":1}]
[{"$f":"strlook!A9","v":109},{"$f":"IF(LEFT(strlook!B9,16)=\"Missing Field - \",0,1)","v":1}]
[{"$f":"strlook!A10","v":110},{"$f":"IF(LEFT(strlook!B10,16)=\"Missing Field - \",0,1)","v":1}]
[{"$f":"strlook!A11","v":111},{"$f":"IF(LEFT(strlook!B11,16)=\"Missing Field - \",0,1)","v":0}]
[{"$f":"strlook!A12","v":112},{"$f":"IF(LEFT(strlook!B12,16)=\"Missing Field - \",0,1)","v":1}]
[{"$f":"strlook!A13","v":113},{"$f":"IF(LEFT(strlook!B13,16)=\"Missing Field - \",0,1)","v":1}]
[{"$f":"strlook!A14","v":114},{"$f":"IF(LEFT(strlook!B14,16)=\"Missing Field - \",0,1)","v":1}]
[{"$f":"strlook!A15","v":115},{"$f":"IF(INDIRECT(\"'q&a'!F\"&C15,1),1,0)","v":0},15]
[{"$f":"strlook!A16","v":116},{"$f":"B15","v":0}]
[{"$f":"strlook!A17","v":117},{"$f":"IF(INDIRECT(\"'q&a'!F\"&C17,1),1,0)","v":0},{"$f":"C15+1","v":16}]
[{"$f":"strlook!A18","v":118},{"$f":"B17","v":0}]
[{"$f":"strlook!A19","v":119},{"$f":"IF(INDIRECT(\"'q&a'!F\"&C19,1),1,0)","v":0},{"$f":"C17+1","v":17}]
[{"$f":"strlook!A20","v":120},{"$f":"B19","v":0}]
[{"$f":"strlook!A21","v":121},{"$f":"IF(INDIRECT(\"'q&a'!F\"&C21,1),1,0)","v":0},18]
[{"$f":"strlook!A22","v":122},{"$f":"B21","v":0}]
[{"$f":"strlook!A23","v":123},{"$f":"IF(INDIRECT(\"'q&a'!F\"&C23,1),1,0)","v":0},19]
[{"$f":"strlook!A24","v":124},{"$f":"B23","v":0}]
[{"$f":"strlook!A25","v":125},{"$f":"IF(INDIRECT(\"'q&a'!F\"&C25,1),1,0)","v":0},20]
[{"$f":"strlook!A26","v":126},{"$f":"B25","v":0}]
[{"$f":"strlook!A27","v":127},{"$f":"IF(INDIRECT(\"'q&a'!F\"&C27,1),1,0)","v":0},21]
[{"$f":"strlook!A28","v":128},{"$f":"B27","v":0}]
[{"$f":"strlook!A29","v":129},{"$f":"IF(INDIRECT(\"'q&a'!F\"&C29,1),1,0)","v":0},22]
[{"$f":"strlook!A30","v":130},{"$f":"B29","v":0}]
[{"$f":"strlook!A31","v":131},{"$f":"IF(INDIRECT(\"'q&a'!F\"&C31,1),1,0)","v":0},23]
[{"$f":"strlook!A32","v":132},{"$f":"B31","v":0}]
[{"$f":"strlook!A33","v":133},{"$f":"IF(LEFT(strlook!B33,16)=\"Missing Field - \",0,1)","v":0}]
[{"$f":"strlook!A34","v":134},{"$f":"IF(LEFT(strlook!B34,16)=\"Missing Field - \",0,1)","v":1}]
[{"$f":"strlook!A35","v":135},{"$f":"IF(LEFT(strlook!B35,16)=\"Missing Field - \",0,1)","v":1}]
[{"$f":"strlook!A36","v":136},{"$f":"IF(LEFT(strlook!B36,16)=\"Missing Field - \",0,1)","v":0}]
[{"$f":"strlook!A37","v":137},{"$f":"IF(LEFT(strlook!B37,16)=\"Missing Field - \",0,1)","v":0}]
[{"$f":"strlook!A38","v":138},{"$f":"IF(LEFT(strlook!B38,16)=\"Missing Field - \",0,1)","v":1}]
[{"$f":"strlook!A39","v":139},{"$f":"IF(LEFT(strlook!B39,16)=\"Missing Field - \",0,1)","v":1}]
[{"$f":"strlook!A40","v":140},{"$f":"IF(LEFT(strlook!B40,16)=\"Missing Field - \",0,1)","v":1}]
[{"$f":"strlook!A41","v":141},{"$f":"IF(LEFT(strlook!B41,16)=\"Missing Field - \",0,1)","v":1}]
[{"$f":"strlook!A42","v":142},{"$f":"IF(LEFT(strlook!B42,16)=\"Missing Field - \",0,1)","v":1}]
[{"$f":"strlook!A43","v":143},{"$f":"IF(LEFT(strlook!B43,16)=\"Missing Field - \",0,1)","v":1}]
[{"$f":"strlook!A44","v":144},{"$f":"IF(LEFT(strlook!B44,16)=\"Missing Field - \",0,1)","v":1}]
[{"$f":"strlook!A45","v":145},{"$f":"IF(LEFT(strlook!B45,16)=\"Missing Field - \",0,1)","v":1}]
[{"$f":"strlook!A46","v":146},{"$f":"IF(LEFT(strlook!B46,16)=\"Missing Field - \",0,1)","v":1}]
[{"$f":"strlook!A47","v":147},{"$f":"IF(LEFT(strlook!B47,16)=\"Missing Field - \",0,1)","v":1}]
[{"$f":"strlook!A48","v":148},{"$f":"IF(LEFT(strlook!B48,16)=\"Missing Field - \",0,1)","v":1}]
[{"$f":"strlook!A49","v":149},{"$f":"IF(LEFT(strlook!B49,16)=\"Missing Field - \",0,1)","v":1}]
[{"$f":"strlook!A50","v":150},{"$f":"IF(LEFT(strlook!B50,16)=\"Missing Field - \",0,1)","v":1}]
[{"$f":"strlook!A51","v":151},{"$f":"IF(LEFT(strlook!B51,16)=\"Missing Field - \",0,1)","v":1}]
[{"$f":"strlook!A52","v":152},{"$f":"IF(LEFT(strlook!B52,16)=\"Missing Field - \",0,1)","v":1}]
[{"$f":"strlook!A53","v":153},{"$f":"IF(INDIRECT(\"'q&a'!F\"&C53,1),1,0)","v":0},44]
[{"$f":"strlook!A54","v":154},{"$f":"B53","v":0}]
[{"$f":"strlook!A55","v":155},{"$f":"IF(INDIRECT(\"'q&a'!F\"&C55,1),1,0)","v":0},{"$f":"C53+1","v":45}]
[{"$f":"strlook!A56","v":156},{"$f":"B55","v":0}]
[{"$f":"strlook!A57","v":157},{"$f":"IF(INDIRECT(\"'q&a'!F\"&C57,1),1,0)","v":0},{"$f":"C55+1","v":46}]
[{"$f":"strlook!A58","v":158},{"$f":"B57","v":0}]
[{"$f":"strlook!A59","v":159},{"$f":"IF(INDIRECT(\"'q&a'!F\"&C59,1),1,0)","v":0},47]
[{"$f":"strlook!A60","v":160},{"$f":"B59","v":0}]
[{"$f":"strlook!A61","v":161},{"$f":"IF(INDIRECT(\"'q&a'!F\"&C61,1),1,0)","v":0},48]
[{"$f":"strlook!A62","v":162},{"$f":"B61","v":0}]
[{"$f":"strlook!A63","v":163},{"$f":"IF(INDIRECT(\"'q&a'!F\"&C63,1),1,0)","v":0},49]
[{"$f":"strlook!A64","v":164},{"$f":"B63","v":0}]
[{"$f":"strlook!A65","v":165},{"$f":"IF(INDIRECT(\"'q&a'!F\"&C65,1),1,0)","v":0},50]
[{"$f":"strlook!A66","v":166},{"$f":"B65","v":0}]
[{"$f":"strlook!A67","v":167},{"$f":"IF(INDIRECT(\"'q&a'!F\"&C67,1),1,0)","v":0},51]
[{"$f":"strlook!A68","v":168},{"$f":"B67","v":0}]
[{"$f":"strlook!A69","v":169},{"$f":"IF(INDIRECT(\"'q&a'!F\"&C69,1),1,0)","v":0},52]
[{"$f":"strlook!A70","v":170},{"$f":"B69","v":0}]
[{"$f":"strlook!A71","v":171},{"$f":"IF(INDIRECT(\"'q&a'!F\"&C71,1),1,0)","v":0},53]
[{"$f":"strlook!A72","v":172},{"$f":"B71","v":0}]
[{"$f":"strlook!A73","v":173},{"$f":"IF(INDIRECT(\"'q&a'!F\"&C73,1),1,0)","v":0},{"$f":"C71+1","v":54}]
[{"$f":"strlook!A74","v":174},{"$f":"B73","v":0}]
[{"$f":"strlook!A75","v":175},{"$f":"IF(INDIRECT(\"'q&a'!F\"&C75,1),1,0)","v":0},{"$f":"C73+1","v":55}]
[{"$f":"strlook!A76","v":176},{"$f":"B75","v":0}]
[{"$f":"strlook!A77","v":177},{"$f":"IF(INDIRECT(\"'q&a'!F\"&C77,1),1,0)","v":0},56]
[{"$f":"strlook!A78","v":178},{"$f":"B77","v":0}]
[{"$f":"strlook!A79","v":179},{"$f":"IF(INDIRECT(\"'q&a'!F\"&C79,1),1,0)","v":0},57]
[{"$f":"strlook!A80","v":180},{"$f":"B79","v":0}]
[{"$f":"strlook!A81","v":181},{"$f":"IF(INDIRECT(\"'q&a'!F\"&C81,1),1,0)","v":0},58]
[{"$f":"strlook!A82","v":182},{"$f":"B81","v":0}]
[{"$f":"strlook!A83","v":183},{"$f":"IF(INDIRECT(\"'q&a'!F\"&C83,1),1,0)","v":0},59]
[{"$f":"strlook!A84","v":184},{"$f":"B83","v":0}]
[{"$f":"strlook!A85","v":185},{"$f":"IF(INDIRECT(\"'q&a'!F\"&C85,1),1,0)","v":0},60]
[{"$f":"strlook!A86","v":186},{"$f":"B85","v":0}]
[{"$f":"strlook!A87","v":187},{"$f":"IF(INDIRECT(\"'q&a'!F\"&C87,1),1,0)","v":0},61]
[{"$f":"strlook!A88","v":188},{"$f":"B87","v":0}]
[{"$f":"strlook!A89","v":189},{"$f":"IF(LEFT(strlook!B89,16)=\"Missing Field - \",0,1)","v":1}]
[{"$f":"strlook!A90","v":190},{"$f":"IF(LEFT(strlook!B90,16)=\"Missing Field - \",0,1)","v":1}]
[{"$f":"strlook!A91","v":191},{"$f":"IF(LEFT(strlook!B91,16)=\"Missing Field - \",0,1)","v":0}]
[{"$f":"strlook!A92","v":192},{"$f":"IF(LEFT(strlook!B92,16)=\"Missing Field - \",0,1)","v":0}]
[{"$f":"strlook!A93","v":193},{"$f":"IF(LEFT(strlook!B93,16)=\"Missing Field - \",0,1)","v":0}]
[{"$f":"strlook!A94","v":194},{"$f":"IF(LEFT(strlook!B94,16)=\"Missing Field - \",0,1)","v":0}]
[{"$f":"strlook!A95","v":195},{"$f":"IF(LEFT(strlook!B95,16)=\"Missing Field - \",0,1)","v":0}]
[{"$f":"strlook!A96","v":196},{"$f":"IF(LEFT(strlook!B96,16)=\"Missing Field - \",0,1)","v":0}]
[{"$f":"strlook!A97","v":197},{"$f":"IF(LEFT(strlook!B97,16)=\"Missing Field - \",0,1)","v":0}]
[{"$f":"strlook!A98","v":198},{"$f":"IF(LEFT(strlook!B98,16)=\"Missing Field - \",0,1)","v":0}]
[{"$f":"strlook!A99","v":199},{"$f":"IF(LEFT(strlook!B99,16)=\"Missing Field - \",0,1)","v":0}]
[{"$f":"strlook!A100","v":200},{"$f":"IF(LEFT(strlook!B100,16)=\"Missing Field - \",0,1)","v":0}]
[{"$f":"strlook!A101","v":201},{"$f":"IF(LEFT(strlook!B101,16)=\"Missing Field - \",0,1)","v":0}]
[{"$f":"strlook!A102","v":202},{"$f":"IF(LEFT(strlook!B102,16)=\"Missing Field - \",0,1)","v":0}]
[{"$f":"strlook!A103","v":203},{"$f":"IF(LEFT(strlook!B103,16)=\"Missing Field - \",0,1)","v":0}]
[{"$f":"strlook!A104","v":204},{"$f":"IF(LEFT(strlook!B104,16)=\"Missing Field - \",0,1)","v":0}]
[{"$f":"strlook!A105","v":205},{"$f":"IF(LEFT(strlook!B105,16)=\"Missing Field - \",0,1)","v":0}]
[{"$f":"strlook!A106","v":206},{"$f":"IF(LEFT(strlook!B106,16)=\"Missing Field - \",0,1)","v":0}]
[{"$f":"strlook!A107","v":207},{"$f":"IF(LEFT(strlook!B107,16)=\"Missing Field - \",0,1)","v":0}]
[{"$f":"strlook!A108","v":208},{"$f":"IF(LEFT(strlook!B108,16)=\"Missing Field - \",0,1)","v":0}]
[{"$f":"strlook!A109","v":209},{"$f":"IF(LEFT(strlook!B109,16)=\"Missing Field - \",0,1)","v":0}]
[{"$f":"strlook!A110","v":210},{"$f":"IF(LEFT(strlook!B110,16)=\"Missing Field - \",0,1)","v":0}]
[{"$f":"strlook!A111","v":211},{"$f":"IF(LEFT(strlook!B111,16)=\"Missing Field - \",0,1)","v":0}]
[{"$f":"strlook!A112","v":212},{"$f":"IF(LEFT(strlook!B112,16)=\"Missing Field - \",0,1)","v":0}]
[{"$f":"strlook!A113","v":213},{"$f":"IF(LEFT(strlook!B113,16)=\"Missing Field - \",0,1)","v":0}]
[{"$f":"strlook!A114","v":214},{"$f":"IF(LEFT(strlook!B114,16)=\"Missing Field - \",0,1)","v":0}]
[{"$f":"strlook!A115","v":215},{"$f":"IF(LEFT(strlook!B115,16)=\"Missing Field - \",0,1)","v":0}]
[{"$f":"strlook!A116","v":216},{"$f":"IF(LEFT(strlook!B116,16)=\"Missing Field - \",0,1)","v":0}]
[{"$f":"strlook!A117","v":217},{"$f":"IF(LEFT(strlook!B117,16)=\"Missing Field - \",0,1)","v":0}]
[{"$f":"strlook!A118","v":218},{"$f":"IF(LEFT(strlook!B118,16)=\"Missing Field - \",0,1)","v":0}]
[{"$f":"strlook!A119","v":219},{"$f":"IF(LEFT(strlook!B119,16)=\"Missing Field - \",0,1)","v":0}]
[{"$f":"strlook!A120","v":220},{"$f":"IF(LEFT(strlook!B120,16)=\"Missing Field - \",0,1)","v":0}]
[{"$f":"strlook!A121","v":221},{"$f":"IF(LEFT(strlook!B121,16)=\"Missing Field - \",0,1)","v":0}]
[{"$f":"strlook!A122","v":222},{"$f":"IF(LEFT(strlook!B122,16)=\"Missing Field - \",0,1)","v":0}]
[{"$f":"strlook!A123","v":223},{"$f":"IF(LEFT(strlook!B123,16)=\"Missing Field - \",0,1)","v":0}]
[{"$f":"strlook!A124","v":224},{"$f":"IF(LEFT(strlook!B124,16)=\"Missing Field - \",0,1)","v":0}]
[{"$f":"strlook!A125","v":225},{"$f":"IF(LEFT(strlook!B125,16)=\"Missing Field - \",0,1)","v":0}]
[{"$f":"strlook!A126","v":226},{"$f":"IF(LEFT(strlook!B126,16)=\"Missing Field - \",0,1)","v":0}]
[{"$f":"strlook!A127","v":227},{"$f":"IF(LEFT(strlook!B127,16)=\"Missing Field - \",0,1)","v":0}]
[{"$f":"strlook!A128","v":228},{"$f":"IF(LEFT(strlook!B128,16)=\"Missing Field - \",0,1)","v":0}]
[{"$f":"strlook!A129","v":229},{"$f":"IF(LEFT(strlook!B129,16)=\"Missing Field - \",0,1)","v":0}]
[{"$f":"strlook!A130","v":230},{"$f":"IF(LEFT(strlook!B130,16)=\"Missing Field - \",0,1)","v":0}]
[{"$f":"strlook!A131","v":231},{"$f":"IF(LEFT(strlook!B131,16)=\"Missing Field - \",0,1)","v":0}]
[{"$f":"strlook!A132","v":232},{"$f":"IF(LEFT(strlook!B132,16)=\"Missing Field - \",0,1)","v":0}]
[{"$f":"strlook!A133","v":233},{"$f":"IF(LEFT(strlook!B133,16)=\"Missing Field - \",0,1)","v":0}]
[{"$f":"strlook!A134","v":234},{"$f":"IF(LEFT(strlook!B134,16)=\"Missing Field - \",0,1)","v":0}]
[{"$f":"strlook!A135","v":235},{"$f":"IF(LEFT(strlook!B135,16)=\"Missing Field - \",0,1)","v":0}]
[{"$f":"strlook!A136","v":236},{"$f":"IF(LEFT(strlook!B136,16)=\"Missing Field - \",0,1)","v":0}]
[{"$f":"strlook!A137","v":237},{"$f":"IF(LEFT(strlook!B137,16)=\"Missing Field - \",0,1)","v":0}]
[{"$f":"strlook!A138","v":238},{"$f":"IF(LEFT(strlook!B138,16)=\"Missing Field - \",0,1)","v":0}]
[{"$f":"strlook!A139","v":239},{"$f":"IF(LEFT(strlook!B139,16)=\"Missing Field - \",0,1)","v":0}]
[{"$f":"strlook!A140","v":240},{"$f":"IF(LEFT(strlook!B140,16)=\"Missing Field - \",0,1)","v":0}]
[{"$f":"strlook!A141","v":241},{"$f":"IF(LEFT(strlook!B141,16)=\"Missing Field - \",0,1)","v":0}]
[{"$f":"strlook!A142","v":242},{"$f":"IF(LEFT(strlook!B142,16)=\"Missing Field - \",0,1)","v":0}]
[{"$f":"strlook!A143","v":243},{"$f":"IF(LEFT(strlook!B143,16)=\"Missing Field - \",0,1)","v":0}]
[{"$f":"strlook!A144","v":244},{"$f":"IF(LEFT(strlook!B144,16)=\"Missing Field - \",0,1)","v":0}]
[{"$f":"strlook!A145","v":245},{"$f":"IF(LEFT(strlook!B145,16)=\"Missing Field - \",0,1)","v":0}]
[{"$f":"strlook!A146","v":246},{"$f":"IF(LEFT(strlook!B146,16)=\"Missing Field - \",0,1)","v":0}]
[{"$f":"strlook!A147","v":247},{"$f":"IF(LEFT(strlook!B147,16)=\"Missing Field - \",0,1)","v":0}]
[{"$f":"strlook!A148","v":248},{"$f":"IF(LEFT(strlook!B148,16)=\"Missing Field - \",0,1)","v":0}]
[{"$f":"strlook!A149","v":249},{"$f":"IF(LEFT(strlook!B149,16)=\"Missing Field - \",0,1)","v":0}]
[{"$f":"strlook!A150","v":250},{"$f":"IF(LEFT(strlook!B150,16)=\"Missing Field - \",0,1)","v":0}]
[{"$f":"strlook!A151","v":251},{"$f":"IF(LEFT(strlook!B151,16)=\"Missing Field - \",0,1)","v":0}]
[{"$f":"strlook!A152","v":252},{"$f":"IF(LEFT(strlook!B152,16)=\"Missing Field - \",0,1)","v":0}]
[{"$f":"strlook!A153","v":253},{"$f":"IF(LEFT(strlook!B153,16)=\"Missing Field - \",0,1)","v":0}]
[{"$f":"strlook!A154","v":254},{"$f":"IF(LEFT(strlook!B154,16)=\"Missing Field - \",0,1)","v":0}]
[{"$f":"strlook!A155","v":255},{"$f":"IF(LEFT(strlook!B155,16)=\"Missing Field - \",0,1)","v":0}]
[{"$f":"strlook!A156","v":256},{"$f":"IF(LEFT(strlook!B156,16)=\"Missing Field - \",0,1)","v":0}]
[{"$f":"strlook!A157","v":257},{"$f":"IF(LEFT(strlook!B157,16)=\"Missing Field - \",0,1)","v":0}]
[{"$f":"strlook!A158","v":258},{"$f":"IF(LEFT(strlook!B158,16)=\"Missing Field - \",0,1)","v":0}]
[{"$f":"strlook!A159","v":259},{"$f":"IF(LEFT(strlook!B159,16)=\"Missing Field - \",0,1)","v":0}]
[{"$f":"strlook!A160","v":260},{"$f":"IF(LEFT(strlook!B160,16)=\"Missing Field - \",0,1)","v":0}]
[{"$f":"strlook!A161","v":261},{"$f":"IF(LEFT(strlook!B161,16)=\"Missing Field - \",0,1)","v":0}]
[{"$f":"strlook!A162","v":262},{"$f":"IF(LEFT(strlook!B162,16)=\"Missing Field - \",0,1)","v":0}]
[{"$f":"strlook!A163","v":263},{"$f":"IF(LEFT(strlook!B163,16)=\"Missing Field - \",0,1)","v":0}]
[{"$f":"strlook!A164","v":264},{"$f":"IF(LEFT(strlook!B164,16)=\"Missing Field - \",0,1)","v":0}]
[{"$f":"strlook!A165","v":265},{"$f":"IF(LEFT(strlook!B165,16)=\"Missing Field - \",0,1)","v":0}]
[{"$f":"strlook!A166","v":266},{"$f":"IF(LEFT(strlook!B166,16)=\"Missing Field - \",0,1)","v":0}]
[{"$f":"strlook!A167","v":267},{"$f":"IF(LEFT(strlook!B167,16)=\"Missing Field - \",0,1)","v":0}]
[{"$f":"strlook!A168","v":268},{"$f":"IF(LEFT(strlook!B168,16)=\"Missing Field - \",0,1)","v":0}]
[{"$f":"strlook!A169","v":269},{"$f":"IF(LEFT(strlook!B169,16)=\"Missing Field - \",0,1)","v":0}]
[{"$f":"strlook!A170","v":270},{"$f":"IF(LEFT(strlook!B170,16)=\"Missing Field - \",0,1)","v":0}]
[{"$f":"strlook!A171","v":271},{"$f":"IF(LEFT(strlook!B171,16)=\"Missing Field - \",0,1)","v":0}]
[{"$f":"strlook!A172","v":272},{"$f":"IF(LEFT(strlook!B172,16)=\"Missing Field - \",0,1)","v":0}]
[{"$f":"strlook!A173","v":273},{"$f":"IF(LEFT(strlook!B173,16)=\"Missing Field - \",0,1)","v":0}]
[{"$f":"strlook!A174","v":274},{"$f":"IF(LEFT(strlook!B174,16)=\"Missing Field - \",0,1)","v":0}]
[{"$f":"strlook!A175","v":275},{"$f":"IF(LEFT(strlook!B175,16)=\"Missing Field - \",0,1)","v":0}]
[{"$f":"strlook!A176","v":276},{"$f":"IF(LEFT(strlook!B176,16)=\"Missing Field - \",0,1)","v":0}]
[{"$f":"strlook!A177","v":277},{"$f":"IF(LEFT(strlook!B177,16)=\"Missing Field - \",0,1)","v":0}]
[{"$f":"strlook!A178","v":278},{"$f":"IF(LEFT(strlook!B178,16)=\"Missing Field - \",0,1)","v":0}]
[{"$f":"strlook!A179","v":279},{"$f":"IF(LEFT(strlook!B179,16)=\"Missing Field - \",0,1)","v":0}]
[{"$f":"strlook!A180","v":280},{"$f":"IF(LEFT(strlook!B180,16)=\"Missing Field - \",0,1)","v":0}]
[{"$f":"strlook!A181","v":281},{"$f":"IF(LEFT(strlook!B181,16)=\"Missing Field - \",0,1)","v":0}]
[{"$f":"strlook!A182","v":282},{"$f":"IF(LEFT(strlook!B182,16)=\"Missing Field - \",0,1)","v":0}]
[{"$f":"strlook!A183","v":283},{"$f":"IF(LEFT(strlook!B183,16)=\"Missing Field - \",0,1)","v":0}]
[{"$f":"strlook!A184","v":284},{"$f":"IF(LEFT(strlook!B184,16)=\"Missing Field - \",0,1)","v":0}]
[{"$f":"strlook!A185","v":285},{"$f":"IF(LEFT(strlook!B185,16)=\"Missing Field - \",0,1)","v":0}]
[{"$f":"strlook!A186","v":286},{"$f":"IF(LEFT(strlook!B186,16)=\"Missing Field - \",0,1)","v":0}]
[{"$f":"strlook!A187","v":287},{"$f":"IF(LEFT(strlook!B187,16)=\"Missing Field - \",0,1)","v":0}]
[{"$f":"strlook!A188","v":288},{"$f":"IF(LEFT(strlook!B188,16)=\"Missing Field - \",0,1)","v":0}]
[{"$f":"strlook!A189","v":289},{"$f":"IF(LEFT(strlook!B189,16)=\"Missing Field - \",0,1)","v":0}]
[{"$f":"strlook!A190","v":290},{"$f":"IF(LEFT(strlook!B190,16)=\"Missing Field - \",0,1)","v":0}]
[{"$f":"strlook!A191","v":291},{"$f":"IF(LEFT(strlook!B191,16)=\"Missing Field - \",0,1)","v":0}]
[{"$f":"strlook!A192","v":292},{"$f":"IF(LEFT(strlook!B192,16)=\"Missing Field - \",0,1)","v":0}]
[{"$f":"strlook!A193","v":293},{"$f":"IF(LEFT(strlook!B193,16)=\"Missing Field - \",0,1)","v":0}]
[{"$f":"strlook!A194","v":294},{"$f":"IF(LEFT(strlook!B194,16)=\"Missing Field - \",0,1)","v":0}]
[{"$f":"strlook!A195","v":295},{"$f":"IF(LEFT(strlook!B195,16)=\"Missing Field - \",0,1)","v":0}]
[{"$f":"strlook!A196","v":296},{"$f":"IF(LEFT(strlook!B196,16)=\"Missing Field - \",0,1)","v":0}]
[{"$f":"strlook!A197","v":297},{"$f":"IF(LEFT(strlook!B197,16)=\"Missing Field - \",0,1)","v":0}]
[{"$f":"strlook!A198","v":298},{"$f":"IF(LEFT(strlook!B198,16)=\"Missing Field - \",0,1)","v":0}]
[{"$f":"strlook!A199","v":299},{"$f":"IF(LEFT(strlook!B199,16)=\"Missing Field - \",0,1)","v":0}]
[{"$f":"strlook!A200","v":300},{"$f":"IF(LEFT(strlook!B200,16)=\"Missing Field - \",0,1)","v":0}]
[{"$f":"strlook!A201","v":301},{"$f":"IF(LEFT(strlook!B201,16)=\"Missing Field - \",0,1)","v":0}]
[{"$f":"strlook!A202","v":302},{"$f":"IF(LEFT(strlook!B202,16)=\"Missing Field - \",0,1)","v":0}]
[{"$f":"strlook!A203","v":303},{"$f":"IF(LEFT(strlook!B203,16)=\"Missing Field - \",0,1)","v":0}]
[{"$f":"strlook!A204","v":304},{"$f":"IF(LEFT(strlook!B204,16)=\"Missing Field - \",0,1)","v":0}]
[{"$f":"strlook!A205","v":305},{"$f":"IF(LEFT(strlook!B205,16)=\"Missing Field - \",0,1)","v":0}]
[{"$f":"strlook!A206","v":306},{"$f":"IF(LEFT(strlook!B206,16)=\"Missing Field - \",0,1)","v":0}]
[{"$f":"strlook!A207","v":307},{"$f":"IF(LEFT(strlook!B207,16)=\"Missing Field - \",0,1)","v":0}]
[{"$f":"strlook!A208","v":308},{"$f":"IF(LEFT(strlook!B208,16)=\"Missing Field - \",0,1)","v":0}]
[{"$f":"strlook!A209","v":309},{"$f":"IF(LEFT(strlook!B209,16)=\"Missing Field - \",0,1)","v":0}]
[{"$f":"strlook!A210","v":310},{"$f":"IF(LEFT(strlook!B210,16)=\"Missing Field - \",0,1)","v":0}]
[{"$f":"strlook!A211","v":311},{"$f":"IF(LEFT(strlook!B211,16)=\"Missing Field - \",0,1)","v":0}]
[{"$f":"strlook!A212","v":312},{"$f":"IF(LEFT(strlook!B212,16)=\"Missing Field - \",0,1)","v":0}]
[{"$f":"strlook!A213","v":313},{"$f":"IF(LEFT(strlook!B213,16)=\"Missing Field - \",0,1)","v":0}]
[{"$f":"strlook!A214","v":314},{"$f":"IF(LEFT(strlook!B214,16)=\"Missing Field - \",0,1)","v":0}]
[{"$f":"strlook!A215","v":315},{"$f":"IF(LEFT(strlook!B215,16)=\"Missing Field - \",0,1)","v":0}]
[{"$f":"strlook!A216","v":316},{"$f":"IF(LEFT(strlook!B216,16)=\"Missing Field - \",0,1)","v":0}]
[{"$f":"strlook!A217","v":317},{"$f":"IF(LEFT(strlook!B217,16)=\"Missing Field - \",0,1)","v":0}]
[{"$f":"strlook!A218","v":318},{"$f":"IF(LEFT(strlook!B218,16)=\"Missing Field - \",0,1)","v":0}]
[{"$f":"strlook!A219","v":319},{"$f":"IF(LEFT(strlook!B219,16)=\"Missing Field - \",0,1)","v":0}]
[{"$f":"strlook!A220","v":320},{"$f":"IF(LEFT(strlook!B220,16)=\"Missing Field - \",0,1)","v":0}]
[{"$f":"strlook!A221","v":321},{"$f":"IF(LEFT(strlook!B221,16)=\"Missing Field - \",0,1)","v":0}]
[{"$f":"strlook!A222","v":322},{"$f":"IF(LEFT(strlook!B222,16)=\"Missing Field - \",0,1)","v":0}]
[{"$f":"strlook!A223","v":323},{"$f":"IF(LEFT(strlook!B223,16)=\"Missing Field - \",0,1)","v":0}]
[{"$f":"strlook!A224","v":324},{"$f":"IF(LEFT(strlook!B224,16)=\"Missing Field - \",0,1)","v":0}]
[{"$f":"strlook!A225","v":325},{"$f":"IF(LEFT(strlook!B225,16)=\"Missing Field - \",0,1)","v":0}]
[{"$f":"strlook!A226","v":326},{"$f":"IF(LEFT(strlook!B226,16)=\"Missing Field - \",0,1)","v":0}]
[{"$f":"strlook!A227","v":327},{"$f":"IF(LEFT(strlook!B227,16)=\"Missing Field - \",0,1)","v":0}]
[{"$f":"strlook!A228","v":328},{"$f":"IF(LEFT(strlook!B228,16)=\"Missing Field - \",0,1)","v":0}]
[{"$f":"strlook!A229","v":329},{"$f":"IF(LEFT(strlook!B229,16)=\"Missing Field - \",0,1)","v":0}]
[{"$f":"strlook!A230","v":330},{"$f":"IF(LEFT(strlook!B230,16)=\"Missing Field - \",0,1)","v":0}]
[{"$f":"strlook!A231","v":331},{"$f":"IF(LEFT(strlook!B231,16)=\"Missing Field - \",0,1)","v":0}]
[{"$f":"strlook!A232","v":332},{"$f":"IF(LEFT(strlook!B232,16)=\"Missing Field - \",0,1)","v":0}]
[{"$f":"strlook!A233","v":333},{"$f":"IF(LEFT(strlook!B233,16)=\"Missing Field - \",0,1)","v":0}]
[{"$f":"strlook!A234","v":334},{"$f":"IF(LEFT(strlook!B234,16)=\"Missing Field - \",0,1)","v":0}]
[{"$f":"strlook!A235","v":335},{"$f":"IF(LEFT(strlook!B235,16)=\"Missing Field - \",0,1)","v":0}]
[{"$f":"strlook!A236","v":336},{"$f":"IF(LEFT(strlook!B236,16)=\"Missing Field - \",0,1)","v":0}]
[{"$f":"strlook!A237","v":337},{"$f":"IF(LEFT(strlook!B237,16)=\"Missing Field - \",0,1)","v":0}]
[{"$f":"strlook!A238","v":338},{"$f":"IF(LEFT(strlook!B238,16)=\"Missing Field - \",0,1)","v":0}]
[{"$f":"strlook!A239","v":339},{"$f":"IF(LEFT(strlook!B239,16)=\"Missing Field - \",0,1)","v":0}]
[{"$f":"strlook!A240","v":340},{"$f":"IF(LEFT(strlook!B240,16)=\"Missing Field - \",0,1)","v":0}]
[{"$f":"strlook!A241","v":341},{"$f":"IF(LEFT(strlook!B241,16)=\"Missing Field - \",0,1)","v":0}]
[{"$f":"strlook!A242","v":342},{"$f":"IF(LEFT(strlook!B242,16)=\"Missing Field - \",0,1)","v":0}]
[{"$f":"strlook!A243","v":343},{"$f":"IF(LEFT(strlook!B243,16)=\"Missing Field - \",0,1)","v":0}]
[{"$f":"strlook!A244","v":344},{"$f":"IF(LEFT(strlook!B244,16)=\"Missing Field - \",0,1)","v":0}]
[{"$f":"strlook!A245","v":345},{"$f":"IF(LEFT(strlook!B245,16)=\"Missing Field - \",0,1)","v":0}]
[{"$f":"strlook!A246","v":346},{"$f":"IF(LEFT(strlook!B246,16)=\"Missing Field - \",0,1)","v":0}]
[{"$f":"strlook!A247","v":347},{"$f":"IF(LEFT(strlook!B247,16)=\"Missing Field - \",0,1)","v":0}]
[{"$f":"strlook!A248","v":348},{"$f":"IF(LEFT(strlook!B248,16)=\"Missing Field - \",0,1)","v":0}]
[{"$f":"strlook!A249","v":349},{"$f":"IF(LEFT(strlook!B249,16)=\"Missing Field - \",0,1)","v":0}]
[{"$f":"strlook!A250","v":350},{"$f":"IF(LEFT(strlook!B250,16)=\"Missing Field - \",0,1)","v":0}]
[{"$f":"strlook!A251","v":351},{"$f":"IF(LEFT(strlook!B251,16)=\"Missing Field - \",0,1)","v":0}]
[{"$f":"strlook!A252","v":352},{"$f":"IF(LEFT(strlook!B252,16)=\"Missing Field - \",0,1)","v":0}]
[{"$f":"strlook!A253","v":353},{"$f":"IF(LEFT(strlook!B253,16)=\"Missing Field - \",0,1)","v":0}]
[{"$f":"strlook!A254","v":354},{"$f":"IF(LEFT(strlook!B254,16)=\"Missing Field - \",0,1)","v":0}]
[{"$f":"strlook!A255","v":355},{"$f":"IF(LEFT(strlook!B255,16)=\"Missing Field - \",0,1)","v":0}]
[{"$f":"strlook!A256","v":356},{"$f":"IF(LEFT(strlook!B256,16)=\"Missing Field - \",0,1)","v":0}]
[{"$f":"strlook!A257","v":357},{"$f":"IF(LEFT(strlook!B257,16)=\"Missing Field - \",0,1)","v":0}]
[{"$f":"strlook!A258","v":358},{"$f":"IF(LEFT(strlook!B258,16)=\"Missing Field - \",0,1)","v":0}]
[{"$f":"strlook!A259","v":359},{"$f":"IF(LEFT(strlook!B259,16)=\"Missing Field - \",0,1)","v":0}]
[{"$f":"strlook!A260","v":360},{"$f":"IF(LEFT(strlook!B260,16)=\"Missing Field - \",0,1)","v":0}]
[{"$f":"strlook!A261","v":361},{"$f":"IF(LEFT(strlook!B261,16)=\"Missing Field - \",0,1)","v":0}]
[{"$f":"strlook!A262","v":362},{"$f":"IF(LEFT(strlook!B262,16)=\"Missing Field - \",0,1)","v":0}]
[{"$f":"strlook!A263","v":363},{"$f":"IF(LEFT(strlook!B263,16)=\"Missing Field - \",0,1)","v":0}]
[{"$f":"strlook!A264","v":364},{"$f":"IF(LEFT(strlook!B264,16)=\"Missing Field - \",0,1)","v":0}]
[{"$f":"strlook!A265","v":365},{"$f":"IF(LEFT(strlook!B265,16)=\"Missing Field - \",0,1)","v":0}]
[{"$f":"strlook!A266","v":366},{"$f":"IF(LEFT(strlook!B266,16)=\"Missing Field - \",0,1)","v":0}]
[{"$f":"strlook!A267","v":367},{"$f":"IF(LEFT(strlook!B267,16)=\"Missing Field - \",0,1)","v":0}]
[{"$f":"strlook!A268","v":368},{"$f":"IF(LEFT(strlook!B268,16)=\"Missing Field - \",0,1)","v":0}]
[{"$f":"strlook!A269","v":369},{"$f":"IF(LEFT(strlook!B269,16)=\"Missing Field - \",0,1)","v":0}]
[{"$f":"strlook!A270","v":370},{"$f":"IF(LEFT(strlook!B270,16)=\"Missing Field - \",0,1)","v":0}]
[{"$f":"strlook!A271","v":371},{"$f":"IF(LEFT(strlook!B271,16)=\"Missing Field - \",0,1)","v":0}]
[{"$f":"strlook!A272","v":372},{"$f":"IF(LEFT(strlook!B272,16)=\"Missing Field - \",0,1)","v":0}]
[{"$f":"strlook!A273","v":373},{"$f":"IF(LEFT(strlook!B273,16)=\"Missing Field - \",0,1)","v":0}]
[{"$f":"strlook!A274","v":374},{"$f":"IF(LEFT(strlook!B274,16)=\"Missing Field - \",0,1)","v":0}]
[{"$f":"strlook!A275","v":375},{"$f":"IF(LEFT(strlook!B275,16)=\"Missing Field - \",0,1)","v":0}]
[{"$f":"strlook!A276","v":376},{"$f":"IF(LEFT(strlook!B276,16)=\"Missing Field - \",0,1)","v":0}]
[{"$f":"strlook!A277","v":377},{"$f":"IF(LEFT(strlook!B277,16)=\"Missing Field - \",0,1)","v":0}]
[{"$f":"strlook!A278","v":378},{"$f":"IF(LEFT(strlook!B278,16)=\"Missing Field - \",0,1)","v":0}]
[{"$f":"strlook!A279","v":379},{"$f":"IF(LEFT(strlook!B279,16)=\"Missing Field - \",0,1)","v":0}]
[{"$f":"strlook!A280","v":380},{"$f":"IF(LEFT(strlook!B280,16)=\"Missing Field - \",0,1)","v":0}]
[{"$f":"strlook!A281","v":381},{"$f":"IF(LEFT(strlook!B281,16)=\"Missing Field - \",0,1)","v":0}]
[{"$f":"strlook!A282","v":382},{"$f":"IF(LEFT(strlook!B282,16)=\"Missing Field - \",0,1)","v":0}]
[{"$f":"strlook!A283","v":383},{"$f":"IF(LEFT(strlook!B283,16)=\"Missing Field - \",0,1)","v":0}]
[{"$f":"strlook!A284","v":384},{"$f":"IF(LEFT(strlook!B284,16)=\"Missing Field - \",0,1)","v":0}]
[{"$f":"strlook!A285","v":385},{"$f":"IF(LEFT(strlook!B285,16)=\"Missing Field - \",0,1)","v":0}]
[{"$f":"strlook!A286","v":386},{"$f":"IF(LEFT(strlook!B286,16)=\"Missing Field - \",0,1)","v":0}]
[{"$f":"strlook!A287","v":387},{"$f":"IF(LEFT(strlook!B287,16)=\"Missing Field - \",0,1)","v":0}]
[{"$f":"strlook!A288","v":388},{"$f":"IF(LEFT(strlook!B288,16)=\"Missing Field - \",0,1)","v":0}]
[{"$f":"strlook!A289","v":389},{"$f":"IF(LEFT(strlook!B289,16)=\"Missing Field - \",0,1)","v":0}]
[{"$f":"strlook!A290","v":390},{"$f":"IF(LEFT(strlook!B290,16)=\"Missing Field - \",0,1)","v":0}]
[{"$f":"strlook!A291","v":391},{"$f":"IF(LEFT(strlook!B291,16)=\"Missing Field - \",0,1)","v":0}]
[{"$f":"strlook!A292","v":392},{"$f":"IF(LEFT(strlook!B292,16)=\"Missing Field - \",0,1)","v":0}]
[{"$f":"strlook!A293","v":393},{"$f":"IF(LEFT(strlook!B293,16)=\"Missing Field - \",0,1)","v":0}]
[{"$f":"strlook!A294","v":394},{"$f":"IF(LEFT(strlook!B294,16)=\"Missing Field - \",0,1)","v":0}]
[{"$f":"strlook!A295","v":395},{"$f":"IF(LEFT(strlook!B295,16)=\"Missing Field - \",0,1)","v":0}]
[{"$f":"strlook!A296","v":396},{"$f":"IF(LEFT(strlook!B296,16)=\"Missing Field - \",0,1)","v":0}]
[{"$f":"strlook!A297","v":397},{"$f":"IF(LEFT(strlook!B297,16)=\"Missing Field - \",0,1)","v":0}]
[{"$f":"strlook!A298","v":398},{"$f":"IF(LEFT(strlook!B298,16)=\"Missing Field - \",0,1)","v":0}]
[{"$f":"strlook!A299","v":399},{"$f":"IF(LEFT(strlook!B299,16)=\"Missing Field - \",0,1)","v":0}]
[{"$f":"strlook!A300","v":400},{"$f":"IF(LEFT(strlook!B300,16)=\"Missing Field - \",0,1)","v":0}]
[{"$f":"strlook!A301","v":401},{"$f":"IF(LEFT(strlook!B301,16)=\"Missing Field - \",0,1)","v":0}]
[{"$f":"strlook!A302","v":402},{"$f":"IF(LEFT(strlook!B302,16)=\"Missing Field - \",0,1)","v":0}]
[{"$f":"strlook!A303","v":403},{"$f":"IF(LEFT(strlook!B303,16)=\"Missing Field - \",0,1)","v":0}]
[{"$f":"strlook!A304","v":404},{"$f":"IF(LEFT(strlook!B304,16)=\"Missing Field - \",0,1)","v":0}]
[{"$f":"strlook!A305","v":405},{"$f":"IF(LEFT(strlook!B305,16)=\"Missing Field - \",0,1)","v":0}]
[{"$f":"strlook!A306","v":406},{"$f":"IF(LEFT(strlook!B306,16)=\"Missing Field - \",0,1)","v":0}]
[{"$f":"strlook!A307","v":407},{"$f":"IF(LEFT(strlook!B307,16)=\"Missing Field - \",0,1)","v":0}]
[{"$f":"strlook!A308","v":408},{"$f":"IF(LEFT(strlook!B308,16)=\"Missing Field - \",0,1)","v":0}]
[{"$f":"strlook!A309","v":409},{"$f":"IF(LEFT(strlook!B309,16)=\"Missing Field - \",0,1)","v":0}]
[{"$f":"strlook!A310","v":410},{"$f":"IF(LEFT(strlook!B310,16)=\"Missing Field - \",0,1)","v":0}]
[{"$f":"strlook!A311","v":411},{"$f":"IF(LEFT(strlook!B311,16)=\"Missing Field - \",0,1)","v":0}]
[{"$f":"strlook!A312","v":412},{"$f":"IF(LEFT(strlook!B312,16)=\"Missing Field - \",0,1)","v":0}]
[{"$f":"strlook!A313","v":413},{"$f":"IF(LEFT(strlook!B313,16)=\"Missing Field - \",0,1)","v":0}]
[{"$f":"strlook!A314","v":414},{"$f":"IF(LEFT(strlook!B314,16)=\"Missing Field - \",0,1)","v":0}]
[{"$f":"strlook!A315","v":415},{"$f":"IF(LEFT(strlook!B315,16)=\"Missing Field - \",0,1)","v":0}]
[{"$f":"strlook!A316","v":416},{"$f":"IF(LEFT(strlook!B316,16)=\"Missing Field - \",0,1)","v":0}]
[{"$f":"strlook!A317","v":417},{"$f":"IF(LEFT(strlook!B317,16)=\"Missing Field - \",0,1)","v":0}]
[{"$f":"strlook!A318","v":418},{"$f":"IF(LEFT(strlook!B318,16)=\"Missing Field - \",0,1)","v":0}]
[{"$f":"strlook!A319","v":419},{"$f":"IF(LEFT(strlook!B319,16)=\"Missing Field - \",0,1)","v":0}]
[{"$f":"strlook!A320","v":420},{"$f":"IF(LEFT(strlook!B320,16)=\"Missing Field - \",0,1)","v":0}]
[{"$f":"strlook!A321","v":421},{"$f":"IF(LEFT(strlook!B321,16)=\"Missing Field - \",0,1)","v":0}]
[{"$f":"strlook!A322","v":422},{"$f":"IF(LEFT(strlook!B322,16)=\"Missing Field - \",0,1)","v":0}]
[{"$f":"strlook!A323","v":423},{"$f":"IF(LEFT(strlook!B323,16)=\"Missing Field - \",0,1)","v":0}]
[{"$f":"strlook!A324","v":424},{"$f":"IF(LEFT(strlook!B324,16)=\"Missing Field - \",0,1)","v":0}]
[{"$f":"strlook!A325","v":425},{"$f":"IF(LEFT(strlook!B325,16)=\"Missing Field - \",0,1)","v":0}]
[{"$f":"strlook!A326","v":426},{"$f":"IF(LEFT(strlook!B326,16)=\"Missing Field - \",0,1)","v":0}]
[{"$f":"strlook!A327","v":427},{"$f":"IF(LEFT(strlook!B327,16)=\"Missing Field - \",0,1)","v":0}]
[{"$f":"strlook!A328","v":428},{"$f":"IF(LEFT(strlook!B328,16)=\"Missing Field - \",0,1)","v":0}]
[{"$f":"strlook!A329","v":429},{"$f":"IF(LEFT(strlook!B329,16)=\"Missing Field - \",0,1)","v":0}]
[{"$f":"strlook!A330","v":430},{"$f":"IF(LEFT(strlook!B330,16)=\"Missing Field - \",0,1)","v":0}]
[{"$f":"strlook!A331","v":431},{"$f":"IF(LEFT(strlook!B331,16)=\"Missing Field - \",0,1)","v":0}]
[{"$f":"strlook!A332","v":432},{"$f":"IF(LEFT(strlook!B332,16)=\"Missing Field - \",0,1)","v":0}]
[{"$f":"strlook!A333","v":433},{"$f":"IF(LEFT(strlook!B333,16)=\"Missing Field - \",0,1)","v":0}]
[{"$f":"strlook!A334","v":434},{"$f":"IF(LEFT(strlook!B334,16)=\"Missing Field - \",0,1)","v":0}]
[{"$f":"strlook!A335","v":435},{"$f":"IF(LEFT(strlook!B335,16)=\"Missing Field - \",0,1)","v":0}]
[{"$f":"strlook!A336","v":436},{"$f":"IF(LEFT(strlook!B336,16)=\"Missing Field - \",0,1)","v":0}]
[{"$f":"strlook!A337","v":437},{"$f":"IF(LEFT(strlook!B337,16)=\"Missing Field - \",0,1)","v":0}]
[{"$f":"strlook!A338","v":438},{"$f":"IF(LEFT(strlook!B338,16)=\"Missing Field - \",0,1)","v":0}]
[{"$f":"strlook!A339","v":439},{"$f":"IF(LEFT(strlook!B339,16)=\"Missing Field - \",0,1)","v":0}]
[{"$f":"strlook!A340","v":440},{"$f":"IF(LEFT(strlook!B340,16)=\"Missing Field - \",0,1)","v":0}]
[{"$f":"strlook!A341","v":441},{"$f":"IF(LEFT(strlook!B341,16)=\"Missing Field - \",0,1)","v":0}]
[{"$f":"strlook!A342","v":442},{"$f":"IF(LEFT(strlook!B342,16)=\"Missing Field - \",0,1)","v":0}]
[{"$f":"strlook!A343","v":443},{"$f":"IF(LEFT(strlook!B343,16)=\"Missing Field - \",0,1)","v":0}]
[{"$f":"strlook!A344","v":444},{"$f":"IF(LEFT(strlook!B344,16)=\"Missing Field - \",0,1)","v":0}]
[{"$f":"strlook!A345","v":445},{"$f":"IF(LEFT(strlook!B345,16)=\"Missing Field - \",0,1)","v":0}]
[{"$f":"strlook!A346","v":446},{"$f":"IF(LEFT(strlook!B346,16)=\"Missing Field - \",0,1)","v":0}]
[{"$f":"strlook!A347","v":447},{"$f":"IF(LEFT(strlook!B347,16)=\"Missing Field - \",0,1)","v":0}]
[{"$f":"strlook!A348","v":448},{"$f":"IF(LEFT(strlook!B348,16)=\"Missing Field - \",0,1)","v":0}]
[{"$f":"strlook!A349","v":449},{"$f":"IF(LEFT(strlook!B349,16)=\"Missing Field - \",0,1)","v":0}]
[{"$f":"strlook!A350","v":450},{"$f":"IF(LEFT(strlook!B350,16)=\"Missing Field - \",0,1)","v":0}]
[{"$f":"strlook!A351","v":451},{"$f":"IF(LEFT(strlook!B351,16)=\"Missing Field - \",0,1)","v":0}]
[{"$f":"strlook!A352","v":452},{"$f":"IF(LEFT(strlook!B352,16)=\"Missing Field - \",0,1)","v":0}]
[{"$f":"strlook!A353","v":453},{"$f":"IF(LEFT(strlook!B353,16)=\"Missing Field - \",0,1)","v":0}]
[{"$f":"strlook!A354","v":454},{"$f":"IF(LEFT(strlook!B354,16)=\"Missing Field - \",0,1)","v":0}]
[{"$f":"strlook!A355","v":455},{"$f":"IF(LEFT(strlook!B355,16)=\"Missing Field - \",0,1)","v":0}]
[{"$f":"strlook!A356","v":456},{"$f":"IF(LEFT(strlook!B356,16)=\"Missing Field - \",0,1)","v":0}]
[{"$f":"strlook!A357","v":457},{"$f":"IF(LEFT(strlook!B357,16)=\"Missing Field - \",0,1)","v":0}]
[{"$f":"strlook!A358","v":458},{"$f":"IF(LEFT(strlook!B358,16)=\"Missing Field - \",0,1)","v":0}]
[{"$f":"strlook!A359","v":459},{"$f":"IF(LEFT(strlook!B359,16)=\"Missing Field - \",0,1)","v":0}]
[{"$f":"strlook!A360","v":460},{"$f":"IF(LEFT(strlook!B360,16)=\"Missing Field - \",0,1)","v":0}]
[{"$f":"strlook!A361","v":461},{"$f":"IF(LEFT(strlook!B361,16)=\"Missing Field - \",0,1)","v":0}]
[{"$f":"strlook!A362","v":462},{"$f":"IF(LEFT(strlook!B362,16)=\"Missing Field - \",0,1)","v":0}]
[{"$f":"strlook!A363","v":463},{"$f":"IF(LEFT(strlook!B363,16)=\"Missing Field - \",0,1)","v":0}]
[{"$f":"strlook!A364","v":464},{"$f":"IF(LEFT(strlook!B364,16)=\"Missing Field - \",0,1)","v":0}]
[{"$f":"strlook!A365","v":465},{"$f":"IF(LEFT(strlook!B365,16)=\"Missing Field - \",0,1)","v":0}]
[{"$f":"strlook!A366","v":466},{"$f":"IF(LEFT(strlook!B366,16)=\"Missing Field - \",0,1)","v":0}]
[{"$f":"strlook!A367","v":467},{"$f":"IF(LEFT(strlook!B367,16)=\"Missing Field - \",0,1)","v":0}]
[{"$f":"strlook!A368","v":468},{"$f":"IF(LEFT(strlook!B368,16)=\"Missing Field - \",0,1)","v":0}]
[{"$f":"strlook!A369","v":469},{"$f":"IF(LEFT(strlook!B369,16)=\"Missing Field - \",0,1)","v":0}]
[{"$f":"strlook!A370","v":470},{"$f":"IF(LEFT(strlook!B370,16)=\"Missing Field - \",0,1)","v":0}]
[{"$f":"strlook!A371","v":471},{"$f":"IF(LEFT(strlook!B371,16)=\"Missing Field - \",0,1)","v":0}]
[{"$f":"strlook!A372","v":472},{"$f":"IF(LEFT(strlook!B372,16)=\"Missing Field - \",0,1)","v":0}]
[{"$f":"strlook!A373","v":473},{"$f":"IF(LEFT(strlook!B373,16)=\"Missing Field - \",0,1)","v":0}]
[{"$f":"strlook!A374","v":474},{"$f":"IF(LEFT(strlook!B374,16)=\"Missing Field - \",0,1)","v":0}]
[{"$f":"strlook!A375","v":475},{"$f":"IF(LEFT(strlook!B375,16)=\"Missing Field - \",0,1)","v":0}]
[{"$f":"strlook!A376","v":476},{"$f":"IF(LEFT(strlook!B376,16)=\"Missing Field - \",0,1)","v":0}]
[{"$f":"strlook!A377","v":477},{"$f":"IF(LEFT(strlook!B377,16)=\"Missing Field - \",0,1)","v":0}]
[{"$f":"strlook!A378","v":478},{"$f":"IF(LEFT(strlook!B378,16)=\"Missing Field - \",0,1)","v":0}]
[{"$f":"strlook!A379","v":479},{"$f":"IF(LEFT(strlook!B379,16)=\"Missing Field - \",0,1)","v":0}]
[{"$f":"strlook!A380","v":480},{"$f":"IF(LEFT(strlook!B380,16)=\"Missing Field - \",0,1)","v":0}]
[{"$f":"strlook!A381","v":481},{"$f":"IF(LEFT(strlook!B381,16)=\"Missing Field - \",0,1)","v":0}]
[{"$f":"strlook!A382","v":482},{"$f":"IF(LEFT(strlook!B382,16)=\"Missing Field - \",0,1)","v":0}]
[{"$f":"strlook!A383","v":483},{"$f":"IF(LEFT(strlook!B383,16)=\"Missing Field - \",0,1)","v":0}]
[{"$f":"strlook!A384","v":484},{"$f":"IF(LEFT(strlook!B384,16)=\"Missing Field - \",0,1)","v":0}]
[{"$f":"strlook!A385","v":485},{"$f":"IF(LEFT(strlook!B385,16)=\"Missing Field - \",0,1)","v":0}]
[{"$f":"strlook!A386","v":486},{"$f":"IF(LEFT(strlook!B386,16)=\"Missing Field - \",0,1)","v":0}]
[{"$f":"strlook!A387","v":487},{"$f":"IF(LEFT(strlook!B387,16)=\"Missing Field - \",0,1)","v":0}]
[{"$f":"strlook!A388","v":488},{"$f":"IF(LEFT(strlook!B388,16)=\"Missing Field - \",0,1)","v":0}]
[{"$f":"strlook!A389","v":489},{"$f":"IF(LEFT(strlook!B389,16)=\"Missing Field - \",0,1)","v":0}]
[{"$f":"strlook!A390","v":490},{"$f":"IF(LEFT(strlook!B390,16)=\"Missing Field - \",0,1)","v":0}]
[{"$f":"strlook!A391","v":491},{"$f":"IF(LEFT(strlook!B391,16)=\"Missing Field - \",0,1)","v":0}]
[{"$f":"strlook!A392","v":492},{"$f":"IF(LEFT(strlook!B392,16)=\"Missing Field - \",0,1)","v":0}]
[{"$f":"strlook!A393","v":493},{"$f":"IF(LEFT(strlook!B393,16)=\"Missing Field - \",0,1)","v":0}]
[{"$f":"strlook!A394","v":494},{"$f":"IF(LEFT(strlook!B394,16)=\"Missing Field - \",0,1)","v":0}]
[{"$f":"strlook!A395","v":495},{"$f":"IF(LEFT(strlook!B395,16)=\"Missing Field - \",0,1)","v":0}]
[{"$f":"strlook!A396","v":496},{"$f":"IF(LEFT(strlook!B396,16)=\"Missing Field - \",0,1)","v":0}]
[{"$f":"strlook!A397","v":497},{"$f":"IF(LEFT(strlook!B397,16)=\"Missing Field - \",0,1)","v":0}]
[{"$f":"strlook!A398","v":498},{"$f":"IF(LEFT(strlook!B398,16)=\"Missing Field - \",0,1)","v":0}]
[{"$f":"strlook!A399","v":499},{"$f":"IF(LEFT(strlook!B399,16)=\"Missing Field - \",0,1)","v":0}]
[{"$f":"strlook!A400","v":500},{"$f":"IF(LEFT(strlook!B400,16)=\"Missing Field - \",0,1)","v":0}]
[{"$f":"strlook!A401","v":501},{"$f":"IF(LEFT(strlook!B401,16)=\"Missing Field - \",0,1)","v":0}]
[{"$f":"strlook!A402","v":502},{"$f":"IF(LEFT(strlook!B402,16)=\"Missing Field - \",0,1)","v":0}]
[{"$f":"strlook!A403","v":503},{"$f":"IF(LEFT(strlook!B403,16)=\"Missing Field - \",0,1)","v":0}]
[{"$f":"strlook!A404","v":504},{"$f":"IF(LEFT(strlook!B404,16)=\"Missing Field - \",0,1)","v":0}]
[{"$f":"strlook!A405","v":505},{"$f":"IF(LEFT(strlook!B405,16)=\"Missing Field - \",0,1)","v":0}]
[{"$f":"strlook!A406","v":506},{"$f":"IF(LEFT(strlook!B406,16)=\"Missing Field - \",0,1)","v":0}]
[{"$f":"strlook!A407","v":507},{"$f":"IF(LEFT(strlook!B407,16)=\"Missing Field - \",0,1)","v":0}]
[{"$f":"strlook!A408","v":508},{"$f":"IF(LEFT(strlook!B408,16)=\"Missing Field - \",0,1)","v":0}]
[{"$f":"strlook!A409","v":509},{"$f":"IF(LEFT(strlook!B409,16)=\"Missing Field - \",0,1)","v":0}]
[{"$f":"strlook!A410","v":510},{"$f":"IF(LEFT(strlook!B410,16)=\"Missing Field - \",0,1)","v":0}]
[{"$f":"strlook!A411","v":511},{"$f":"IF(LEFT(strlook!B411,16)=\"Missing Field - \",0,1)","v":0}]
[{"$f":"strlook!A412","v":512},{"$f":"IF(LEFT(strlook!B412,16)=\"Missing Field - \",0,1)","v":0}]
[{"$f":"strlook!A413","v":513},{"$f":"IF(LEFT(strlook!B413,16)=\"Missing Field - \",0,1)","v":0}]
[{"$f":"strlook!A414","v":514},{"$f":"IF(LEFT(strlook!B414,16)=\"Missing Field - \",0,1)","v":0}]
[{"$f":"strlook!A415","v":515},{"$f":"IF(LEFT(strlook!B415,16)=\"Missing Field - \",0,1)","v":0}]
[{"$f":"strlook!A416","v":516},{"$f":"IF(LEFT(strlook!B416,16)=\"Missing Field - \",0,1)","v":0}]
[{"$f":"strlook!A417","v":517},{"$f":"IF(LEFT(strlook!B417,16)=\"Missing Field - \",0,1)","v":0}]
[{"$f":"strlook!A418","v":518},{"$f":"IF(LEFT(strlook!B418,16)=\"Missing Field - \",0,1)","v":0}]
[{"$f":"strlook!A419","v":519},{"$f":"IF(LEFT(strlook!B419,16)=\"Missing Field - \",0,1)","v":0}]
[{"$f":"strlook!A420","v":520},{"$f":"IF(LEFT(strlook!B420,16)=\"Missing Field - \",0,1)","v":0}]
[{"$f":"strlook!A421","v":521},{"$f":"IF(LEFT(strlook!B421,16)=\"Missing Field - \",0,1)","v":0}]
[{"$f":"strlook!A422","v":522},{"$f":"IF(LEFT(strlook!B422,16)=\"Missing Field - \",0,1)","v":0}]
[{"$f":"strlook!A423","v":523},{"$f":"IF(LEFT(strlook!B423,16)=\"Missing Field - \",0,1)","v":0}]
[{"$f":"strlook!A424","v":524},{"$f":"IF(LEFT(strlook!B424,16)=\"Missing Field - \",0,1)","v":0}]
[{"$f":"strlook!A425","v":525},{"$f":"IF(LEFT(strlook!B425,16)=\"Missing Field - \",0,1)","v":0}]
[{"$f":"strlook!A426","v":526},{"$f":"IF(LEFT(strlook!B426,16)=\"Missing Field - \",0,1)","v":0}]
[{"$f":"strlook!A427","v":527},{"$f":"IF(LEFT(strlook!B427,16)=\"Missing Field - \",0,1)","v":0}]
[{"$f":"strlook!A428","v":528},{"$f":"IF(LEFT(strlook!B428,16)=\"Missing Field - \",0,1)","v":0}]
[{"$f":"strlook!A429","v":529},{"$f":"IF(LEFT(strlook!B429,16)=\"Missing Field - \",0,1)","v":0}]
[{"$f":"strlook!A430","v":530},{"$f":"IF(LEFT(strlook!B430,16)=\"Missing Field - \",0,1)","v":0}]
[{"$f":"strlook!A431","v":531},{"$f":"IF(LEFT(strlook!B431,16)=\"Missing Field - \",0,1)","v":1}]
[{"$f":"strlook!A432","v":532},{"$f":"IF(LEFT(strlook!B432,16)=\"Missing Field - \",0,1)","v":1}]
[{"$f":"strlook!A433","v":533},{"$f":"IF(LEFT(strlook!B433,16)=\"Missing Field - \",0,1)","v":0}]
[{"$f":"strlook!A434","v":534},{"$f":"IF(LEFT(strlook!B434,16)=\"Missing Field - \",0,1)","v":0}]
[{"$f":"strlook!A435","v":535},{"$f":"IF(LEFT(strlook!B435,16)=\"Missing Field - \",0,1)","v":0}]
[{"$f":"strlook!A436","v":536},{"$f":"IF(LEFT(strlook!B436,16)=\"Missing Field - \",0,1)","v":0}]
[{"$f":"strlook!A437","v":537},{"$f":"IF(LEFT(strlook!B437,16)=\"Missing Field - \",0,1)","v":0}]
[{"$f":"strlook!A438","v":538},{"$f":"IF(LEFT(strlook!B438,16)=\"Missing Field - \",0,1)","v":0}]
[{"$f":"strlook!A439","v":539},{"$f":"IF(LEFT(strlook!B439,16)=\"Missing Field - \",0,1)","v":0}]
[{"$f":"strlook!A440","v":540},{"$f":"IF(LEFT(strlook!B440,16)=\"Missing Field - \",0,1)","v":0}]
[{"$f":"strlook!A441","v":541},{"$f":"IF(LEFT(strlook!B441,16)=\"Missing Field - \",0,1)","v":0}]
[{"$f":"strlook!A442","v":542},{"$f":"IF(LEFT(strlook!B442,16)=\"Missing Field - \",0,1)","v":0}]
[{"$f":"strlook!A443","v":543},{"$f":"IF(LEFT(strlook!B443,16)=\"Missing Field - \",0,1)","v":0}]
[{"$f":"strlook!A444","v":544},{"$f":"IF(LEFT(strlook!B444,16)=\"Missing Field - \",0,1)","v":0}]
[{"$f":"strlook!A445","v":545},{"$f":"IF(LEFT(strlook!B445,16)=\"Missing Field - \",0,1)","v":0}]
[{"$f":"strlook!A446","v":546},{"$f":"IF(LEFT(strlook!B446,16)=\"Missing Field - \",0,1)","v":0}]
[{"$f":"strlook!A447","v":547},{"$f":"IF(LEFT(strlook!B447,16)=\"Missing Field - \",0,1)","v":0}]
[{"$f":"strlook!A448","v":548},{"$f":"IF(LEFT(strlook!B448,16)=\"Missing Field - \",0,1)","v":0}]
[{"$f":"strlook!A449","v":549},{"$f":"IF(LEFT(strlook!B449,16)=\"Missing Field - \",0,1)","v":0}]
[{"$f":"strlook!A450","v":550},{"$f":"IF(LEFT(strlook!B450,16)=\"Missing Field - \",0,1)","v":0}]
[{"$f":"strlook!A451","v":551},{"$f":"IF(LEFT(strlook!B451,16)=\"Missing Field - \",0,1)","v":0}]
[{"$f":"strlook!A452","v":552},{"$f":"IF(LEFT(strlook!B452,16)=\"Missing Field - \",0,1)","v":0}]
[{"$f":"strlook!A453","v":553},{"$f":"IF(LEFT(strlook!B453,16)=\"Missing Field - \",0,1)","v":0}]
[{"$f":"strlook!A454","v":554},{"$f":"IF(LEFT(strlook!B454,16)=\"Missing Field - \",0,1)","v":0}]
[{"$f":"strlook!A455","v":555},{"$f":"IF(LEFT(strlook!B455,16)=\"Missing Field - \",0,1)","v":0}]
[{"$f":"strlook!A456","v":556},{"$f":"IF(LEFT(strlook!B456,16)=\"Missing Field - \",0,1)","v":0}]
[{"$f":"strlook!A457","v":557},{"$f":"IF(LEFT(strlook!B457,16)=\"Missing Field - \",0,1)","v":0}]
[{"$f":"strlook!A458","v":558},{"$f":"IF(LEFT(strlook!B458,16)=\"Missing Field - \",0,1)","v":0}]
[{"$f":"strlook!A459","v":559},{"$f":"IF(LEFT(strlook!B459,16)=\"Missing Field - \",0,1)","v":0}]
[{"$f":"strlook!A460","v":560},{"$f":"IF(LEFT(strlook!B460,16)=\"Missing Field - \",0,1)","v":0}]
[{"$f":"strlook!A461","v":561},{"$f":"IF(LEFT(strlook!B461,16)=\"Missing Field - \",0,1)","v":0}]
[{"$f":"strlook!A462","v":562},{"$f":"IF(LEFT(strlook!B462,16)=\"Missing Field - \",0,1)","v":0}]
[{"$f":"strlook!A463","v":563},{"$f":"IF(LEFT(strlook!B463,16)=\"Missing Field - \",0,1)","v":0}]
[{"$f":"strlook!A464","v":564},{"$f":"IF(LEFT(strlook!B464,16)=\"Missing Field - \",0,1)","v":0}]
[{"$f":"strlook!A465","v":565},{"$f":"IF(LEFT(strlook!B465,16)=\"Missing Field - \",0,1)","v":0}]
[{"$f":"strlook!A466","v":566},{"$f":"IF(LEFT(strlook!B466,16)=\"Missing Field - \",0,1)","v":0}]
[{"$f":"strlook!A467","v":567},{"$f":"IF(LEFT(strlook!B467,16)=\"Missing Field - \",0,1)","v":0}]
[{"$f":"strlook!A468","v":568},{"$f":"IF(LEFT(strlook!B468,16)=\"Missing Field - \",0,1)","v":0}]
[{"$f":"strlook!A469","v":569},{"$f":"IF(LEFT(strlook!B469,16)=\"Missing Field - \",0,1)","v":0}]
[{"$f":"strlook!A470","v":570},{"$f":"IF(LEFT(strlook!B470,16)=\"Missing Field - \",0,1)","v":0}]
[{"$f":"strlook!A471","v":571},{"$f":"IF(LEFT(strlook!B471,16)=\"Missing Field - \",0,1)","v":0}]
[{"$f":"strlook!A472","v":572},{"$f":"IF(LEFT(strlook!B472,16)=\"Missing Field - \",0,1)","v":0}]
[{"$f":"strlook!A473","v":573},{"$f":"IF(LEFT(strlook!B473,16)=\"Missing Field - \",0,1)","v":0}]
[{"$f":"strlook!A474","v":574},{"$f":"IF(LEFT(strlook!B474,16)=\"Missing Field - \",0,1)","v":0}]
[{"$f":"strlook!A475","v":575},{"$f":"IF(LEFT(strlook!B475,16)=\"Missing Field - \",0,1)","v":0}]
[{"$f":"strlook!A476","v":576},{"$f":"IF(LEFT(strlook!B476,16)=\"Missing Field - \",0,1)","v":0}]
[{"$f":"strlook!A477","v":577},{"$f":"IF(LEFT(strlook!B477,16)=\"Missing Field - \",0,1)","v":0}]
[{"$f":"strlook!A478","v":578},{"$f":"IF(LEFT(strlook!B478,16)=\"Missing Field - \",0,1)","v":0}]
[{"$f":"strlook!A479","v":579},{"$f":"IF(LEFT(strlook!B479,16)=\"Missing Field - \",0,1)","v":0}]
[{"$f":"strlook!A480","v":580},{"$f":"IF(LEFT(strlook!B480,16)=\"Missing Field - \",0,1)","v":0}]
[{"$f":"strlook!A481","v":581},{"$f":"IF(LEFT(strlook!B481,16)=\"Missing Field - \",0,1)","v":0}]
[{"$f":"strlook!A482","v":582},{"$f":"IF(LEFT(strlook!B482,16)=\"Missing Field - \",0,1)","v":0}]
[{"$f":"strlook!A483","v":583},{"$f":"IF(LEFT(strlook!B483,16)=\"Missing Field - \",0,1)","v":0}]
[{"$f":"strlook!A484","v":584},{"$f":"IF(LEFT(strlook!B484,16)=\"Missing Field - \",0,1)","v":0}]
[{"$f":"strlook!A485","v":585},{"$f":"IF(LEFT(strlook!B485,16)=\"Missing Field - \",0,1)","v":0}]
[{"$f":"strlook!A486","v":586},{"$f":"IF(LEFT(strlook!B486,16)=\"Missing Field - \",0,1)","v":0}]
[{"$f":"strlook!A487","v":587},{"$f":"IF(LEFT(strlook!B487,16)=\"Missing Field - \",0,1)","v":0}]
[{"$f":"strlook!A488","v":588},{"$f":"IF(LEFT(strlook!B488,16)=\"Missing Field - \",0,1)","v":0}]
[{"$f":"strlook!A489","v":589},{"$f":"IF(LEFT(strlook!B489,16)=\"Missing Field - \",0,1)","v":0}]
[{"$f":"strlook!A490","v":590},{"$f":"IF(LEFT(strlook!B490,16)=\"Missing Field - \",0,1)","v":0}]
[{"$f":"strlook!A491","v":591},{"$f":"IF(LEFT(strlook!B491,16)=\"Missing Field - \",0,1)","v":0}]
[{"$f":"strlook!A492","v":592},{"$f":"IF(LEFT(strlook!B492,16)=\"Missing Field - \",0,1)","v":0}]
[{"$f":"strlook!A493","v":593},{"$f":"IF(LEFT(strlook!B493,16)=\"Missing Field - \",0,1)","v":0}]
[{"$f":"strlook!A494","v":594},{"$f":"IF(LEFT(strlook!B494,16)=\"Missing Field - \",0,1)","v":0}]
[{"$f":"strlook!A495","v":595},{"$f":"IF(LEFT(strlook!B495,16)=\"Missing Field - \",0,1)","v":0}]
[{"$f":"strlook!A496","v":596},{"$f":"IF(LEFT(strlook!B496,16)=\"Missing Field - \",0,1)","v":0}]
[{"$f":"strlook!A497","v":597},{"$f":"IF(LEFT(strlook!B497,16)=\"Missing Field - \",0,1)","v":0}]
[{"$f":"strlook!A498","v":598},{"$f":"IF(LEFT(strlook!B498,16)=\"Missing Field - \",0,1)","v":0}]
[{"$f":"strlook!A499","v":599},{"$f":"IF(LEFT(strlook!B499,16)=\"Missing Field - \",0,1)","v":0}]
[{"$f":"strlook!A500","v":600},{"$f":"IF(LEFT(strlook!B500,16)=\"Missing Field - \",0,1)","v":0}]
[{"$f":"strlook!A501","v":601},{"$f":"IF(LEFT(strlook!B501,16)=\"Missing Field - \",0,1)","v":0}]
[{"$f":"strlook!A502","v":602},{"$f":"IF(LEFT(strlook!B502,16)=\"Missing Field - \",0,1)","v":0}]
[{"$f":"strlook!A503","v":603},{"$f":"IF(LEFT(strlook!B503,16)=\"Missing Field - \",0,1)","v":0}]
[{"$f":"strlook!A504","v":604},{"$f":"IF(LEFT(strlook!B504,16)=\"Missing Field - \",0,1)","v":0}]
[{"$f":"strlook!A505","v":605},{"$f":"IF(LEFT(strlook!B505,16)=\"Missing Field - \",0,1)","v":0}]
[{"$f":"strlook!A506","v":606},{"$f":"IF(LEFT(strlook!B506,16)=\"Missing Field - \",0,1)","v":0}]
[{"$f":"strlook!A507","v":607},{"$f":"IF(LEFT(strlook!B507,16)=\"Missing Field - \",0,1)","v":0}]
[{"$f":"strlook!A508","v":608},{"$f":"IF(LEFT(strlook!B508,16)=\"Missing Field - \",0,1)","v":0}]
[{"$f":"strlook!A509","v":609},{"$f":"IF(LEFT(strlook!B509,16)=\"Missing Field - \",0,1)","v":0}]
[{"$f":"strlook!A510","v":610},{"$f":"IF(LEFT(strlook!B510,16)=\"Missing Field - \",0,1)","v":0}]
[{"$f":"strlook!A511","v":611},{"$f":"IF(LEFT(strlook!B511,16)=\"Missing Field - \",0,1)","v":0}]
[{"$f":"strlook!A512","v":612},{"$f":"IF(LEFT(strlook!B512,16)=\"Missing Field - \",0,1)","v":0}]
[{"$f":"strlook!A513","v":613},{"$f":"IF(LEFT(strlook!B513,16)=\"Missing Field - \",0,1)","v":0}]
[{"$f":"strlook!A514","v":614},{"$f":"IF(LEFT(strlook!B514,16)=\"Missing Field - \",0,1)","v":0}]
[{"$f":"strlook!A515","v":615},{"$f":"IF(LEFT(strlook!B515,16)=\"Missing Field - \",0,1)","v":0}]
[{"$f":"strlook!A516","v":616},{"$f":"IF(LEFT(strlook!B516,16)=\"Missing Field - \",0,1)","v":0}]
[{"$f":"strlook!A517","v":617},{"$f":"IF(LEFT(strlook!B517,16)=\"Missing Field - \",0,1)","v":0}]
[{"$f":"strlook!A518","v":618},{"$f":"IF(LEFT(strlook!B518,16)=\"Missing Field - \",0,1)","v":0}]
[{"$f":"strlook!A519","v":619},{"$f":"IF(LEFT(strlook!B519,16)=\"Missing Field - \",0,1)","v":0}]
[{"$f":"strlook!A520","v":620},{"$f":"IF(LEFT(strlook!B520,16)=\"Missing Field - \",0,1)","v":0}]
[{"$f":"strlook!A521","v":621},{"$f":"IF(LEFT(strlook!B521,16)=\"Missing Field - \",0,1)","v":0}]
[{"$f":"strlook!A522","v":622},{"$f":"IF(LEFT(strlook!B522,16)=\"Missing Field - \",0,1)","v":0}]
[{"$f":"strlook!A523","v":623},{"$f":"IF(LEFT(strlook!B523,16)=\"Missing Field - \",0,1)","v":0}]
[{"$f":"strlook!A524","v":624},{"$f":"IF(LEFT(strlook!B524,16)=\"Missing Field - \",0,1)","v":0}]
[{"$f":"strlook!A525","v":625},{"$f":"IF(LEFT(strlook!B525,16)=\"Missing Field - \",0,1)","v":0}]
[{"$f":"strlook!A526","v":626},{"$f":"IF(LEFT(strlook!B526,16)=\"Missing Field - \",0,1)","v":0}]
[{"$f":"strlook!A527","v":627},{"$f":"IF(LEFT(strlook!B527,16)=\"Missing Field - \",0,1)","v":0}]
[{"$f":"strlook!A528","v":628},{"$f":"IF(LEFT(strlook!B528,16)=\"Missing Field - \",0,1)","v":0}]
[{"$f":"strlook!A529","v":629},{"$f":"IF(LEFT(strlook!B529,16)=\"Missing Field - \",0,1)","v":0}]
[{"$f":"strlook!A530","v":630},{"$f":"IF(LEFT(strlook!B530,16)=\"Missing Field - \",0,1)","v":0}]
[{"$f":"strlook!A531","v":631},{"$f":"IF(LEFT(strlook!B531,16)=\"Missing Field - \",0,1)","v":0}]
[{"$f":"strlook!A532","v":632},{"$f":"IF(LEFT(strlook!B532,16)=\"Missing Field - \",0,1)","v":0}]
[{"$f":"strlook!A533","v":633},{"$f":"IF(LEFT(strlook!B533,16)=\"Missing Field - \",0,1)","v":0}]
[{"$f":"strlook!A534","v":634},{"$f":"IF(LEFT(strlook!B534,16)=\"Missing Field - \",0,1)","v":0}]
[{"$f":"strlook!A535","v":635},{"$f":"IF(LEFT(strlook!B535,16)=\"Missing Field - \",0,1)","v":0}]
[{"$f":"strlook!A536","v":636},{"$f":"IF(LEFT(strlook!B536,16)=\"Missing Field - \",0,1)","v":0}]
[{"$f":"strlook!A537","v":637},{"$f":"IF(LEFT(strlook!B537,16)=\"Missing Field - \",0,1)","v":0}]
[{"$f":"strlook!A538","v":638},{"$f":"IF(LEFT(strlook!B538,16)=\"Missing Field - \",0,1)","v":0}]
[{"$f":"strlook!A539","v":639},{"$f":"IF(LEFT(strlook!B539,16)=\"Missing Field - \",0,1)","v":0}]
[{"$f":"strlook!A540","v":640},{"$f":"IF(LEFT(strlook!B540,16)=\"Missing Field - \",0,1)","v":0}]
[{"$f":"strlook!A541","v":641},{"$f":"IF(LEFT(strlook!B541,16)=\"Missing Field - \",0,1)","v":0}]
[{"$f":"strlook!A542","v":642},{"$f":"IF(LEFT(strlook!B542,16)=\"Missing Field - \",0,1)","v":0}]
[{"$f":"strlook!A543","v":643},{"$f":"IF(LEFT(strlook!B543,16)=\"Missing Field - \",0,1)","v":0}]
[{"$f":"strlook!A544","v":644},{"$f":"IF(LEFT(strlook!B544,16)=\"Missing Field - \",0,1)","v":0}]
[{"$f":"strlook!A545","v":645},{"$f":"IF(LEFT(strlook!B545,16)=\"Missing Field - \",0,1)","v":0}]
[{"$f":"strlook!A546","v":646},{"$f":"IF(LEFT(strlook!B546,16)=\"Missing Field - \",0,1)","v":0}]
[{"$f":"strlook!A547","v":647},{"$f":"IF(LEFT(strlook!B547,16)=\"Missing Field - \",0,1)","v":0}]
[{"$f":"strlook!A548","v":648},{"$f":"IF(LEFT(strlook!B548,16)=\"Missing Field - \",0,1)","v":0}]
[{"$f":"strlook!A549","v":649},{"$f":"IF(LEFT(strlook!B549,16)=\"Missing Field - \",0,1)","v":0}]
[{"$f":"strlook!A550","v":650},{"$f":"IF(LEFT(strlook!B550,16)=\"Missing Field - \",0,1)","v":0}]
[{"$f":"strlook!A551","v":651},{"$f":"IF(LEFT(strlook!B551,16)=\"Missing Field - \",0,1)","v":0}]
[{"$f":"strlook!A552","v":652},{"$f":"IF(LEFT(strlook!B552,16)=\"Missing Field - \",0,1)","v":0}]
[{"$f":"strlook!A553","v":653},{"$f":"IF(LEFT(strlook!B553,16)=\"Missing Field - \",0,1)","v":0}]
[{"$f":"strlook!A554","v":654},{"$f":"IF(LEFT(strlook!B554,16)=\"Missing Field - \",0,1)","v":0}]
[{"$f":"strlook!A555","v":655},{"$f":"IF(LEFT(strlook!B555,16)=\"Missing Field - \",0,1)","v":0}]
[{"$f":"strlook!A556","v":656},{"$f":"IF(LEFT(strlook!B556,16)=\"Missing Field - \",0,1)","v":0}]
[{"$f":"strlook!A557","v":657},{"$f":"IF(LEFT(strlook!B557,16)=\"Missing Field - \",0,1)","v":0}]
[{"$f":"strlook!A558","v":658},{"$f":"IF(LEFT(strlook!B558,16)=\"Missing Field - \",0,1)","v":0}]
[{"$f":"strlook!A559","v":659},{"$f":"IF(LEFT(strlook!B559,16)=\"Missing Field - \",0,1)","v":0}]
[{"$f":"strlook!A560","v":660},{"$f":"IF(LEFT(strlook!B560,16)=\"Missing Field - \",0,1)","v":0}]
[{"$f":"strlook!A561","v":661},{"$f":"IF(LEFT(strlook!B561,16)=\"Missing Field - \",0,1)","v":0}]
[{"$f":"strlook!A562","v":662},{"$f":"IF(LEFT(strlook!B562,16)=\"Missing Field - \",0,1)","v":0}]
[{"$f":"strlook!A563","v":663},{"$f":"IF(LEFT(strlook!B563,16)=\"Missing Field - \",0,1)","v":0}]
[{"$f":"strlook!A564","v":664},{"$f":"IF(LEFT(strlook!B564,16)=\"Missing Field - \",0,1)","v":0}]
[{"$f":"strlook!A565","v":665},{"$f":"IF(LEFT(strlook!B565,16)=\"Missing Field - \",0,1)","v":0}]
[{"$f":"strlook!A566","v":666},{"$f":"IF(LEFT(strlook!B566,16)=\"Missing Field - \",0,1)","v":0}]
[{"$f":"strlook!A567","v":667},{"$f":"IF(LEFT(strlook!B567,16)=\"Missing Field - \",0,1)","v":0}]
[{"$f":"strlook!A568","v":668},{"$f":"IF(LEFT(strlook!B568,16)=\"Missing Field - \",0,1)","v":0}]
[{"$f":"strlook!A569","v":669},{"$f":"IF(LEFT(strlook!B569,16)=\"Missing Field - \",0,1)","v":0}]
[{"$f":"strlook!A570","v":670},{"$f":"IF(LEFT(strlook!B570,16)=\"Missing Field - \",0,1)","v":0}]
[{"$f":"strlook!A571","v":671},{"$f":"IF(LEFT(strlook!B571,16)=\"Missing Field - \",0,1)","v":0}]
[{"$f":"strlook!A572","v":672},{"$f":"IF(LEFT(strlook!B572,16)=\"Missing Field - \",0,1)","v":0}]
[{"$f":"strlook!A573","v":673},{"$f":"IF(LEFT(strlook!B573,16)=\"Missing Field - \",0,1)","v":0}]
[{"$f":"strlook!A574","v":674},{"$f":"IF(LEFT(strlook!B574,16)=\"Missing Field - \",0,1)","v":0}]
[{"$f":"strlook!A575","v":675},{"$f":"IF(LEFT(strlook!B575,16)=\"Missing Field - \",0,1)","v":0}]
[{"$f":"strlook!A576","v":676},{"$f":"IF(LEFT(strlook!B576,16)=\"Missing Field - \",0,1)","v":0}]
[{"$f":"strlook!A577","v":677},{"$f":"IF(LEFT(strlook!B577,16)=\"Missing Field - \",0,1)","v":0}]
[{"$f":"strlook!A578","v":678},{"$f":"IF(LEFT(strlook!B578,16)=\"Missing Field - \",0,1)","v":0}]
[{"$f":"strlook!A579","v":679},{"$f":"IF(LEFT(strlook!B579,16)=\"Missing Field - \",0,1)","v":0}]
[{"$f":"strlook!A580","v":680},{"$f":"IF(LEFT(strlook!B580,16)=\"Missing Field - \",0,1)","v":0}]
[{"$f":"strlook!A581","v":681},{"$f":"IF(LEFT(strlook!B581,16)=\"Missing Field - \",0,1)","v":0}]
[{"$f":"strlook!A582","v":682},{"$f":"IF(LEFT(strlook!B582,16)=\"Missing Field - \",0,1)","v":0}]
[{"$f":"strlook!A583","v":683},{"$f":"IF(LEFT(strlook!B583,16)=\"Missing Field - \",0,1)","v":0}]
[{"$f":"strlook!A584","v":684},{"$f":"IF(LEFT(strlook!B584,16)=\"Missing Field - \",0,1)","v":0}]
[{"$f":"strlook!A585","v":685},{"$f":"IF(LEFT(strlook!B585,16)=\"Missing Field - \",0,1)","v":0}]
[{"$f":"strlook!A586","v":686},{"$f":"IF(LEFT(strlook!B586,16)=\"Missing Field - \",0,1)","v":0}]
[{"$f":"strlook!A587","v":687},{"$f":"IF(LEFT(strlook!B587,16)=\"Missing Field - \",0,1)","v":0}]
[{"$f":"strlook!A588","v":688},{"$f":"IF(LEFT(strlook!B588,16)=\"Missing Field - \",0,1)","v":0}]
[{"$f":"strlook!A589","v":689},{"$f":"IF(LEFT(strlook!B589,16)=\"Missing Field - \",0,1)","v":0}]
[{"$f":"strlook!A590","v":690},{"$f":"IF(LEFT(strlook!B590,16)=\"Missing Field - \",0,1)","v":0}]
[{"$f":"strlook!A591","v":691},{"$f":"IF(LEFT(strlook!B591,16)=\"Missing Field - \",0,1)","v":0}]
[{"$f":"strlook!A592","v":692},{"$f":"IF(LEFT(strlook!B592,16)=\"Missing Field - \",0,1)","v":0}]
[{"$f":"strlook!A593","v":693},{"$f":"IF(LEFT(strlook!B593,16)=\"Missing Field - \",0,1)","v":0}]
[{"$f":"strlook!A594","v":694},{"$f":"IF(LEFT(strlook!B594,16)=\"Missing Field - \",0,1)","v":0}]
[{"$f":"strlook!A595","v":695},{"$f":"IF(LEFT(strlook!B595,16)=\"Missing Field - \",0,1)","v":0}]
[{"$f":"strlook!A596","v":696},{"$f":"IF(LEFT(strlook!B596,16)=\"Missing Field - \",0,1)","v":0}]
[{"$f":"strlook!A597","v":697},{"$f":"IF(LEFT(strlook!B597,16)=\"Missing Field - \",0,1)","v":0}]
[{"$f":"strlook!A598","v":698},{"$f":"IF(LEFT(strlook!B598,16)=\"Missing Field - \",0,1)","v":0}]
[{"$f":"strlook!A599","v":699},{"$f":"IF(LEFT(strlook!B599,16)=\"Missing Field - \",0,1)","v":0}]
[{"$f":"strlook!A600","v":700},{"$f":"IF(LEFT(strlook!B600,16)=\"Missing Field - \",0,1)","v":0}]

{"sheet":"tagflag","index":14,"n_rows":1000,"n_cols":4,"rows_kept":1000,"cut":false,"hidden":true,"merged":[]}
[1,{"$f":"IF(ISNA(C1),\"REDTAG\",IF(C1=\"NOTAG\",\"NOTAG\",IF(C1=1,\"SHOW\",IF(C1=0,\"HIDE\",\"ERROR\"))))","v":"NOTAG"},{"$f":"IF(ISERROR(D1),\"NOTAG\",VLOOKUP(D1,taglook!A:B,2,FALSE))","v":"NOTAG"},{"$f":"VALUE(MID(rawrtf!A1,FIND(\"TFPTAG\",rawrtf!A1,1)+6,3))","v":{"$error":"#VALUE!"}}]
[{"$f":"IF(OR(B2=\"SHOW\",B2=\"NOTAG\"),1,0)","v":1},{"$f":"IF(ISNA(C2),\"REDTAG\",IF(C2=\"NOTAG\",\"NOTAG\",IF(C2=1,\"SHOW\",IF(C2=0,\"HIDE\",\"ERROR\"))))","v":"NOTAG"},{"$f":"IF(ISERROR(D2),\"NOTAG\",VLOOKUP(D2,taglook!A:B,2,FALSE))","v":"NOTAG"},{"$f":"VALUE(MID(rawrtf!A2,FIND(\"TFPTAG\",rawrtf!A2,1)+6,3))","v":{"$error":"#VALUE!"}}]
[{"$f":"IF(OR(B3=\"SHOW\",B3=\"NOTAG\"),1,0)","v":1},{"$f":"IF(ISNA(C3),\"REDTAG\",IF(C3=\"NOTAG\",\"NOTAG\",IF(C3=1,\"SHOW\",IF(C3=0,\"HIDE\",\"ERROR\"))))","v":"NOTAG"},{"$f":"IF(ISERROR(D3),\"NOTAG\",VLOOKUP(D3,taglook!A:B,2,FALSE))","v":"NOTAG"},{"$f":"VALUE(MID(rawrtf!A3,FIND(\"TFPTAG\",rawrtf!A3,1)+6,3))","v":{"$error":"#VALUE!"}}]
[1,{"$f":"IF(ISNA(C4),\"REDTAG\",IF(C4=\"NOTAG\",\"NOTAG\",IF(C4=1,\"SHOW\",IF(C4=0,\"HIDE\",\"ERROR\"))))","v":"NOTAG"},{"$f":"IF(ISERROR(D4),\"NOTAG\",VLOOKUP(D4,taglook!A:B,2,FALSE))","v":"NOTAG"},{"$f":"VALUE(MID(rawrtf!A4,FIND(\"TFPTAG\",rawrtf!A4,1)+6,3))","v":{"$error":"#VALUE!"}}]
[1,"NOTAG",{"$f":"IF(ISERROR(D5),\"NOTAG\",VLOOKUP(D5,taglook!A:B,2,FALSE))","v":"NOTAG"},{"$f":"VALUE(MID(rawrtf!A5,FIND(\"TFPTAG\",rawrtf!A5,1)+6,3))","v":{"$error":"#VALUE!"}}]
[1,"NOTAG",{"$f":"IF(ISERROR(D6),\"NOTAG\",VLOOKUP(D6,taglook!A:B,2,FALSE))","v":"NOTAG"},{"$f":"VALUE(MID(rawrtf!A6,FIND(\"TFPTAG\",rawrtf!A6,1)+6,3))","v":{"$error":"#VALUE!"}}]
[1,"NOTAG",{"$f":"IF(ISERROR(D7),\"NOTAG\",VLOOKUP(D7,taglook!A:B,2,FALSE))","v":"NOTAG"},{"$f":"VALUE(MID(rawrtf!A7,FIND(\"TFPTAG\",rawrtf!A7,1)+6,3))","v":{"$error":"#VALUE!"}}]
[1,"NOTAG",{"$f":"IF(ISERROR(D8),\"NOTAG\",VLOOKUP(D8,taglook!A:B,2,FALSE))","v":"NOTAG"},{"$f":"VALUE(MID(rawrtf!A8,FIND(\"TFPTAG\",rawrtf!A8,1)+6,3))","v":{"$error":"#VALUE!"}}]
[1,"NOTAG",{"$f":"IF(ISERROR(D9),\"NOTAG\",VLOOKUP(D9,taglook!A:B,2,FALSE))","v":"NOTAG"},{"$f":"VALUE(MID(rawrtf!A9,FIND(\"TFPTAG\",rawrtf!A9,1)+6,3))","v":{"$error":"#VALUE!"}}]
[1,"NOTAG",{"$f":"IF(ISERROR(D10),\"NOTAG\",VLOOKUP(D10,taglook!A:B,2,FALSE))","v":"NOTAG"},{"$f":"VALUE(MID(rawrtf!A10,FIND(\"TFPTAG\",rawrtf!A10,1)+6,3))","v":{"$error":"#VALUE!"}}]
[1,"NOTAG",{"$f":"IF(ISERROR(D11),\"NOTAG\",VLOOKUP(D11,taglook!A:B,2,FALSE))","v":"NOTAG"},{"$f":"VALUE(MID(rawrtf!A11,FIND(\"TFPTAG\",rawrtf!A11,1)+6,3))","v":{"$error":"#VALUE!"}}]
[1,"NOTAG",{"$f":"IF(ISERROR(D12),\"NOTAG\",VLOOKUP(D12,taglook!A:B,2,FALSE))","v":"NOTAG"},{"$f":"VALUE(MID(rawrtf!A12,FIND(\"TFPTAG\",rawrtf!A12,1)+6,3))","v":{"$error":"#VALUE!"}}]
[1,"NOTAG",{"$f":"IF(ISERROR(D13),\"NOTAG\",VLOOKUP(D13,taglook!A:B,2,FALSE))","v":"NOTAG"},{"$f":"VALUE(MID(rawrtf!A13,FIND(\"TFPTAG\",rawrtf!A13,1)+6,3))","v":{"$error":"#VALUE!"}}]
[1,"NOTAG",{"$f":"IF(ISERROR(D14),\"NOTAG\",VLOOKUP(D14,taglook!A:B,2,FALSE))","v":"NOTAG"},{"$f":"VALUE(MID(rawrtf!A14,FIND(\"TFPTAG\",rawrtf!A14,1)+6,3))","v":{"$error":"#VALUE!"}}]
[1,"NOTAG",{"$f":"IF(ISERROR(D15),\"NOTAG\",VLOOKUP(D15,taglook!A:B,2,FALSE))","v":"NOTAG"},{"$f":"VALUE(MID(rawrtf!A15,FIND(\"TFPTAG\",rawrtf!A15,1)+6,3))","v":{"$error":"#VALUE!"}}]
[1,"NOTAG",{"$f":"IF(ISERROR(D16),\"NOTAG\",VLOOKUP(D16,taglook!A:B,2,FALSE))","v":"NOTAG"},{"$f":"VALUE(MID(rawrtf!A16,FIND(\"TFPTAG\",rawrtf!A16,1)+6,3))","v":{"$error":"#VALUE!"}}]
[1,"NOTAG",{"$f":"IF(ISERROR(D17),\"NOTAG\",VLOOKUP(D17,taglook!A:B,2,FALSE))","v":"NOTAG"},{"$f":"VALUE(MID(rawrtf!A17,FIND(\"TFPTAG\",rawrtf!A17,1)+6,3))","v":{"$error":"#VALUE!"}}]
[1,"NOTAG",{"$f":"IF(ISERROR(D18),\"NOTAG\",VLOOKUP(D18,taglook!A:B,2,FALSE))","v":"NOTAG"},{"$f":"VALUE(MID(rawrtf!A18,FIND(\"TFPTAG\",rawrtf!A18,1)+6,3))","v":{"$error":"#VALUE!"}}]
[1,"NOTAG",{"$f":"IF(ISERROR(D19),\"NOTAG\",VLOOKUP(D19,taglook!A:B,2,FALSE))","v":"NOTAG"},{"$f":"VALUE(MID(rawrtf!A19,FIND(\"TFPTAG\",rawrtf!A19,1)+6,3))","v":{"$error":"#VALUE!"}}]
[1,"NOTAG",{"$f":"IF(ISERROR(D20),\"NOTAG\",VLOOKUP(D20,taglook!A:B,2,FALSE))","v":"NOTAG"},{"$f":"VALUE(MID(rawrtf!A20,FIND(\"TFPTAG\",rawrtf!A20,1)+6,3))","v":{"$error":"#VALUE!"}}]
[1,"NOTAG",{"$f":"IF(ISERROR(D21),\"NOTAG\",VLOOKUP(D21,taglook!A:B,2,FALSE))","v":"NOTAG"},{"$f":"VALUE(MID(rawrtf!A21,FIND(\"TFPTAG\",rawrtf!A21,1)+6,3))","v":{"$error":"#VALUE!"}}]
[1,"NOTAG",{"$f":"IF(ISERROR(D22),\"NOTAG\",VLOOKUP(D22,taglook!A:B,2,FALSE))","v":"NOTAG"},{"$f":"VALUE(MID(rawrtf!A22,FIND(\"TFPTAG\",rawrtf!A22,1)+6,3))","v":{"$error":"#VALUE!"}}]
[1,"NOTAG",{"$f":"IF(ISERROR(D23),\"NOTAG\",VLOOKUP(D23,taglook!A:B,2,FALSE))","v":"NOTAG"},{"$f":"VALUE(MID(rawrtf!A23,FIND(\"TFPTAG\",rawrtf!A23,1)+6,3))","v":{"$error":"#VALUE!"}}]
[1,"NOTAG",{"$f":"IF(ISERROR(D24),\"NOTAG\",VLOOKUP(D24,taglook!A:B,2,FALSE))","v":"NOTAG"},{"$f":"VALUE(MID(rawrtf!A24,FIND(\"TFPTAG\",rawrtf!A24,1)+6,3))","v":{"$error":"#VALUE!"}}]
[1,"NOTAG",{"$f":"IF(ISERROR(D25),\"NOTAG\",VLOOKUP(D25,taglook!A:B,2,FALSE))","v":"NOTAG"},{"$f":"VALUE(MID(rawrtf!A25,FIND(\"TFPTAG\",rawrtf!A25,1)+6,3))","v":{"$error":"#VALUE!"}}]
[1,"NOTAG",{"$f":"IF(ISERROR(D26),\"NOTAG\",VLOOKUP(D26,taglook!A:B,2,FALSE))","v":"NOTAG"},{"$f":"VALUE(MID(rawrtf!A26,FIND(\"TFPTAG\",rawrtf!A26,1)+6,3))","v":{"$error":"#VALUE!"}}]
[1,"NOTAG",{"$f":"IF(ISERROR(D27),\"NOTAG\",VLOOKUP(D27,taglook!A:B,2,FALSE))","v":"NOTAG"},{"$f":"VALUE(MID(rawrtf!A27,FIND(\"TFPTAG\",rawrtf!A27,1)+6,3))","v":{"$error":"#VALUE!"}}]
[1,"NOTAG",{"$f":"IF(ISERROR(D28),\"NOTAG\",VLOOKUP(D28,taglook!A:B,2,FALSE))","v":"NOTAG"},{"$f":"VALUE(MID(rawrtf!A28,FIND(\"TFPTAG\",rawrtf!A28,1)+6,3))","v":{"$error":"#VALUE!"}}]
[1,"NOTAG",{"$f":"IF(ISERROR(D29),\"NOTAG\",VLOOKUP(D29,taglook!A:B,2,FALSE))","v":"NOTAG"},{"$f":"VALUE(MID(rawrtf!A29,FIND(\"TFPTAG\",rawrtf!A29,1)+6,3))","v":{"$error":"#VALUE!"}}]
[1,"NOTAG",{"$f":"IF(ISERROR(D30),\"NOTAG\",VLOOKUP(D30,taglook!A:B,2,FALSE))","v":"NOTAG"},{"$f":"VALUE(MID(rawrtf!A30,FIND(\"TFPTAG\",rawrtf!A30,1)+6,3))","v":{"$error":"#VALUE!"}}]
[1,"NOTAG",{"$f":"IF(ISERROR(D31),\"NOTAG\",VLOOKUP(D31,taglook!A:B,2,FALSE))","v":"NOTAG"},{"$f":"VALUE(MID(rawrtf!A31,FIND(\"TFPTAG\",rawrtf!A31,1)+6,3))","v":{"$error":"#VALUE!"}}]
[1,"NOTAG",{"$f":"IF(ISERROR(D32),\"NOTAG\",VLOOKUP(D32,taglook!A:B,2,FALSE))","v":"NOTAG"},{"$f":"VALUE(MID(rawrtf!A32,FIND(\"TFPTAG\",rawrtf!A32,1)+6,3))","v":{"$error":"#VALUE!"}}]
[1,"NOTAG",{"$f":"IF(ISERROR(D33),\"NOTAG\",VLOOKUP(D33,taglook!A:B,2,FALSE))","v":"NOTAG"},{"$f":"VALUE(MID(rawrtf!A33,FIND(\"TFPTAG\",rawrtf!A33,1)+6,3))","v":{"$error":"#VALUE!"}}]
[1,"NOTAG",{"$f":"IF(ISERROR(D34),\"NOTAG\",VLOOKUP(D34,taglook!A:B,2,FALSE))","v":"NOTAG"},{"$f":"VALUE(MID(rawrtf!A34,FIND(\"TFPTAG\",rawrtf!A34,1)+6,3))","v":{"$error":"#VALUE!"}}]
[1,"NOTAG",{"$f":"IF(ISERROR(D35),\"NOTAG\",VLOOKUP(D35,taglook!A:B,2,FALSE))","v":"NOTAG"},{"$f":"VALUE(MID(rawrtf!A35,FIND(\"TFPTAG\",rawrtf!A35,1)+6,3))","v":{"$error":"#VALUE!"}}]
[1,"NOTAG",{"$f":"IF(ISERROR(D36),\"NOTAG\",VLOOKUP(D36,taglook!A:B,2,FALSE))","v":"NOTAG"},{"$f":"VALUE(MID(rawrtf!A36,FIND(\"TFPTAG\",rawrtf!A36,1)+6,3))","v":{"$error":"#VALUE!"}}]
[1,"NOTAG",{"$f":"IF(ISERROR(D37),\"NOTAG\",VLOOKUP(D37,taglook!A:B,2,FALSE))","v":"NOTAG"},{"$f":"VALUE(MID(rawrtf!A37,FIND(\"TFPTAG\",rawrtf!A37,1)+6,3))","v":{"$error":"#VALUE!"}}]
[1,"NOTAG",{"$f":"IF(ISERROR(D38),\"NOTAG\",VLOOKUP(D38,taglook!A:B,2,FALSE))","v":"NOTAG"},{"$f":"VALUE(MID(rawrtf!A38,FIND(\"TFPTAG\",rawrtf!A38,1)+6,3))","v":{"$error":"#VALUE!"}}]
[1,"NOTAG",{"$f":"IF(ISERROR(D39),\"NOTAG\",VLOOKUP(D39,taglook!A:B,2,FALSE))","v":"NOTAG"},{"$f":"VALUE(MID(rawrtf!A39,FIND(\"TFPTAG\",rawrtf!A39,1)+6,3))","v":{"$error":"#VALUE!"}}]
[1,"NOTAG",{"$f":"IF(ISERROR(D40),\"NOTAG\",VLOOKUP(D40,taglook!A:B,2,FALSE))","v":"NOTAG"},{"$f":"VALUE(MID(rawrtf!A40,FIND(\"TFPTAG\",rawrtf!A40,1)+6,3))","v":{"$error":"#VALUE!"}}]
[1,"NOTAG",{"$f":"IF(ISERROR(D41),\"NOTAG\",VLOOKUP(D41,taglook!A:B,2,FALSE))","v":"NOTAG"},{"$f":"VALUE(MID(rawrtf!A41,FIND(\"TFPTAG\",rawrtf!A41,1)+6,3))","v":{"$error":"#VALUE!"}}]
[1,"NOTAG",{"$f":"IF(ISERROR(D42),\"NOTAG\",VLOOKUP(D42,taglook!A:B,2,FALSE))","v":"NOTAG"},{"$f":"VALUE(MID(rawrtf!A42,FIND(\"TFPTAG\",rawrtf!A42,1)+6,3))","v":{"$error":"#VALUE!"}}]
[1,"NOTAG",{"$f":"IF(ISERROR(D43),\"NOTAG\",VLOOKUP(D43,taglook!A:B,2,FALSE))","v":"NOTAG"},{"$f":"VALUE(MID(rawrtf!A43,FIND(\"TFPTAG\",rawrtf!A43,1)+6,3))","v":{"$error":"#VALUE!"}}]
[1,"NOTAG",{"$f":"IF(ISERROR(D44),\"NOTAG\",VLOOKUP(D44,taglook!A:B,2,FALSE))","v":"NOTAG"},{"$f":"VALUE(MID(rawrtf!A44,FIND(\"TFPTAG\",rawrtf!A44,1)+6,3))","v":{"$error":"#VALUE!"}}]
[1,"NOTAG",{"$f":"IF(ISERROR(D45),\"NOTAG\",VLOOKUP(D45,taglook!A:B,2,FALSE))","v":"NOTAG"},{"$f":"VALUE(MID(rawrtf!A45,FIND(\"TFPTAG\",rawrtf!A45,1)+6,3))","v":{"$error":"#VALUE!"}}]
[1,"NOTAG",{"$f":"IF(ISERROR(D46),\"NOTAG\",VLOOKUP(D46,taglook!A:B,2,FALSE))","v":"NOTAG"},{"$f":"VALUE(MID(rawrtf!A46,FIND(\"TFPTAG\",rawrtf!A46,1)+6,3))","v":{"$error":"#VALUE!"}}]
[1,"NOTAG",{"$f":"IF(ISERROR(D47),\"NOTAG\",VLOOKUP(D47,taglook!A:B,2,FALSE))","v":"NOTAG"},{"$f":"VALUE(MID(rawrtf!A47,FIND(\"TFPTAG\",rawrtf!A47,1)+6,3))","v":{"$error":"#VALUE!"}}]
[1,"NOTAG",{"$f":"IF(ISERROR(D48),\"NOTAG\",VLOOKUP(D48,taglook!A:B,2,FALSE))","v":"NOTAG"},{"$f":"VALUE(MID(rawrtf!A48,FIND(\"TFPTAG\",rawrtf!A48,1)+6,3))","v":{"$error":"#VALUE!"}}]
[1,"NOTAG",{"$f":"IF(ISERROR(D49),\"NOTAG\",VLOOKUP(D49,taglook!A:B,2,FALSE))","v":"NOTAG"},{"$f":"VALUE(MID(rawrtf!A49,FIND(\"TFPTAG\",rawrtf!A49,1)+6,3))","v":{"$error":"#VALUE!"}}]
[1,"NOTAG",{"$f":"IF(ISERROR(D50),\"NOTAG\",VLOOKUP(D50,taglook!A:B,2,FALSE))","v":"NOTAG"},{"$f":"VALUE(MID(rawrtf!A50,FIND(\"TFPTAG\",rawrtf!A50,1)+6,3))","v":{"$error":"#VALUE!"}}]
[1,"NOTAG",{"$f":"IF(ISERROR(D51),\"NOTAG\",VLOOKUP(D51,taglook!A:B,2,FALSE))","v":"NOTAG"},{"$f":"VALUE(MID(rawrtf!A51,FIND(\"TFPTAG\",rawrtf!A51,1)+6,3))","v":{"$error":"#VALUE!"}}]
[1,"NOTAG",{"$f":"IF(ISERROR(D52),\"NOTAG\",VLOOKUP(D52,taglook!A:B,2,FALSE))","v":"NOTAG"},{"$f":"VALUE(MID(rawrtf!A52,FIND(\"TFPTAG\",rawrtf!A52,1)+6,3))","v":{"$error":"#VALUE!"}}]
[1,"NOTAG",{"$f":"IF(ISERROR(D53),\"NOTAG\",VLOOKUP(D53,taglook!A:B,2,FALSE))","v":"NOTAG"},{"$f":"VALUE(MID(rawrtf!A53,FIND(\"TFPTAG\",rawrtf!A53,1)+6,3))","v":{"$error":"#VALUE!"}}]
[1,"NOTAG",{"$f":"IF(ISERROR(D54),\"NOTAG\",VLOOKUP(D54,taglook!A:B,2,FALSE))","v":"NOTAG"},{"$f":"VALUE(MID(rawrtf!A54,FIND(\"TFPTAG\",rawrtf!A54,1)+6,3))","v":{"$error":"#VALUE!"}}]
[1,"NOTAG",{"$f":"IF(ISERROR(D55),\"NOTAG\",VLOOKUP(D55,taglook!A:B,2,FALSE))","v":"NOTAG"},{"$f":"VALUE(MID(rawrtf!A55,FIND(\"TFPTAG\",rawrtf!A55,1)+6,3))","v":{"$error":"#VALUE!"}}]
[1,"NOTAG",{"$f":"IF(ISERROR(D56),\"NOTAG\",VLOOKUP(D56,taglook!A:B,2,FALSE))","v":"NOTAG"},{"$f":"VALUE(MID(rawrtf!A56,FIND(\"TFPTAG\",rawrtf!A56,1)+6,3))","v":{"$error":"#VALUE!"}}]
[1,"NOTAG",{"$f":"IF(ISERROR(D57),\"NOTAG\",VLOOKUP(D57,taglook!A:B,2,FALSE))","v":"NOTAG"},{"$f":"VALUE(MID(rawrtf!A57,FIND(\"TFPTAG\",rawrtf!A57,1)+6,3))","v":{"$error":"#VALUE!"}}]
[1,"NOTAG",{"$f":"IF(ISERROR(D58),\"NOTAG\",VLOOKUP(D58,taglook!A:B,2,FALSE))","v":"NOTAG"},{"$f":"VALUE(MID(rawrtf!A58,FIND(\"TFPTAG\",rawrtf!A58,1)+6,3))","v":{"$error":"#VALUE!"}}]
[1,"NOTAG",{"$f":"IF(ISERROR(D59),\"NOTAG\",VLOOKUP(D59,taglook!A:B,2,FALSE))","v":"NOTAG"},{"$f":"VALUE(MID(rawrtf!A59,FIND(\"TFPTAG\",rawrtf!A59,1)+6,3))","v":{"$error":"#VALUE!"}}]
[1,"NOTAG",{"$f":"IF(ISERROR(D60),\"NOTAG\",VLOOKUP(D60,taglook!A:B,2,FALSE))","v":"NOTAG"},{"$f":"VALUE(MID(rawrtf!A60,FIND(\"TFPTAG\",rawrtf!A60,1)+6,3))","v":{"$error":"#VALUE!"}}]
[1,"NOTAG",{"$f":"IF(ISERROR(D61),\"NOTAG\",VLOOKUP(D61,taglook!A:B,2,FALSE))","v":"NOTAG"},{"$f":"VALUE(MID(rawrtf!A61,FIND(\"TFPTAG\",rawrtf!A61,1)+6,3))","v":{"$error":"#VALUE!"}}]
[1,"NOTAG",{"$f":"IF(ISERROR(D62),\"NOTAG\",VLOOKUP(D62,taglook!A:B,2,FALSE))","v":"NOTAG"},{"$f":"VALUE(MID(rawrtf!A62,FIND(\"TFPTAG\",rawrtf!A62,1)+6,3))","v":{"$error":"#VALUE!"}}]
[1,"NOTAG",{"$f":"IF(ISERROR(D63),\"NOTAG\",VLOOKUP(D63,taglook!A:B,2,FALSE))","v":"NOTAG"},{"$f":"VALUE(MID(rawrtf!A63,FIND(\"TFPTAG\",rawrtf!A63,1)+6,3))","v":{"$error":"#VALUE!"}}]
[1,"NOTAG",{"$f":"IF(ISERROR(D64),\"NOTAG\",VLOOKUP(D64,taglook!A:B,2,FALSE))","v":"NOTAG"},{"$f":"VALUE(MID(rawrtf!A64,FIND(\"TFPTAG\",rawrtf!A64,1)+6,3))","v":{"$error":"#VALUE!"}}]
[1,"NOTAG",{"$f":"IF(ISERROR(D65),\"NOTAG\",VLOOKUP(D65,taglook!A:B,2,FALSE))","v":"NOTAG"},{"$f":"VALUE(MID(rawrtf!A65,FIND(\"TFPTAG\",rawrtf!A65,1)+6,3))","v":{"$error":"#VALUE!"}}]
[1,"NOTAG",{"$f":"IF(ISERROR(D66),\"NOTAG\",VLOOKUP(D66,taglook!A:B,2,FALSE))","v":"NOTAG"},{"$f":"VALUE(MID(rawrtf!A66,FIND(\"TFPTAG\",rawrtf!A66,1)+6,3))","v":{"$error":"#VALUE!"}}]
[{"$f":"IF(OR(B67=\"SHOW\",B67=\"NOTAG\"),1,0)","v":1},"NOTAG",{"$f":"IF(ISERROR(D67),\"NOTAG\",VLOOKUP(D67,taglook!A:B,2,FALSE))","v":"NOTAG"},{"$f":"VALUE(MID(rawrtf!A67,FIND(\"TFPTAG\",rawrtf!A67,1)+6,3))","v":{"$error":"#VALUE!"}}]
[1,{"$f":"IF(ISNA(C68),\"REDTAG\",IF(C68=\"NOTAG\",\"NOTAG\",IF(C68=1,\"SHOW\",IF(C68=0,\"HIDE\",\"ERROR\"))))","v":"NOTAG"},{"$f":"IF(ISERROR(D68),\"NOTAG\",VLOOKUP(D68,taglook!A:B,2,FALSE))","v":"NOTAG"},{"$f":"VALUE(MID(rawrtf!A68,FIND(\"TFPTAG\",rawrtf!A68,1)+6,3))","v":{"$error":"#VALUE!"}}]
[1,"NOTAG",{"$f":"IF(ISERROR(D69),\"NOTAG\",VLOOKUP(D69,taglook!A:B,2,FALSE))","v":"NOTAG"},{"$f":"VALUE(MID(rawrtf!A69,FIND(\"TFPTAG\",rawrtf!A69,1)+6,3))","v":{"$error":"#VALUE!"}}]
[1,"NOTAG",{"$f":"IF(ISERROR(D70),\"NOTAG\",VLOOKUP(D70,taglook!A:B,2,FALSE))","v":"NOTAG"},{"$f":"VALUE(MID(rawrtf!A70,FIND(\"TFPTAG\",rawrtf!A70,1)+6,3))","v":{"$error":"#VALUE!"}}]
[1,"NOTAG",{"$f":"IF(ISERROR(D71),\"NOTAG\",VLOOKUP(D71,taglook!A:B,2,FALSE))","v":"NOTAG"},{"$f":"VALUE(MID(rawrtf!A71,FIND(\"TFPTAG\",rawrtf!A71,1)+6,3))","v":{"$error":"#VALUE!"}}]
[1,"NOTAG",{"$f":"IF(ISERROR(D72),\"NOTAG\",VLOOKUP(D72,taglook!A:B,2,FALSE))","v":"NOTAG"},{"$f":"VALUE(MID(rawrtf!A72,FIND(\"TFPTAG\",rawrtf!A72,1)+6,3))","v":{"$error":"#VALUE!"}}]
[1,"NOTAG",{"$f":"IF(ISERROR(D73),\"NOTAG\",VLOOKUP(D73,taglook!A:B,2,FALSE))","v":"NOTAG"},{"$f":"VALUE(MID(rawrtf!A73,FIND(\"TFPTAG\",rawrtf!A73,1)+6,3))","v":{"$error":"#VALUE!"}}]
[1,"NOTAG",{"$f":"IF(ISERROR(D74),\"NOTAG\",VLOOKUP(D74,taglook!A:B,2,FALSE))","v":"NOTAG"},{"$f":"VALUE(MID(rawrtf!A74,FIND(\"TFPTAG\",rawrtf!A74,1)+6,3))","v":{"$error":"#VALUE!"}}]
[1,"NOTAG",{"$f":"IF(ISERROR(D75),\"NOTAG\",VLOOKUP(D75,taglook!A:B,2,FALSE))","v":"NOTAG"},{"$f":"VALUE(MID(rawrtf!A75,FIND(\"TFPTAG\",rawrtf!A75,1)+6,3))","v":{"$error":"#VALUE!"}}]
[1,"NOTAG",{"$f":"IF(ISERROR(D76),\"NOTAG\",VLOOKUP(D76,taglook!A:B,2,FALSE))","v":"NOTAG"},{"$f":"VALUE(MID(rawrtf!A76,FIND(\"TFPTAG\",rawrtf!A76,1)+6,3))","v":{"$error":"#VALUE!"}}]
[1,"NOTAG",{"$f":"IF(ISERROR(D77),\"NOTAG\",VLOOKUP(D77,taglook!A:B,2,FALSE))","v":"NOTAG"},{"$f":"VALUE(MID(rawrtf!A77,FIND(\"TFPTAG\",rawrtf!A77,1)+6,3))","v":{"$error":"#VALUE!"}}]
[1,"NOTAG",{"$f":"IF(ISERROR(D78),\"NOTAG\",VLOOKUP(D78,taglook!A:B,2,FALSE))","v":"NOTAG"},{"$f":"VALUE(MID(rawrtf!A78,FIND(\"TFPTAG\",rawrtf!A78,1)+6,3))","v":{"$error":"#VALUE!"}}]
[1,"NOTAG",{"$f":"IF(ISERROR(D79),\"NOTAG\",VLOOKUP(D79,taglook!A:B,2,FALSE))","v":"NOTAG"},{"$f":"VALUE(MID(rawrtf!A79,FIND(\"TFPTAG\",rawrtf!A79,1)+6,3))","v":{"$error":"#VALUE!"}}]
[1,"NOTAG",{"$f":"IF(ISERROR(D80),\"NOTAG\",VLOOKUP(D80,taglook!A:B,2,FALSE))","v":"NOTAG"},{"$f":"VALUE(MID(rawrtf!A80,FIND(\"TFPTAG\",rawrtf!A80,1)+6,3))","v":{"$error":"#VALUE!"}}]
[1,"NOTAG",{"$f":"IF(ISERROR(D81),\"NOTAG\",VLOOKUP(D81,taglook!A:B,2,FALSE))","v":"NOTAG"},{"$f":"VALUE(MID(rawrtf!A81,FIND(\"TFPTAG\",rawrtf!A81,1)+6,3))","v":{"$error":"#VALUE!"}}]
[1,"NOTAG",{"$f":"IF(ISERROR(D82),\"NOTAG\",VLOOKUP(D82,taglook!A:B,2,FALSE))","v":"NOTAG"},{"$f":"VALUE(MID(rawrtf!A82,FIND(\"TFPTAG\",rawrtf!A82,1)+6,3))","v":{"$error":"#VALUE!"}}]
[1,"NOTAG",{"$f":"IF(ISERROR(D83),\"NOTAG\",VLOOKUP(D83,taglook!A:B,2,FALSE))","v":"NOTAG"},{"$f":"VALUE(MID(rawrtf!A83,FIND(\"TFPTAG\",rawrtf!A83,1)+6,3))","v":{"$error":"#VALUE!"}}]
[1,"NOTAG",{"$f":"IF(ISERROR(D84),\"NOTAG\",VLOOKUP(D84,taglook!A:B,2,FALSE))","v":"NOTAG"},{"$f":"VALUE(MID(rawrtf!A84,FIND(\"TFPTAG\",rawrtf!A84,1)+6,3))","v":{"$error":"#VALUE!"}}]
[1,"NOTAG",{"$f":"IF(ISERROR(D85),\"NOTAG\",VLOOKUP(D85,taglook!A:B,2,FALSE))","v":"NOTAG"},{"$f":"VALUE(MID(rawrtf!A85,FIND(\"TFPTAG\",rawrtf!A85,1)+6,3))","v":{"$error":"#VALUE!"}}]
[1,"NOTAG",{"$f":"IF(ISERROR(D86),\"NOTAG\",VLOOKUP(D86,taglook!A:B,2,FALSE))","v":"NOTAG"},{"$f":"VALUE(MID(rawrtf!A86,FIND(\"TFPTAG\",rawrtf!A86,1)+6,3))","v":{"$error":"#VALUE!"}}]
[1,"NOTAG",{"$f":"IF(ISERROR(D87),\"NOTAG\",VLOOKUP(D87,taglook!A:B,2,FALSE))","v":"NOTAG"},{"$f":"VALUE(MID(rawrtf!A87,FIND(\"TFPTAG\",rawrtf!A87,1)+6,3))","v":{"$error":"#VALUE!"}}]
[1,"NOTAG",{"$f":"IF(ISERROR(D88),\"NOTAG\",VLOOKUP(D88,taglook!A:B,2,FALSE))","v":"NOTAG"},{"$f":"VALUE(MID(rawrtf!A88,FIND(\"TFPTAG\",rawrtf!A88,1)+6,3))","v":{"$error":"#VALUE!"}}]
[1,"NOTAG",{"$f":"IF(ISERROR(D89),\"NOTAG\",VLOOKUP(D89,taglook!A:B,2,FALSE))","v":"NOTAG"},{"$f":"VALUE(MID(rawrtf!A89,FIND(\"TFPTAG\",rawrtf!A89,1)+6,3))","v":{"$error":"#VALUE!"}}]
[1,"NOTAG",{"$f":"IF(ISERROR(D90),\"NOTAG\",VLOOKUP(D90,taglook!A:B,2,FALSE))","v":"NOTAG"},{"$f":"VALUE(MID(rawrtf!A90,FIND(\"TFPTAG\",rawrtf!A90,1)+6,3))","v":{"$error":"#VALUE!"}}]
[1,"NOTAG",{"$f":"IF(ISERROR(D91),\"NOTAG\",VLOOKUP(D91,taglook!A:B,2,FALSE))","v":"NOTAG"},{"$f":"VALUE(MID(rawrtf!A91,FIND(\"TFPTAG\",rawrtf!A91,1)+6,3))","v":{"$error":"#VALUE!"}}]
[1,"NOTAG",{"$f":"IF(ISERROR(D92),\"NOTAG\",VLOOKUP(D92,taglook!A:B,2,FALSE))","v":"NOTAG"},{"$f":"VALUE(MID(rawrtf!A92,FIND(\"TFPTAG\",rawrtf!A92,1)+6,3))","v":{"$error":"#VALUE!"}}]
[1,"NOTAG",{"$f":"IF(ISERROR(D93),\"NOTAG\",VLOOKUP(D93,taglook!A:B,2,FALSE))","v":"NOTAG"},{"$f":"VALUE(MID(rawrtf!A93,FIND(\"TFPTAG\",rawrtf!A93,1)+6,3))","v":{"$error":"#VALUE!"}}]
[1,"NOTAG",{"$f":"IF(ISERROR(D94),\"NOTAG\",VLOOKUP(D94,taglook!A:B,2,FALSE))","v":"NOTAG"},{"$f":"VALUE(MID(rawrtf!A94,FIND(\"TFPTAG\",rawrtf!A94,1)+6,3))","v":{"$error":"#VALUE!"}}]
[1,"NOTAG",{"$f":"IF(ISERROR(D95),\"NOTAG\",VLOOKUP(D95,taglook!A:B,2,FALSE))","v":"NOTAG"},{"$f":"VALUE(MID(rawrtf!A95,FIND(\"TFPTAG\",rawrtf!A95,1)+6,3))","v":{"$error":"#VALUE!"}}]
[1,"NOTAG",{"$f":"IF(ISERROR(D96),\"NOTAG\",VLOOKUP(D96,taglook!A:B,2,FALSE))","v":"NOTAG"},{"$f":"VALUE(MID(rawrtf!A96,FIND(\"TFPTAG\",rawrtf!A96,1)+6,3))","v":{"$error":"#VALUE!"}}]
[1,"NOTAG",{"$f":"IF(ISERROR(D97),\"NOTAG\",VLOOKUP(D97,taglook!A:B,2,FALSE))","v":"NOTAG"},{"$f":"VALUE(MID(rawrtf!A97,FIND(\"TFPTAG\",rawrtf!A97,1)+6,3))","v":{"$error":"#VALUE!"}}]
[1,"NOTAG",{"$f":"IF(ISERROR(D98),\"NOTAG\",VLOOKUP(D98,taglook!A:B,2,FALSE))","v":"NOTAG"},{"$f":"VALUE(MID(rawrtf!A98,FIND(\"TFPTAG\",rawrtf!A98,1)+6,3))","v":{"$error":"#VALUE!"}}]
[1,"NOTAG",{"$f":"IF(ISERROR(D99),\"NOTAG\",VLOOKUP(D99,taglook!A:B,2,FALSE))","v":"NOTAG"},{"$f":"VALUE(MID(rawrtf!A99,FIND(\"TFPTAG\",rawrtf!A99,1)+6,3))","v":{"$error":"#VALUE!"}}]
[1,"NOTAG",{"$f":"IF(ISERROR(D100),\"NOTAG\",VLOOKUP(D100,taglook!A:B,2,FALSE))","v":"NOTAG"},{"$f":"VALUE(MID(rawrtf!A100,FIND(\"TFPTAG\",rawrtf!A100,1)+6,3))","v":{"$error":"#VALUE!"}}]
[1,{"$f":"IF(ISNA(C101),\"REDTAG\",IF(C101=\"NOTAG\",\"NOTAG\",IF(C101=1,\"SHOW\",IF(C101=0,\"HIDE\",\"ERROR\"))))","v":"NOTAG"},{"$f":"IF(ISERROR(D101),\"NOTAG\",VLOOKUP(D101,taglook!A:B,2,FALSE))","v":"NOTAG"},{"$f":"VALUE(MID(rawrtf!A101,FIND(\"TFPTAG\",rawrtf!A101,1)+6,3))","v":{"$error":"#VALUE!"}}]
[1,"NOTAG",{"$f":"IF(ISERROR(D102),\"NOTAG\",VLOOKUP(D102,taglook!A:B,2,FALSE))","v":"NOTAG"},{"$f":"VALUE(MID(rawrtf!A102,FIND(\"TFPTAG\",rawrtf!A102,1)+6,3))","v":{"$error":"#VALUE!"}}]
[1,"NOTAG",{"$f":"IF(ISERROR(D103),\"NOTAG\",VLOOKUP(D103,taglook!A:B,2,FALSE))","v":"NOTAG"},{"$f":"VALUE(MID(rawrtf!A103,FIND(\"TFPTAG\",rawrtf!A103,1)+6,3))","v":{"$error":"#VALUE!"}}]
[1,"NOTAG",{"$f":"IF(ISERROR(D104),\"NOTAG\",VLOOKUP(D104,taglook!A:B,2,FALSE))","v":"NOTAG"},{"$f":"VALUE(MID(rawrtf!A104,FIND(\"TFPTAG\",rawrtf!A104,1)+6,3))","v":{"$error":"#VALUE!"}}]
[1,"NOTAG",{"$f":"IF(ISERROR(D105),\"NOTAG\",VLOOKUP(D105,taglook!A:B,2,FALSE))","v":"NOTAG"},{"$f":"VALUE(MID(rawrtf!A105,FIND(\"TFPTAG\",rawrtf!A105,1)+6,3))","v":{"$error":"#VALUE!"}}]
[1,"NOTAG",{"$f":"IF(ISERROR(D106),\"NOTAG\",VLOOKUP(D106,taglook!A:B,2,FALSE))","v":"NOTAG"},{"$f":"VALUE(MID(rawrtf!A106,FIND(\"TFPTAG\",rawrtf!A106,1)+6,3))","v":{"$error":"#VALUE!"}}]
[1,"NOTAG",{"$f":"IF(ISERROR(D107),\"NOTAG\",VLOOKUP(D107,taglook!A:B,2,FALSE))","v":"NOTAG"},{"$f":"VALUE(MID(rawrtf!A107,FIND(\"TFPTAG\",rawrtf!A107,1)+6,3))","v":{"$error":"#VALUE!"}}]
[1,"NOTAG",{"$f":"IF(ISERROR(D108),\"NOTAG\",VLOOKUP(D108,taglook!A:B,2,FALSE))","v":"NOTAG"},{"$f":"VALUE(MID(rawrtf!A108,FIND(\"TFPTAG\",rawrtf!A108,1)+6,3))","v":{"$error":"#VALUE!"}}]
[1,"NOTAG",{"$f":"IF(ISERROR(D109),\"NOTAG\",VLOOKUP(D109,taglook!A:B,2,FALSE))","v":"NOTAG"},{"$f":"VALUE(MID(rawrtf!A109,FIND(\"TFPTAG\",rawrtf!A109,1)+6,3))","v":{"$error":"#VALUE!"}}]
[1,"NOTAG",{"$f":"IF(ISERROR(D110),\"NOTAG\",VLOOKUP(D110,taglook!A:B,2,FALSE))","v":"NOTAG"},{"$f":"VALUE(MID(rawrtf!A110,FIND(\"TFPTAG\",rawrtf!A110,1)+6,3))","v":{"$error":"#VALUE!"}}]
[1,"NOTAG",{"$f":"IF(ISERROR(D111),\"NOTAG\",VLOOKUP(D111,taglook!A:B,2,FALSE))","v":"NOTAG"},{"$f":"VALUE(MID(rawrtf!A111,FIND(\"TFPTAG\",rawrtf!A111,1)+6,3))","v":{"$error":"#VALUE!"}}]
[1,"NOTAG",{"$f":"IF(ISERROR(D112),\"NOTAG\",VLOOKUP(D112,taglook!A:B,2,FALSE))","v":"NOTAG"},{"$f":"VALUE(MID(rawrtf!A112,FIND(\"TFPTAG\",rawrtf!A112,1)+6,3))","v":{"$error":"#VALUE!"}}]
[1,"NOTAG",{"$f":"IF(ISERROR(D113),\"NOTAG\",VLOOKUP(D113,taglook!A:B,2,FALSE))","v":"NOTAG"},{"$f":"VALUE(MID(rawrtf!A113,FIND(\"TFPTAG\",rawrtf!A113,1)+6,3))","v":{"$error":"#VALUE!"}}]
[1,"NOTAG",{"$f":"IF(ISERROR(D114),\"NOTAG\",VLOOKUP(D114,taglook!A:B,2,FALSE))","v":"NOTAG"},{"$f":"VALUE(MID(rawrtf!A114,FIND(\"TFPTAG\",rawrtf!A114,1)+6,3))","v":{"$error":"#VALUE!"}}]
[1,"NOTAG",{"$f":"IF(ISERROR(D115),\"NOTAG\",VLOOKUP(D115,taglook!A:B,2,FALSE))","v":"NOTAG"},{"$f":"VALUE(MID(rawrtf!A115,FIND(\"TFPTAG\",rawrtf!A115,1)+6,3))","v":{"$error":"#VALUE!"}}]
[1,"NOTAG",{"$f":"IF(ISERROR(D116),\"NOTAG\",VLOOKUP(D116,taglook!A:B,2,FALSE))","v":"NOTAG"},{"$f":"VALUE(MID(rawrtf!A116,FIND(\"TFPTAG\",rawrtf!A116,1)+6,3))","v":{"$error":"#VALUE!"}}]
[1,"NOTAG",{"$f":"IF(ISERROR(D117),\"NOTAG\",VLOOKUP(D117,taglook!A:B,2,FALSE))","v":"NOTAG"},{"$f":"VALUE(MID(rawrtf!A117,FIND(\"TFPTAG\",rawrtf!A117,1)+6,3))","v":{"$error":"#VALUE!"}}]
[1,"NOTAG",{"$f":"IF(ISERROR(D118),\"NOTAG\",VLOOKUP(D118,taglook!A:B,2,FALSE))","v":"NOTAG"},{"$f":"VALUE(MID(rawrtf!A118,FIND(\"TFPTAG\",rawrtf!A118,1)+6,3))","v":{"$error":"#VALUE!"}}]
[1,"NOTAG",{"$f":"IF(ISERROR(D119),\"NOTAG\",VLOOKUP(D119,taglook!A:B,2,FALSE))","v":"NOTAG"},{"$f":"VALUE(MID(rawrtf!A119,FIND(\"TFPTAG\",rawrtf!A119,1)+6,3))","v":{"$error":"#VALUE!"}}]
[1,"NOTAG",{"$f":"IF(ISERROR(D120),\"NOTAG\",VLOOKUP(D120,taglook!A:B,2,FALSE))","v":"NOTAG"},{"$f":"VALUE(MID(rawrtf!A120,FIND(\"TFPTAG\",rawrtf!A120,1)+6,3))","v":{"$error":"#VALUE!"}}]
[1,"NOTAG",{"$f":"IF(ISERROR(D121),\"NOTAG\",VLOOKUP(D121,taglook!A:B,2,FALSE))","v":"NOTAG"},{"$f":"VALUE(MID(rawrtf!A121,FIND(\"TFPTAG\",rawrtf!A121,1)+6,3))","v":{"$error":"#VALUE!"}}]
[1,"NOTAG",{"$f":"IF(ISERROR(D122),\"NOTAG\",VLOOKUP(D122,taglook!A:B,2,FALSE))","v":"NOTAG"},{"$f":"VALUE(MID(rawrtf!A122,FIND(\"TFPTAG\",rawrtf!A122,1)+6,3))","v":{"$error":"#VALUE!"}}]
[1,"NOTAG",{"$f":"IF(ISERROR(D123),\"NOTAG\",VLOOKUP(D123,taglook!A:B,2,FALSE))","v":"NOTAG"},{"$f":"VALUE(MID(rawrtf!A123,FIND(\"TFPTAG\",rawrtf!A123,1)+6,3))","v":{"$error":"#VALUE!"}}]
[1,"NOTAG",{"$f":"IF(ISERROR(D124),\"NOTAG\",VLOOKUP(D124,taglook!A:B,2,FALSE))","v":"NOTAG"},{"$f":"VALUE(MID(rawrtf!A124,FIND(\"TFPTAG\",rawrtf!A124,1)+6,3))","v":{"$error":"#VALUE!"}}]
[1,"NOTAG",{"$f":"IF(ISERROR(D125),\"NOTAG\",VLOOKUP(D125,taglook!A:B,2,FALSE))","v":"NOTAG"},{"$f":"VALUE(MID(rawrtf!A125,FIND(\"TFPTAG\",rawrtf!A125,1)+6,3))","v":{"$error":"#VALUE!"}}]
[1,"NOTAG",{"$f":"IF(ISERROR(D126),\"NOTAG\",VLOOKUP(D126,taglook!A:B,2,FALSE))","v":"NOTAG"},{"$f":"VALUE(MID(rawrtf!A126,FIND(\"TFPTAG\",rawrtf!A126,1)+6,3))","v":{"$error":"#VALUE!"}}]
[1,"NOTAG",{"$f":"IF(ISERROR(D127),\"NOTAG\",VLOOKUP(D127,taglook!A:B,2,FALSE))","v":"NOTAG"},{"$f":"VALUE(MID(rawrtf!A127,FIND(\"TFPTAG\",rawrtf!A127,1)+6,3))","v":{"$error":"#VALUE!"}}]
[1,"NOTAG",{"$f":"IF(ISERROR(D128),\"NOTAG\",VLOOKUP(D128,taglook!A:B,2,FALSE))","v":"NOTAG"},{"$f":"VALUE(MID(rawrtf!A128,FIND(\"TFPTAG\",rawrtf!A128,1)+6,3))","v":{"$error":"#VALUE!"}}]
[1,"NOTAG",{"$f":"IF(ISERROR(D129),\"NOTAG\",VLOOKUP(D129,taglook!A:B,2,FALSE))","v":"NOTAG"},{"$f":"VALUE(MID(rawrtf!A129,FIND(\"TFPTAG\",rawrtf!A129,1)+6,3))","v":{"$error":"#VALUE!"}}]
[1,"NOTAG",{"$f":"IF(ISERROR(D130),\"NOTAG\",VLOOKUP(D130,taglook!A:B,2,FALSE))","v":"NOTAG"},{"$f":"VALUE(MID(rawrtf!A130,FIND(\"TFPTAG\",rawrtf!A130,1)+6,3))","v":{"$error":"#VALUE!"}}]
[{"$f":"IF(OR(B131=\"SHOW\",B131=\"NOTAG\"),1,0)","v":1},"NOTAG",{"$f":"IF(ISERROR(D131),\"NOTAG\",VLOOKUP(D131,taglook!A:B,2,FALSE))","v":"NOTAG"},{"$f":"VALUE(MID(rawrtf!A131,FIND(\"TFPTAG\",rawrtf!A131,1)+6,3))","v":{"$error":"#VALUE!"}}]
[1,"NOTAG",{"$f":"IF(ISERROR(D132),\"NOTAG\",VLOOKUP(D132,taglook!A:B,2,FALSE))","v":"NOTAG"},{"$f":"VALUE(MID(rawrtf!A132,FIND(\"TFPTAG\",rawrtf!A132,1)+6,3))","v":{"$error":"#VALUE!"}}]
[1,"NOTAG",{"$f":"IF(ISERROR(D133),\"NOTAG\",VLOOKUP(D133,taglook!A:B,2,FALSE))","v":"NOTAG"},{"$f":"VALUE(MID(rawrtf!A133,FIND(\"TFPTAG\",rawrtf!A133,1)+6,3))","v":{"$error":"#VALUE!"}}]
[1,"NOTAG",{"$f":"IF(ISERROR(D134),\"NOTAG\",VLOOKUP(D134,taglook!A:B,2,FALSE))","v":"NOTAG"},{"$f":"VALUE(MID(rawrtf!A134,FIND(\"TFPTAG\",rawrtf!A134,1)+6,3))","v":{"$error":"#VALUE!"}}]
[1,"NOTAG",{"$f":"IF(ISERROR(D135),\"NOTAG\",VLOOKUP(D135,taglook!A:B,2,FALSE))","v":"NOTAG"},{"$f":"VALUE(MID(rawrtf!A135,FIND(\"TFPTAG\",rawrtf!A135,1)+6,3))","v":{"$error":"#VALUE!"}}]
[1,"NOTAG",{"$f":"IF(ISERROR(D136),\"NOTAG\",VLOOKUP(D136,taglook!A:B,2,FALSE))","v":"NOTAG"},{"$f":"VALUE(MID(rawrtf!A136,FIND(\"TFPTAG\",rawrtf!A136,1)+6,3))","v":{"$error":"#VALUE!"}}]
[1,"NOTAG",{"$f":"IF(ISERROR(D137),\"NOTAG\",VLOOKUP(D137,taglook!A:B,2,FALSE))","v":"NOTAG"},{"$f":"VALUE(MID(rawrtf!A137,FIND(\"TFPTAG\",rawrtf!A137,1)+6,3))","v":{"$error":"#VALUE!"}}]
[1,"NOTAG",{"$f":"IF(ISERROR(D138),\"NOTAG\",VLOOKUP(D138,taglook!A:B,2,FALSE))","v":"NOTAG"},{"$f":"VALUE(MID(rawrtf!A138,FIND(\"TFPTAG\",rawrtf!A138,1)+6,3))","v":{"$error":"#VALUE!"}}]
[1,"NOTAG",{"$f":"IF(ISERROR(D139),\"NOTAG\",VLOOKUP(D139,taglook!A:B,2,FALSE))","v":"NOTAG"},{"$f":"VALUE(MID(rawrtf!A139,FIND(\"TFPTAG\",rawrtf!A139,1)+6,3))","v":{"$error":"#VALUE!"}}]
[1,"NOTAG",{"$f":"IF(ISERROR(D140),\"NOTAG\",VLOOKUP(D140,taglook!A:B,2,FALSE))","v":"NOTAG"},{"$f":"VALUE(MID(rawrtf!A140,FIND(\"TFPTAG\",rawrtf!A140,1)+6,3))","v":{"$error":"#VALUE!"}}]
[1,"NOTAG",{"$f":"IF(ISERROR(D141),\"NOTAG\",VLOOKUP(D141,taglook!A:B,2,FALSE))","v":"NOTAG"},{"$f":"VALUE(MID(rawrtf!A141,FIND(\"TFPTAG\",rawrtf!A141,1)+6,3))","v":{"$error":"#VALUE!"}}]
[1,"NOTAG",{"$f":"IF(ISERROR(D142),\"NOTAG\",VLOOKUP(D142,taglook!A:B,2,FALSE))","v":"NOTAG"},{"$f":"VALUE(MID(rawrtf!A142,FIND(\"TFPTAG\",rawrtf!A142,1)+6,3))","v":{"$error":"#VALUE!"}}]
[1,"NOTAG",{"$f":"IF(ISERROR(D143),\"NOTAG\",VLOOKUP(D143,taglook!A:B,2,FALSE))","v":"NOTAG"},{"$f":"VALUE(MID(rawrtf!A143,FIND(\"TFPTAG\",rawrtf!A143,1)+6,3))","v":{"$error":"#VALUE!"}}]
[1,"NOTAG",{"$f":"IF(ISERROR(D144),\"NOTAG\",VLOOKUP(D144,taglook!A:B,2,FALSE))","v":"NOTAG"},{"$f":"VALUE(MID(rawrtf!A144,FIND(\"TFPTAG\",rawrtf!A144,1)+6,3))","v":{"$error":"#VALUE!"}}]
[1,"NOTAG",{"$f":"IF(ISERROR(D145),\"NOTAG\",VLOOKUP(D145,taglook!A:B,2,FALSE))","v":"NOTAG"},{"$f":"VALUE(MID(rawrtf!A145,FIND(\"TFPTAG\",rawrtf!A145,1)+6,3))","v":{"$error":"#VALUE!"}}]
[1,"NOTAG",{"$f":"IF(ISERROR(D146),\"NOTAG\",VLOOKUP(D146,taglook!A:B,2,FALSE))","v":"NOTAG"},{"$f":"VALUE(MID(rawrtf!A146,FIND(\"TFPTAG\",rawrtf!A146,1)+6,3))","v":{"$error":"#VALUE!"}}]
[1,"NOTAG",{"$f":"IF(ISERROR(D147),\"NOTAG\",VLOOKUP(D147,taglook!A:B,2,FALSE))","v":"NOTAG"},{"$f":"VALUE(MID(rawrtf!A147,FIND(\"TFPTAG\",rawrtf!A147,1)+6,3))","v":{"$error":"#VALUE!"}}]
[1,"NOTAG",{"$f":"IF(ISERROR(D148),\"NOTAG\",VLOOKUP(D148,taglook!A:B,2,FALSE))","v":"NOTAG"},{"$f":"VALUE(MID(rawrtf!A148,FIND(\"TFPTAG\",rawrtf!A148,1)+6,3))","v":{"$error":"#VALUE!"}}]
[1,"NOTAG",{"$f":"IF(ISERROR(D149),\"NOTAG\",VLOOKUP(D149,taglook!A:B,2,FALSE))","v":"NOTAG"},{"$f":"VALUE(MID(rawrtf!A149,FIND(\"TFPTAG\",rawrtf!A149,1)+6,3))","v":{"$error":"#VALUE!"}}]
[1,"NOTAG",{"$f":"IF(ISERROR(D150),\"NOTAG\",VLOOKUP(D150,taglook!A:B,2,FALSE))","v":"NOTAG"},{"$f":"VALUE(MID(rawrtf!A150,FIND(\"TFPTAG\",rawrtf!A150,1)+6,3))","v":{"$error":"#VALUE!"}}]
[1,"NOTAG",{"$f":"IF(ISERROR(D151),\"NOTAG\",VLOOKUP(D151,taglook!A:B,2,FALSE))","v":"NOTAG"},{"$f":"VALUE(MID(rawrtf!A151,FIND(\"TFPTAG\",rawrtf!A151,1)+6,3))","v":{"$error":"#VALUE!"}}]
[1,"NOTAG",{"$f":"IF(ISERROR(D152),\"NOTAG\",VLOOKUP(D152,taglook!A:B,2,FALSE))","v":"NOTAG"},{"$f":"VALUE(MID(rawrtf!A152,FIND(\"TFPTAG\",rawrtf!A152,1)+6,3))","v":{"$error":"#VALUE!"}}]
[1,"NOTAG",{"$f":"IF(ISERROR(D153),\"NOTAG\",VLOOKUP(D153,taglook!A:B,2,FALSE))","v":"NOTAG"},{"$f":"VALUE(MID(rawrtf!A153,FIND(\"TFPTAG\",rawrtf!A153,1)+6,3))","v":{"$error":"#VALUE!"}}]
[1,"NOTAG",{"$f":"IF(ISERROR(D154),\"NOTAG\",VLOOKUP(D154,taglook!A:B,2,FALSE))","v":"NOTAG"},{"$f":"VALUE(MID(rawrtf!A154,FIND(\"TFPTAG\",rawrtf!A154,1)+6,3))","v":{"$error":"#VALUE!"}}]
[1,"NOTAG",{"$f":"IF(ISERROR(D155),\"NOTAG\",VLOOKUP(D155,taglook!A:B,2,FALSE))","v":"NOTAG"},{"$f":"VALUE(MID(rawrtf!A155,FIND(\"TFPTAG\",rawrtf!A155,1)+6,3))","v":{"$error":"#VALUE!"}}]
[1,"NOTAG",{"$f":"IF(ISERROR(D156),\"NOTAG\",VLOOKUP(D156,taglook!A:B,2,FALSE))","v":"NOTAG"},{"$f":"VALUE(MID(rawrtf!A156,FIND(\"TFPTAG\",rawrtf!A156,1)+6,3))","v":{"$error":"#VALUE!"}}]
[1,"NOTAG",{"$f":"IF(ISERROR(D157),\"NOTAG\",VLOOKUP(D157,taglook!A:B,2,FALSE))","v":"NOTAG"},{"$f":"VALUE(MID(rawrtf!A157,FIND(\"TFPTAG\",rawrtf!A157,1)+6,3))","v":{"$error":"#VALUE!"}}]
[1,"NOTAG",{"$f":"IF(ISERROR(D158),\"NOTAG\",VLOOKUP(D158,taglook!A:B,2,FALSE))","v":"NOTAG"},{"$f":"VALUE(MID(rawrtf!A158,FIND(\"TFPTAG\",rawrtf!A158,1)+6,3))","v":{"$error":"#VALUE!"}}]
[1,"NOTAG",{"$f":"IF(ISERROR(D159),\"NOTAG\",VLOOKUP(D159,taglook!A:B,2,FALSE))","v":"NOTAG"},{"$f":"VALUE(MID(rawrtf!A159,FIND(\"TFPTAG\",rawrtf!A159,1)+6,3))","v":{"$error":"#VALUE!"}}]
[1,"NOTAG",{"$f":"IF(ISERROR(D160),\"NOTAG\",VLOOKUP(D160,taglook!A:B,2,FALSE))","v":"NOTAG"},{"$f":"VALUE(MID(rawrtf!A160,FIND(\"TFPTAG\",rawrtf!A160,1)+6,3))","v":{"$error":"#VALUE!"}}]
[1,"NOTAG",{"$f":"IF(ISERROR(D161),\"NOTAG\",VLOOKUP(D161,taglook!A:B,2,FALSE))","v":"NOTAG"},{"$f":"VALUE(MID(rawrtf!A161,FIND(\"TFPTAG\",rawrtf!A161,1)+6,3))","v":{"$error":"#VALUE!"}}]
[1,"NOTAG",{"$f":"IF(ISERROR(D162),\"NOTAG\",VLOOKUP(D162,taglook!A:B,2,FALSE))","v":"NOTAG"},{"$f":"VALUE(MID(rawrtf!A162,FIND(\"TFPTAG\",rawrtf!A162,1)+6,3))","v":{"$error":"#VALUE!"}}]
[1,"NOTAG",{"$f":"IF(ISERROR(D163),\"NOTAG\",VLOOKUP(D163,taglook!A:B,2,FALSE))","v":"NOTAG"},{"$f":"VALUE(MID(rawrtf!A163,FIND(\"TFPTAG\",rawrtf!A163,1)+6,3))","v":{"$error":"#VALUE!"}}]
[1,"NOTAG",{"$f":"IF(ISERROR(D164),\"NOTAG\",VLOOKUP(D164,taglook!A:B,2,FALSE))","v":"NOTAG"},{"$f":"VALUE(MID(rawrtf!A164,FIND(\"TFPTAG\",rawrtf!A164,1)+6,3))","v":{"$error":"#VALUE!"}}]
[1,{"$f":"IF(ISNA(C165),\"REDTAG\",IF(C165=\"NOTAG\",\"NOTAG\",IF(C165=1,\"SHOW\",IF(C165=0,\"HIDE\",\"ERROR\"))))","v":"NOTAG"},{"$f":"IF(ISERROR(D165),\"NOTAG\",VLOOKUP(D165,taglook!A:B,2,FALSE))","v":"NOTAG"},{"$f":"VALUE(MID(rawrtf!A165,FIND(\"TFPTAG\",rawrtf!A165,1)+6,3))","v":{"$error":"#VALUE!"}}]
[1,"NOTAG",{"$f":"IF(ISERROR(D166),\"NOTAG\",VLOOKUP(D166,taglook!A:B,2,FALSE))","v":"NOTAG"},{"$f":"VALUE(MID(rawrtf!A166,FIND(\"TFPTAG\",rawrtf!A166,1)+6,3))","v":{"$error":"#VALUE!"}}]
[1,"NOTAG",{"$f":"IF(ISERROR(D167),\"NOTAG\",VLOOKUP(D167,taglook!A:B,2,FALSE))","v":"NOTAG"},{"$f":"VALUE(MID(rawrtf!A167,FIND(\"TFPTAG\",rawrtf!A167,1)+6,3))","v":{"$error":"#VALUE!"}}]
[1,"NOTAG",{"$f":"IF(ISERROR(D168),\"NOTAG\",VLOOKUP(D168,taglook!A:B,2,FALSE))","v":"NOTAG"},{"$f":"VALUE(MID(rawrtf!A168,FIND(\"TFPTAG\",rawrtf!A168,1)+6,3))","v":{"$error":"#VALUE!"}}]
[1,"NOTAG",{"$f":"IF(ISERROR(D169),\"NOTAG\",VLOOKUP(D169,taglook!A:B,2,FALSE))","v":"NOTAG"},{"$f":"VALUE(MID(rawrtf!A169,FIND(\"TFPTAG\",rawrtf!A169,1)+6,3))","v":{"$error":"#VALUE!"}}]
[1,"NOTAG",{"$f":"IF(ISERROR(D170),\"NOTAG\",VLOOKUP(D170,taglook!A:B,2,FALSE))","v":"NOTAG"},{"$f":"VALUE(MID(rawrtf!A170,FIND(\"TFPTAG\",rawrtf!A170,1)+6,3))","v":{"$error":"#VALUE!"}}]
[1,"NOTAG",{"$f":"IF(ISERROR(D171),\"NOTAG\",VLOOKUP(D171,taglook!A:B,2,FALSE))","v":"NOTAG"},{"$f":"VALUE(MID(rawrtf!A171,FIND(\"TFPTAG\",rawrtf!A171,1)+6,3))","v":{"$error":"#VALUE!"}}]
[1,"NOTAG",{"$f":"IF(ISERROR(D172),\"NOTAG\",VLOOKUP(D172,taglook!A:B,2,FALSE))","v":"NOTAG"},{"$f":"VALUE(MID(rawrtf!A172,FIND(\"TFPTAG\",rawrtf!A172,1)+6,3))","v":{"$error":"#VALUE!"}}]
[1,"NOTAG",{"$f":"IF(ISERROR(D173),\"NOTAG\",VLOOKUP(D173,taglook!A:B,2,FALSE))","v":"NOTAG"},{"$f":"VALUE(MID(rawrtf!A173,FIND(\"TFPTAG\",rawrtf!A173,1)+6,3))","v":{"$error":"#VALUE!"}}]
[1,"NOTAG",{"$f":"IF(ISERROR(D174),\"NOTAG\",VLOOKUP(D174,taglook!A:B,2,FALSE))","v":"NOTAG"},{"$f":"VALUE(MID(rawrtf!A174,FIND(\"TFPTAG\",rawrtf!A174,1)+6,3))","v":{"$error":"#VALUE!"}}]
[1,"NOTAG",{"$f":"IF(ISERROR(D175),\"NOTAG\",VLOOKUP(D175,taglook!A:B,2,FALSE))","v":"NOTAG"},{"$f":"VALUE(MID(rawrtf!A175,FIND(\"TFPTAG\",rawrtf!A175,1)+6,3))","v":{"$error":"#VALUE!"}}]
[1,"NOTAG",{"$f":"IF(ISERROR(D176),\"NOTAG\",VLOOKUP(D176,taglook!A:B,2,FALSE))","v":"NOTAG"},{"$f":"VALUE(MID(rawrtf!A176,FIND(\"TFPTAG\",rawrtf!A176,1)+6,3))","v":{"$error":"#VALUE!"}}]
[1,"NOTAG",{"$f":"IF(ISERROR(D177),\"NOTAG\",VLOOKUP(D177,taglook!A:B,2,FALSE))","v":"NOTAG"},{"$f":"VALUE(MID(rawrtf!A177,FIND(\"TFPTAG\",rawrtf!A177,1)+6,3))","v":{"$error":"#VALUE!"}}]
[1,"NOTAG",{"$f":"IF(ISERROR(D178),\"NOTAG\",VLOOKUP(D178,taglook!A:B,2,FALSE))","v":"NOTAG"},{"$f":"VALUE(MID(rawrtf!A178,FIND(\"TFPTAG\",rawrtf!A178,1)+6,3))","v":{"$error":"#VALUE!"}}]
[1,"NOTAG",{"$f":"IF(ISERROR(D179),\"NOTAG\",VLOOKUP(D179,taglook!A:B,2,FALSE))","v":"NOTAG"},{"$f":"VALUE(MID(rawrtf!A179,FIND(\"TFPTAG\",rawrtf!A179,1)+6,3))","v":{"$error":"#VALUE!"}}]
[1,"NOTAG",{"$f":"IF(ISERROR(D180),\"NOTAG\",VLOOKUP(D180,taglook!A:B,2,FALSE))","v":"NOTAG"},{"$f":"VALUE(MID(rawrtf!A180,FIND(\"TFPTAG\",rawrtf!A180,1)+6,3))","v":{"$error":"#VALUE!"}}]
[1,"NOTAG",{"$f":"IF(ISERROR(D181),\"NOTAG\",VLOOKUP(D181,taglook!A:B,2,FALSE))","v":"NOTAG"},{"$f":"VALUE(MID(rawrtf!A181,FIND(\"TFPTAG\",rawrtf!A181,1)+6,3))","v":{"$error":"#VALUE!"}}]
[1,"NOTAG",{"$f":"IF(ISERROR(D182),\"NOTAG\",VLOOKUP(D182,taglook!A:B,2,FALSE))","v":"NOTAG"},{"$f":"VALUE(MID(rawrtf!A182,FIND(\"TFPTAG\",rawrtf!A182,1)+6,3))","v":{"$error":"#VALUE!"}}]
[1,"NOTAG",{"$f":"IF(ISERROR(D183),\"NOTAG\",VLOOKUP(D183,taglook!A:B,2,FALSE))","v":"NOTAG"},{"$f":"VALUE(MID(rawrtf!A183,FIND(\"TFPTAG\",rawrtf!A183,1)+6,3))","v":{"$error":"#VALUE!"}}]
[1,"NOTAG",{"$f":"IF(ISERROR(D184),\"NOTAG\",VLOOKUP(D184,taglook!A:B,2,FALSE))","v":"NOTAG"},{"$f":"VALUE(MID(rawrtf!A184,FIND(\"TFPTAG\",rawrtf!A184,1)+6,3))","v":{"$error":"#VALUE!"}}]
[1,"NOTAG",{"$f":"IF(ISERROR(D185),\"NOTAG\",VLOOKUP(D185,taglook!A:B,2,FALSE))","v":"NOTAG"},{"$f":"VALUE(MID(rawrtf!A185,FIND(\"TFPTAG\",rawrtf!A185,1)+6,3))","v":{"$error":"#VALUE!"}}]
[1,"NOTAG",{"$f":"IF(ISERROR(D186),\"NOTAG\",VLOOKUP(D186,taglook!A:B,2,FALSE))","v":"NOTAG"},{"$f":"VALUE(MID(rawrtf!A186,FIND(\"TFPTAG\",rawrtf!A186,1)+6,3))","v":{"$error":"#VALUE!"}}]
[1,"NOTAG",{"$f":"IF(ISERROR(D187),\"NOTAG\",VLOOKUP(D187,taglook!A:B,2,FALSE))","v":"NOTAG"},{"$f":"VALUE(MID(rawrtf!A187,FIND(\"TFPTAG\",rawrtf!A187,1)+6,3))","v":{"$error":"#VALUE!"}}]
[1,"NOTAG",{"$f":"IF(ISERROR(D188),\"NOTAG\",VLOOKUP(D188,taglook!A:B,2,FALSE))","v":"NOTAG"},{"$f":"VALUE(MID(rawrtf!A188,FIND(\"TFPTAG\",rawrtf!A188,1)+6,3))","v":{"$error":"#VALUE!"}}]
[1,"NOTAG",{"$f":"IF(ISERROR(D189),\"NOTAG\",VLOOKUP(D189,taglook!A:B,2,FALSE))","v":"NOTAG"},{"$f":"VALUE(MID(rawrtf!A189,FIND(\"TFPTAG\",rawrtf!A189,1)+6,3))","v":{"$error":"#VALUE!"}}]
[1,"NOTAG",{"$f":"IF(ISERROR(D190),\"NOTAG\",VLOOKUP(D190,taglook!A:B,2,FALSE))","v":"NOTAG"},{"$f":"VALUE(MID(rawrtf!A190,FIND(\"TFPTAG\",rawrtf!A190,1)+6,3))","v":{"$error":"#VALUE!"}}]
[1,"NOTAG",{"$f":"IF(ISERROR(D191),\"NOTAG\",VLOOKUP(D191,taglook!A:B,2,FALSE))","v":"NOTAG"},{"$f":"VALUE(MID(rawrtf!A191,FIND(\"TFPTAG\",rawrtf!A191,1)+6,3))","v":{"$error":"#VALUE!"}}]
[1,"NOTAG",{"$f":"IF(ISERROR(D192),\"NOTAG\",VLOOKUP(D192,taglook!A:B,2,FALSE))","v":"NOTAG"},{"$f":"VALUE(MID(rawrtf!A192,FIND(\"TFPTAG\",rawrtf!A192,1)+6,3))","v":{"$error":"#VALUE!"}}]
[1,"NOTAG",{"$f":"IF(ISERROR(D193),\"NOTAG\",VLOOKUP(D193,taglook!A:B,2,FALSE))","v":"NOTAG"},{"$f":"VALUE(MID(rawrtf!A193,FIND(\"TFPTAG\",rawrtf!A193,1)+6,3))","v":{"$error":"#VALUE!"}}]
[1,"NOTAG",{"$f":"IF(ISERROR(D194),\"NOTAG\",VLOOKUP(D194,taglook!A:B,2,FALSE))","v":"NOTAG"},{"$f":"VALUE(MID(rawrtf!A194,FIND(\"TFPTAG\",rawrtf!A194,1)+6,3))","v":{"$error":"#VALUE!"}}]
[{"$f":"IF(OR(B195=\"SHOW\",B195=\"NOTAG\"),1,0)","v":1},"NOTAG",{"$f":"IF(ISERROR(D195),\"NOTAG\",VLOOKUP(D195,taglook!A:B,2,FALSE))","v":"NOTAG"},{"$f":"VALUE(MID(rawrtf!A195,FIND(\"TFPTAG\",rawrtf!A195,1)+6,3))","v":{"$error":"#VALUE!"}}]
[1,"NOTAG",{"$f":"IF(ISERROR(D196),\"NOTAG\",VLOOKUP(D196,taglook!A:B,2,FALSE))","v":"NOTAG"},{"$f":"VALUE(MID(rawrtf!A196,FIND(\"TFPTAG\",rawrtf!A196,1)+6,3))","v":{"$error":"#VALUE!"}}]
[1,"NOTAG",{"$f":"IF(ISERROR(D197),\"NOTAG\",VLOOKUP(D197,taglook!A:B,2,FALSE))","v":"NOTAG"},{"$f":"VALUE(MID(rawrtf!A197,FIND(\"TFPTAG\",rawrtf!A197,1)+6,3))","v":{"$error":"#VALUE!"}}]
[1,"NOTAG",{"$f":"IF(ISERROR(D198),\"NOTAG\",VLOOKUP(D198,taglook!A:B,2,FALSE))","v":"NOTAG"},{"$f":"VALUE(MID(rawrtf!A198,FIND(\"TFPTAG\",rawrtf!A198,1)+6,3))","v":{"$error":"#VALUE!"}}]
[1,"NOTAG",{"$f":"IF(ISERROR(D199),\"NOTAG\",VLOOKUP(D199,taglook!A:B,2,FALSE))","v":"NOTAG"},{"$f":"VALUE(MID(rawrtf!A199,FIND(\"TFPTAG\",rawrtf!A199,1)+6,3))","v":{"$error":"#VALUE!"}}]
[1,"NOTAG",{"$f":"IF(ISERROR(D200),\"NOTAG\",VLOOKUP(D200,taglook!A:B,2,FALSE))","v":"NOTAG"},{"$f":"VALUE(MID(rawrtf!A200,FIND(\"TFPTAG\",rawrtf!A200,1)+6,3))","v":{"$error":"#VALUE!"}}]
[1,"NOTAG",{"$f":"IF(ISERROR(D201),\"NOTAG\",VLOOKUP(D201,taglook!A:B,2,FALSE))","v":"NOTAG"},{"$f":"VALUE(MID(rawrtf!A201,FIND(\"TFPTAG\",rawrtf!A201,1)+6,3))","v":{"$error":"#VALUE!"}}]
[1,"NOTAG",{"$f":"IF(ISERROR(D202),\"NOTAG\",VLOOKUP(D202,taglook!A:B,2,FALSE))","v":"NOTAG"},{"$f":"VALUE(MID(rawrtf!A202,FIND(\"TFPTAG\",rawrtf!A202,1)+6,3))","v":{"$error":"#VALUE!"}}]
[1,"NOTAG",{"$f":"IF(ISERROR(D203),\"NOTAG\",VLOOKUP(D203,taglook!A:B,2,FALSE))","v":"NOTAG"},{"$f":"VALUE(MID(rawrtf!A203,FIND(\"TFPTAG\",rawrtf!A203,1)+6,3))","v":{"$error":"#VALUE!"}}]
[1,"NOTAG",{"$f":"IF(ISERROR(D204),\"NOTAG\",VLOOKUP(D204,taglook!A:B,2,FALSE))","v":"NOTAG"},{"$f":"VALUE(MID(rawrtf!A204,FIND(\"TFPTAG\",rawrtf!A204,1)+6,3))","v":{"$error":"#VALUE!"}}]
[1,"NOTAG",{"$f":"IF(ISERROR(D205),\"NOTAG\",VLOOKUP(D205,taglook!A:B,2,FALSE))","v":"NOTAG"},{"$f":"VALUE(MID(rawrtf!A205,FIND(\"TFPTAG\",rawrtf!A205,1)+6,3))","v":{"$error":"#VALUE!"}}]
[1,"NOTAG",{"$f":"IF(ISERROR(D206),\"NOTAG\",VLOOKUP(D206,taglook!A:B,2,FALSE))","v":"NOTAG"},{"$f":"VALUE(MID(rawrtf!A206,FIND(\"TFPTAG\",rawrtf!A206,1)+6,3))","v":{"$error":"#VALUE!"}}]
[1,"NOTAG",{"$f":"IF(ISERROR(D207),\"NOTAG\",VLOOKUP(D207,taglook!A:B,2,FALSE))","v":"NOTAG"},{"$f":"VALUE(MID(rawrtf!A207,FIND(\"TFPTAG\",rawrtf!A207,1)+6,3))","v":{"$error":"#VALUE!"}}]
[1,"NOTAG",{"$f":"IF(ISERROR(D208),\"NOTAG\",VLOOKUP(D208,taglook!A:B,2,FALSE))","v":"NOTAG"},{"$f":"VALUE(MID(rawrtf!A208,FIND(\"TFPTAG\",rawrtf!A208,1)+6,3))","v":{"$error":"#VALUE!"}}]
[1,"NOTAG",{"$f":"IF(ISERROR(D209),\"NOTAG\",VLOOKUP(D209,taglook!A:B,2,FALSE))","v":"NOTAG"},{"$f":"VALUE(MID(rawrtf!A209,FIND(\"TFPTAG\",rawrtf!A209,1)+6,3))","v":{"$error":"#VALUE!"}}]
[1,"NOTAG",{"$f":"IF(ISERROR(D210),\"NOTAG\",VLOOKUP(D210,taglook!A:B,2,FALSE))","v":"NOTAG"},{"$f":"VALUE(MID(rawrtf!A210,FIND(\"TFPTAG\",rawrtf!A210,1)+6,3))","v":{"$error":"#VALUE!"}}]
[1,"NOTAG",{"$f":"IF(ISERROR(D211),\"NOTAG\",VLOOKUP(D211,taglook!A:B,2,FALSE))","v":"NOTAG"},{"$f":"VALUE(MID(rawrtf!A211,FIND(\"TFPTAG\",rawrtf!A211,1)+6,3))","v":{"$error":"#VALUE!"}}]
[1,"NOTAG",{"$f":"IF(ISERROR(D212),\"NOTAG\",VLOOKUP(D212,taglook!A:B,2,FALSE))","v":"NOTAG"},{"$f":"VALUE(MID(rawrtf!A212,FIND(\"TFPTAG\",rawrtf!A212,1)+6,3))","v":{"$error":"#VALUE!"}}]
[1,"NOTAG",{"$f":"IF(ISERROR(D213),\"NOTAG\",VLOOKUP(D213,taglook!A:B,2,FALSE))","v":"NOTAG"},{"$f":"VALUE(MID(rawrtf!A213,FIND(\"TFPTAG\",rawrtf!A213,1)+6,3))","v":{"$error":"#VALUE!"}}]
[1,"NOTAG",{"$f":"IF(ISERROR(D214),\"NOTAG\",VLOOKUP(D214,taglook!A:B,2,FALSE))","v":"NOTAG"},{"$f":"VALUE(MID(rawrtf!A214,FIND(\"TFPTAG\",rawrtf!A214,1)+6,3))","v":{"$error":"#VALUE!"}}]
[1,"NOTAG",{"$f":"IF(ISERROR(D215),\"NOTAG\",VLOOKUP(D215,taglook!A:B,2,FALSE))","v":"NOTAG"},{"$f":"VALUE(MID(rawrtf!A215,FIND(\"TFPTAG\",rawrtf!A215,1)+6,3))","v":{"$error":"#VALUE!"}}]
[1,"NOTAG",{"$f":"IF(ISERROR(D216),\"NOTAG\",VLOOKUP(D216,taglook!A:B,2,FALSE))","v":"NOTAG"},{"$f":"VALUE(MID(rawrtf!A216,FIND(\"TFPTAG\",rawrtf!A216,1)+6,3))","v":{"$error":"#VALUE!"}}]
[1,"NOTAG",{"$f":"IF(ISERROR(D217),\"NOTAG\",VLOOKUP(D217,taglook!A:B,2,FALSE))","v":"NOTAG"},{"$f":"VALUE(MID(rawrtf!A217,FIND(\"TFPTAG\",rawrtf!A217,1)+6,3))","v":{"$error":"#VALUE!"}}]
[1,"NOTAG",{"$f":"IF(ISERROR(D218),\"NOTAG\",VLOOKUP(D218,taglook!A:B,2,FALSE))","v":"NOTAG"},{"$f":"VALUE(MID(rawrtf!A218,FIND(\"TFPTAG\",rawrtf!A218,1)+6,3))","v":{"$error":"#VALUE!"}}]
[1,"NOTAG",{"$f":"IF(ISERROR(D219),\"NOTAG\",VLOOKUP(D219,taglook!A:B,2,FALSE))","v":"NOTAG"},{"$f":"VALUE(MID(rawrtf!A219,FIND(\"TFPTAG\",rawrtf!A219,1)+6,3))","v":{"$error":"#VALUE!"}}]
[1,"NOTAG",{"$f":"IF(ISERROR(D220),\"NOTAG\",VLOOKUP(D220,taglook!A:B,2,FALSE))","v":"NOTAG"},{"$f":"VALUE(MID(rawrtf!A220,FIND(\"TFPTAG\",rawrtf!A220,1)+6,3))","v":{"$error":"#VALUE!"}}]
[1,"NOTAG",{"$f":"IF(ISERROR(D221),\"NOTAG\",VLOOKUP(D221,taglook!A:B,2,FALSE))","v":"NOTAG"},{"$f":"VALUE(MID(rawrtf!A221,FIND(\"TFPTAG\",rawrtf!A221,1)+6,3))","v":{"$error":"#VALUE!"}}]
[1,"NOTAG",{"$f":"IF(ISERROR(D222),\"NOTAG\",VLOOKUP(D222,taglook!A:B,2,FALSE))","v":"NOTAG"},{"$f":"VALUE(MID(rawrtf!A222,FIND(\"TFPTAG\",rawrtf!A222,1)+6,3))","v":{"$error":"#VALUE!"}}]
[1,"NOTAG",{"$f":"IF(ISERROR(D223),\"NOTAG\",VLOOKUP(D223,taglook!A:B,2,FALSE))","v":"NOTAG"},{"$f":"VALUE(MID(rawrtf!A223,FIND(\"TFPTAG\",rawrtf!A223,1)+6,3))","v":{"$error":"#VALUE!"}}]
[1,"NOTAG",{"$f":"IF(ISERROR(D224),\"NOTAG\",VLOOKUP(D224,taglook!A:B,2,FALSE))","v":"NOTAG"},{"$f":"VALUE(MID(rawrtf!A224,FIND(\"TFPTAG\",rawrtf!A224,1)+6,3))","v":{"$error":"#VALUE!"}}]
[1,"NOTAG",{"$f":"IF(ISERROR(D225),\"NOTAG\",VLOOKUP(D225,taglook!A:B,2,FALSE))","v":"NOTAG"},{"$f":"VALUE(MID(rawrtf!A225,FIND(\"TFPTAG\",rawrtf!A225,1)+6,3))","v":{"$error":"#VALUE!"}}]
[1,"NOTAG",{"$f":"IF(ISERROR(D226),\"NOTAG\",VLOOKUP(D226,taglook!A:B,2,FALSE))","v":"NOTAG"},{"$f":"VALUE(MID(rawrtf!A226,FIND(\"TFPTAG\",rawrtf!A226,1)+6,3))","v":{"$error":"#VALUE!"}}]
[1,"NOTAG",{"$f":"IF(ISERROR(D227),\"NOTAG\",VLOOKUP(D227,taglook!A:B,2,FALSE))","v":"NOTAG"},{"$f":"VALUE(MID(rawrtf!A227,FIND(\"TFPTAG\",rawrtf!A227,1)+6,3))","v":{"$error":"#VALUE!"}}]
[1,"NOTAG",{"$f":"IF(ISERROR(D228),\"NOTAG\",VLOOKUP(D228,taglook!A:B,2,FALSE))","v":"NOTAG"},{"$f":"VALUE(MID(rawrtf!A228,FIND(\"TFPTAG\",rawrtf!A228,1)+6,3))","v":{"$error":"#VALUE!"}}]
[1,{"$f":"IF(ISNA(C229),\"REDTAG\",IF(C229=\"NOTAG\",\"NOTAG\",IF(C229=1,\"SHOW\",IF(C229=0,\"HIDE\",\"ERROR\"))))","v":"NOTAG"},{"$f":"IF(ISERROR(D229),\"NOTAG\",VLOOKUP(D229,taglook!A:B,2,FALSE))","v":"NOTAG"},{"$f":"VALUE(MID(rawrtf!A229,FIND(\"TFPTAG\",rawrtf!A229,1)+6,3))","v":{"$error":"#VALUE!"}}]
[1,"NOTAG",{"$f":"IF(ISERROR(D230),\"NOTAG\",VLOOKUP(D230,taglook!A:B,2,FALSE))","v":"NOTAG"},{"$f":"VALUE(MID(rawrtf!A230,FIND(\"TFPTAG\",rawrtf!A230,1)+6,3))","v":{"$error":"#VALUE!"}}]
[1,"NOTAG",{"$f":"IF(ISERROR(D231),\"NOTAG\",VLOOKUP(D231,taglook!A:B,2,FALSE))","v":"NOTAG"},{"$f":"VALUE(MID(rawrtf!A231,FIND(\"TFPTAG\",rawrtf!A231,1)+6,3))","v":{"$error":"#VALUE!"}}]
[1,"NOTAG",{"$f":"IF(ISERROR(D232),\"NOTAG\",VLOOKUP(D232,taglook!A:B,2,FALSE))","v":"NOTAG"},{"$f":"VALUE(MID(rawrtf!A232,FIND(\"TFPTAG\",rawrtf!A232,1)+6,3))","v":{"$error":"#VALUE!"}}]
[1,"NOTAG",{"$f":"IF(ISERROR(D233),\"NOTAG\",VLOOKUP(D233,taglook!A:B,2,FALSE))","v":"NOTAG"},{"$f":"VALUE(MID(rawrtf!A233,FIND(\"TFPTAG\",rawrtf!A233,1)+6,3))","v":{"$error":"#VALUE!"}}]
[1,"NOTAG",{"$f":"IF(ISERROR(D234),\"NOTAG\",VLOOKUP(D234,taglook!A:B,2,FALSE))","v":"NOTAG"},{"$f":"VALUE(MID(rawrtf!A234,FIND(\"TFPTAG\",rawrtf!A234,1)+6,3))","v":{"$error":"#VALUE!"}}]
[1,"NOTAG",{"$f":"IF(ISERROR(D235),\"NOTAG\",VLOOKUP(D235,taglook!A:B,2,FALSE))","v":"NOTAG"},{"$f":"VALUE(MID(rawrtf!A235,FIND(\"TFPTAG\",rawrtf!A235,1)+6,3))","v":{"$error":"#VALUE!"}}]
[1,"NOTAG",{"$f":"IF(ISERROR(D236),\"NOTAG\",VLOOKUP(D236,taglook!A:B,2,FALSE))","v":"NOTAG"},{"$f":"VALUE(MID(rawrtf!A236,FIND(\"TFPTAG\",rawrtf!A236,1)+6,3))","v":{"$error":"#VALUE!"}}]
[1,"NOTAG",{"$f":"IF(ISERROR(D237),\"NOTAG\",VLOOKUP(D237,taglook!A:B,2,FALSE))","v":"NOTAG"},{"$f":"VALUE(MID(rawrtf!A237,FIND(\"TFPTAG\",rawrtf!A237,1)+6,3))","v":{"$error":"#VALUE!"}}]
[1,"NOTAG",{"$f":"IF(ISERROR(D238),\"NOTAG\",VLOOKUP(D238,taglook!A:B,2,FALSE))","v":"NOTAG"},{"$f":"VALUE(MID(rawrtf!A238,FIND(\"TFPTAG\",rawrtf!A238,1)+6,3))","v":{"$error":"#VALUE!"}}]
[1,"NOTAG",{"$f":"IF(ISERROR(D239),\"NOTAG\",VLOOKUP(D239,taglook!A:B,2,FALSE))","v":"NOTAG"},{"$f":"VALUE(MID(rawrtf!A239,FIND(\"TFPTAG\",rawrtf!A239,1)+6,3))","v":{"$error":"#VALUE!"}}]
[1,"NOTAG",{"$f":"IF(ISERROR(D240),\"NOTAG\",VLOOKUP(D240,taglook!A:B,2,FALSE))","v":"NOTAG"},{"$f":"VALUE(MID(rawrtf!A240,FIND(\"TFPTAG\",rawrtf!A240,1)+6,3))","v":{"$error":"#VALUE!"}}]
[1,"NOTAG",{"$f":"IF(ISERROR(D241),\"NOTAG\",VLOOKUP(D241,taglook!A:B,2,FALSE))","v":"NOTAG"},{"$f":"VALUE(MID(rawrtf!A241,FIND(\"TFPTAG\",rawrtf!A241,1)+6,3))","v":{"$error":"#VALUE!"}}]
[0,"HIDE",{"$f":"IF(ISERROR(D242),\"NOTAG\",VLOOKUP(D242,taglook!A:B,2,FALSE))","v":0},{"$f":"VALUE(MID(rawrtf!A242,FIND(\"TFPTAG\",rawrtf!A242,1)+6,3))","v":191}]
[0,"HIDE",{"$f":"IF(ISERROR(D243),\"NOTAG\",VLOOKUP(D243,taglook!A:B,2,FALSE))","v":0},{"$f":"VALUE(MID(rawrtf!A243,FIND(\"TFPTAG\",rawrtf!A243,1)+6,3))","v":276}]
[0,"HIDE",{"$f":"IF(ISERROR(D244),\"NOTAG\",VLOOKUP(D244,taglook!A:B,2,FALSE))","v":0},{"$f":"VALUE(MID(rawrtf!A244,FIND(\"TFPTAG\",rawrtf!A244,1)+6,3))","v":361}]
[0,"HIDE",{"$f":"IF(ISERROR(D245),\"NOTAG\",VLOOKUP(D245,taglook!A:B,2,FALSE))","v":0},{"$f":"VALUE(MID(rawrtf!A245,FIND(\"TFPTAG\",rawrtf!A245,1)+6,3))","v":446}]
[1,"NOTAG",{"$f":"IF(ISERROR(D246),\"NOTAG\",VLOOKUP(D246,taglook!A:B,2,FALSE))","v":"NOTAG"},{"$f":"VALUE(MID(rawrtf!A246,FIND(\"TFPTAG\",rawrtf!A246,1)+6,3))","v":{"$error":"#VALUE!"}}]
[1,"NOTAG",{"$f":"IF(ISERROR(D247),\"NOTAG\",VLOOKUP(D247,taglook!A:B,2,FALSE))","v":"NOTAG"},{"$f":"VALUE(MID(rawrtf!A247,FIND(\"TFPTAG\",rawrtf!A247,1)+6,3))","v":{"$error":"#VALUE!"}}]
[1,"NOTAG",{"$f":"IF(ISERROR(D248),\"NOTAG\",VLOOKUP(D248,taglook!A:B,2,FALSE))","v":"NOTAG"},{"$f":"VALUE(MID(rawrtf!A248,FIND(\"TFPTAG\",rawrtf!A248,1)+6,3))","v":{"$error":"#VALUE!"}}]
[1,"NOTAG",{"$f":"IF(ISERROR(D249),\"NOTAG\",VLOOKUP(D249,taglook!A:B,2,FALSE))","v":"NOTAG"},{"$f":"VALUE(MID(rawrtf!A249,FIND(\"TFPTAG\",rawrtf!A249,1)+6,3))","v":{"$error":"#VALUE!"}}]
[1,"NOTAG",{"$f":"IF(ISERROR(D250),\"NOTAG\",VLOOKUP(D250,taglook!A:B,2,FALSE))","v":"NOTAG"},{"$f":"VALUE(MID(rawrtf!A250,FIND(\"TFPTAG\",rawrtf!A250,1)+6,3))","v":{"$error":"#VALUE!"}}]
[0,"HIDE",{"$f":"IF(ISERROR(D251),\"NOTAG\",VLOOKUP(D251,taglook!A:B,2,FALSE))","v":0},{"$f":"VALUE(MID(rawrtf!A251,FIND(\"TFPTAG\",rawrtf!A251,1)+6,3))","v":111}]
[1,"SHOW",{"$f":"IF(ISERROR(D252),\"NOTAG\",VLOOKUP(D252,taglook!A:B,2,FALSE))","v":1},{"$f":"VALUE(MID(rawrtf!A252,FIND(\"TFPTAG\",rawrtf!A252,1)+6,3))","v":112}]
[1,"NOTAG",{"$f":"IF(ISERROR(D253),\"NOTAG\",VLOOKUP(D253,taglook!A:B,2,FALSE))","v":"NOTAG"},{"$f":"VALUE(MID(rawrtf!A253,FIND(\"TFPTAG\",rawrtf!A253,1)+6,3))","v":{"$error":"#VALUE!"}}]
[1,"NOTAG",{"$f":"IF(ISERROR(D254),\"NOTAG\",VLOOKUP(D254,taglook!A:B,2,FALSE))","v":"NOTAG"},{"$f":"VALUE(MID(rawrtf!A254,FIND(\"TFPTAG\",rawrtf!A254,1)+6,3))","v":{"$error":"#VALUE!"}}]
[1,"NOTAG",{"$f":"IF(ISERROR(D255),\"NOTAG\",VLOOKUP(D255,taglook!A:B,2,FALSE))","v":"NOTAG"},{"$f":"VALUE(MID(rawrtf!A255,FIND(\"TFPTAG\",rawrtf!A255,1)+6,3))","v":{"$error":"#VALUE!"}}]
[1,"NOTAG",{"$f":"IF(ISERROR(D256),\"NOTAG\",VLOOKUP(D256,taglook!A:B,2,FALSE))","v":"NOTAG"},{"$f":"VALUE(MID(rawrtf!A256,FIND(\"TFPTAG\",rawrtf!A256,1)+6,3))","v":{"$error":"#VALUE!"}}]
[0,"HIDE",{"$f":"IF(ISERROR(D257),\"NOTAG\",VLOOKUP(D257,taglook!A:B,2,FALSE))","v":0},{"$f":"VALUE(MID(rawrtf!A257,FIND(\"TFPTAG\",rawrtf!A257,1)+6,3))","v":115}]
[0,"HIDE",{"$f":"IF(ISERROR(D258),\"NOTAG\",VLOOKUP(D258,taglook!A:B,2,FALSE))","v":0},{"$f":"VALUE(MID(rawrtf!A258,FIND(\"TFPTAG\",rawrtf!A258,1)+6,3))","v":116}]
[{"$f":"IF(OR(B259=\"SHOW\",B259=\"NOTAG\"),1,0)","v":0},"HIDE",{"$f":"IF(ISERROR(D259),\"NOTAG\",VLOOKUP(D259,taglook!A:B,2,FALSE))","v":0},{"$f":"VALUE(MID(rawrtf!A259,FIND(\"TFPTAG\",rawrtf!A259,1)+6,3))","v":117}]
[0,"HIDE",{"$f":"IF(ISERROR(D260),\"NOTAG\",VLOOKUP(D260,taglook!A:B,2,FALSE))","v":0},{"$f":"VALUE(MID(rawrtf!A260,FIND(\"TFPTAG\",rawrtf!A260,1)+6,3))","v":118}]
[0,"HIDE",{"$f":"IF(ISERROR(D261),\"NOTAG\",VLOOKUP(D261,taglook!A:B,2,FALSE))","v":0},{"$f":"VALUE(MID(rawrtf!A261,FIND(\"TFPTAG\",rawrtf!A261,1)+6,3))","v":119}]
[0,"HIDE",{"$f":"IF(ISERROR(D262),\"NOTAG\",VLOOKUP(D262,taglook!A:B,2,FALSE))","v":0},{"$f":"VALUE(MID(rawrtf!A262,FIND(\"TFPTAG\",rawrtf!A262,1)+6,3))","v":120}]
[0,"HIDE",{"$f":"IF(ISERROR(D263),\"NOTAG\",VLOOKUP(D263,taglook!A:B,2,FALSE))","v":0},{"$f":"VALUE(MID(rawrtf!A263,FIND(\"TFPTAG\",rawrtf!A263,1)+6,3))","v":121}]
[0,"HIDE",{"$f":"IF(ISERROR(D264),\"NOTAG\",VLOOKUP(D264,taglook!A:B,2,FALSE))","v":0},{"$f":"VALUE(MID(rawrtf!A264,FIND(\"TFPTAG\",rawrtf!A264,1)+6,3))","v":122}]
[0,"HIDE",{"$f":"IF(ISERROR(D265),\"NOTAG\",VLOOKUP(D265,taglook!A:B,2,FALSE))","v":0},{"$f":"VALUE(MID(rawrtf!A265,FIND(\"TFPTAG\",rawrtf!A265,1)+6,3))","v":123}]
[0,"HIDE",{"$f":"IF(ISERROR(D266),\"NOTAG\",VLOOKUP(D266,taglook!A:B,2,FALSE))","v":0},{"$f":"VALUE(MID(rawrtf!A266,FIND(\"TFPTAG\",rawrtf!A266,1)+6,3))","v":124}]
[0,"HIDE",{"$f":"IF(ISERROR(D267),\"NOTAG\",VLOOKUP(D267,taglook!A:B,2,FALSE))","v":0},{"$f":"VALUE(MID(rawrtf!A267,FIND(\"TFPTAG\",rawrtf!A267,1)+6,3))","v":125}]
[0,"HIDE",{"$f":"IF(ISERROR(D268),\"NOTAG\",VLOOKUP(D268,taglook!A:B,2,FALSE))","v":0},{"$f":"VALUE(MID(rawrtf!A268,FIND(\"TFPTAG\",rawrtf!A268,1)+6,3))","v":126}]
[0,"HIDE",{"$f":"IF(ISERROR(D269),\"NOTAG\",VLOOKUP(D269,taglook!A:B,2,FALSE))","v":0},{"$f":"VALUE(MID(rawrtf!A269,FIND(\"TFPTAG\",rawrtf!A269,1)+6,3))","v":127}]
[0,"HIDE",{"$f":"IF(ISERROR(D270),\"NOTAG\",VLOOKUP(D270,taglook!A:B,2,FALSE))","v":0},{"$f":"VALUE(MID(rawrtf!A270,FIND(\"TFPTAG\",rawrtf!A270,1)+6,3))","v":128}]
[0,"HIDE",{"$f":"IF(ISERROR(D271),\"NOTAG\",VLOOKUP(D271,taglook!A:B,2,FALSE))","v":0},{"$f":"VALUE(MID(rawrtf!A271,FIND(\"TFPTAG\",rawrtf!A271,1)+6,3))","v":129}]
[0,"HIDE",{"$f":"IF(ISERROR(D272),\"NOTAG\",VLOOKUP(D272,taglook!A:B,2,FALSE))","v":0},{"$f":"VALUE(MID(rawrtf!A272,FIND(\"TFPTAG\",rawrtf!A272,1)+6,3))","v":130}]
[0,"HIDE",{"$f":"IF(ISERROR(D273),\"NOTAG\",VLOOKUP(D273,taglook!A:B,2,FALSE))","v":0},{"$f":"VALUE(MID(rawrtf!A273,FIND(\"TFPTAG\",rawrtf!A273,1)+6,3))","v":131}]
[0,"HIDE",{"$f":"IF(ISERROR(D274),\"NOTAG\",VLOOKUP(D274,taglook!A:B,2,FALSE))","v":0},{"$f":"VALUE(MID(rawrtf!A274,FIND(\"TFPTAG\",rawrtf!A274,1)+6,3))","v":132}]
[1,"NOTAG",{"$f":"IF(ISERROR(D275),\"NOTAG\",VLOOKUP(D275,taglook!A:B,2,FALSE))","v":"NOTAG"},{"$f":"VALUE(MID(rawrtf!A275,FIND(\"TFPTAG\",rawrtf!A275,1)+6,3))","v":{"$error":"#VALUE!"}}]
[1,"NOTAG",{"$f":"IF(ISERROR(D276),\"NOTAG\",VLOOKUP(D276,taglook!A:B,2,FALSE))","v":"NOTAG"},{"$f":"VALUE(MID(rawrtf!A276,FIND(\"TFPTAG\",rawrtf!A276,1)+6,3))","v":{"$error":"#VALUE!"}}]
[1,"NOTAG",{"$f":"IF(ISERROR(D277),\"NOTAG\",VLOOKUP(D277,taglook!A:B,2,FALSE))","v":"NOTAG"},{"$f":"VALUE(MID(rawrtf!A277,FIND(\"TFPTAG\",rawrtf!A277,1)+6,3))","v":{"$error":"#VALUE!"}}]
[1,"NOTAG",{"$f":"IF(ISERROR(D278),\"NOTAG\",VLOOKUP(D278,taglook!A:B,2,FALSE))","v":"NOTAG"},{"$f":"VALUE(MID(rawrtf!A278,FIND(\"TFPTAG\",rawrtf!A278,1)+6,3))","v":{"$error":"#VALUE!"}}]
[1,"NOTAG",{"$f":"IF(ISERROR(D279),\"NOTAG\",VLOOKUP(D279,taglook!A:B,2,FALSE))","v":"NOTAG"},{"$f":"VALUE(MID(rawrtf!A279,FIND(\"TFPTAG\",rawrtf!A279,1)+6,3))","v":{"$error":"#VALUE!"}}]
[1,"NOTAG",{"$f":"IF(ISERROR(D280),\"NOTAG\",VLOOKUP(D280,taglook!A:B,2,FALSE))","v":"NOTAG"},{"$f":"VALUE(MID(rawrtf!A280,FIND(\"TFPTAG\",rawrtf!A280,1)+6,3))","v":{"$error":"#VALUE!"}}]
[1,"NOTAG",{"$f":"IF(ISERROR(D281),\"NOTAG\",VLOOKUP(D281,taglook!A:B,2,FALSE))","v":"NOTAG"},{"$f":"VALUE(MID(rawrtf!A281,FIND(\"TFPTAG\",rawrtf!A281,1)+6,3))","v":{"$error":"#VALUE!"}}]
[1,"NOTAG",{"$f":"IF(ISERROR(D282),\"NOTAG\",VLOOKUP(D282,taglook!A:B,2,FALSE))","v":"NOTAG"},{"$f":"VALUE(MID(rawrtf!A282,FIND(\"TFPTAG\",rawrtf!A282,1)+6,3))","v":{"$error":"#VALUE!"}}]
[1,"NOTAG",{"$f":"IF(ISERROR(D283),\"NOTAG\",VLOOKUP(D283,taglook!A:B,2,FALSE))","v":"NOTAG"},{"$f":"VALUE(MID(rawrtf!A283,FIND(\"TFPTAG\",rawrtf!A283,1)+6,3))","v":{"$error":"#VALUE!"}}]
[1,"NOTAG",{"$f":"IF(ISERROR(D284),\"NOTAG\",VLOOKUP(D284,taglook!A:B,2,FALSE))","v":"NOTAG"},{"$f":"VALUE(MID(rawrtf!A284,FIND(\"TFPTAG\",rawrtf!A284,1)+6,3))","v":{"$error":"#VALUE!"}}]
[1,"NOTAG",{"$f":"IF(ISERROR(D285),\"NOTAG\",VLOOKUP(D285,taglook!A:B,2,FALSE))","v":"NOTAG"},{"$f":"VALUE(MID(rawrtf!A285,FIND(\"TFPTAG\",rawrtf!A285,1)+6,3))","v":{"$error":"#VALUE!"}}]
[0,"HIDE",{"$f":"IF(ISERROR(D286),\"NOTAG\",VLOOKUP(D286,taglook!A:B,2,FALSE))","v":0},{"$f":"VALUE(MID(rawrtf!A286,FIND(\"TFPTAG\",rawrtf!A286,1)+6,3))","v":191}]
[0,"HIDE",{"$f":"IF(ISERROR(D287),\"NOTAG\",VLOOKUP(D287,taglook!A:B,2,FALSE))","v":0},{"$f":"VALUE(MID(rawrtf!A287,FIND(\"TFPTAG\",rawrtf!A287,1)+6,3))","v":276}]
[0,"HIDE",{"$f":"IF(ISERROR(D288),\"NOTAG\",VLOOKUP(D288,taglook!A:B,2,FALSE))","v":0},{"$f":"VALUE(MID(rawrtf!A288,FIND(\"TFPTAG\",rawrtf!A288,1)+6,3))","v":361}]
[0,"HIDE",{"$f":"IF(ISERROR(D289),\"NOTAG\",VLOOKUP(D289,taglook!A:B,2,FALSE))","v":0},{"$f":"VALUE(MID(rawrtf!A289,FIND(\"TFPTAG\",rawrtf!A289,1)+6,3))","v":446}]
[1,"NOTAG",{"$f":"IF(ISERROR(D290),\"NOTAG\",VLOOKUP(D290,taglook!A:B,2,FALSE))","v":"NOTAG"},{"$f":"VALUE(MID(rawrtf!A290,FIND(\"TFPTAG\",rawrtf!A290,1)+6,3))","v":{"$error":"#VALUE!"}}]
[1,"NOTAG",{"$f":"IF(ISERROR(D291),\"NOTAG\",VLOOKUP(D291,taglook!A:B,2,FALSE))","v":"NOTAG"},{"$f":"VALUE(MID(rawrtf!A291,FIND(\"TFPTAG\",rawrtf!A291,1)+6,3))","v":{"$error":"#VALUE!"}}]
[1,"NOTAG",{"$f":"IF(ISERROR(D292),\"NOTAG\",VLOOKUP(D292,taglook!A:B,2,FALSE))","v":"NOTAG"},{"$f":"VALUE(MID(rawrtf!A292,FIND(\"TFPTAG\",rawrtf!A292,1)+6,3))","v":{"$error":"#VALUE!"}}]
[1,{"$f":"IF(ISNA(C293),\"REDTAG\",IF(C293=\"NOTAG\",\"NOTAG\",IF(C293=1,\"SHOW\",IF(C293=0,\"HIDE\",\"ERROR\"))))","v":"NOTAG"},{"$f":"IF(ISERROR(D293),\"NOTAG\",VLOOKUP(D293,taglook!A:B,2,FALSE))","v":"NOTAG"},{"$f":"VALUE(MID(rawrtf!A293,FIND(\"TFPTAG\",rawrtf!A293,1)+6,3))","v":{"$error":"#VALUE!"}}]
[1,"NOTAG",{"$f":"IF(ISERROR(D294),\"NOTAG\",VLOOKUP(D294,taglook!A:B,2,FALSE))","v":"NOTAG"},{"$f":"VALUE(MID(rawrtf!A294,FIND(\"TFPTAG\",rawrtf!A294,1)+6,3))","v":{"$error":"#VALUE!"}}]
[1,"NOTAG",{"$f":"IF(ISERROR(D295),\"NOTAG\",VLOOKUP(D295,taglook!A:B,2,FALSE))","v":"NOTAG"},{"$f":"VALUE(MID(rawrtf!A295,FIND(\"TFPTAG\",rawrtf!A295,1)+6,3))","v":{"$error":"#VALUE!"}}]
[0,"HIDE",{"$f":"IF(ISERROR(D296),\"NOTAG\",VLOOKUP(D296,taglook!A:B,2,FALSE))","v":0},{"$f":"VALUE(MID(rawrtf!A296,FIND(\"TFPTAG\",rawrtf!A296,1)+6,3))","v":191}]
[1,"NOTAG",{"$f":"IF(ISERROR(D297),\"NOTAG\",VLOOKUP(D297,taglook!A:B,2,FALSE))","v":"NOTAG"},{"$f":"VALUE(MID(rawrtf!A297,FIND(\"TFPTAG\",rawrtf!A297,1)+6,3))","v":{"$error":"#VALUE!"}}]
[1,"NOTAG",{"$f":"IF(ISERROR(D298),\"NOTAG\",VLOOKUP(D298,taglook!A:B,2,FALSE))","v":"NOTAG"},{"$f":"VALUE(MID(rawrtf!A298,FIND(\"TFPTAG\",rawrtf!A298,1)+6,3))","v":{"$error":"#VALUE!"}}]
[1,"NOTAG",{"$f":"IF(ISERROR(D299),\"NOTAG\",VLOOKUP(D299,taglook!A:B,2,FALSE))","v":"NOTAG"},{"$f":"VALUE(MID(rawrtf!A299,FIND(\"TFPTAG\",rawrtf!A299,1)+6,3))","v":{"$error":"#VALUE!"}}]
[0,"HIDE",{"$f":"IF(ISERROR(D300),\"NOTAG\",VLOOKUP(D300,taglook!A:B,2,FALSE))","v":0},{"$f":"VALUE(MID(rawrtf!A300,FIND(\"TFPTAG\",rawrtf!A300,1)+6,3))","v":192}]
[0,"HIDE",{"$f":"IF(ISERROR(D301),\"NOTAG\",VLOOKUP(D301,taglook!A:B,2,FALSE))","v":0},{"$f":"VALUE(MID(rawrtf!A301,FIND(\"TFPTAG\",rawrtf!A301,1)+6,3))","v":193}]
[0,"HIDE",{"$f":"IF(ISERROR(D302),\"NOTAG\",VLOOKUP(D302,taglook!A:B,2,FALSE))","v":0},{"$f":"VALUE(MID(rawrtf!A302,FIND(\"TFPTAG\",rawrtf!A302,1)+6,3))","v":194}]
[0,"HIDE",{"$f":"IF(ISERROR(D303),\"NOTAG\",VLOOKUP(D303,taglook!A:B,2,FALSE))","v":0},{"$f":"VALUE(MID(rawrtf!A303,FIND(\"TFPTAG\",rawrtf!A303,1)+6,3))","v":195}]
[0,"HIDE",{"$f":"IF(ISERROR(D304),\"NOTAG\",VLOOKUP(D304,taglook!A:B,2,FALSE))","v":0},{"$f":"VALUE(MID(rawrtf!A304,FIND(\"TFPTAG\",rawrtf!A304,1)+6,3))","v":196}]
[0,"HIDE",{"$f":"IF(ISERROR(D305),\"NOTAG\",VLOOKUP(D305,taglook!A:B,2,FALSE))","v":0},{"$f":"VALUE(MID(rawrtf!A305,FIND(\"TFPTAG\",rawrtf!A305,1)+6,3))","v":197}]
[0,"HIDE",{"$f":"IF(ISERROR(D306),\"NOTAG\",VLOOKUP(D306,taglook!A:B,2,FALSE))","v":0},{"$f":"VALUE(MID(rawrtf!A306,FIND(\"TFPTAG\",rawrtf!A306,1)+6,3))","v":198}]
[0,"HIDE",{"$f":"IF(ISERROR(D307),\"NOTAG\",VLOOKUP(D307,taglook!A:B,2,FALSE))","v":0},{"$f":"VALUE(MID(rawrtf!A307,FIND(\"TFPTAG\",rawrtf!A307,1)+6,3))","v":199}]
[0,"HIDE",{"$f":"IF(ISERROR(D308),\"NOTAG\",VLOOKUP(D308,taglook!A:B,2,FALSE))","v":0},{"$f":"VALUE(MID(rawrtf!A308,FIND(\"TFPTAG\",rawrtf!A308,1)+6,3))","v":200}]
[0,"HIDE",{"$f":"IF(ISERROR(D309),\"NOTAG\",VLOOKUP(D309,taglook!A:B,2,FALSE))","v":0},{"$f":"VALUE(MID(rawrtf!A309,FIND(\"TFPTAG\",rawrtf!A309,1)+6,3))","v":201}]
[0,"HIDE",{"$f":"IF(ISERROR(D310),\"NOTAG\",VLOOKUP(D310,taglook!A:B,2,FALSE))","v":0},{"$f":"VALUE(MID(rawrtf!A310,FIND(\"TFPTAG\",rawrtf!A310,1)+6,3))","v":202}]
[0,"HIDE",{"$f":"IF(ISERROR(D311),\"NOTAG\",VLOOKUP(D311,taglook!A:B,2,FALSE))","v":0},{"$f":"VALUE(MID(rawrtf!A311,FIND(\"TFPTAG\",rawrtf!A311,1)+6,3))","v":203}]
[0,"HIDE",{"$f":"IF(ISERROR(D312),\"NOTAG\",VLOOKUP(D312,taglook!A:B,2,FALSE))","v":0},{"$f":"VALUE(MID(rawrtf!A312,FIND(\"TFPTAG\",rawrtf!A312,1)+6,3))","v":204}]
[0,"HIDE",{"$f":"IF(ISERROR(D313),\"NOTAG\",VLOOKUP(D313,taglook!A:B,2,FALSE))","v":0},{"$f":"VALUE(MID(rawrtf!A313,FIND(\"TFPTAG\",rawrtf!A313,1)+6,3))","v":205}]
[0,"HIDE",{"$f":"IF(ISERROR(D314),\"NOTAG\",VLOOKUP(D314,taglook!A:B,2,FALSE))","v":0},{"$f":"VALUE(MID(rawrtf!A314,FIND(\"TFPTAG\",rawrtf!A314,1)+6,3))","v":206}]
[0,"HIDE",{"$f":"IF(ISERROR(D315),\"NOTAG\",VLOOKUP(D315,taglook!A:B,2,FALSE))","v":0},{"$f":"VALUE(MID(rawrtf!A315,FIND(\"TFPTAG\",rawrtf!A315,1)+6,3))","v":207}]
[0,"HIDE",{"$f":"IF(ISERROR(D316),\"NOTAG\",VLOOKUP(D316,taglook!A:B,2,FALSE))","v":0},{"$f":"VALUE(MID(rawrtf!A316,FIND(\"TFPTAG\",rawrtf!A316,1)+6,3))","v":208}]
[0,"HIDE",{"$f":"IF(ISERROR(D317),\"NOTAG\",VLOOKUP(D317,taglook!A:B,2,FALSE))","v":0},{"$f":"VALUE(MID(rawrtf!A317,FIND(\"TFPTAG\",rawrtf!A317,1)+6,3))","v":209}]
[0,"HIDE",{"$f":"IF(ISERROR(D318),\"NOTAG\",VLOOKUP(D318,taglook!A:B,2,FALSE))","v":0},{"$f":"VALUE(MID(rawrtf!A318,FIND(\"TFPTAG\",rawrtf!A318,1)+6,3))","v":210}]
[0,"HIDE",{"$f":"IF(ISERROR(D319),\"NOTAG\",VLOOKUP(D319,taglook!A:B,2,FALSE))","v":0},{"$f":"VALUE(MID(rawrtf!A319,FIND(\"TFPTAG\",rawrtf!A319,1)+6,3))","v":211}]
[0,"HIDE",{"$f":"IF(ISERROR(D320),\"NOTAG\",VLOOKUP(D320,taglook!A:B,2,FALSE))","v":0},{"$f":"VALUE(MID(rawrtf!A320,FIND(\"TFPTAG\",rawrtf!A320,1)+6,3))","v":212}]
[0,"HIDE",{"$f":"IF(ISERROR(D321),\"NOTAG\",VLOOKUP(D321,taglook!A:B,2,FALSE))","v":0},{"$f":"VALUE(MID(rawrtf!A321,FIND(\"TFPTAG\",rawrtf!A321,1)+6,3))","v":213}]
[0,"HIDE",{"$f":"IF(ISERROR(D322),\"NOTAG\",VLOOKUP(D322,taglook!A:B,2,FALSE))","v":0},{"$f":"VALUE(MID(rawrtf!A322,FIND(\"TFPTAG\",rawrtf!A322,1)+6,3))","v":214}]
[{"$f":"IF(OR(B323=\"SHOW\",B323=\"NOTAG\"),1,0)","v":0},"HIDE",{"$f":"IF(ISERROR(D323),\"NOTAG\",VLOOKUP(D323,taglook!A:B,2,FALSE))","v":0},{"$f":"VALUE(MID(rawrtf!A323,FIND(\"TFPTAG\",rawrtf!A323,1)+6,3))","v":215}]
[0,"HIDE",{"$f":"IF(ISERROR(D324),\"NOTAG\",VLOOKUP(D324,taglook!A:B,2,FALSE))","v":0},{"$f":"VALUE(MID(rawrtf!A324,FIND(\"TFPTAG\",rawrtf!A324,1)+6,3))","v":216}]
[0,"HIDE",{"$f":"IF(ISERROR(D325),\"NOTAG\",VLOOKUP(D325,taglook!A:B,2,FALSE))","v":0},{"$f":"VALUE(MID(rawrtf!A325,FIND(\"TFPTAG\",rawrtf!A325,1)+6,3))","v":217}]
[0,"HIDE",{"$f":"IF(ISERROR(D326),\"NOTAG\",VLOOKUP(D326,taglook!A:B,2,FALSE))","v":0},{"$f":"VALUE(MID(rawrtf!A326,FIND(\"TFPTAG\",rawrtf!A326,1)+6,3))","v":218}]
[0,"HIDE",{"$f":"IF(ISERROR(D327),\"NOTAG\",VLOOKUP(D327,taglook!A:B,2,FALSE))","v":0},{"$f":"VALUE(MID(rawrtf!A327,FIND(\"TFPTAG\",rawrtf!A327,1)+6,3))","v":219}]
[0,"HIDE",{"$f":"IF(ISERROR(D328),\"NOTAG\",VLOOKUP(D328,taglook!A:B,2,FALSE))","v":0},{"$f":"VALUE(MID(rawrtf!A328,FIND(\"TFPTAG\",rawrtf!A328,1)+6,3))","v":220}]
[0,"HIDE",{"$f":"IF(ISERROR(D329),\"NOTAG\",VLOOKUP(D329,taglook!A:B,2,FALSE))","v":0},{"$f":"VALUE(MID(rawrtf!A329,FIND(\"TFPTAG\",rawrtf!A329,1)+6,3))","v":221}]
[0,"HIDE",{"$f":"IF(ISERROR(D330),\"NOTAG\",VLOOKUP(D330,taglook!A:B,2,FALSE))","v":0},{"$f":"VALUE(MID(rawrtf!A330,FIND(\"TFPTAG\",rawrtf!A330,1)+6,3))","v":222}]
[0,"HIDE",{"$f":"IF(ISERROR(D331),\"NOTAG\",VLOOKUP(D331,taglook!A:B,2,FALSE))","v":0},{"$f":"VALUE(MID(rawrtf!A331,FIND(\"TFPTAG\",rawrtf!A331,1)+6,3))","v":223}]
[0,"HIDE",{"$f":"IF(ISERROR(D332),\"NOTAG\",VLOOKUP(D332,taglook!A:B,2,FALSE))","v":0},{"$f":"VALUE(MID(rawrtf!A332,FIND(\"TFPTAG\",rawrtf!A332,1)+6,3))","v":224}]
[0,"HIDE",{"$f":"IF(ISERROR(D333),\"NOTAG\",VLOOKUP(D333,taglook!A:B,2,FALSE))","v":0},{"$f":"VALUE(MID(rawrtf!A333,FIND(\"TFPTAG\",rawrtf!A333,1)+6,3))","v":225}]
[0,"HIDE",{"$f":"IF(ISERROR(D334),\"NOTAG\",VLOOKUP(D334,taglook!A:B,2,FALSE))","v":0},{"$f":"VALUE(MID(rawrtf!A334,FIND(\"TFPTAG\",rawrtf!A334,1)+6,3))","v":226}]
[0,"HIDE",{"$f":"IF(ISERROR(D335),\"NOTAG\",VLOOKUP(D335,taglook!A:B,2,FALSE))","v":0},{"$f":"VALUE(MID(rawrtf!A335,FIND(\"TFPTAG\",rawrtf!A335,1)+6,3))","v":227}]
[0,"HIDE",{"$f":"IF(ISERROR(D336),\"NOTAG\",VLOOKUP(D336,taglook!A:B,2,FALSE))","v":0},{"$f":"VALUE(MID(rawrtf!A336,FIND(\"TFPTAG\",rawrtf!A336,1)+6,3))","v":228}]
[0,"HIDE",{"$f":"IF(ISERROR(D337),\"NOTAG\",VLOOKUP(D337,taglook!A:B,2,FALSE))","v":0},{"$f":"VALUE(MID(rawrtf!A337,FIND(\"TFPTAG\",rawrtf!A337,1)+6,3))","v":229}]
[0,"HIDE",{"$f":"IF(ISERROR(D338),\"NOTAG\",VLOOKUP(D338,taglook!A:B,2,FALSE))","v":0},{"$f":"VALUE(MID(rawrtf!A338,FIND(\"TFPTAG\",rawrtf!A338,1)+6,3))","v":230}]
[0,"HIDE",{"$f":"IF(ISERROR(D339),\"NOTAG\",VLOOKUP(D339,taglook!A:B,2,FALSE))","v":0},{"$f":"VALUE(MID(rawrtf!A339,FIND(\"TFPTAG\",rawrtf!A339,1)+6,3))","v":231}]
[0,"HIDE",{"$f":"IF(ISERROR(D340),\"NOTAG\",VLOOKUP(D340,taglook!A:B,2,FALSE))","v":0},{"$f":"VALUE(MID(rawrtf!A340,FIND(\"TFPTAG\",rawrtf!A340,1)+6,3))","v":232}]
[0,"HIDE",{"$f":"IF(ISERROR(D341),\"NOTAG\",VLOOKUP(D341,taglook!A:B,2,FALSE))","v":0},{"$f":"VALUE(MID(rawrtf!A341,FIND(\"TFPTAG\",rawrtf!A341,1)+6,3))","v":233}]
[0,"HIDE",{"$f":"IF(ISERROR(D342),\"NOTAG\",VLOOKUP(D342,taglook!A:B,2,FALSE))","v":0},{"$f":"VALUE(MID(rawrtf!A342,FIND(\"TFPTAG\",rawrtf!A342,1)+6,3))","v":234}]
[0,"HIDE",{"$f":"IF(ISERROR(D343),\"NOTAG\",VLOOKUP(D343,taglook!A:B,2,FALSE))","v":0},{"$f":"VALUE(MID(rawrtf!A343,FIND(\"TFPTAG\",rawrtf!A343,1)+6,3))","v":235}]
[0,"HIDE",{"$f":"IF(ISERROR(D344),\"NOTAG\",VLOOKUP(D344,taglook!A:B,2,FALSE))","v":0},{"$f":"VALUE(MID(rawrtf!A344,FIND(\"TFPTAG\",rawrtf!A344,1)+6,3))","v":236}]
[0,"HIDE",{"$f":"IF(ISERROR(D345),\"NOTAG\",VLOOKUP(D345,taglook!A:B,2,FALSE))","v":0},{"$f":"VALUE(MID(rawrtf!A345,FIND(\"TFPTAG\",rawrtf!A345,1)+6,3))","v":237}]
[0,"HIDE",{"$f":"IF(ISERROR(D346),\"NOTAG\",VLOOKUP(D346,taglook!A:B,2,FALSE))","v":0},{"$f":"VALUE(MID(rawrtf!A346,FIND(\"TFPTAG\",rawrtf!A346,1)+6,3))","v":238}]
[0,"HIDE",{"$f":"IF(ISERROR(D347),\"NOTAG\",VLOOKUP(D347,taglook!A:B,2,FALSE))","v":0},{"$f":"VALUE(MID(rawrtf!A347,FIND(\"TFPTAG\",rawrtf!A347,1)+6,3))","v":239}]
[0,"HIDE",{"$f":"IF(ISERROR(D348),\"NOTAG\",VLOOKUP(D348,taglook!A:B,2,FALSE))","v":0},{"$f":"VALUE(MID(rawrtf!A348,FIND(\"TFPTAG\",rawrtf!A348,1)+6,3))","v":240}]
[0,"HIDE",{"$f":"IF(ISERROR(D349),\"NOTAG\",VLOOKUP(D349,taglook!A:B,2,FALSE))","v":0},{"$f":"VALUE(MID(rawrtf!A349,FIND(\"TFPTAG\",rawrtf!A349,1)+6,3))","v":241}]
[0,"HIDE",{"$f":"IF(ISERROR(D350),\"NOTAG\",VLOOKUP(D350,taglook!A:B,2,FALSE))","v":0},{"$f":"VALUE(MID(rawrtf!A350,FIND(\"TFPTAG\",rawrtf!A350,1)+6,3))","v":242}]
[0,"HIDE",{"$f":"IF(ISERROR(D351),\"NOTAG\",VLOOKUP(D351,taglook!A:B,2,FALSE))","v":0},{"$f":"VALUE(MID(rawrtf!A351,FIND(\"TFPTAG\",rawrtf!A351,1)+6,3))","v":243}]
[0,"HIDE",{"$f":"IF(ISERROR(D352),\"NOTAG\",VLOOKUP(D352,taglook!A:B,2,FALSE))","v":0},{"$f":"VALUE(MID(rawrtf!A352,FIND(\"TFPTAG\",rawrtf!A352,1)+6,3))","v":244}]
[0,"HIDE",{"$f":"IF(ISERROR(D353),\"NOTAG\",VLOOKUP(D353,taglook!A:B,2,FALSE))","v":0},{"$f":"VALUE(MID(rawrtf!A353,FIND(\"TFPTAG\",rawrtf!A353,1)+6,3))","v":245}]
[0,"HIDE",{"$f":"IF(ISERROR(D354),\"NOTAG\",VLOOKUP(D354,taglook!A:B,2,FALSE))","v":0},{"$f":"VALUE(MID(rawrtf!A354,FIND(\"TFPTAG\",rawrtf!A354,1)+6,3))","v":246}]
[0,"HIDE",{"$f":"IF(ISERROR(D355),\"NOTAG\",VLOOKUP(D355,taglook!A:B,2,FALSE))","v":0},{"$f":"VALUE(MID(rawrtf!A355,FIND(\"TFPTAG\",rawrtf!A355,1)+6,3))","v":247}]
[0,"HIDE",{"$f":"IF(ISERROR(D356),\"NOTAG\",VLOOKUP(D356,taglook!A:B,2,FALSE))","v":0},{"$f":"VALUE(MID(rawrtf!A356,FIND(\"TFPTAG\",rawrtf!A356,1)+6,3))","v":248}]
[0,{"$f":"IF(ISNA(C357),\"REDTAG\",IF(C357=\"NOTAG\",\"NOTAG\",IF(C357=1,\"SHOW\",IF(C357=0,\"HIDE\",\"ERROR\"))))","v":"HIDE"},{"$f":"IF(ISERROR(D357),\"NOTAG\",VLOOKUP(D357,taglook!A:B,2,FALSE))","v":0},{"$f":"VALUE(MID(rawrtf!A357,FIND(\"TFPTAG\",rawrtf!A357,1)+6,3))","v":249}]
[0,"HIDE",{"$f":"IF(ISERROR(D358),\"NOTAG\",VLOOKUP(D358,taglook!A:B,2,FALSE))","v":0},{"$f":"VALUE(MID(rawrtf!A358,FIND(\"TFPTAG\",rawrtf!A358,1)+6,3))","v":250}]
[0,"HIDE",{"$f":"IF(ISERROR(D359),\"NOTAG\",VLOOKUP(D359,taglook!A:B,2,FALSE))","v":0},{"$f":"VALUE(MID(rawrtf!A359,FIND(\"TFPTAG\",rawrtf!A359,1)+6,3))","v":251}]
[0,"HIDE",{"$f":"IF(ISERROR(D360),\"NOTAG\",VLOOKUP(D360,taglook!A:B,2,FALSE))","v":0},{"$f":"VALUE(MID(rawrtf!A360,FIND(\"TFPTAG\",rawrtf!A360,1)+6,3))","v":252}]
[0,"HIDE",{"$f":"IF(ISERROR(D361),\"NOTAG\",VLOOKUP(D361,taglook!A:B,2,FALSE))","v":0},{"$f":"VALUE(MID(rawrtf!A361,FIND(\"TFPTAG\",rawrtf!A361,1)+6,3))","v":253}]
[0,"HIDE",{"$f":"IF(ISERROR(D362),\"NOTAG\",VLOOKUP(D362,taglook!A:B,2,FALSE))","v":0},{"$f":"VALUE(MID(rawrtf!A362,FIND(\"TFPTAG\",rawrtf!A362,1)+6,3))","v":254}]
[0,"HIDE",{"$f":"IF(ISERROR(D363),\"NOTAG\",VLOOKUP(D363,taglook!A:B,2,FALSE))","v":0},{"$f":"VALUE(MID(rawrtf!A363,FIND(\"TFPTAG\",rawrtf!A363,1)+6,3))","v":255}]
[0,"HIDE",{"$f":"IF(ISERROR(D364),\"NOTAG\",VLOOKUP(D364,taglook!A:B,2,FALSE))","v":0},{"$f":"VALUE(MID(rawrtf!A364,FIND(\"TFPTAG\",rawrtf!A364,1)+6,3))","v":256}]
[0,"HIDE",{"$f":"IF(ISERROR(D365),\"NOTAG\",VLOOKUP(D365,taglook!A:B,2,FALSE))","v":0},{"$f":"VALUE(MID(rawrtf!A365,FIND(\"TFPTAG\",rawrtf!A365,1)+6,3))","v":257}]
[0,"HIDE",{"$f":"IF(ISERROR(D366),\"NOTAG\",VLOOKUP(D366,taglook!A:B,2,FALSE))","v":0},{"$f":"VALUE(MID(rawrtf!A366,FIND(\"TFPTAG\",rawrtf!A366,1)+6,3))","v":258}]
[0,"HIDE",{"$f":"IF(ISERROR(D367),\"NOTAG\",VLOOKUP(D367,taglook!A:B,2,FALSE))","v":0},{"$f":"VALUE(MID(rawrtf!A367,FIND(\"TFPTAG\",rawrtf!A367,1)+6,3))","v":259}]
[0,"HIDE",{"$f":"IF(ISERROR(D368),\"NOTAG\",VLOOKUP(D368,taglook!A:B,2,FALSE))","v":0},{"$f":"VALUE(MID(rawrtf!A368,FIND(\"TFPTAG\",rawrtf!A368,1)+6,3))","v":260}]
[0,"HIDE",{"$f":"IF(ISERROR(D369),\"NOTAG\",VLOOKUP(D369,taglook!A:B,2,FALSE))","v":0},{"$f":"VALUE(MID(rawrtf!A369,FIND(\"TFPTAG\",rawrtf!A369,1)+6,3))","v":261}]
[0,"HIDE",{"$f":"IF(ISERROR(D370),\"NOTAG\",VLOOKUP(D370,taglook!A:B,2,FALSE))","v":0},{"$f":"VALUE(MID(rawrtf!A370,FIND(\"TFPTAG\",rawrtf!A370,1)+6,3))","v":262}]
[0,"HIDE",{"$f":"IF(ISERROR(D371),\"NOTAG\",VLOOKUP(D371,taglook!A:B,2,FALSE))","v":0},{"$f":"VALUE(MID(rawrtf!A371,FIND(\"TFPTAG\",rawrtf!A371,1)+6,3))","v":263}]
[0,"HIDE",{"$f":"IF(ISERROR(D372),\"NOTAG\",VLOOKUP(D372,taglook!A:B,2,FALSE))","v":0},{"$f":"VALUE(MID(rawrtf!A372,FIND(\"TFPTAG\",rawrtf!A372,1)+6,3))","v":264}]
[0,"HIDE",{"$f":"IF(ISERROR(D373),\"NOTAG\",VLOOKUP(D373,taglook!A:B,2,FALSE))","v":0},{"$f":"VALUE(MID(rawrtf!A373,FIND(\"TFPTAG\",rawrtf!A373,1)+6,3))","v":265}]
[0,"HIDE",{"$f":"IF(ISERROR(D374),\"NOTAG\",VLOOKUP(D374,taglook!A:B,2,FALSE))","v":0},{"$f":"VALUE(MID(rawrtf!A374,FIND(\"TFPTAG\",rawrtf!A374,1)+6,3))","v":266}]
[0,"HIDE",{"$f":"IF(ISERROR(D375),\"NOTAG\",VLOOKUP(D375,taglook!A:B,2,FALSE))","v":0},{"$f":"VALUE(MID(rawrtf!A375,FIND(\"TFPTAG\",rawrtf!A375,1)+6,3))","v":267}]
[0,"HIDE",{"$f":"IF(ISERROR(D376),\"NOTAG\",VLOOKUP(D376,taglook!A:B,2,FALSE))","v":0},{"$f":"VALUE(MID(rawrtf!A376,FIND(\"TFPTAG\",rawrtf!A376,1)+6,3))","v":268}]
[0,"HIDE",{"$f":"IF(ISERROR(D377),\"NOTAG\",VLOOKUP(D377,taglook!A:B,2,FALSE))","v":0},{"$f":"VALUE(MID(rawrtf!A377,FIND(\"TFPTAG\",rawrtf!A377,1)+6,3))","v":269}]
[0,"HIDE",{"$f":"IF(ISERROR(D378),\"NOTAG\",VLOOKUP(D378,taglook!A:B,2,FALSE))","v":0},{"$f":"VALUE(MID(rawrtf!A378,FIND(\"TFPTAG\",rawrtf!A378,1)+6,3))","v":270}]
[0,"HIDE",{"$f":"IF(ISERROR(D379),\"NOTAG\",VLOOKUP(D379,taglook!A:B,2,FALSE))","v":0},{"$f":"VALUE(MID(rawrtf!A379,FIND(\"TFPTAG\",rawrtf!A379,1)+6,3))","v":271}]
[0,"HIDE",{"$f":"IF(ISERROR(D380),\"NOTAG\",VLOOKUP(D380,taglook!A:B,2,FALSE))","v":0},{"$f":"VALUE(MID(rawrtf!A380,FIND(\"TFPTAG\",rawrtf!A380,1)+6,3))","v":272}]
[0,"HIDE",{"$f":"IF(ISERROR(D381),\"NOTAG\",VLOOKUP(D381,taglook!A:B,2,FALSE))","v":0},{"$f":"VALUE(MID(rawrtf!A381,FIND(\"TFPTAG\",rawrtf!A381,1)+6,3))","v":273}]
[0,"HIDE",{"$f":"IF(ISERROR(D382),\"NOTAG\",VLOOKUP(D382,taglook!A:B,2,FALSE))","v":0},{"$f":"VALUE(MID(rawrtf!A382,FIND(\"TFPTAG\",rawrtf!A382,1)+6,3))","v":274}]
[0,"HIDE",{"$f":"IF(ISERROR(D383),\"NOTAG\",VLOOKUP(D383,taglook!A:B,2,FALSE))","v":0},{"$f":"VALUE(MID(rawrtf!A383,FIND(\"TFPTAG\",rawrtf!A383,1)+6,3))","v":275}]
[0,"HIDE",{"$f":"IF(ISERROR(D384),\"NOTAG\",VLOOKUP(D384,taglook!A:B,2,FALSE))","v":0},{"$f":"VALUE(MID(rawrtf!A384,FIND(\"TFPTAG\",rawrtf!A384,1)+6,3))","v":276}]
[1,"NOTAG",{"$f":"IF(ISERROR(D385),\"NOTAG\",VLOOKUP(D385,taglook!A:B,2,FALSE))","v":"NOTAG"},{"$f":"VALUE(MID(rawrtf!A385,FIND(\"TFPTAG\",rawrtf!A385,1)+6,3))","v":{"$error":"#VALUE!"}}]
[0,"HIDE",{"$f":"IF(ISERROR(D386),\"NOTAG\",VLOOKUP(D386,taglook!A:B,2,FALSE))","v":0},{"$f":"VALUE(MID(rawrtf!A386,FIND(\"TFPTAG\",rawrtf!A386,1)+6,3))","v":276}]
[{"$f":"IF(OR(B387=\"SHOW\",B387=\"NOTAG\"),1,0)","v":0},"HIDE",{"$f":"IF(ISERROR(D387),\"NOTAG\",VLOOKUP(D387,taglook!A:B,2,FALSE))","v":0},{"$f":"VALUE(MID(rawrtf!A387,FIND(\"TFPTAG\",rawrtf!A387,1)+6,3))","v":171}]
[0,"HIDE",{"$f":"IF(ISERROR(D388),\"NOTAG\",VLOOKUP(D388,taglook!A:B,2,FALSE))","v":0},{"$f":"VALUE(MID(rawrtf!A388,FIND(\"TFPTAG\",rawrtf!A388,1)+6,3))","v":172}]
[0,"HIDE",{"$f":"IF(ISERROR(D389),\"NOTAG\",VLOOKUP(D389,taglook!A:B,2,FALSE))","v":0},{"$f":"VALUE(MID(rawrtf!A389,FIND(\"TFPTAG\",rawrtf!A389,1)+6,3))","v":173}]
[0,"HIDE",{"$f":"IF(ISERROR(D390),\"NOTAG\",VLOOKUP(D390,taglook!A:B,2,FALSE))","v":0},{"$f":"VALUE(MID(rawrtf!A390,FIND(\"TFPTAG\",rawrtf!A390,1)+6,3))","v":174}]
[0,"HIDE",{"$f":"IF(ISERROR(D391),\"NOTAG\",VLOOKUP(D391,taglook!A:B,2,FALSE))","v":0},{"$f":"VALUE(MID(rawrtf!A391,FIND(\"TFPTAG\",rawrtf!A391,1)+6,3))","v":175}]
[0,"HIDE",{"$f":"IF(ISERROR(D392),\"NOTAG\",VLOOKUP(D392,taglook!A:B,2,FALSE))","v":0},{"$f":"VALUE(MID(rawrtf!A392,FIND(\"TFPTAG\",rawrtf!A392,1)+6,3))","v":176}]
[0,"HIDE",{"$f":"IF(ISERROR(D393),\"NOTAG\",VLOOKUP(D393,taglook!A:B,2,FALSE))","v":0},{"$f":"VALUE(MID(rawrtf!A393,FIND(\"TFPTAG\",rawrtf!A393,1)+6,3))","v":177}]
[0,"HIDE",{"$f":"IF(ISERROR(D394),\"NOTAG\",VLOOKUP(D394,taglook!A:B,2,FALSE))","v":0},{"$f":"VALUE(MID(rawrtf!A394,FIND(\"TFPTAG\",rawrtf!A394,1)+6,3))","v":178}]
[0,"HIDE",{"$f":"IF(ISERROR(D395),\"NOTAG\",VLOOKUP(D395,taglook!A:B,2,FALSE))","v":0},{"$f":"VALUE(MID(rawrtf!A395,FIND(\"TFPTAG\",rawrtf!A395,1)+6,3))","v":179}]
[0,"HIDE",{"$f":"IF(ISERROR(D396),\"NOTAG\",VLOOKUP(D396,taglook!A:B,2,FALSE))","v":0},{"$f":"VALUE(MID(rawrtf!A396,FIND(\"TFPTAG\",rawrtf!A396,1)+6,3))","v":180}]
[0,"HIDE",{"$f":"IF(ISERROR(D397),\"NOTAG\",VLOOKUP(D397,taglook!A:B,2,FALSE))","v":0},{"$f":"VALUE(MID(rawrtf!A397,FIND(\"TFPTAG\",rawrtf!A397,1)+6,3))","v":181}]
[0,"HIDE",{"$f":"IF(ISERROR(D398),\"NOTAG\",VLOOKUP(D398,taglook!A:B,2,FALSE))","v":0},{"$f":"VALUE(MID(rawrtf!A398,FIND(\"TFPTAG\",rawrtf!A398,1)+6,3))","v":182}]
[0,"HIDE",{"$f":"IF(ISERROR(D399),\"NOTAG\",VLOOKUP(D399,taglook!A:B,2,FALSE))","v":0},{"$f":"VALUE(MID(rawrtf!A399,FIND(\"TFPTAG\",rawrtf!A399,1)+6,3))","v":183}]
[0,"HIDE",{"$f":"IF(ISERROR(D400),\"NOTAG\",VLOOKUP(D400,taglook!A:B,2,FALSE))","v":0},{"$f":"VALUE(MID(rawrtf!A400,FIND(\"TFPTAG\",rawrtf!A400,1)+6,3))","v":184}]
[0,"HIDE",{"$f":"IF(ISERROR(D401),\"NOTAG\",VLOOKUP(D401,taglook!A:B,2,FALSE))","v":0},{"$f":"VALUE(MID(rawrtf!A401,FIND(\"TFPTAG\",rawrtf!A401,1)+6,3))","v":185}]
[0,"HIDE",{"$f":"IF(ISERROR(D402),\"NOTAG\",VLOOKUP(D402,taglook!A:B,2,FALSE))","v":0},{"$f":"VALUE(MID(rawrtf!A402,FIND(\"TFPTAG\",rawrtf!A402,1)+6,3))","v":186}]
[0,"HIDE",{"$f":"IF(ISERROR(D403),\"NOTAG\",VLOOKUP(D403,taglook!A:B,2,FALSE))","v":0},{"$f":"VALUE(MID(rawrtf!A403,FIND(\"TFPTAG\",rawrtf!A403,1)+6,3))","v":187}]
[0,"HIDE",{"$f":"IF(ISERROR(D404),\"NOTAG\",VLOOKUP(D404,taglook!A:B,2,FALSE))","v":0},{"$f":"VALUE(MID(rawrtf!A404,FIND(\"TFPTAG\",rawrtf!A404,1)+6,3))","v":188}]
[0,"HIDE",{"$f":"IF(ISERROR(D405),\"NOTAG\",VLOOKUP(D405,taglook!A:B,2,FALSE))","v":0},{"$f":"VALUE(MID(rawrtf!A405,FIND(\"TFPTAG\",rawrtf!A405,1)+6,3))","v":276}]
[0,"HIDE",{"$f":"IF(ISERROR(D406),\"NOTAG\",VLOOKUP(D406,taglook!A:B,2,FALSE))","v":0},{"$f":"VALUE(MID(rawrtf!A406,FIND(\"TFPTAG\",rawrtf!A406,1)+6,3))","v":277}]
[0,"HIDE",{"$f":"IF(ISERROR(D407),\"NOTAG\",VLOOKUP(D407,taglook!A:B,2,FALSE))","v":0},{"$f":"VALUE(MID(rawrtf!A407,FIND(\"TFPTAG\",rawrtf!A407,1)+6,3))","v":278}]
[0,"HIDE",{"$f":"IF(ISERROR(D408),\"NOTAG\",VLOOKUP(D408,taglook!A:B,2,FALSE))","v":0},{"$f":"VALUE(MID(rawrtf!A408,FIND(\"TFPTAG\",rawrtf!A408,1)+6,3))","v":279}]
[0,"HIDE",{"$f":"IF(ISERROR(D409),\"NOTAG\",VLOOKUP(D409,taglook!A:B,2,FALSE))","v":0},{"$f":"VALUE(MID(rawrtf!A409,FIND(\"TFPTAG\",rawrtf!A409,1)+6,3))","v":280}]
[0,"HIDE",{"$f":"IF(ISERROR(D410),\"NOTAG\",VLOOKUP(D410,taglook!A:B,2,FALSE))","v":0},{"$f":"VALUE(MID(rawrtf!A410,FIND(\"TFPTAG\",rawrtf!A410,1)+6,3))","v":281}]
[0,"HIDE",{"$f":"IF(ISERROR(D411),\"NOTAG\",VLOOKUP(D411,taglook!A:B,2,FALSE))","v":0},{"$f":"VALUE(MID(rawrtf!A411,FIND(\"TFPTAG\",rawrtf!A411,1)+6,3))","v":282}]
[0,"HIDE",{"$f":"IF(ISERROR(D412),\"NOTAG\",VLOOKUP(D412,taglook!A:B,2,FALSE))","v":0},{"$f":"VALUE(MID(rawrtf!A412,FIND(\"TFPTAG\",rawrtf!A412,1)+6,3))","v":283}]
[0,"HIDE",{"$f":"IF(ISERROR(D413),\"NOTAG\",VLOOKUP(D413,taglook!A:B,2,FALSE))","v":0},{"$f":"VALUE(MID(rawrtf!A413,FIND(\"TFPTAG\",rawrtf!A413,1)+6,3))","v":284}]
[0,"HIDE",{"$f":"IF(ISERROR(D414),\"NOTAG\",VLOOKUP(D414,taglook!A:B,2,FALSE))","v":0},{"$f":"VALUE(MID(rawrtf!A414,FIND(\"TFPTAG\",rawrtf!A414,1)+6,3))","v":285}]
[0,"HIDE",{"$f":"IF(ISERROR(D415),\"NOTAG\",VLOOKUP(D415,taglook!A:B,2,FALSE))","v":0},{"$f":"VALUE(MID(rawrtf!A415,FIND(\"TFPTAG\",rawrtf!A415,1)+6,3))","v":286}]
[0,"HIDE",{"$f":"IF(ISERROR(D416),\"NOTAG\",VLOOKUP(D416,taglook!A:B,2,FALSE))","v":0},{"$f":"VALUE(MID(rawrtf!A416,FIND(\"TFPTAG\",rawrtf!A416,1)+6,3))","v":287}]
[0,"HIDE",{"$f":"IF(ISERROR(D417),\"NOTAG\",VLOOKUP(D417,taglook!A:B,2,FALSE))","v":0},{"$f":"VALUE(MID(rawrtf!A417,FIND(\"TFPTAG\",rawrtf!A417,1)+6,3))","v":288}]
[0,"HIDE",{"$f":"IF(ISERROR(D418),\"NOTAG\",VLOOKUP(D418,taglook!A:B,2,FALSE))","v":0},{"$f":"VALUE(MID(rawrtf!A418,FIND(\"TFPTAG\",rawrtf!A418,1)+6,3))","v":289}]
[0,"HIDE",{"$f":"IF(ISERROR(D419),\"NOTAG\",VLOOKUP(D419,taglook!A:B,2,FALSE))","v":0},{"$f":"VALUE(MID(rawrtf!A419,FIND(\"TFPTAG\",rawrtf!A419,1)+6,3))","v":290}]
[0,"HIDE",{"$f":"IF(ISERROR(D420),\"NOTAG\",VLOOKUP(D420,taglook!A:B,2,FALSE))","v":0},{"$f":"VALUE(MID(rawrtf!A420,FIND(\"TFPTAG\",rawrtf!A420,1)+6,3))","v":291}]
[0,{"$f":"IF(ISNA(C421),\"REDTAG\",IF(C421=\"NOTAG\",\"NOTAG\",IF(C421=1,\"SHOW\",IF(C421=0,\"HIDE\",\"ERROR\"))))","v":"HIDE"},{"$f":"IF(ISERROR(D421),\"NOTAG\",VLOOKUP(D421,taglook!A:B,2,FALSE))","v":0},{"$f":"VALUE(MID(rawrtf!A421,FIND(\"TFPTAG\",rawrtf!A421,1)+6,3))","v":292}]
[0,"HIDE",{"$f":"IF(ISERROR(D422),\"NOTAG\",VLOOKUP(D422,taglook!A:B,2,FALSE))","v":0},{"$f":"VALUE(MID(rawrtf!A422,FIND(\"TFPTAG\",rawrtf!A422,1)+6,3))","v":293}]
[0,"HIDE",{"$f":"IF(ISERROR(D423),\"NOTAG\",VLOOKUP(D423,taglook!A:B,2,FALSE))","v":0},{"$f":"VALUE(MID(rawrtf!A423,FIND(\"TFPTAG\",rawrtf!A423,1)+6,3))","v":294}]
[0,"HIDE",{"$f":"IF(ISERROR(D424),\"NOTAG\",VLOOKUP(D424,taglook!A:B,2,FALSE))","v":0},{"$f":"VALUE(MID(rawrtf!A424,FIND(\"TFPTAG\",rawrtf!A424,1)+6,3))","v":295}]
[0,"HIDE",{"$f":"IF(ISERROR(D425),\"NOTAG\",VLOOKUP(D425,taglook!A:B,2,FALSE))","v":0},{"$f":"VALUE(MID(rawrtf!A425,FIND(\"TFPTAG\",rawrtf!A425,1)+6,3))","v":296}]
[0,"HIDE",{"$f":"IF(ISERROR(D426),\"NOTAG\",VLOOKUP(D426,taglook!A:B,2,FALSE))","v":0},{"$f":"VALUE(MID(rawrtf!A426,FIND(\"TFPTAG\",rawrtf!A426,1)+6,3))","v":297}]
[0,"HIDE",{"$f":"IF(ISERROR(D427),\"NOTAG\",VLOOKUP(D427,taglook!A:B,2,FALSE))","v":0},{"$f":"VALUE(MID(rawrtf!A427,FIND(\"TFPTAG\",rawrtf!A427,1)+6,3))","v":298}]
[0,"HIDE",{"$f":"IF(ISERROR(D428),\"NOTAG\",VLOOKUP(D428,taglook!A:B,2,FALSE))","v":0},{"$f":"VALUE(MID(rawrtf!A428,FIND(\"TFPTAG\",rawrtf!A428,1)+6,3))","v":299}]
[0,"HIDE",{"$f":"IF(ISERROR(D429),\"NOTAG\",VLOOKUP(D429,taglook!A:B,2,FALSE))","v":0},{"$f":"VALUE(MID(rawrtf!A429,FIND(\"TFPTAG\",rawrtf!A429,1)+6,3))","v":300}]
[0,"HIDE",{"$f":"IF(ISERROR(D430),\"NOTAG\",VLOOKUP(D430,taglook!A:B,2,FALSE))","v":0},{"$f":"VALUE(MID(rawrtf!A430,FIND(\"TFPTAG\",rawrtf!A430,1)+6,3))","v":301}]
[0,"HIDE",{"$f":"IF(ISERROR(D431),\"NOTAG\",VLOOKUP(D431,taglook!A:B,2,FALSE))","v":0},{"$f":"VALUE(MID(rawrtf!A431,FIND(\"TFPTAG\",rawrtf!A431,1)+6,3))","v":302}]
[0,"HIDE",{"$f":"IF(ISERROR(D432),\"NOTAG\",VLOOKUP(D432,taglook!A:B,2,FALSE))","v":0},{"$f":"VALUE(MID(rawrtf!A432,FIND(\"TFPTAG\",rawrtf!A432,1)+6,3))","v":303}]
[0,"HIDE",{"$f":"IF(ISERROR(D433),\"NOTAG\",VLOOKUP(D433,taglook!A:B,2,FALSE))","v":0},{"$f":"VALUE(MID(rawrtf!A433,FIND(\"TFPTAG\",rawrtf!A433,1)+6,3))","v":304}]
[0,"HIDE",{"$f":"IF(ISERROR(D434),\"NOTAG\",VLOOKUP(D434,taglook!A:B,2,FALSE))","v":0},{"$f":"VALUE(MID(rawrtf!A434,FIND(\"TFPTAG\",rawrtf!A434,1)+6,3))","v":305}]
[0,"HIDE",{"$f":"IF(ISERROR(D435),\"NOTAG\",VLOOKUP(D435,taglook!A:B,2,FALSE))","v":0},{"$f":"VALUE(MID(rawrtf!A435,FIND(\"TFPTAG\",rawrtf!A435,1)+6,3))","v":306}]
[0,"HIDE",{"$f":"IF(ISERROR(D436),\"NOTAG\",VLOOKUP(D436,taglook!A:B,2,FALSE))","v":0},{"$f":"VALUE(MID(rawrtf!A436,FIND(\"TFPTAG\",rawrtf!A436,1)+6,3))","v":307}]
[0,"HIDE",{"$f":"IF(ISERROR(D437),\"NOTAG\",VLOOKUP(D437,taglook!A:B,2,FALSE))","v":0},{"$f":"VALUE(MID(rawrtf!A437,FIND(\"TFPTAG\",rawrtf!A437,1)+6,3))","v":308}]
[0,"HIDE",{"$f":"IF(ISERROR(D438),\"NOTAG\",VLOOKUP(D438,taglook!A:B,2,FALSE))","v":0},{"$f":"VALUE(MID(rawrtf!A438,FIND(\"TFPTAG\",rawrtf!A438,1)+6,3))","v":309}]
[0,"HIDE",{"$f":"IF(ISERROR(D439),\"NOTAG\",VLOOKUP(D439,taglook!A:B,2,FALSE))","v":0},{"$f":"VALUE(MID(rawrtf!A439,FIND(\"TFPTAG\",rawrtf!A439,1)+6,3))","v":310}]
[0,"HIDE",{"$f":"IF(ISERROR(D440),\"NOTAG\",VLOOKUP(D440,taglook!A:B,2,FALSE))","v":0},{"$f":"VALUE(MID(rawrtf!A440,FIND(\"TFPTAG\",rawrtf!A440,1)+6,3))","v":311}]
[0,"HIDE",{"$f":"IF(ISERROR(D441),\"NOTAG\",VLOOKUP(D441,taglook!A:B,2,FALSE))","v":0},{"$f":"VALUE(MID(rawrtf!A441,FIND(\"TFPTAG\",rawrtf!A441,1)+6,3))","v":312}]
[0,"HIDE",{"$f":"IF(ISERROR(D442),\"NOTAG\",VLOOKUP(D442,taglook!A:B,2,FALSE))","v":0},{"$f":"VALUE(MID(rawrtf!A442,FIND(\"TFPTAG\",rawrtf!A442,1)+6,3))","v":313}]
[0,"HIDE",{"$f":"IF(ISERROR(D443),\"NOTAG\",VLOOKUP(D443,taglook!A:B,2,FALSE))","v":0},{"$f":"VALUE(MID(rawrtf!A443,FIND(\"TFPTAG\",rawrtf!A443,1)+6,3))","v":314}]
[0,"HIDE",{"$f":"IF(ISERROR(D444),\"NOTAG\",VLOOKUP(D444,taglook!A:B,2,FALSE))","v":0},{"$f":"VALUE(MID(rawrtf!A444,FIND(\"TFPTAG\",rawrtf!A444,1)+6,3))","v":315}]
[0,"HIDE",{"$f":"IF(ISERROR(D445),\"NOTAG\",VLOOKUP(D445,taglook!A:B,2,FALSE))","v":0},{"$f":"VALUE(MID(rawrtf!A445,FIND(\"TFPTAG\",rawrtf!A445,1)+6,3))","v":316}]
[0,"HIDE",{"$f":"IF(ISERROR(D446),\"NOTAG\",VLOOKUP(D446,taglook!A:B,2,FALSE))","v":0},{"$f":"VALUE(MID(rawrtf!A446,FIND(\"TFPTAG\",rawrtf!A446,1)+6,3))","v":317}]
[0,"HIDE",{"$f":"IF(ISERROR(D447),\"NOTAG\",VLOOKUP(D447,taglook!A:B,2,FALSE))","v":0},{"$f":"VALUE(MID(rawrtf!A447,FIND(\"TFPTAG\",rawrtf!A447,1)+6,3))","v":318}]
[0,"HIDE",{"$f":"IF(ISERROR(D448),\"NOTAG\",VLOOKUP(D448,taglook!A:B,2,FALSE))","v":0},{"$f":"VALUE(MID(rawrtf!A448,FIND(\"TFPTAG\",rawrtf!A448,1)+6,3))","v":319}]
[0,"HIDE",{"$f":"IF(ISERROR(D449),\"NOTAG\",VLOOKUP(D449,taglook!A:B,2,FALSE))","v":0},{"$f":"VALUE(MID(rawrtf!A449,FIND(\"TFPTAG\",rawrtf!A449,1)+6,3))","v":320}]
[0,"HIDE",{"$f":"IF(ISERROR(D450),\"NOTAG\",VLOOKUP(D450,taglook!A:B,2,FALSE))","v":0},{"$f":"VALUE(MID(rawrtf!A450,FIND(\"TFPTAG\",rawrtf!A450,1)+6,3))","v":321}]
[{"$f":"IF(OR(B451=\"SHOW\",B451=\"NOTAG\"),1,0)","v":0},"HIDE",{"$f":"IF(ISERROR(D451),\"NOTAG\",VLOOKUP(D451,taglook!A:B,2,FALSE))","v":0},{"$f":"VALUE(MID(rawrtf!A451,FIND(\"TFPTAG\",rawrtf!A451,1)+6,3))","v":322}]
[0,"HIDE",{"$f":"IF(ISERROR(D452),\"NOTAG\",VLOOKUP(D452,taglook!A:B,2,FALSE))","v":0},{"$f":"VALUE(MID(rawrtf!A452,FIND(\"TFPTAG\",rawrtf!A452,1)+6,3))","v":323}]
[0,"HIDE",{"$f":"IF(ISERROR(D453),\"NOTAG\",VLOOKUP(D453,taglook!A:B,2,FALSE))","v":0},{"$f":"VALUE(MID(rawrtf!A453,FIND(\"TFPTAG\",rawrtf!A453,1)+6,3))","v":324}]
[0,"HIDE",{"$f":"IF(ISERROR(D454),\"NOTAG\",VLOOKUP(D454,taglook!A:B,2,FALSE))","v":0},{"$f":"VALUE(MID(rawrtf!A454,FIND(\"TFPTAG\",rawrtf!A454,1)+6,3))","v":325}]
[0,"HIDE",{"$f":"IF(ISERROR(D455),\"NOTAG\",VLOOKUP(D455,taglook!A:B,2,FALSE))","v":0},{"$f":"VALUE(MID(rawrtf!A455,FIND(\"TFPTAG\",rawrtf!A455,1)+6,3))","v":326}]
[0,"HIDE",{"$f":"IF(ISERROR(D456),\"NOTAG\",VLOOKUP(D456,taglook!A:B,2,FALSE))","v":0},{"$f":"VALUE(MID(rawrtf!A456,FIND(\"TFPTAG\",rawrtf!A456,1)+6,3))","v":327}]
[0,"HIDE",{"$f":"IF(ISERROR(D457),\"NOTAG\",VLOOKUP(D457,taglook!A:B,2,FALSE))","v":0},{"$f":"VALUE(MID(rawrtf!A457,FIND(\"TFPTAG\",rawrtf!A457,1)+6,3))","v":328}]
[0,"HIDE",{"$f":"IF(ISERROR(D458),\"NOTAG\",VLOOKUP(D458,taglook!A:B,2,FALSE))","v":0},{"$f":"VALUE(MID(rawrtf!A458,FIND(\"TFPTAG\",rawrtf!A458,1)+6,3))","v":329}]
[0,"HIDE",{"$f":"IF(ISERROR(D459),\"NOTAG\",VLOOKUP(D459,taglook!A:B,2,FALSE))","v":0},{"$f":"VALUE(MID(rawrtf!A459,FIND(\"TFPTAG\",rawrtf!A459,1)+6,3))","v":330}]
[0,"HIDE",{"$f":"IF(ISERROR(D460),\"NOTAG\",VLOOKUP(D460,taglook!A:B,2,FALSE))","v":0},{"$f":"VALUE(MID(rawrtf!A460,FIND(\"TFPTAG\",rawrtf!A460,1)+6,3))","v":331}]
[0,"HIDE",{"$f":"IF(ISERROR(D461),\"NOTAG\",VLOOKUP(D461,taglook!A:B,2,FALSE))","v":0},{"$f":"VALUE(MID(rawrtf!A461,FIND(\"TFPTAG\",rawrtf!A461,1)+6,3))","v":332}]
[0,"HIDE",{"$f":"IF(ISERROR(D462),\"NOTAG\",VLOOKUP(D462,taglook!A:B,2,FALSE))","v":0},{"$f":"VALUE(MID(rawrtf!A462,FIND(\"TFPTAG\",rawrtf!A462,1)+6,3))","v":333}]
[0,"HIDE",{"$f":"IF(ISERROR(D463),\"NOTAG\",VLOOKUP(D463,taglook!A:B,2,FALSE))","v":0},{"$f":"VALUE(MID(rawrtf!A463,FIND(\"TFPTAG\",rawrtf!A463,1)+6,3))","v":334}]
[0,"HIDE",{"$f":"IF(ISERROR(D464),\"NOTAG\",VLOOKUP(D464,taglook!A:B,2,FALSE))","v":0},{"$f":"VALUE(MID(rawrtf!A464,FIND(\"TFPTAG\",rawrtf!A464,1)+6,3))","v":335}]
[0,"HIDE",{"$f":"IF(ISERROR(D465),\"NOTAG\",VLOOKUP(D465,taglook!A:B,2,FALSE))","v":0},{"$f":"VALUE(MID(rawrtf!A465,FIND(\"TFPTAG\",rawrtf!A465,1)+6,3))","v":336}]
[0,"HIDE",{"$f":"IF(ISERROR(D466),\"NOTAG\",VLOOKUP(D466,taglook!A:B,2,FALSE))","v":0},{"$f":"VALUE(MID(rawrtf!A466,FIND(\"TFPTAG\",rawrtf!A466,1)+6,3))","v":337}]
[0,"HIDE",{"$f":"IF(ISERROR(D467),\"NOTAG\",VLOOKUP(D467,taglook!A:B,2,FALSE))","v":0},{"$f":"VALUE(MID(rawrtf!A467,FIND(\"TFPTAG\",rawrtf!A467,1)+6,3))","v":338}]
[0,"HIDE",{"$f":"IF(ISERROR(D468),\"NOTAG\",VLOOKUP(D468,taglook!A:B,2,FALSE))","v":0},{"$f":"VALUE(MID(rawrtf!A468,FIND(\"TFPTAG\",rawrtf!A468,1)+6,3))","v":339}]
[0,"HIDE",{"$f":"IF(ISERROR(D469),\"NOTAG\",VLOOKUP(D469,taglook!A:B,2,FALSE))","v":0},{"$f":"VALUE(MID(rawrtf!A469,FIND(\"TFPTAG\",rawrtf!A469,1)+6,3))","v":340}]
[0,"HIDE",{"$f":"IF(ISERROR(D470),\"NOTAG\",VLOOKUP(D470,taglook!A:B,2,FALSE))","v":0},{"$f":"VALUE(MID(rawrtf!A470,FIND(\"TFPTAG\",rawrtf!A470,1)+6,3))","v":341}]
[0,"HIDE",{"$f":"IF(ISERROR(D471),\"NOTAG\",VLOOKUP(D471,taglook!A:B,2,FALSE))","v":0},{"$f":"VALUE(MID(rawrtf!A471,FIND(\"TFPTAG\",rawrtf!A471,1)+6,3))","v":342}]
[0,"HIDE",{"$f":"IF(ISERROR(D472),\"NOTAG\",VLOOKUP(D472,taglook!A:B,2,FALSE))","v":0},{"$f":"VALUE(MID(rawrtf!A472,FIND(\"TFPTAG\",rawrtf!A472,1)+6,3))","v":343}]
[0,"HIDE",{"$f":"IF(ISERROR(D473),\"NOTAG\",VLOOKUP(D473,taglook!A:B,2,FALSE))","v":0},{"$f":"VALUE(MID(rawrtf!A473,FIND(\"TFPTAG\",rawrtf!A473,1)+6,3))","v":344}]
[0,"HIDE",{"$f":"IF(ISERROR(D474),\"NOTAG\",VLOOKUP(D474,taglook!A:B,2,FALSE))","v":0},{"$f":"VALUE(MID(rawrtf!A474,FIND(\"TFPTAG\",rawrtf!A474,1)+6,3))","v":345}]
[0,"HIDE",{"$f":"IF(ISERROR(D475),\"NOTAG\",VLOOKUP(D475,taglook!A:B,2,FALSE))","v":0},{"$f":"VALUE(MID(rawrtf!A475,FIND(\"TFPTAG\",rawrtf!A475,1)+6,3))","v":346}]
[0,"HIDE",{"$f":"IF(ISERROR(D476),\"NOTAG\",VLOOKUP(D476,taglook!A:B,2,FALSE))","v":0},{"$f":"VALUE(MID(rawrtf!A476,FIND(\"TFPTAG\",rawrtf!A476,1)+6,3))","v":347}]
[0,"HIDE",{"$f":"IF(ISERROR(D477),\"NOTAG\",VLOOKUP(D477,taglook!A:B,2,FALSE))","v":0},{"$f":"VALUE(MID(rawrtf!A477,FIND(\"TFPTAG\",rawrtf!A477,1)+6,3))","v":348}]
[0,"HIDE",{"$f":"IF(ISERROR(D478),\"NOTAG\",VLOOKUP(D478,taglook!A:B,2,FALSE))","v":0},{"$f":"VALUE(MID(rawrtf!A478,FIND(\"TFPTAG\",rawrtf!A478,1)+6,3))","v":349}]
[0,"HIDE",{"$f":"IF(ISERROR(D479),\"NOTAG\",VLOOKUP(D479,taglook!A:B,2,FALSE))","v":0},{"$f":"VALUE(MID(rawrtf!A479,FIND(\"TFPTAG\",rawrtf!A479,1)+6,3))","v":350}]
[0,"HIDE",{"$f":"IF(ISERROR(D480),\"NOTAG\",VLOOKUP(D480,taglook!A:B,2,FALSE))","v":0},{"$f":"VALUE(MID(rawrtf!A480,FIND(\"TFPTAG\",rawrtf!A480,1)+6,3))","v":351}]
[0,"HIDE",{"$f":"IF(ISERROR(D481),\"NOTAG\",VLOOKUP(D481,taglook!A:B,2,FALSE))","v":0},{"$f":"VALUE(MID(rawrtf!A481,FIND(\"TFPTAG\",rawrtf!A481,1)+6,3))","v":352}]
[0,"HIDE",{"$f":"IF(ISERROR(D482),\"NOTAG\",VLOOKUP(D482,taglook!A:B,2,FALSE))","v":0},{"$f":"VALUE(MID(rawrtf!A482,FIND(\"TFPTAG\",rawrtf!A482,1)+6,3))","v":353}]
[0,"HIDE",{"$f":"IF(ISERROR(D483),\"NOTAG\",VLOOKUP(D483,taglook!A:B,2,FALSE))","v":0},{"$f":"VALUE(MID(rawrtf!A483,FIND(\"TFPTAG\",rawrtf!A483,1)+6,3))","v":354}]
[0,"HIDE",{"$f":"IF(ISERROR(D484),\"NOTAG\",VLOOKUP(D484,taglook!A:B,2,FALSE))","v":0},{"$f":"VALUE(MID(rawrtf!A484,FIND(\"TFPTAG\",rawrtf!A484,1)+6,3))","v":355}]
[0,{"$f":"IF(ISNA(C485),\"REDTAG\",IF(C485=\"NOTAG\",\"NOTAG\",IF(C485=1,\"SHOW\",IF(C485=0,\"HIDE\",\"ERROR\"))))","v":"HIDE"},{"$f":"IF(ISERROR(D485),\"NOTAG\",VLOOKUP(D485,taglook!A:B,2,FALSE))","v":0},{"$f":"VALUE(MID(rawrtf!A485,FIND(\"TFPTAG\",rawrtf!A485,1)+6,3))","v":356}]
[0,"HIDE",{"$f":"IF(ISERROR(D486),\"NOTAG\",VLOOKUP(D486,taglook!A:B,2,FALSE))","v":0},{"$f":"VALUE(MID(rawrtf!A486,FIND(\"TFPTAG\",rawrtf!A486,1)+6,3))","v":357}]
[0,"HIDE",{"$f":"IF(ISERROR(D487),\"NOTAG\",VLOOKUP(D487,taglook!A:B,2,FALSE))","v":0},{"$f":"VALUE(MID(rawrtf!A487,FIND(\"TFPTAG\",rawrtf!A487,1)+6,3))","v":358}]
[0,"HIDE",{"$f":"IF(ISERROR(D488),\"NOTAG\",VLOOKUP(D488,taglook!A:B,2,FALSE))","v":0},{"$f":"VALUE(MID(rawrtf!A488,FIND(\"TFPTAG\",rawrtf!A488,1)+6,3))","v":359}]
[0,"HIDE",{"$f":"IF(ISERROR(D489),\"NOTAG\",VLOOKUP(D489,taglook!A:B,2,FALSE))","v":0},{"$f":"VALUE(MID(rawrtf!A489,FIND(\"TFPTAG\",rawrtf!A489,1)+6,3))","v":360}]
[0,"HIDE",{"$f":"IF(ISERROR(D490),\"NOTAG\",VLOOKUP(D490,taglook!A:B,2,FALSE))","v":0},{"$f":"VALUE(MID(rawrtf!A490,FIND(\"TFPTAG\",rawrtf!A490,1)+6,3))","v":361}]
[0,"HIDE",{"$f":"IF(ISERROR(D491),\"NOTAG\",VLOOKUP(D491,taglook!A:B,2,FALSE))","v":0},{"$f":"VALUE(MID(rawrtf!A491,FIND(\"TFPTAG\",rawrtf!A491,1)+6,3))","v":361}]
[1,"NOTAG",{"$f":"IF(ISERROR(D492),\"NOTAG\",VLOOKUP(D492,taglook!A:B,2,FALSE))","v":"NOTAG"},{"$f":"VALUE(MID(rawrtf!A492,FIND(\"TFPTAG\",rawrtf!A492,1)+6,3))","v":{"$error":"#VALUE!"}}]
[0,"HIDE",{"$f":"IF(ISERROR(D493),\"NOTAG\",VLOOKUP(D493,taglook!A:B,2,FALSE))","v":0},{"$f":"VALUE(MID(rawrtf!A493,FIND(\"TFPTAG\",rawrtf!A493,1)+6,3))","v":153}]
[0,"HIDE",{"$f":"IF(ISERROR(D494),\"NOTAG\",VLOOKUP(D494,taglook!A:B,2,FALSE))","v":0},{"$f":"VALUE(MID(rawrtf!A494,FIND(\"TFPTAG\",rawrtf!A494,1)+6,3))","v":154}]
[0,"HIDE",{"$f":"IF(ISERROR(D495),\"NOTAG\",VLOOKUP(D495,taglook!A:B,2,FALSE))","v":0},{"$f":"VALUE(MID(rawrtf!A495,FIND(\"TFPTAG\",rawrtf!A495,1)+6,3))","v":155}]
[0,"HIDE",{"$f":"IF(ISERROR(D496),\"NOTAG\",VLOOKUP(D496,taglook!A:B,2,FALSE))","v":0},{"$f":"VALUE(MID(rawrtf!A496,FIND(\"TFPTAG\",rawrtf!A496,1)+6,3))","v":156}]
[0,"HIDE",{"$f":"IF(ISERROR(D497),\"NOTAG\",VLOOKUP(D497,taglook!A:B,2,FALSE))","v":0},{"$f":"VALUE(MID(rawrtf!A497,FIND(\"TFPTAG\",rawrtf!A497,1)+6,3))","v":157}]
[0,"HIDE",{"$f":"IF(ISERROR(D498),\"NOTAG\",VLOOKUP(D498,taglook!A:B,2,FALSE))","v":0},{"$f":"VALUE(MID(rawrtf!A498,FIND(\"TFPTAG\",rawrtf!A498,1)+6,3))","v":158}]
[0,"HIDE",{"$f":"IF(ISERROR(D499),\"NOTAG\",VLOOKUP(D499,taglook!A:B,2,FALSE))","v":0},{"$f":"VALUE(MID(rawrtf!A499,FIND(\"TFPTAG\",rawrtf!A499,1)+6,3))","v":159}]
[0,"HIDE",{"$f":"IF(ISERROR(D500),\"NOTAG\",VLOOKUP(D500,taglook!A:B,2,FALSE))","v":0},{"$f":"VALUE(MID(rawrtf!A500,FIND(\"TFPTAG\",rawrtf!A500,1)+6,3))","v":160}]
[0,"HIDE",{"$f":"IF(ISERROR(D501),\"NOTAG\",VLOOKUP(D501,taglook!A:B,2,FALSE))","v":0},{"$f":"VALUE(MID(rawrtf!A501,FIND(\"TFPTAG\",rawrtf!A501,1)+6,3))","v":161}]
[0,"HIDE",{"$f":"IF(ISERROR(D502),\"NOTAG\",VLOOKUP(D502,taglook!A:B,2,FALSE))","v":0},{"$f":"VALUE(MID(rawrtf!A502,FIND(\"TFPTAG\",rawrtf!A502,1)+6,3))","v":162}]
[0,"HIDE",{"$f":"IF(ISERROR(D503),\"NOTAG\",VLOOKUP(D503,taglook!A:B,2,FALSE))","v":0},{"$f":"VALUE(MID(rawrtf!A503,FIND(\"TFPTAG\",rawrtf!A503,1)+6,3))","v":163}]
[0,"HIDE",{"$f":"IF(ISERROR(D504),\"NOTAG\",VLOOKUP(D504,taglook!A:B,2,FALSE))","v":0},{"$f":"VALUE(MID(rawrtf!A504,FIND(\"TFPTAG\",rawrtf!A504,1)+6,3))","v":164}]
[0,"HIDE",{"$f":"IF(ISERROR(D505),\"NOTAG\",VLOOKUP(D505,taglook!A:B,2,FALSE))","v":0},{"$f":"VALUE(MID(rawrtf!A505,FIND(\"TFPTAG\",rawrtf!A505,1)+6,3))","v":165}]
[0,"HIDE",{"$f":"IF(ISERROR(D506),\"NOTAG\",VLOOKUP(D506,taglook!A:B,2,FALSE))","v":0},{"$f":"VALUE(MID(rawrtf!A506,FIND(\"TFPTAG\",rawrtf!A506,1)+6,3))","v":166}]
[0,"HIDE",{"$f":"IF(ISERROR(D507),\"NOTAG\",VLOOKUP(D507,taglook!A:B,2,FALSE))","v":0},{"$f":"VALUE(MID(rawrtf!A507,FIND(\"TFPTAG\",rawrtf!A507,1)+6,3))","v":167}]
[0,"HIDE",{"$f":"IF(ISERROR(D508),\"NOTAG\",VLOOKUP(D508,taglook!A:B,2,FALSE))","v":0},{"$f":"VALUE(MID(rawrtf!A508,FIND(\"TFPTAG\",rawrtf!A508,1)+6,3))","v":168}]
[0,"HIDE",{"$f":"IF(ISERROR(D509),\"NOTAG\",VLOOKUP(D509,taglook!A:B,2,FALSE))","v":0},{"$f":"VALUE(MID(rawrtf!A509,FIND(\"TFPTAG\",rawrtf!A509,1)+6,3))","v":169}]
[0,"HIDE",{"$f":"IF(ISERROR(D510),\"NOTAG\",VLOOKUP(D510,taglook!A:B,2,FALSE))","v":0},{"$f":"VALUE(MID(rawrtf!A510,FIND(\"TFPTAG\",rawrtf!A510,1)+6,3))","v":170}]
[0,"HIDE",{"$f":"IF(ISERROR(D511),\"NOTAG\",VLOOKUP(D511,taglook!A:B,2,FALSE))","v":0},{"$f":"VALUE(MID(rawrtf!A511,FIND(\"TFPTAG\",rawrtf!A511,1)+6,3))","v":362}]
[0,"HIDE",{"$f":"IF(ISERROR(D512),\"NOTAG\",VLOOKUP(D512,taglook!A:B,2,FALSE))","v":0},{"$f":"VALUE(MID(rawrtf!A512,FIND(\"TFPTAG\",rawrtf!A512,1)+6,3))","v":363}]
[0,"HIDE",{"$f":"IF(ISERROR(D513),\"NOTAG\",VLOOKUP(D513,taglook!A:B,2,FALSE))","v":0},{"$f":"VALUE(MID(rawrtf!A513,FIND(\"TFPTAG\",rawrtf!A513,1)+6,3))","v":364}]
[0,"HIDE",{"$f":"IF(ISERROR(D514),\"NOTAG\",VLOOKUP(D514,taglook!A:B,2,FALSE))","v":0},{"$f":"VALUE(MID(rawrtf!A514,FIND(\"TFPTAG\",rawrtf!A514,1)+6,3))","v":365}]
[{"$f":"IF(OR(B515=\"SHOW\",B515=\"NOTAG\"),1,0)","v":0},"HIDE",{"$f":"IF(ISERROR(D515),\"NOTAG\",VLOOKUP(D515,taglook!A:B,2,FALSE))","v":0},{"$f":"VALUE(MID(rawrtf!A515,FIND(\"TFPTAG\",rawrtf!A515,1)+6,3))","v":366}]
[0,"HIDE",{"$f":"IF(ISERROR(D516),\"NOTAG\",VLOOKUP(D516,taglook!A:B,2,FALSE))","v":0},{"$f":"VALUE(MID(rawrtf!A516,FIND(\"TFPTAG\",rawrtf!A516,1)+6,3))","v":367}]
[0,"HIDE",{"$f":"IF(ISERROR(D517),\"NOTAG\",VLOOKUP(D517,taglook!A:B,2,FALSE))","v":0},{"$f":"VALUE(MID(rawrtf!A517,FIND(\"TFPTAG\",rawrtf!A517,1)+6,3))","v":368}]
[0,"HIDE",{"$f":"IF(ISERROR(D518),\"NOTAG\",VLOOKUP(D518,taglook!A:B,2,FALSE))","v":0},{"$f":"VALUE(MID(rawrtf!A518,FIND(\"TFPTAG\",rawrtf!A518,1)+6,3))","v":369}]
[0,"HIDE",{"$f":"IF(ISERROR(D519),\"NOTAG\",VLOOKUP(D519,taglook!A:B,2,FALSE))","v":0},{"$f":"VALUE(MID(rawrtf!A519,FIND(\"TFPTAG\",rawrtf!A519,1)+6,3))","v":370}]
[0,"HIDE",{"$f":"IF(ISERROR(D520),\"NOTAG\",VLOOKUP(D520,taglook!A:B,2,FALSE))","v":0},{"$f":"VALUE(MID(rawrtf!A520,FIND(\"TFPTAG\",rawrtf!A520,1)+6,3))","v":371}]
[0,"HIDE",{"$f":"IF(ISERROR(D521),\"NOTAG\",VLOOKUP(D521,taglook!A:B,2,FALSE))","v":0},{"$f":"VALUE(MID(rawrtf!A521,FIND(\"TFPTAG\",rawrtf!A521,1)+6,3))","v":372}]
[0,"HIDE",{"$f":"IF(ISERROR(D522),\"NOTAG\",VLOOKUP(D522,taglook!A:B,2,FALSE))","v":0},{"$f":"VALUE(MID(rawrtf!A522,FIND(\"TFPTAG\",rawrtf!A522,1)+6,3))","v":373}]
[0,"HIDE",{"$f":"IF(ISERROR(D523),\"NOTAG\",VLOOKUP(D523,taglook!A:B,2,FALSE))","v":0},{"$f":"VALUE(MID(rawrtf!A523,FIND(\"TFPTAG\",rawrtf!A523,1)+6,3))","v":374}]
[0,"HIDE",{"$f":"IF(ISERROR(D524),\"NOTAG\",VLOOKUP(D524,taglook!A:B,2,FALSE))","v":0},{"$f":"VALUE(MID(rawrtf!A524,FIND(\"TFPTAG\",rawrtf!A524,1)+6,3))","v":375}]
[0,"HIDE",{"$f":"IF(ISERROR(D525),\"NOTAG\",VLOOKUP(D525,taglook!A:B,2,FALSE))","v":0},{"$f":"VALUE(MID(rawrtf!A525,FIND(\"TFPTAG\",rawrtf!A525,1)+6,3))","v":376}]
[0,"HIDE",{"$f":"IF(ISERROR(D526),\"NOTAG\",VLOOKUP(D526,taglook!A:B,2,FALSE))","v":0},{"$f":"VALUE(MID(rawrtf!A526,FIND(\"TFPTAG\",rawrtf!A526,1)+6,3))","v":377}]
[0,"HIDE",{"$f":"IF(ISERROR(D527),\"NOTAG\",VLOOKUP(D527,taglook!A:B,2,FALSE))","v":0},{"$f":"VALUE(MID(rawrtf!A527,FIND(\"TFPTAG\",rawrtf!A527,1)+6,3))","v":378}]
[0,"HIDE",{"$f":"IF(ISERROR(D528),\"NOTAG\",VLOOKUP(D528,taglook!A:B,2,FALSE))","v":0},{"$f":"VALUE(MID(rawrtf!A528,FIND(\"TFPTAG\",rawrtf!A528,1)+6,3))","v":379}]
[0,"HIDE",{"$f":"IF(ISERROR(D529),\"NOTAG\",VLOOKUP(D529,taglook!A:B,2,FALSE))","v":0},{"$f":"VALUE(MID(rawrtf!A529,FIND(\"TFPTAG\",rawrtf!A529,1)+6,3))","v":380}]
[0,"HIDE",{"$f":"IF(ISERROR(D530),\"NOTAG\",VLOOKUP(D530,taglook!A:B,2,FALSE))","v":0},{"$f":"VALUE(MID(rawrtf!A530,FIND(\"TFPTAG\",rawrtf!A530,1)+6,3))","v":381}]
[0,"HIDE",{"$f":"IF(ISERROR(D531),\"NOTAG\",VLOOKUP(D531,taglook!A:B,2,FALSE))","v":0},{"$f":"VALUE(MID(rawrtf!A531,FIND(\"TFPTAG\",rawrtf!A531,1)+6,3))","v":382}]
[0,"HIDE",{"$f":"IF(ISERROR(D532),\"NOTAG\",VLOOKUP(D532,taglook!A:B,2,FALSE))","v":0},{"$f":"VALUE(MID(rawrtf!A532,FIND(\"TFPTAG\",rawrtf!A532,1)+6,3))","v":383}]
[0,"HIDE",{"$f":"IF(ISERROR(D533),\"NOTAG\",VLOOKUP(D533,taglook!A:B,2,FALSE))","v":0},{"$f":"VALUE(MID(rawrtf!A533,FIND(\"TFPTAG\",rawrtf!A533,1)+6,3))","v":384}]
[0,"HIDE",{"$f":"IF(ISERROR(D534),\"NOTAG\",VLOOKUP(D534,taglook!A:B,2,FALSE))","v":0},{"$f":"VALUE(MID(rawrtf!A534,FIND(\"TFPTAG\",rawrtf!A534,1)+6,3))","v":385}]
[0,"HIDE",{"$f":"IF(ISERROR(D535),\"NOTAG\",VLOOKUP(D535,taglook!A:B,2,FALSE))","v":0},{"$f":"VALUE(MID(rawrtf!A535,FIND(\"TFPTAG\",rawrtf!A535,1)+6,3))","v":386}]
[0,"HIDE",{"$f":"IF(ISERROR(D536),\"NOTAG\",VLOOKUP(D536,taglook!A:B,2,FALSE))","v":0},{"$f":"VALUE(MID(rawrtf!A536,FIND(\"TFPTAG\",rawrtf!A536,1)+6,3))","v":387}]
[0,"HIDE",{"$f":"IF(ISERROR(D537),\"NOTAG\",VLOOKUP(D537,taglook!A:B,2,FALSE))","v":0},{"$f":"VALUE(MID(rawrtf!A537,FIND(\"TFPTAG\",rawrtf!A537,1)+6,3))","v":388}]
[0,"HIDE",{"$f":"IF(ISERROR(D538),\"NOTAG\",VLOOKUP(D538,taglook!A:B,2,FALSE))","v":0},{"$f":"VALUE(MID(rawrtf!A538,FIND(\"TFPTAG\",rawrtf!A538,1)+6,3))","v":389}]
[0,"HIDE",{"$f":"IF(ISERROR(D539),\"NOTAG\",VLOOKUP(D539,taglook!A:B,2,FALSE))","v":0},{"$f":"VALUE(MID(rawrtf!A539,FIND(\"TFPTAG\",rawrtf!A539,1)+6,3))","v":390}]
[0,"HIDE",{"$f":"IF(ISERROR(D540),\"NOTAG\",VLOOKUP(D540,taglook!A:B,2,FALSE))","v":0},{"$f":"VALUE(MID(rawrtf!A540,FIND(\"TFPTAG\",rawrtf!A540,1)+6,3))","v":391}]
[0,"HIDE",{"$f":"IF(ISERROR(D541),\"NOTAG\",VLOOKUP(D541,taglook!A:B,2,FALSE))","v":0},{"$f":"VALUE(MID(rawrtf!A541,FIND(\"TFPTAG\",rawrtf!A541,1)+6,3))","v":392}]
[0,"HIDE",{"$f":"IF(ISERROR(D542),\"NOTAG\",VLOOKUP(D542,taglook!A:B,2,FALSE))","v":0},{"$f":"VALUE(MID(rawrtf!A542,FIND(\"TFPTAG\",rawrtf!A542,1)+6,3))","v":393}]
[0,"HIDE",{"$f":"IF(ISERROR(D543),\"NOTAG\",VLOOKUP(D543,taglook!A:B,2,FALSE))","v":0},{"$f":"VALUE(MID(rawrtf!A543,FIND(\"TFPTAG\",rawrtf!A543,1)+6,3))","v":394}]
[0,"HIDE",{"$f":"IF(ISERROR(D544),\"NOTAG\",VLOOKUP(D544,taglook!A:B,2,FALSE))","v":0},{"$f":"VALUE(MID(rawrtf!A544,FIND(\"TFPTAG\",rawrtf!A544,1)+6,3))","v":395}]
[0,"HIDE",{"$f":"IF(ISERROR(D545),\"NOTAG\",VLOOKUP(D545,taglook!A:B,2,FALSE))","v":0},{"$f":"VALUE(MID(rawrtf!A545,FIND(\"TFPTAG\",rawrtf!A545,1)+6,3))","v":396}]
[0,"HIDE",{"$f":"IF(ISERROR(D546),\"NOTAG\",VLOOKUP(D546,taglook!A:B,2,FALSE))","v":0},{"$f":"VALUE(MID(rawrtf!A546,FIND(\"TFPTAG\",rawrtf!A546,1)+6,3))","v":397}]
[0,"HIDE",{"$f":"IF(ISERROR(D547),\"NOTAG\",VLOOKUP(D547,taglook!A:B,2,FALSE))","v":0},{"$f":"VALUE(MID(rawrtf!A547,FIND(\"TFPTAG\",rawrtf!A547,1)+6,3))","v":398}]
[0,"HIDE",{"$f":"IF(ISERROR(D548),\"NOTAG\",VLOOKUP(D548,taglook!A:B,2,FALSE))","v":0},{"$f":"VALUE(MID(rawrtf!A548,FIND(\"TFPTAG\",rawrtf!A548,1)+6,3))","v":399}]
[0,{"$f":"IF(ISNA(C549),\"REDTAG\",IF(C549=\"NOTAG\",\"NOTAG\",IF(C549=1,\"SHOW\",IF(C549=0,\"HIDE\",\"ERROR\"))))","v":"HIDE"},{"$f":"IF(ISERROR(D549),\"NOTAG\",VLOOKUP(D549,taglook!A:B,2,FALSE))","v":0},{"$f":"VALUE(MID(rawrtf!A549,FIND(\"TFPTAG\",rawrtf!A549,1)+6,3))","v":400}]
[0,"HIDE",{"$f":"IF(ISERROR(D550),\"NOTAG\",VLOOKUP(D550,taglook!A:B,2,FALSE))","v":0},{"$f":"VALUE(MID(rawrtf!A550,FIND(\"TFPTAG\",rawrtf!A550,1)+6,3))","v":401}]
[0,"HIDE",{"$f":"IF(ISERROR(D551),\"NOTAG\",VLOOKUP(D551,taglook!A:B,2,FALSE))","v":0},{"$f":"VALUE(MID(rawrtf!A551,FIND(\"TFPTAG\",rawrtf!A551,1)+6,3))","v":402}]
[0,"HIDE",{"$f":"IF(ISERROR(D552),\"NOTAG\",VLOOKUP(D552,taglook!A:B,2,FALSE))","v":0},{"$f":"VALUE(MID(rawrtf!A552,FIND(\"TFPTAG\",rawrtf!A552,1)+6,3))","v":403}]
[0,"HIDE",{"$f":"IF(ISERROR(D553),\"NOTAG\",VLOOKUP(D553,taglook!A:B,2,FALSE))","v":0},{"$f":"VALUE(MID(rawrtf!A553,FIND(\"TFPTAG\",rawrtf!A553,1)+6,3))","v":404}]
[0,"HIDE",{"$f":"IF(ISERROR(D554),\"NOTAG\",VLOOKUP(D554,taglook!A:B,2,FALSE))","v":0},{"$f":"VALUE(MID(rawrtf!A554,FIND(\"TFPTAG\",rawrtf!A554,1)+6,3))","v":405}]
[0,"HIDE",{"$f":"IF(ISERROR(D555),\"NOTAG\",VLOOKUP(D555,taglook!A:B,2,FALSE))","v":0},{"$f":"VALUE(MID(rawrtf!A555,FIND(\"TFPTAG\",rawrtf!A555,1)+6,3))","v":406}]
[0,"HIDE",{"$f":"IF(ISERROR(D556),\"NOTAG\",VLOOKUP(D556,taglook!A:B,2,FALSE))","v":0},{"$f":"VALUE(MID(rawrtf!A556,FIND(\"TFPTAG\",rawrtf!A556,1)+6,3))","v":407}]
[0,"HIDE",{"$f":"IF(ISERROR(D557),\"NOTAG\",VLOOKUP(D557,taglook!A:B,2,FALSE))","v":0},{"$f":"VALUE(MID(rawrtf!A557,FIND(\"TFPTAG\",rawrtf!A557,1)+6,3))","v":408}]
[0,"HIDE",{"$f":"IF(ISERROR(D558),\"NOTAG\",VLOOKUP(D558,taglook!A:B,2,FALSE))","v":0},{"$f":"VALUE(MID(rawrtf!A558,FIND(\"TFPTAG\",rawrtf!A558,1)+6,3))","v":409}]
[0,"HIDE",{"$f":"IF(ISERROR(D559),\"NOTAG\",VLOOKUP(D559,taglook!A:B,2,FALSE))","v":0},{"$f":"VALUE(MID(rawrtf!A559,FIND(\"TFPTAG\",rawrtf!A559,1)+6,3))","v":410}]
[0,"HIDE",{"$f":"IF(ISERROR(D560),\"NOTAG\",VLOOKUP(D560,taglook!A:B,2,FALSE))","v":0},{"$f":"VALUE(MID(rawrtf!A560,FIND(\"TFPTAG\",rawrtf!A560,1)+6,3))","v":411}]
[0,"HIDE",{"$f":"IF(ISERROR(D561),\"NOTAG\",VLOOKUP(D561,taglook!A:B,2,FALSE))","v":0},{"$f":"VALUE(MID(rawrtf!A561,FIND(\"TFPTAG\",rawrtf!A561,1)+6,3))","v":412}]
[0,"HIDE",{"$f":"IF(ISERROR(D562),\"NOTAG\",VLOOKUP(D562,taglook!A:B,2,FALSE))","v":0},{"$f":"VALUE(MID(rawrtf!A562,FIND(\"TFPTAG\",rawrtf!A562,1)+6,3))","v":413}]
[0,"HIDE",{"$f":"IF(ISERROR(D563),\"NOTAG\",VLOOKUP(D563,taglook!A:B,2,FALSE))","v":0},{"$f":"VALUE(MID(rawrtf!A563,FIND(\"TFPTAG\",rawrtf!A563,1)+6,3))","v":414}]
[0,"HIDE",{"$f":"IF(ISERROR(D564),\"NOTAG\",VLOOKUP(D564,taglook!A:B,2,FALSE))","v":0},{"$f":"VALUE(MID(rawrtf!A564,FIND(\"TFPTAG\",rawrtf!A564,1)+6,3))","v":415}]
[0,"HIDE",{"$f":"IF(ISERROR(D565),\"NOTAG\",VLOOKUP(D565,taglook!A:B,2,FALSE))","v":0},{"$f":"VALUE(MID(rawrtf!A565,FIND(\"TFPTAG\",rawrtf!A565,1)+6,3))","v":416}]
[0,"HIDE",{"$f":"IF(ISERROR(D566),\"NOTAG\",VLOOKUP(D566,taglook!A:B,2,FALSE))","v":0},{"$f":"VALUE(MID(rawrtf!A566,FIND(\"TFPTAG\",rawrtf!A566,1)+6,3))","v":417}]
[0,"HIDE",{"$f":"IF(ISERROR(D567),\"NOTAG\",VLOOKUP(D567,taglook!A:B,2,FALSE))","v":0},{"$f":"VALUE(MID(rawrtf!A567,FIND(\"TFPTAG\",rawrtf!A567,1)+6,3))","v":418}]
[0,"HIDE",{"$f":"IF(ISERROR(D568),\"NOTAG\",VLOOKUP(D568,taglook!A:B,2,FALSE))","v":0},{"$f":"VALUE(MID(rawrtf!A568,FIND(\"TFPTAG\",rawrtf!A568,1)+6,3))","v":419}]
[0,"HIDE",{"$f":"IF(ISERROR(D569),\"NOTAG\",VLOOKUP(D569,taglook!A:B,2,FALSE))","v":0},{"$f":"VALUE(MID(rawrtf!A569,FIND(\"TFPTAG\",rawrtf!A569,1)+6,3))","v":420}]
[0,"HIDE",{"$f":"IF(ISERROR(D570),\"NOTAG\",VLOOKUP(D570,taglook!A:B,2,FALSE))","v":0},{"$f":"VALUE(MID(rawrtf!A570,FIND(\"TFPTAG\",rawrtf!A570,1)+6,3))","v":421}]
[0,"HIDE",{"$f":"IF(ISERROR(D571),\"NOTAG\",VLOOKUP(D571,taglook!A:B,2,FALSE))","v":0},{"$f":"VALUE(MID(rawrtf!A571,FIND(\"TFPTAG\",rawrtf!A571,1)+6,3))","v":422}]
[0,"HIDE",{"$f":"IF(ISERROR(D572),\"NOTAG\",VLOOKUP(D572,taglook!A:B,2,FALSE))","v":0},{"$f":"VALUE(MID(rawrtf!A572,FIND(\"TFPTAG\",rawrtf!A572,1)+6,3))","v":423}]
[0,"HIDE",{"$f":"IF(ISERROR(D573),\"NOTAG\",VLOOKUP(D573,taglook!A:B,2,FALSE))","v":0},{"$f":"VALUE(MID(rawrtf!A573,FIND(\"TFPTAG\",rawrtf!A573,1)+6,3))","v":424}]
[0,"HIDE",{"$f":"IF(ISERROR(D574),\"NOTAG\",VLOOKUP(D574,taglook!A:B,2,FALSE))","v":0},{"$f":"VALUE(MID(rawrtf!A574,FIND(\"TFPTAG\",rawrtf!A574,1)+6,3))","v":425}]
[0,"HIDE",{"$f":"IF(ISERROR(D575),\"NOTAG\",VLOOKUP(D575,taglook!A:B,2,FALSE))","v":0},{"$f":"VALUE(MID(rawrtf!A575,FIND(\"TFPTAG\",rawrtf!A575,1)+6,3))","v":426}]
[0,"HIDE",{"$f":"IF(ISERROR(D576),\"NOTAG\",VLOOKUP(D576,taglook!A:B,2,FALSE))","v":0},{"$f":"VALUE(MID(rawrtf!A576,FIND(\"TFPTAG\",rawrtf!A576,1)+6,3))","v":427}]
[0,"HIDE",{"$f":"IF(ISERROR(D577),\"NOTAG\",VLOOKUP(D577,taglook!A:B,2,FALSE))","v":0},{"$f":"VALUE(MID(rawrtf!A577,FIND(\"TFPTAG\",rawrtf!A577,1)+6,3))","v":428}]
[0,"HIDE",{"$f":"IF(ISERROR(D578),\"NOTAG\",VLOOKUP(D578,taglook!A:B,2,FALSE))","v":0},{"$f":"VALUE(MID(rawrtf!A578,FIND(\"TFPTAG\",rawrtf!A578,1)+6,3))","v":429}]
[{"$f":"IF(OR(B579=\"SHOW\",B579=\"NOTAG\"),1,0)","v":0},"HIDE",{"$f":"IF(ISERROR(D579),\"NOTAG\",VLOOKUP(D579,taglook!A:B,2,FALSE))","v":0},{"$f":"VALUE(MID(rawrtf!A579,FIND(\"TFPTAG\",rawrtf!A579,1)+6,3))","v":430}]
[0,"HIDE",{"$f":"IF(ISERROR(D580),\"NOTAG\",VLOOKUP(D580,taglook!A:B,2,FALSE))","v":0},{"$f":"VALUE(MID(rawrtf!A580,FIND(\"TFPTAG\",rawrtf!A580,1)+6,3))","v":431}]
[0,"HIDE",{"$f":"IF(ISERROR(D581),\"NOTAG\",VLOOKUP(D581,taglook!A:B,2,FALSE))","v":0},{"$f":"VALUE(MID(rawrtf!A581,FIND(\"TFPTAG\",rawrtf!A581,1)+6,3))","v":432}]
[0,"HIDE",{"$f":"IF(ISERROR(D582),\"NOTAG\",VLOOKUP(D582,taglook!A:B,2,FALSE))","v":0},{"$f":"VALUE(MID(rawrtf!A582,FIND(\"TFPTAG\",rawrtf!A582,1)+6,3))","v":433}]
[0,"HIDE",{"$f":"IF(ISERROR(D583),\"NOTAG\",VLOOKUP(D583,taglook!A:B,2,FALSE))","v":0},{"$f":"VALUE(MID(rawrtf!A583,FIND(\"TFPTAG\",rawrtf!A583,1)+6,3))","v":434}]
[0,"HIDE",{"$f":"IF(ISERROR(D584),\"NOTAG\",VLOOKUP(D584,taglook!A:B,2,FALSE))","v":0},{"$f":"VALUE(MID(rawrtf!A584,FIND(\"TFPTAG\",rawrtf!A584,1)+6,3))","v":435}]
[0,"HIDE",{"$f":"IF(ISERROR(D585),\"NOTAG\",VLOOKUP(D585,taglook!A:B,2,FALSE))","v":0},{"$f":"VALUE(MID(rawrtf!A585,FIND(\"TFPTAG\",rawrtf!A585,1)+6,3))","v":436}]
[0,"HIDE",{"$f":"IF(ISERROR(D586),\"NOTAG\",VLOOKUP(D586,taglook!A:B,2,FALSE))","v":0},{"$f":"VALUE(MID(rawrtf!A586,FIND(\"TFPTAG\",rawrtf!A586,1)+6,3))","v":437}]
[0,"HIDE",{"$f":"IF(ISERROR(D587),\"NOTAG\",VLOOKUP(D587,taglook!A:B,2,FALSE))","v":0},{"$f":"VALUE(MID(rawrtf!A587,FIND(\"TFPTAG\",rawrtf!A587,1)+6,3))","v":438}]
[0,"HIDE",{"$f":"IF(ISERROR(D588),\"NOTAG\",VLOOKUP(D588,taglook!A:B,2,FALSE))","v":0},{"$f":"VALUE(MID(rawrtf!A588,FIND(\"TFPTAG\",rawrtf!A588,1)+6,3))","v":439}]
[0,"HIDE",{"$f":"IF(ISERROR(D589),\"NOTAG\",VLOOKUP(D589,taglook!A:B,2,FALSE))","v":0},{"$f":"VALUE(MID(rawrtf!A589,FIND(\"TFPTAG\",rawrtf!A589,1)+6,3))","v":440}]
[0,"HIDE",{"$f":"IF(ISERROR(D590),\"NOTAG\",VLOOKUP(D590,taglook!A:B,2,FALSE))","v":0},{"$f":"VALUE(MID(rawrtf!A590,FIND(\"TFPTAG\",rawrtf!A590,1)+6,3))","v":441}]
[0,"HIDE",{"$f":"IF(ISERROR(D591),\"NOTAG\",VLOOKUP(D591,taglook!A:B,2,FALSE))","v":0},{"$f":"VALUE(MID(rawrtf!A591,FIND(\"TFPTAG\",rawrtf!A591,1)+6,3))","v":442}]
[0,"HIDE",{"$f":"IF(ISERROR(D592),\"NOTAG\",VLOOKUP(D592,taglook!A:B,2,FALSE))","v":0},{"$f":"VALUE(MID(rawrtf!A592,FIND(\"TFPTAG\",rawrtf!A592,1)+6,3))","v":443}]
[0,"HIDE",{"$f":"IF(ISERROR(D593),\"NOTAG\",VLOOKUP(D593,taglook!A:B,2,FALSE))","v":0},{"$f":"VALUE(MID(rawrtf!A593,FIND(\"TFPTAG\",rawrtf!A593,1)+6,3))","v":444}]
[0,"HIDE",{"$f":"IF(ISERROR(D594),\"NOTAG\",VLOOKUP(D594,taglook!A:B,2,FALSE))","v":0},{"$f":"VALUE(MID(rawrtf!A594,FIND(\"TFPTAG\",rawrtf!A594,1)+6,3))","v":445}]
[0,"HIDE",{"$f":"IF(ISERROR(D595),\"NOTAG\",VLOOKUP(D595,taglook!A:B,2,FALSE))","v":0},{"$f":"VALUE(MID(rawrtf!A595,FIND(\"TFPTAG\",rawrtf!A595,1)+6,3))","v":446}]
[0,"HIDE",{"$f":"IF(ISERROR(D596),\"NOTAG\",VLOOKUP(D596,taglook!A:B,2,FALSE))","v":0},{"$f":"VALUE(MID(rawrtf!A596,FIND(\"TFPTAG\",rawrtf!A596,1)+6,3))","v":446}]
[1,"NOTAG",{"$f":"IF(ISERROR(D597),\"NOTAG\",VLOOKUP(D597,taglook!A:B,2,FALSE))","v":"NOTAG"},{"$f":"VALUE(MID(rawrtf!A597,FIND(\"TFPTAG\",rawrtf!A597,1)+6,3))","v":{"$error":"#VALUE!"}}]
[0,"HIDE",{"$f":"IF(ISERROR(D598),\"NOTAG\",VLOOKUP(D598,taglook!A:B,2,FALSE))","v":0},{"$f":"VALUE(MID(rawrtf!A598,FIND(\"TFPTAG\",rawrtf!A598,1)+6,3))","v":447}]
[0,"HIDE",{"$f":"IF(ISERROR(D599),\"NOTAG\",VLOOKUP(D599,taglook!A:B,2,FALSE))","v":0},{"$f":"VALUE(MID(rawrtf!A599,FIND(\"TFPTAG\",rawrtf!A599,1)+6,3))","v":448}]
[0,"HIDE",{"$f":"IF(ISERROR(D600),\"NOTAG\",VLOOKUP(D600,taglook!A:B,2,FALSE))","v":0},{"$f":"VALUE(MID(rawrtf!A600,FIND(\"TFPTAG\",rawrtf!A600,1)+6,3))","v":449}]
[0,"HIDE",{"$f":"IF(ISERROR(D601),\"NOTAG\",VLOOKUP(D601,taglook!A:B,2,FALSE))","v":0},{"$f":"VALUE(MID(rawrtf!A601,FIND(\"TFPTAG\",rawrtf!A601,1)+6,3))","v":450}]
[0,"HIDE",{"$f":"IF(ISERROR(D602),\"NOTAG\",VLOOKUP(D602,taglook!A:B,2,FALSE))","v":0},{"$f":"VALUE(MID(rawrtf!A602,FIND(\"TFPTAG\",rawrtf!A602,1)+6,3))","v":451}]
[0,"HIDE",{"$f":"IF(ISERROR(D603),\"NOTAG\",VLOOKUP(D603,taglook!A:B,2,FALSE))","v":0},{"$f":"VALUE(MID(rawrtf!A603,FIND(\"TFPTAG\",rawrtf!A603,1)+6,3))","v":452}]
[0,"HIDE",{"$f":"IF(ISERROR(D604),\"NOTAG\",VLOOKUP(D604,taglook!A:B,2,FALSE))","v":0},{"$f":"VALUE(MID(rawrtf!A604,FIND(\"TFPTAG\",rawrtf!A604,1)+6,3))","v":453}]
[0,"HIDE",{"$f":"IF(ISERROR(D605),\"NOTAG\",VLOOKUP(D605,taglook!A:B,2,FALSE))","v":0},{"$f":"VALUE(MID(rawrtf!A605,FIND(\"TFPTAG\",rawrtf!A605,1)+6,3))","v":454}]
[0,"HIDE",{"$f":"IF(ISERROR(D606),\"NOTAG\",VLOOKUP(D606,taglook!A:B,2,FALSE))","v":0},{"$f":"VALUE(MID(rawrtf!A606,FIND(\"TFPTAG\",rawrtf!A606,1)+6,3))","v":455}]
[0,"HIDE",{"$f":"IF(ISERROR(D607),\"NOTAG\",VLOOKUP(D607,taglook!A:B,2,FALSE))","v":0},{"$f":"VALUE(MID(rawrtf!A607,FIND(\"TFPTAG\",rawrtf!A607,1)+6,3))","v":456}]
[0,"HIDE",{"$f":"IF(ISERROR(D608),\"NOTAG\",VLOOKUP(D608,taglook!A:B,2,FALSE))","v":0},{"$f":"VALUE(MID(rawrtf!A608,FIND(\"TFPTAG\",rawrtf!A608,1)+6,3))","v":457}]
[0,"HIDE",{"$f":"IF(ISERROR(D609),\"NOTAG\",VLOOKUP(D609,taglook!A:B,2,FALSE))","v":0},{"$f":"VALUE(MID(rawrtf!A609,FIND(\"TFPTAG\",rawrtf!A609,1)+6,3))","v":458}]
[0,"HIDE",{"$f":"IF(ISERROR(D610),\"NOTAG\",VLOOKUP(D610,taglook!A:B,2,FALSE))","v":0},{"$f":"VALUE(MID(rawrtf!A610,FIND(\"TFPTAG\",rawrtf!A610,1)+6,3))","v":459}]
[0,"HIDE",{"$f":"IF(ISERROR(D611),\"NOTAG\",VLOOKUP(D611,taglook!A:B,2,FALSE))","v":0},{"$f":"VALUE(MID(rawrtf!A611,FIND(\"TFPTAG\",rawrtf!A611,1)+6,3))","v":460}]
[0,"HIDE",{"$f":"IF(ISERROR(D612),\"NOTAG\",VLOOKUP(D612,taglook!A:B,2,FALSE))","v":0},{"$f":"VALUE(MID(rawrtf!A612,FIND(\"TFPTAG\",rawrtf!A612,1)+6,3))","v":461}]
[0,{"$f":"IF(ISNA(C613),\"REDTAG\",IF(C613=\"NOTAG\",\"NOTAG\",IF(C613=1,\"SHOW\",IF(C613=0,\"HIDE\",\"ERROR\"))))","v":"HIDE"},{"$f":"IF(ISERROR(D613),\"NOTAG\",VLOOKUP(D613,taglook!A:B,2,FALSE))","v":0},{"$f":"VALUE(MID(rawrtf!A613,FIND(\"TFPTAG\",rawrtf!A613,1)+6,3))","v":462}]
[0,"HIDE",{"$f":"IF(ISERROR(D614),\"NOTAG\",VLOOKUP(D614,taglook!A:B,2,FALSE))","v":0},{"$f":"VALUE(MID(rawrtf!A614,FIND(\"TFPTAG\",rawrtf!A614,1)+6,3))","v":463}]
[0,"HIDE",{"$f":"IF(ISERROR(D615),\"NOTAG\",VLOOKUP(D615,taglook!A:B,2,FALSE))","v":0},{"$f":"VALUE(MID(rawrtf!A615,FIND(\"TFPTAG\",rawrtf!A615,1)+6,3))","v":464}]
[0,"HIDE",{"$f":"IF(ISERROR(D616),\"NOTAG\",VLOOKUP(D616,taglook!A:B,2,FALSE))","v":0},{"$f":"VALUE(MID(rawrtf!A616,FIND(\"TFPTAG\",rawrtf!A616,1)+6,3))","v":465}]
[0,"HIDE",{"$f":"IF(ISERROR(D617),\"NOTAG\",VLOOKUP(D617,taglook!A:B,2,FALSE))","v":0},{"$f":"VALUE(MID(rawrtf!A617,FIND(\"TFPTAG\",rawrtf!A617,1)+6,3))","v":466}]
[0,"HIDE",{"$f":"IF(ISERROR(D618),\"NOTAG\",VLOOKUP(D618,taglook!A:B,2,FALSE))","v":0},{"$f":"VALUE(MID(rawrtf!A618,FIND(\"TFPTAG\",rawrtf!A618,1)+6,3))","v":467}]
[0,"HIDE",{"$f":"IF(ISERROR(D619),\"NOTAG\",VLOOKUP(D619,taglook!A:B,2,FALSE))","v":0},{"$f":"VALUE(MID(rawrtf!A619,FIND(\"TFPTAG\",rawrtf!A619,1)+6,3))","v":468}]
[0,"HIDE",{"$f":"IF(ISERROR(D620),\"NOTAG\",VLOOKUP(D620,taglook!A:B,2,FALSE))","v":0},{"$f":"VALUE(MID(rawrtf!A620,FIND(\"TFPTAG\",rawrtf!A620,1)+6,3))","v":469}]
[0,"HIDE",{"$f":"IF(ISERROR(D621),\"NOTAG\",VLOOKUP(D621,taglook!A:B,2,FALSE))","v":0},{"$f":"VALUE(MID(rawrtf!A621,FIND(\"TFPTAG\",rawrtf!A621,1)+6,3))","v":470}]
[0,"HIDE",{"$f":"IF(ISERROR(D622),\"NOTAG\",VLOOKUP(D622,taglook!A:B,2,FALSE))","v":0},{"$f":"VALUE(MID(rawrtf!A622,FIND(\"TFPTAG\",rawrtf!A622,1)+6,3))","v":471}]
[0,"HIDE",{"$f":"IF(ISERROR(D623),\"NOTAG\",VLOOKUP(D623,taglook!A:B,2,FALSE))","v":0},{"$f":"VALUE(MID(rawrtf!A623,FIND(\"TFPTAG\",rawrtf!A623,1)+6,3))","v":472}]
[0,"HIDE",{"$f":"IF(ISERROR(D624),\"NOTAG\",VLOOKUP(D624,taglook!A:B,2,FALSE))","v":0},{"$f":"VALUE(MID(rawrtf!A624,FIND(\"TFPTAG\",rawrtf!A624,1)+6,3))","v":473}]
[0,"HIDE",{"$f":"IF(ISERROR(D625),\"NOTAG\",VLOOKUP(D625,taglook!A:B,2,FALSE))","v":0},{"$f":"VALUE(MID(rawrtf!A625,FIND(\"TFPTAG\",rawrtf!A625,1)+6,3))","v":474}]
[0,"HIDE",{"$f":"IF(ISERROR(D626),\"NOTAG\",VLOOKUP(D626,taglook!A:B,2,FALSE))","v":0},{"$f":"VALUE(MID(rawrtf!A626,FIND(\"TFPTAG\",rawrtf!A626,1)+6,3))","v":475}]
[0,"HIDE",{"$f":"IF(ISERROR(D627),\"NOTAG\",VLOOKUP(D627,taglook!A:B,2,FALSE))","v":0},{"$f":"VALUE(MID(rawrtf!A627,FIND(\"TFPTAG\",rawrtf!A627,1)+6,3))","v":476}]
[0,"HIDE",{"$f":"IF(ISERROR(D628),\"NOTAG\",VLOOKUP(D628,taglook!A:B,2,FALSE))","v":0},{"$f":"VALUE(MID(rawrtf!A628,FIND(\"TFPTAG\",rawrtf!A628,1)+6,3))","v":477}]
[0,"HIDE",{"$f":"IF(ISERROR(D629),\"NOTAG\",VLOOKUP(D629,taglook!A:B,2,FALSE))","v":0},{"$f":"VALUE(MID(rawrtf!A629,FIND(\"TFPTAG\",rawrtf!A629,1)+6,3))","v":478}]
[0,"HIDE",{"$f":"IF(ISERROR(D630),\"NOTAG\",VLOOKUP(D630,taglook!A:B,2,FALSE))","v":0},{"$f":"VALUE(MID(rawrtf!A630,FIND(\"TFPTAG\",rawrtf!A630,1)+6,3))","v":479}]
[0,"HIDE",{"$f":"IF(ISERROR(D631),\"NOTAG\",VLOOKUP(D631,taglook!A:B,2,FALSE))","v":0},{"$f":"VALUE(MID(rawrtf!A631,FIND(\"TFPTAG\",rawrtf!A631,1)+6,3))","v":480}]
[0,"HIDE",{"$f":"IF(ISERROR(D632),\"NOTAG\",VLOOKUP(D632,taglook!A:B,2,FALSE))","v":0},{"$f":"VALUE(MID(rawrtf!A632,FIND(\"TFPTAG\",rawrtf!A632,1)+6,3))","v":481}]
[0,"HIDE",{"$f":"IF(ISERROR(D633),\"NOTAG\",VLOOKUP(D633,taglook!A:B,2,FALSE))","v":0},{"$f":"VALUE(MID(rawrtf!A633,FIND(\"TFPTAG\",rawrtf!A633,1)+6,3))","v":482}]
[0,"HIDE",{"$f":"IF(ISERROR(D634),\"NOTAG\",VLOOKUP(D634,taglook!A:B,2,FALSE))","v":0},{"$f":"VALUE(MID(rawrtf!A634,FIND(\"TFPTAG\",rawrtf!A634,1)+6,3))","v":483}]
[0,"HIDE",{"$f":"IF(ISERROR(D635),\"NOTAG\",VLOOKUP(D635,taglook!A:B,2,FALSE))","v":0},{"$f":"VALUE(MID(rawrtf!A635,FIND(\"TFPTAG\",rawrtf!A635,1)+6,3))","v":484}]
[0,"HIDE",{"$f":"IF(ISERROR(D636),\"NOTAG\",VLOOKUP(D636,taglook!A:B,2,FALSE))","v":0},{"$f":"VALUE(MID(rawrtf!A636,FIND(\"TFPTAG\",rawrtf!A636,1)+6,3))","v":485}]
[0,"HIDE",{"$f":"IF(ISERROR(D637),\"NOTAG\",VLOOKUP(D637,taglook!A:B,2,FALSE))","v":0},{"$f":"VALUE(MID(rawrtf!A637,FIND(\"TFPTAG\",rawrtf!A637,1)+6,3))","v":486}]
[0,"HIDE",{"$f":"IF(ISERROR(D638),\"NOTAG\",VLOOKUP(D638,taglook!A:B,2,FALSE))","v":0},{"$f":"VALUE(MID(rawrtf!A638,FIND(\"TFPTAG\",rawrtf!A638,1)+6,3))","v":487}]
[0,"HIDE",{"$f":"IF(ISERROR(D639),\"NOTAG\",VLOOKUP(D639,taglook!A:B,2,FALSE))","v":0},{"$f":"VALUE(MID(rawrtf!A639,FIND(\"TFPTAG\",rawrtf!A639,1)+6,3))","v":488}]
[0,"HIDE",{"$f":"IF(ISERROR(D640),\"NOTAG\",VLOOKUP(D640,taglook!A:B,2,FALSE))","v":0},{"$f":"VALUE(MID(rawrtf!A640,FIND(\"TFPTAG\",rawrtf!A640,1)+6,3))","v":489}]
[0,"HIDE",{"$f":"IF(ISERROR(D641),\"NOTAG\",VLOOKUP(D641,taglook!A:B,2,FALSE))","v":0},{"$f":"VALUE(MID(rawrtf!A641,FIND(\"TFPTAG\",rawrtf!A641,1)+6,3))","v":490}]
[0,"HIDE",{"$f":"IF(ISERROR(D642),\"NOTAG\",VLOOKUP(D642,taglook!A:B,2,FALSE))","v":0},{"$f":"VALUE(MID(rawrtf!A642,FIND(\"TFPTAG\",rawrtf!A642,1)+6,3))","v":491}]
[{"$f":"IF(OR(B643=\"SHOW\",B643=\"NOTAG\"),1,0)","v":0},"HIDE",{"$f":"IF(ISERROR(D643),\"NOTAG\",VLOOKUP(D643,taglook!A:B,2,FALSE))","v":0},{"$f":"VALUE(MID(rawrtf!A643,FIND(\"TFPTAG\",rawrtf!A643,1)+6,3))","v":492}]
[0,"HIDE",{"$f":"IF(ISERROR(D644),\"NOTAG\",VLOOKUP(D644,taglook!A:B,2,FALSE))","v":0},{"$f":"VALUE(MID(rawrtf!A644,FIND(\"TFPTAG\",rawrtf!A644,1)+6,3))","v":493}]
[0,"HIDE",{"$f":"IF(ISERROR(D645),\"NOTAG\",VLOOKUP(D645,taglook!A:B,2,FALSE))","v":0},{"$f":"VALUE(MID(rawrtf!A645,FIND(\"TFPTAG\",rawrtf!A645,1)+6,3))","v":494}]
[0,"HIDE",{"$f":"IF(ISERROR(D646),\"NOTAG\",VLOOKUP(D646,taglook!A:B,2,FALSE))","v":0},{"$f":"VALUE(MID(rawrtf!A646,FIND(\"TFPTAG\",rawrtf!A646,1)+6,3))","v":495}]
[0,"HIDE",{"$f":"IF(ISERROR(D647),\"NOTAG\",VLOOKUP(D647,taglook!A:B,2,FALSE))","v":0},{"$f":"VALUE(MID(rawrtf!A647,FIND(\"TFPTAG\",rawrtf!A647,1)+6,3))","v":496}]
[0,"HIDE",{"$f":"IF(ISERROR(D648),\"NOTAG\",VLOOKUP(D648,taglook!A:B,2,FALSE))","v":0},{"$f":"VALUE(MID(rawrtf!A648,FIND(\"TFPTAG\",rawrtf!A648,1)+6,3))","v":497}]
[0,"HIDE",{"$f":"IF(ISERROR(D649),\"NOTAG\",VLOOKUP(D649,taglook!A:B,2,FALSE))","v":0},{"$f":"VALUE(MID(rawrtf!A649,FIND(\"TFPTAG\",rawrtf!A649,1)+6,3))","v":498}]
[0,"HIDE",{"$f":"IF(ISERROR(D650),\"NOTAG\",VLOOKUP(D650,taglook!A:B,2,FALSE))","v":0},{"$f":"VALUE(MID(rawrtf!A650,FIND(\"TFPTAG\",rawrtf!A650,1)+6,3))","v":499}]
[0,"HIDE",{"$f":"IF(ISERROR(D651),\"NOTAG\",VLOOKUP(D651,taglook!A:B,2,FALSE))","v":0},{"$f":"VALUE(MID(rawrtf!A651,FIND(\"TFPTAG\",rawrtf!A651,1)+6,3))","v":500}]
[0,"HIDE",{"$f":"IF(ISERROR(D652),\"NOTAG\",VLOOKUP(D652,taglook!A:B,2,FALSE))","v":0},{"$f":"VALUE(MID(rawrtf!A652,FIND(\"TFPTAG\",rawrtf!A652,1)+6,3))","v":501}]
[0,"HIDE",{"$f":"IF(ISERROR(D653),\"NOTAG\",VLOOKUP(D653,taglook!A:B,2,FALSE))","v":0},{"$f":"VALUE(MID(rawrtf!A653,FIND(\"TFPTAG\",rawrtf!A653,1)+6,3))","v":502}]
[0,"HIDE",{"$f":"IF(ISERROR(D654),\"NOTAG\",VLOOKUP(D654,taglook!A:B,2,FALSE))","v":0},{"$f":"VALUE(MID(rawrtf!A654,FIND(\"TFPTAG\",rawrtf!A654,1)+6,3))","v":503}]
[0,"HIDE",{"$f":"IF(ISERROR(D655),\"NOTAG\",VLOOKUP(D655,taglook!A:B,2,FALSE))","v":0},{"$f":"VALUE(MID(rawrtf!A655,FIND(\"TFPTAG\",rawrtf!A655,1)+6,3))","v":504}]
[0,"HIDE",{"$f":"IF(ISERROR(D656),\"NOTAG\",VLOOKUP(D656,taglook!A:B,2,FALSE))","v":0},{"$f":"VALUE(MID(rawrtf!A656,FIND(\"TFPTAG\",rawrtf!A656,1)+6,3))","v":505}]
[0,"HIDE",{"$f":"IF(ISERROR(D657),\"NOTAG\",VLOOKUP(D657,taglook!A:B,2,FALSE))","v":0},{"$f":"VALUE(MID(rawrtf!A657,FIND(\"TFPTAG\",rawrtf!A657,1)+6,3))","v":506}]
[0,"HIDE",{"$f":"IF(ISERROR(D658),\"NOTAG\",VLOOKUP(D658,taglook!A:B,2,FALSE))","v":0},{"$f":"VALUE(MID(rawrtf!A658,FIND(\"TFPTAG\",rawrtf!A658,1)+6,3))","v":507}]
[0,"HIDE",{"$f":"IF(ISERROR(D659),\"NOTAG\",VLOOKUP(D659,taglook!A:B,2,FALSE))","v":0},{"$f":"VALUE(MID(rawrtf!A659,FIND(\"TFPTAG\",rawrtf!A659,1)+6,3))","v":508}]
[0,"HIDE",{"$f":"IF(ISERROR(D660),\"NOTAG\",VLOOKUP(D660,taglook!A:B,2,FALSE))","v":0},{"$f":"VALUE(MID(rawrtf!A660,FIND(\"TFPTAG\",rawrtf!A660,1)+6,3))","v":509}]
[0,"HIDE",{"$f":"IF(ISERROR(D661),\"NOTAG\",VLOOKUP(D661,taglook!A:B,2,FALSE))","v":0},{"$f":"VALUE(MID(rawrtf!A661,FIND(\"TFPTAG\",rawrtf!A661,1)+6,3))","v":510}]
[0,"HIDE",{"$f":"IF(ISERROR(D662),\"NOTAG\",VLOOKUP(D662,taglook!A:B,2,FALSE))","v":0},{"$f":"VALUE(MID(rawrtf!A662,FIND(\"TFPTAG\",rawrtf!A662,1)+6,3))","v":511}]
[0,"HIDE",{"$f":"IF(ISERROR(D663),\"NOTAG\",VLOOKUP(D663,taglook!A:B,2,FALSE))","v":0},{"$f":"VALUE(MID(rawrtf!A663,FIND(\"TFPTAG\",rawrtf!A663,1)+6,3))","v":512}]
[0,"HIDE",{"$f":"IF(ISERROR(D664),\"NOTAG\",VLOOKUP(D664,taglook!A:B,2,FALSE))","v":0},{"$f":"VALUE(MID(rawrtf!A664,FIND(\"TFPTAG\",rawrtf!A664,1)+6,3))","v":513}]
[0,"HIDE",{"$f":"IF(ISERROR(D665),\"NOTAG\",VLOOKUP(D665,taglook!A:B,2,FALSE))","v":0},{"$f":"VALUE(MID(rawrtf!A665,FIND(\"TFPTAG\",rawrtf!A665,1)+6,3))","v":514}]
[0,"HIDE",{"$f":"IF(ISERROR(D666),\"NOTAG\",VLOOKUP(D666,taglook!A:B,2,FALSE))","v":0},{"$f":"VALUE(MID(rawrtf!A666,FIND(\"TFPTAG\",rawrtf!A666,1)+6,3))","v":515}]
[0,"HIDE",{"$f":"IF(ISERROR(D667),\"NOTAG\",VLOOKUP(D667,taglook!A:B,2,FALSE))","v":0},{"$f":"VALUE(MID(rawrtf!A667,FIND(\"TFPTAG\",rawrtf!A667,1)+6,3))","v":516}]
[0,"HIDE",{"$f":"IF(ISERROR(D668),\"NOTAG\",VLOOKUP(D668,taglook!A:B,2,FALSE))","v":0},{"$f":"VALUE(MID(rawrtf!A668,FIND(\"TFPTAG\",rawrtf!A668,1)+6,3))","v":517}]
[0,"HIDE",{"$f":"IF(ISERROR(D669),\"NOTAG\",VLOOKUP(D669,taglook!A:B,2,FALSE))","v":0},{"$f":"VALUE(MID(rawrtf!A669,FIND(\"TFPTAG\",rawrtf!A669,1)+6,3))","v":518}]
[0,"HIDE",{"$f":"IF(ISERROR(D670),\"NOTAG\",VLOOKUP(D670,taglook!A:B,2,FALSE))","v":0},{"$f":"VALUE(MID(rawrtf!A670,FIND(\"TFPTAG\",rawrtf!A670,1)+6,3))","v":519}]
[0,"HIDE",{"$f":"IF(ISERROR(D671),\"NOTAG\",VLOOKUP(D671,taglook!A:B,2,FALSE))","v":0},{"$f":"VALUE(MID(rawrtf!A671,FIND(\"TFPTAG\",rawrtf!A671,1)+6,3))","v":520}]
[0,"HIDE",{"$f":"IF(ISERROR(D672),\"NOTAG\",VLOOKUP(D672,taglook!A:B,2,FALSE))","v":0},{"$f":"VALUE(MID(rawrtf!A672,FIND(\"TFPTAG\",rawrtf!A672,1)+6,3))","v":521}]
[0,"HIDE",{"$f":"IF(ISERROR(D673),\"NOTAG\",VLOOKUP(D673,taglook!A:B,2,FALSE))","v":0},{"$f":"VALUE(MID(rawrtf!A673,FIND(\"TFPTAG\",rawrtf!A673,1)+6,3))","v":522}]
[0,"HIDE",{"$f":"IF(ISERROR(D674),\"NOTAG\",VLOOKUP(D674,taglook!A:B,2,FALSE))","v":0},{"$f":"VALUE(MID(rawrtf!A674,FIND(\"TFPTAG\",rawrtf!A674,1)+6,3))","v":523}]
[0,"HIDE",{"$f":"IF(ISERROR(D675),\"NOTAG\",VLOOKUP(D675,taglook!A:B,2,FALSE))","v":0},{"$f":"VALUE(MID(rawrtf!A675,FIND(\"TFPTAG\",rawrtf!A675,1)+6,3))","v":524}]
[0,"HIDE",{"$f":"IF(ISERROR(D676),\"NOTAG\",VLOOKUP(D676,taglook!A:B,2,FALSE))","v":0},{"$f":"VALUE(MID(rawrtf!A676,FIND(\"TFPTAG\",rawrtf!A676,1)+6,3))","v":525}]
[0,{"$f":"IF(ISNA(C677),\"REDTAG\",IF(C677=\"NOTAG\",\"NOTAG\",IF(C677=1,\"SHOW\",IF(C677=0,\"HIDE\",\"ERROR\"))))","v":"HIDE"},{"$f":"IF(ISERROR(D677),\"NOTAG\",VLOOKUP(D677,taglook!A:B,2,FALSE))","v":0},{"$f":"VALUE(MID(rawrtf!A677,FIND(\"TFPTAG\",rawrtf!A677,1)+6,3))","v":526}]
[0,"HIDE",{"$f":"IF(ISERROR(D678),\"NOTAG\",VLOOKUP(D678,taglook!A:B,2,FALSE))","v":0},{"$f":"VALUE(MID(rawrtf!A678,FIND(\"TFPTAG\",rawrtf!A678,1)+6,3))","v":527}]
[0,"HIDE",{"$f":"IF(ISERROR(D679),\"NOTAG\",VLOOKUP(D679,taglook!A:B,2,FALSE))","v":0},{"$f":"VALUE(MID(rawrtf!A679,FIND(\"TFPTAG\",rawrtf!A679,1)+6,3))","v":528}]
[0,"HIDE",{"$f":"IF(ISERROR(D680),\"NOTAG\",VLOOKUP(D680,taglook!A:B,2,FALSE))","v":0},{"$f":"VALUE(MID(rawrtf!A680,FIND(\"TFPTAG\",rawrtf!A680,1)+6,3))","v":529}]
[0,"HIDE",{"$f":"IF(ISERROR(D681),\"NOTAG\",VLOOKUP(D681,taglook!A:B,2,FALSE))","v":0},{"$f":"VALUE(MID(rawrtf!A681,FIND(\"TFPTAG\",rawrtf!A681,1)+6,3))","v":530}]
[1,"NOTAG",{"$f":"IF(ISERROR(D682),\"NOTAG\",VLOOKUP(D682,taglook!A:B,2,FALSE))","v":"NOTAG"},{"$f":"VALUE(MID(rawrtf!A682,FIND(\"TFPTAG\",rawrtf!A682,1)+6,3))","v":{"$error":"#VALUE!"}}]
[1,"SHOW",{"$f":"IF(ISERROR(D683),\"NOTAG\",VLOOKUP(D683,taglook!A:B,2,FALSE))","v":1},{"$f":"VALUE(MID(rawrtf!A683,FIND(\"TFPTAG\",rawrtf!A683,1)+6,3))","v":531}]
[0,"HIDE",{"$f":"IF(ISERROR(D684),\"NOTAG\",VLOOKUP(D684,taglook!A:B,2,FALSE))","v":0},{"$f":"VALUE(MID(rawrtf!A684,FIND(\"TFPTAG\",rawrtf!A684,1)+6,3))","v":533}]
[0,"HIDE",{"$f":"IF(ISERROR(D685),\"NOTAG\",VLOOKUP(D685,taglook!A:B,2,FALSE))","v":0},{"$f":"VALUE(MID(rawrtf!A685,FIND(\"TFPTAG\",rawrtf!A685,1)+6,3))","v":535}]
[0,"HIDE",{"$f":"IF(ISERROR(D686),\"NOTAG\",VLOOKUP(D686,taglook!A:B,2,FALSE))","v":0},{"$f":"VALUE(MID(rawrtf!A686,FIND(\"TFPTAG\",rawrtf!A686,1)+6,3))","v":537}]
[0,"HIDE",{"$f":"IF(ISERROR(D687),\"NOTAG\",VLOOKUP(D687,taglook!A:B,2,FALSE))","v":0},{"$f":"VALUE(MID(rawrtf!A687,FIND(\"TFPTAG\",rawrtf!A687,1)+6,3))","v":539}]
[0,"HIDE",{"$f":"IF(ISERROR(D688),\"NOTAG\",VLOOKUP(D688,taglook!A:B,2,FALSE))","v":0},{"$f":"VALUE(MID(rawrtf!A688,FIND(\"TFPTAG\",rawrtf!A688,1)+6,3))","v":541}]
[0,"HIDE",{"$f":"IF(ISERROR(D689),\"NOTAG\",VLOOKUP(D689,taglook!A:B,2,FALSE))","v":0},{"$f":"VALUE(MID(rawrtf!A689,FIND(\"TFPTAG\",rawrtf!A689,1)+6,3))","v":543}]
[0,"HIDE",{"$f":"IF(ISERROR(D690),\"NOTAG\",VLOOKUP(D690,taglook!A:B,2,FALSE))","v":0},{"$f":"VALUE(MID(rawrtf!A690,FIND(\"TFPTAG\",rawrtf!A690,1)+6,3))","v":545}]
[0,"HIDE",{"$f":"IF(ISERROR(D691),\"NOTAG\",VLOOKUP(D691,taglook!A:B,2,FALSE))","v":0},{"$f":"VALUE(MID(rawrtf!A691,FIND(\"TFPTAG\",rawrtf!A691,1)+6,3))","v":547}]
[0,"HIDE",{"$f":"IF(ISERROR(D692),\"NOTAG\",VLOOKUP(D692,taglook!A:B,2,FALSE))","v":0},{"$f":"VALUE(MID(rawrtf!A692,FIND(\"TFPTAG\",rawrtf!A692,1)+6,3))","v":549}]
[0,"HIDE",{"$f":"IF(ISERROR(D693),\"NOTAG\",VLOOKUP(D693,taglook!A:B,2,FALSE))","v":0},{"$f":"VALUE(MID(rawrtf!A693,FIND(\"TFPTAG\",rawrtf!A693,1)+6,3))","v":551}]
[0,"HIDE",{"$f":"IF(ISERROR(D694),\"NOTAG\",VLOOKUP(D694,taglook!A:B,2,FALSE))","v":0},{"$f":"VALUE(MID(rawrtf!A694,FIND(\"TFPTAG\",rawrtf!A694,1)+6,3))","v":553}]
[0,"HIDE",{"$f":"IF(ISERROR(D695),\"NOTAG\",VLOOKUP(D695,taglook!A:B,2,FALSE))","v":0},{"$f":"VALUE(MID(rawrtf!A695,FIND(\"TFPTAG\",rawrtf!A695,1)+6,3))","v":555}]
[0,"HIDE",{"$f":"IF(ISERROR(D696),\"NOTAG\",VLOOKUP(D696,taglook!A:B,2,FALSE))","v":0},{"$f":"VALUE(MID(rawrtf!A696,FIND(\"TFPTAG\",rawrtf!A696,1)+6,3))","v":557}]
[0,"HIDE",{"$f":"IF(ISERROR(D697),\"NOTAG\",VLOOKUP(D697,taglook!A:B,2,FALSE))","v":0},{"$f":"VALUE(MID(rawrtf!A697,FIND(\"TFPTAG\",rawrtf!A697,1)+6,3))","v":559}]
[0,"HIDE",{"$f":"IF(ISERROR(D698),\"NOTAG\",VLOOKUP(D698,taglook!A:B,2,FALSE))","v":0},{"$f":"VALUE(MID(rawrtf!A698,FIND(\"TFPTAG\",rawrtf!A698,1)+6,3))","v":561}]
[0,"HIDE",{"$f":"IF(ISERROR(D699),\"NOTAG\",VLOOKUP(D699,taglook!A:B,2,FALSE))","v":0},{"$f":"VALUE(MID(rawrtf!A699,FIND(\"TFPTAG\",rawrtf!A699,1)+6,3))","v":563}]
[0,"HIDE",{"$f":"IF(ISERROR(D700),\"NOTAG\",VLOOKUP(D700,taglook!A:B,2,FALSE))","v":0},{"$f":"VALUE(MID(rawrtf!A700,FIND(\"TFPTAG\",rawrtf!A700,1)+6,3))","v":565}]
[0,"HIDE",{"$f":"IF(ISERROR(D701),\"NOTAG\",VLOOKUP(D701,taglook!A:B,2,FALSE))","v":0},{"$f":"VALUE(MID(rawrtf!A701,FIND(\"TFPTAG\",rawrtf!A701,1)+6,3))","v":567}]
[0,"HIDE",{"$f":"IF(ISERROR(D702),\"NOTAG\",VLOOKUP(D702,taglook!A:B,2,FALSE))","v":0},{"$f":"VALUE(MID(rawrtf!A702,FIND(\"TFPTAG\",rawrtf!A702,1)+6,3))","v":569}]
[0,"HIDE",{"$f":"IF(ISERROR(D703),\"NOTAG\",VLOOKUP(D703,taglook!A:B,2,FALSE))","v":0},{"$f":"VALUE(MID(rawrtf!A703,FIND(\"TFPTAG\",rawrtf!A703,1)+6,3))","v":571}]
[0,"HIDE",{"$f":"IF(ISERROR(D704),\"NOTAG\",VLOOKUP(D704,taglook!A:B,2,FALSE))","v":0},{"$f":"VALUE(MID(rawrtf!A704,FIND(\"TFPTAG\",rawrtf!A704,1)+6,3))","v":573}]
[0,"HIDE",{"$f":"IF(ISERROR(D705),\"NOTAG\",VLOOKUP(D705,taglook!A:B,2,FALSE))","v":0},{"$f":"VALUE(MID(rawrtf!A705,FIND(\"TFPTAG\",rawrtf!A705,1)+6,3))","v":575}]
[0,"HIDE",{"$f":"IF(ISERROR(D706),\"NOTAG\",VLOOKUP(D706,taglook!A:B,2,FALSE))","v":0},{"$f":"VALUE(MID(rawrtf!A706,FIND(\"TFPTAG\",rawrtf!A706,1)+6,3))","v":577}]
[{"$f":"IF(OR(B707=\"SHOW\",B707=\"NOTAG\"),1,0)","v":0},"HIDE",{"$f":"IF(ISERROR(D707),\"NOTAG\",VLOOKUP(D707,taglook!A:B,2,FALSE))","v":0},{"$f":"VALUE(MID(rawrtf!A707,FIND(\"TFPTAG\",rawrtf!A707,1)+6,3))","v":579}]
[0,"HIDE",{"$f":"IF(ISERROR(D708),\"NOTAG\",VLOOKUP(D708,taglook!A:B,2,FALSE))","v":0},{"$f":"VALUE(MID(rawrtf!A708,FIND(\"TFPTAG\",rawrtf!A708,1)+6,3))","v":581}]
[0,"HIDE",{"$f":"IF(ISERROR(D709),\"NOTAG\",VLOOKUP(D709,taglook!A:B,2,FALSE))","v":0},{"$f":"VALUE(MID(rawrtf!A709,FIND(\"TFPTAG\",rawrtf!A709,1)+6,3))","v":583}]
[0,"HIDE",{"$f":"IF(ISERROR(D710),\"NOTAG\",VLOOKUP(D710,taglook!A:B,2,FALSE))","v":0},{"$f":"VALUE(MID(rawrtf!A710,FIND(\"TFPTAG\",rawrtf!A710,1)+6,3))","v":585}]
[0,"HIDE",{"$f":"IF(ISERROR(D711),\"NOTAG\",VLOOKUP(D711,taglook!A:B,2,FALSE))","v":0},{"$f":"VALUE(MID(rawrtf!A711,FIND(\"TFPTAG\",rawrtf!A711,1)+6,3))","v":587}]
[0,"HIDE",{"$f":"IF(ISERROR(D712),\"NOTAG\",VLOOKUP(D712,taglook!A:B,2,FALSE))","v":0},{"$f":"VALUE(MID(rawrtf!A712,FIND(\"TFPTAG\",rawrtf!A712,1)+6,3))","v":589}]
[0,"HIDE",{"$f":"IF(ISERROR(D713),\"NOTAG\",VLOOKUP(D713,taglook!A:B,2,FALSE))","v":0},{"$f":"VALUE(MID(rawrtf!A713,FIND(\"TFPTAG\",rawrtf!A713,1)+6,3))","v":591}]
[0,"HIDE",{"$f":"IF(ISERROR(D714),\"NOTAG\",VLOOKUP(D714,taglook!A:B,2,FALSE))","v":0},{"$f":"VALUE(MID(rawrtf!A714,FIND(\"TFPTAG\",rawrtf!A714,1)+6,3))","v":593}]
[0,"HIDE",{"$f":"IF(ISERROR(D715),\"NOTAG\",VLOOKUP(D715,taglook!A:B,2,FALSE))","v":0},{"$f":"VALUE(MID(rawrtf!A715,FIND(\"TFPTAG\",rawrtf!A715,1)+6,3))","v":595}]
[0,"HIDE",{"$f":"IF(ISERROR(D716),\"NOTAG\",VLOOKUP(D716,taglook!A:B,2,FALSE))","v":0},{"$f":"VALUE(MID(rawrtf!A716,FIND(\"TFPTAG\",rawrtf!A716,1)+6,3))","v":597}]
[0,"HIDE",{"$f":"IF(ISERROR(D717),\"NOTAG\",VLOOKUP(D717,taglook!A:B,2,FALSE))","v":0},{"$f":"VALUE(MID(rawrtf!A717,FIND(\"TFPTAG\",rawrtf!A717,1)+6,3))","v":599}]
[0,"HIDE",{"$f":"IF(ISERROR(D718),\"NOTAG\",VLOOKUP(D718,taglook!A:B,2,FALSE))","v":0},{"$f":"VALUE(MID(rawrtf!A718,FIND(\"TFPTAG\",rawrtf!A718,1)+6,3))","v":601}]
[0,"HIDE",{"$f":"IF(ISERROR(D719),\"NOTAG\",VLOOKUP(D719,taglook!A:B,2,FALSE))","v":0},{"$f":"VALUE(MID(rawrtf!A719,FIND(\"TFPTAG\",rawrtf!A719,1)+6,3))","v":603}]
[0,"HIDE",{"$f":"IF(ISERROR(D720),\"NOTAG\",VLOOKUP(D720,taglook!A:B,2,FALSE))","v":0},{"$f":"VALUE(MID(rawrtf!A720,FIND(\"TFPTAG\",rawrtf!A720,1)+6,3))","v":605}]
[0,"HIDE",{"$f":"IF(ISERROR(D721),\"NOTAG\",VLOOKUP(D721,taglook!A:B,2,FALSE))","v":0},{"$f":"VALUE(MID(rawrtf!A721,FIND(\"TFPTAG\",rawrtf!A721,1)+6,3))","v":607}]
[0,"HIDE",{"$f":"IF(ISERROR(D722),\"NOTAG\",VLOOKUP(D722,taglook!A:B,2,FALSE))","v":0},{"$f":"VALUE(MID(rawrtf!A722,FIND(\"TFPTAG\",rawrtf!A722,1)+6,3))","v":609}]
[0,"HIDE",{"$f":"IF(ISERROR(D723),\"NOTAG\",VLOOKUP(D723,taglook!A:B,2,FALSE))","v":0},{"$f":"VALUE(MID(rawrtf!A723,FIND(\"TFPTAG\",rawrtf!A723,1)+6,3))","v":611}]
[0,"HIDE",{"$f":"IF(ISERROR(D724),\"NOTAG\",VLOOKUP(D724,taglook!A:B,2,FALSE))","v":0},{"$f":"VALUE(MID(rawrtf!A724,FIND(\"TFPTAG\",rawrtf!A724,1)+6,3))","v":613}]
[0,"HIDE",{"$f":"IF(ISERROR(D725),\"NOTAG\",VLOOKUP(D725,taglook!A:B,2,FALSE))","v":0},{"$f":"VALUE(MID(rawrtf!A725,FIND(\"TFPTAG\",rawrtf!A725,1)+6,3))","v":615}]
[0,"HIDE",{"$f":"IF(ISERROR(D726),\"NOTAG\",VLOOKUP(D726,taglook!A:B,2,FALSE))","v":0},{"$f":"VALUE(MID(rawrtf!A726,FIND(\"TFPTAG\",rawrtf!A726,1)+6,3))","v":617}]
[0,"HIDE",{"$f":"IF(ISERROR(D727),\"NOTAG\",VLOOKUP(D727,taglook!A:B,2,FALSE))","v":0},{"$f":"VALUE(MID(rawrtf!A727,FIND(\"TFPTAG\",rawrtf!A727,1)+6,3))","v":619}]
[0,"HIDE",{"$f":"IF(ISERROR(D728),\"NOTAG\",VLOOKUP(D728,taglook!A:B,2,FALSE))","v":0},{"$f":"VALUE(MID(rawrtf!A728,FIND(\"TFPTAG\",rawrtf!A728,1)+6,3))","v":621}]
[0,"HIDE",{"$f":"IF(ISERROR(D729),\"NOTAG\",VLOOKUP(D729,taglook!A:B,2,FALSE))","v":0},{"$f":"VALUE(MID(rawrtf!A729,FIND(\"TFPTAG\",rawrtf!A729,1)+6,3))","v":623}]
[0,"HIDE",{"$f":"IF(ISERROR(D730),\"NOTAG\",VLOOKUP(D730,taglook!A:B,2,FALSE))","v":0},{"$f":"VALUE(MID(rawrtf!A730,FIND(\"TFPTAG\",rawrtf!A730,1)+6,3))","v":625}]
[0,"HIDE",{"$f":"IF(ISERROR(D731),\"NOTAG\",VLOOKUP(D731,taglook!A:B,2,FALSE))","v":0},{"$f":"VALUE(MID(rawrtf!A731,FIND(\"TFPTAG\",rawrtf!A731,1)+6,3))","v":627}]
[0,"HIDE",{"$f":"IF(ISERROR(D732),\"NOTAG\",VLOOKUP(D732,taglook!A:B,2,FALSE))","v":0},{"$f":"VALUE(MID(rawrtf!A732,FIND(\"TFPTAG\",rawrtf!A732,1)+6,3))","v":629}]
[0,"HIDE",{"$f":"IF(ISERROR(D733),\"NOTAG\",VLOOKUP(D733,taglook!A:B,2,FALSE))","v":0},{"$f":"VALUE(MID(rawrtf!A733,FIND(\"TFPTAG\",rawrtf!A733,1)+6,3))","v":631}]
[0,"HIDE",{"$f":"IF(ISERROR(D734),\"NOTAG\",VLOOKUP(D734,taglook!A:B,2,FALSE))","v":0},{"$f":"VALUE(MID(rawrtf!A734,FIND(\"TFPTAG\",rawrtf!A734,1)+6,3))","v":633}]
[0,"HIDE",{"$f":"IF(ISERROR(D735),\"NOTAG\",VLOOKUP(D735,taglook!A:B,2,FALSE))","v":0},{"$f":"VALUE(MID(rawrtf!A735,FIND(\"TFPTAG\",rawrtf!A735,1)+6,3))","v":635}]
[0,"HIDE",{"$f":"IF(ISERROR(D736),\"NOTAG\",VLOOKUP(D736,taglook!A:B,2,FALSE))","v":0},{"$f":"VALUE(MID(rawrtf!A736,FIND(\"TFPTAG\",rawrtf!A736,1)+6,3))","v":637}]
[0,"HIDE",{"$f":"IF(ISERROR(D737),\"NOTAG\",VLOOKUP(D737,taglook!A:B,2,FALSE))","v":0},{"$f":"VALUE(MID(rawrtf!A737,FIND(\"TFPTAG\",rawrtf!A737,1)+6,3))","v":639}]
[0,"HIDE",{"$f":"IF(ISERROR(D738),\"NOTAG\",VLOOKUP(D738,taglook!A:B,2,FALSE))","v":0},{"$f":"VALUE(MID(rawrtf!A738,FIND(\"TFPTAG\",rawrtf!A738,1)+6,3))","v":641}]
[0,"HIDE",{"$f":"IF(ISERROR(D739),\"NOTAG\",VLOOKUP(D739,taglook!A:B,2,FALSE))","v":0},{"$f":"VALUE(MID(rawrtf!A739,FIND(\"TFPTAG\",rawrtf!A739,1)+6,3))","v":643}]
[0,"HIDE",{"$f":"IF(ISERROR(D740),\"NOTAG\",VLOOKUP(D740,taglook!A:B,2,FALSE))","v":0},{"$f":"VALUE(MID(rawrtf!A740,FIND(\"TFPTAG\",rawrtf!A740,1)+6,3))","v":645}]
[0,{"$f":"IF(ISNA(C741),\"REDTAG\",IF(C741=\"NOTAG\",\"NOTAG\",IF(C741=1,\"SHOW\",IF(C741=0,\"HIDE\",\"ERROR\"))))","v":"HIDE"},{"$f":"IF(ISERROR(D741),\"NOTAG\",VLOOKUP(D741,taglook!A:B,2,FALSE))","v":0},{"$f":"VALUE(MID(rawrtf!A741,FIND(\"TFPTAG\",rawrtf!A741,1)+6,3))","v":647}]
[0,"HIDE",{"$f":"IF(ISERROR(D742),\"NOTAG\",VLOOKUP(D742,taglook!A:B,2,FALSE))","v":0},{"$f":"VALUE(MID(rawrtf!A742,FIND(\"TFPTAG\",rawrtf!A742,1)+6,3))","v":649}]
[0,"HIDE",{"$f":"IF(ISERROR(D743),\"NOTAG\",VLOOKUP(D743,taglook!A:B,2,FALSE))","v":0},{"$f":"VALUE(MID(rawrtf!A743,FIND(\"TFPTAG\",rawrtf!A743,1)+6,3))","v":651}]
[0,"HIDE",{"$f":"IF(ISERROR(D744),\"NOTAG\",VLOOKUP(D744,taglook!A:B,2,FALSE))","v":0},{"$f":"VALUE(MID(rawrtf!A744,FIND(\"TFPTAG\",rawrtf!A744,1)+6,3))","v":653}]
[0,"HIDE",{"$f":"IF(ISERROR(D745),\"NOTAG\",VLOOKUP(D745,taglook!A:B,2,FALSE))","v":0},{"$f":"VALUE(MID(rawrtf!A745,FIND(\"TFPTAG\",rawrtf!A745,1)+6,3))","v":655}]
[0,"HIDE",{"$f":"IF(ISERROR(D746),\"NOTAG\",VLOOKUP(D746,taglook!A:B,2,FALSE))","v":0},{"$f":"VALUE(MID(rawrtf!A746,FIND(\"TFPTAG\",rawrtf!A746,1)+6,3))","v":657}]
[0,"HIDE",{"$f":"IF(ISERROR(D747),\"NOTAG\",VLOOKUP(D747,taglook!A:B,2,FALSE))","v":0},{"$f":"VALUE(MID(rawrtf!A747,FIND(\"TFPTAG\",rawrtf!A747,1)+6,3))","v":659}]
[0,"HIDE",{"$f":"IF(ISERROR(D748),\"NOTAG\",VLOOKUP(D748,taglook!A:B,2,FALSE))","v":0},{"$f":"VALUE(MID(rawrtf!A748,FIND(\"TFPTAG\",rawrtf!A748,1)+6,3))","v":661}]
[0,"HIDE",{"$f":"IF(ISERROR(D749),\"NOTAG\",VLOOKUP(D749,taglook!A:B,2,FALSE))","v":0},{"$f":"VALUE(MID(rawrtf!A749,FIND(\"TFPTAG\",rawrtf!A749,1)+6,3))","v":663}]
[0,"HIDE",{"$f":"IF(ISERROR(D750),\"NOTAG\",VLOOKUP(D750,taglook!A:B,2,FALSE))","v":0},{"$f":"VALUE(MID(rawrtf!A750,FIND(\"TFPTAG\",rawrtf!A750,1)+6,3))","v":665}]
[0,"HIDE",{"$f":"IF(ISERROR(D751),\"NOTAG\",VLOOKUP(D751,taglook!A:B,2,FALSE))","v":0},{"$f":"VALUE(MID(rawrtf!A751,FIND(\"TFPTAG\",rawrtf!A751,1)+6,3))","v":667}]
[0,"HIDE",{"$f":"IF(ISERROR(D752),\"NOTAG\",VLOOKUP(D752,taglook!A:B,2,FALSE))","v":0},{"$f":"VALUE(MID(rawrtf!A752,FIND(\"TFPTAG\",rawrtf!A752,1)+6,3))","v":669}]
[0,"HIDE",{"$f":"IF(ISERROR(D753),\"NOTAG\",VLOOKUP(D753,taglook!A:B,2,FALSE))","v":0},{"$f":"VALUE(MID(rawrtf!A753,FIND(\"TFPTAG\",rawrtf!A753,1)+6,3))","v":671}]
[0,"HIDE",{"$f":"IF(ISERROR(D754),\"NOTAG\",VLOOKUP(D754,taglook!A:B,2,FALSE))","v":0},{"$f":"VALUE(MID(rawrtf!A754,FIND(\"TFPTAG\",rawrtf!A754,1)+6,3))","v":673}]
[0,"HIDE",{"$f":"IF(ISERROR(D755),\"NOTAG\",VLOOKUP(D755,taglook!A:B,2,FALSE))","v":0},{"$f":"VALUE(MID(rawrtf!A755,FIND(\"TFPTAG\",rawrtf!A755,1)+6,3))","v":675}]
[0,"HIDE",{"$f":"IF(ISERROR(D756),\"NOTAG\",VLOOKUP(D756,taglook!A:B,2,FALSE))","v":0},{"$f":"VALUE(MID(rawrtf!A756,FIND(\"TFPTAG\",rawrtf!A756,1)+6,3))","v":677}]
[0,"HIDE",{"$f":"IF(ISERROR(D757),\"NOTAG\",VLOOKUP(D757,taglook!A:B,2,FALSE))","v":0},{"$f":"VALUE(MID(rawrtf!A757,FIND(\"TFPTAG\",rawrtf!A757,1)+6,3))","v":679}]
[0,"HIDE",{"$f":"IF(ISERROR(D758),\"NOTAG\",VLOOKUP(D758,taglook!A:B,2,FALSE))","v":0},{"$f":"VALUE(MID(rawrtf!A758,FIND(\"TFPTAG\",rawrtf!A758,1)+6,3))","v":681}]
[0,"HIDE",{"$f":"IF(ISERROR(D759),\"NOTAG\",VLOOKUP(D759,taglook!A:B,2,FALSE))","v":0},{"$f":"VALUE(MID(rawrtf!A759,FIND(\"TFPTAG\",rawrtf!A759,1)+6,3))","v":683}]
[0,"HIDE",{"$f":"IF(ISERROR(D760),\"NOTAG\",VLOOKUP(D760,taglook!A:B,2,FALSE))","v":0},{"$f":"VALUE(MID(rawrtf!A760,FIND(\"TFPTAG\",rawrtf!A760,1)+6,3))","v":685}]
[0,"HIDE",{"$f":"IF(ISERROR(D761),\"NOTAG\",VLOOKUP(D761,taglook!A:B,2,FALSE))","v":0},{"$f":"VALUE(MID(rawrtf!A761,FIND(\"TFPTAG\",rawrtf!A761,1)+6,3))","v":687}]
[0,"HIDE",{"$f":"IF(ISERROR(D762),\"NOTAG\",VLOOKUP(D762,taglook!A:B,2,FALSE))","v":0},{"$f":"VALUE(MID(rawrtf!A762,FIND(\"TFPTAG\",rawrtf!A762,1)+6,3))","v":689}]
[0,"HIDE",{"$f":"IF(ISERROR(D763),\"NOTAG\",VLOOKUP(D763,taglook!A:B,2,FALSE))","v":0},{"$f":"VALUE(MID(rawrtf!A763,FIND(\"TFPTAG\",rawrtf!A763,1)+6,3))","v":691}]
[0,"HIDE",{"$f":"IF(ISERROR(D764),\"NOTAG\",VLOOKUP(D764,taglook!A:B,2,FALSE))","v":0},{"$f":"VALUE(MID(rawrtf!A764,FIND(\"TFPTAG\",rawrtf!A764,1)+6,3))","v":693}]
[0,"HIDE",{"$f":"IF(ISERROR(D765),\"NOTAG\",VLOOKUP(D765,taglook!A:B,2,FALSE))","v":0},{"$f":"VALUE(MID(rawrtf!A765,FIND(\"TFPTAG\",rawrtf!A765,1)+6,3))","v":695}]
[0,"HIDE",{"$f":"IF(ISERROR(D766),\"NOTAG\",VLOOKUP(D766,taglook!A:B,2,FALSE))","v":0},{"$f":"VALUE(MID(rawrtf!A766,FIND(\"TFPTAG\",rawrtf!A766,1)+6,3))","v":697}]
[0,"HIDE",{"$f":"IF(ISERROR(D767),\"NOTAG\",VLOOKUP(D767,taglook!A:B,2,FALSE))","v":0},{"$f":"VALUE(MID(rawrtf!A767,FIND(\"TFPTAG\",rawrtf!A767,1)+6,3))","v":699}]
[1,"NOTAG",{"$f":"IF(ISERROR(D768),\"NOTAG\",VLOOKUP(D768,taglook!A:B,2,FALSE))","v":"NOTAG"},{"$f":"VALUE(MID(rawrtf!A768,FIND(\"TFPTAG\",rawrtf!A768,1)+6,3))","v":{"$error":"#VALUE!"}}]
[1,"NOTAG",{"$f":"IF(ISERROR(D769),\"NOTAG\",VLOOKUP(D769,taglook!A:B,2,FALSE))","v":"NOTAG"},{"$f":"VALUE(MID(rawrtf!A769,FIND(\"TFPTAG\",rawrtf!A769,1)+6,3))","v":{"$error":"#VALUE!"}}]
[1,"NOTAG",{"$f":"IF(ISERROR(D770),\"NOTAG\",VLOOKUP(D770,taglook!A:B,2,FALSE))","v":"NOTAG"},{"$f":"VALUE(MID(rawrtf!A770,FIND(\"TFPTAG\",rawrtf!A770,1)+6,3))","v":{"$error":"#VALUE!"}}]
[{"$f":"IF(OR(B771=\"SHOW\",B771=\"NOTAG\"),1,0)","v":1},"NOTAG",{"$f":"IF(ISERROR(D771),\"NOTAG\",VLOOKUP(D771,taglook!A:B,2,FALSE))","v":"NOTAG"},{"$f":"VALUE(MID(rawrtf!A771,FIND(\"TFPTAG\",rawrtf!A771,1)+6,3))","v":{"$error":"#VALUE!"}}]
[1,"NOTAG",{"$f":"IF(ISERROR(D772),\"NOTAG\",VLOOKUP(D772,taglook!A:B,2,FALSE))","v":"NOTAG"},{"$f":"VALUE(MID(rawrtf!A772,FIND(\"TFPTAG\",rawrtf!A772,1)+6,3))","v":{"$error":"#VALUE!"}}]
[1,"NOTAG",{"$f":"IF(ISERROR(D773),\"NOTAG\",VLOOKUP(D773,taglook!A:B,2,FALSE))","v":"NOTAG"},{"$f":"VALUE(MID(rawrtf!A773,FIND(\"TFPTAG\",rawrtf!A773,1)+6,3))","v":{"$error":"#VALUE!"}}]
[1,"NOTAG",{"$f":"IF(ISERROR(D774),\"NOTAG\",VLOOKUP(D774,taglook!A:B,2,FALSE))","v":"NOTAG"},{"$f":"VALUE(MID(rawrtf!A774,FIND(\"TFPTAG\",rawrtf!A774,1)+6,3))","v":{"$error":"#VALUE!"}}]
[1,"NOTAG",{"$f":"IF(ISERROR(D775),\"NOTAG\",VLOOKUP(D775,taglook!A:B,2,FALSE))","v":"NOTAG"},{"$f":"VALUE(MID(rawrtf!A775,FIND(\"TFPTAG\",rawrtf!A775,1)+6,3))","v":{"$error":"#VALUE!"}}]
[1,"NOTAG",{"$f":"IF(ISERROR(D776),\"NOTAG\",VLOOKUP(D776,taglook!A:B,2,FALSE))","v":"NOTAG"},{"$f":"VALUE(MID(rawrtf!A776,FIND(\"TFPTAG\",rawrtf!A776,1)+6,3))","v":{"$error":"#VALUE!"}}]
[1,"NOTAG",{"$f":"IF(ISERROR(D777),\"NOTAG\",VLOOKUP(D777,taglook!A:B,2,FALSE))","v":"NOTAG"},{"$f":"VALUE(MID(rawrtf!A777,FIND(\"TFPTAG\",rawrtf!A777,1)+6,3))","v":{"$error":"#VALUE!"}}]
[1,"NOTAG",{"$f":"IF(ISERROR(D778),\"NOTAG\",VLOOKUP(D778,taglook!A:B,2,FALSE))","v":"NOTAG"},{"$f":"VALUE(MID(rawrtf!A778,FIND(\"TFPTAG\",rawrtf!A778,1)+6,3))","v":{"$error":"#VALUE!"}}]
[1,"NOTAG",{"$f":"IF(ISERROR(D779),\"NOTAG\",VLOOKUP(D779,taglook!A:B,2,FALSE))","v":"NOTAG"},{"$f":"VALUE(MID(rawrtf!A779,FIND(\"TFPTAG\",rawrtf!A779,1)+6,3))","v":{"$error":"#VALUE!"}}]
[1,"NOTAG",{"$f":"IF(ISERROR(D780),\"NOTAG\",VLOOKUP(D780,taglook!A:B,2,FALSE))","v":"NOTAG"},{"$f":"VALUE(MID(rawrtf!A780,FIND(\"TFPTAG\",rawrtf!A780,1)+6,3))","v":{"$error":"#VALUE!"}}]
[1,"NOTAG",{"$f":"IF(ISERROR(D781),\"NOTAG\",VLOOKUP(D781,taglook!A:B,2,FALSE))","v":"NOTAG"},{"$f":"VALUE(MID(rawrtf!A781,FIND(\"TFPTAG\",rawrtf!A781,1)+6,3))","v":{"$error":"#VALUE!"}}]
[1,"NOTAG",{"$f":"IF(ISERROR(D782),\"NOTAG\",VLOOKUP(D782,taglook!A:B,2,FALSE))","v":"NOTAG"},{"$f":"VALUE(MID(rawrtf!A782,FIND(\"TFPTAG\",rawrtf!A782,1)+6,3))","v":{"$error":"#VALUE!"}}]
[1,"NOTAG",{"$f":"IF(ISERROR(D783),\"NOTAG\",VLOOKUP(D783,taglook!A:B,2,FALSE))","v":"NOTAG"},{"$f":"VALUE(MID(rawrtf!A783,FIND(\"TFPTAG\",rawrtf!A783,1)+6,3))","v":{"$error":"#VALUE!"}}]
[1,"NOTAG",{"$f":"IF(ISERROR(D784),\"NOTAG\",VLOOKUP(D784,taglook!A:B,2,FALSE))","v":"NOTAG"},{"$f":"VALUE(MID(rawrtf!A784,FIND(\"TFPTAG\",rawrtf!A784,1)+6,3))","v":{"$error":"#VALUE!"}}]
[1,"NOTAG",{"$f":"IF(ISERROR(D785),\"NOTAG\",VLOOKUP(D785,taglook!A:B,2,FALSE))","v":"NOTAG"},{"$f":"VALUE(MID(rawrtf!A785,FIND(\"TFPTAG\",rawrtf!A785,1)+6,3))","v":{"$error":"#VALUE!"}}]
[1,"NOTAG",{"$f":"IF(ISERROR(D786),\"NOTAG\",VLOOKUP(D786,taglook!A:B,2,FALSE))","v":"NOTAG"},{"$f":"VALUE(MID(rawrtf!A786,FIND(\"TFPTAG\",rawrtf!A786,1)+6,3))","v":{"$error":"#VALUE!"}}]
[1,"NOTAG",{"$f":"IF(ISERROR(D787),\"NOTAG\",VLOOKUP(D787,taglook!A:B,2,FALSE))","v":"NOTAG"},{"$f":"VALUE(MID(rawrtf!A787,FIND(\"TFPTAG\",rawrtf!A787,1)+6,3))","v":{"$error":"#VALUE!"}}]
[1,"NOTAG",{"$f":"IF(ISERROR(D788),\"NOTAG\",VLOOKUP(D788,taglook!A:B,2,FALSE))","v":"NOTAG"},{"$f":"VALUE(MID(rawrtf!A788,FIND(\"TFPTAG\",rawrtf!A788,1)+6,3))","v":{"$error":"#VALUE!"}}]
[1,"NOTAG",{"$f":"IF(ISERROR(D789),\"NOTAG\",VLOOKUP(D789,taglook!A:B,2,FALSE))","v":"NOTAG"},{"$f":"VALUE(MID(rawrtf!A789,FIND(\"TFPTAG\",rawrtf!A789,1)+6,3))","v":{"$error":"#VALUE!"}}]
[1,"NOTAG",{"$f":"IF(ISERROR(D790),\"NOTAG\",VLOOKUP(D790,taglook!A:B,2,FALSE))","v":"NOTAG"},{"$f":"VALUE(MID(rawrtf!A790,FIND(\"TFPTAG\",rawrtf!A790,1)+6,3))","v":{"$error":"#VALUE!"}}]
[1,"NOTAG",{"$f":"IF(ISERROR(D791),\"NOTAG\",VLOOKUP(D791,taglook!A:B,2,FALSE))","v":"NOTAG"},{"$f":"VALUE(MID(rawrtf!A791,FIND(\"TFPTAG\",rawrtf!A791,1)+6,3))","v":{"$error":"#VALUE!"}}]
[1,"NOTAG",{"$f":"IF(ISERROR(D792),\"NOTAG\",VLOOKUP(D792,taglook!A:B,2,FALSE))","v":"NOTAG"},{"$f":"VALUE(MID(rawrtf!A792,FIND(\"TFPTAG\",rawrtf!A792,1)+6,3))","v":{"$error":"#VALUE!"}}]
[1,"NOTAG",{"$f":"IF(ISERROR(D793),\"NOTAG\",VLOOKUP(D793,taglook!A:B,2,FALSE))","v":"NOTAG"},{"$f":"VALUE(MID(rawrtf!A793,FIND(\"TFPTAG\",rawrtf!A793,1)+6,3))","v":{"$error":"#VALUE!"}}]
[1,"NOTAG",{"$f":"IF(ISERROR(D794),\"NOTAG\",VLOOKUP(D794,taglook!A:B,2,FALSE))","v":"NOTAG"},{"$f":"VALUE(MID(rawrtf!A794,FIND(\"TFPTAG\",rawrtf!A794,1)+6,3))","v":{"$error":"#VALUE!"}}]
[1,"NOTAG",{"$f":"IF(ISERROR(D795),\"NOTAG\",VLOOKUP(D795,taglook!A:B,2,FALSE))","v":"NOTAG"},{"$f":"VALUE(MID(rawrtf!A795,FIND(\"TFPTAG\",rawrtf!A795,1)+6,3))","v":{"$error":"#VALUE!"}}]
[1,"NOTAG",{"$f":"IF(ISERROR(D796),\"NOTAG\",VLOOKUP(D796,taglook!A:B,2,FALSE))","v":"NOTAG"},{"$f":"VALUE(MID(rawrtf!A796,FIND(\"TFPTAG\",rawrtf!A796,1)+6,3))","v":{"$error":"#VALUE!"}}]
[1,"NOTAG",{"$f":"IF(ISERROR(D797),\"NOTAG\",VLOOKUP(D797,taglook!A:B,2,FALSE))","v":"NOTAG"},{"$f":"VALUE(MID(rawrtf!A797,FIND(\"TFPTAG\",rawrtf!A797,1)+6,3))","v":{"$error":"#VALUE!"}}]
[1,"NOTAG",{"$f":"IF(ISERROR(D798),\"NOTAG\",VLOOKUP(D798,taglook!A:B,2,FALSE))","v":"NOTAG"},{"$f":"VALUE(MID(rawrtf!A798,FIND(\"TFPTAG\",rawrtf!A798,1)+6,3))","v":{"$error":"#VALUE!"}}]
[1,"NOTAG",{"$f":"IF(ISERROR(D799),\"NOTAG\",VLOOKUP(D799,taglook!A:B,2,FALSE))","v":"NOTAG"},{"$f":"VALUE(MID(rawrtf!A799,FIND(\"TFPTAG\",rawrtf!A799,1)+6,3))","v":{"$error":"#VALUE!"}}]
[1,"NOTAG",{"$f":"IF(ISERROR(D800),\"NOTAG\",VLOOKUP(D800,taglook!A:B,2,FALSE))","v":"NOTAG"},{"$f":"VALUE(MID(rawrtf!A800,FIND(\"TFPTAG\",rawrtf!A800,1)+6,3))","v":{"$error":"#VALUE!"}}]
[1,"NOTAG",{"$f":"IF(ISERROR(D801),\"NOTAG\",VLOOKUP(D801,taglook!A:B,2,FALSE))","v":"NOTAG"},{"$f":"VALUE(MID(rawrtf!A801,FIND(\"TFPTAG\",rawrtf!A801,1)+6,3))","v":{"$error":"#VALUE!"}}]
[1,"NOTAG",{"$f":"IF(ISERROR(D802),\"NOTAG\",VLOOKUP(D802,taglook!A:B,2,FALSE))","v":"NOTAG"},{"$f":"VALUE(MID(rawrtf!A802,FIND(\"TFPTAG\",rawrtf!A802,1)+6,3))","v":{"$error":"#VALUE!"}}]
[1,"NOTAG",{"$f":"IF(ISERROR(D803),\"NOTAG\",VLOOKUP(D803,taglook!A:B,2,FALSE))","v":"NOTAG"},{"$f":"VALUE(MID(rawrtf!A803,FIND(\"TFPTAG\",rawrtf!A803,1)+6,3))","v":{"$error":"#VALUE!"}}]
[1,"NOTAG",{"$f":"IF(ISERROR(D804),\"NOTAG\",VLOOKUP(D804,taglook!A:B,2,FALSE))","v":"NOTAG"},{"$f":"VALUE(MID(rawrtf!A804,FIND(\"TFPTAG\",rawrtf!A804,1)+6,3))","v":{"$error":"#VALUE!"}}]
[1,{"$f":"IF(ISNA(C805),\"REDTAG\",IF(C805=\"NOTAG\",\"NOTAG\",IF(C805=1,\"SHOW\",IF(C805=0,\"HIDE\",\"ERROR\"))))","v":"NOTAG"},{"$f":"IF(ISERROR(D805),\"NOTAG\",VLOOKUP(D805,taglook!A:B,2,FALSE))","v":"NOTAG"},{"$f":"VALUE(MID(rawrtf!A805,FIND(\"TFPTAG\",rawrtf!A805,1)+6,3))","v":{"$error":"#VALUE!"}}]
[1,"NOTAG",{"$f":"IF(ISERROR(D806),\"NOTAG\",VLOOKUP(D806,taglook!A:B,2,FALSE))","v":"NOTAG"},{"$f":"VALUE(MID(rawrtf!A806,FIND(\"TFPTAG\",rawrtf!A806,1)+6,3))","v":{"$error":"#VALUE!"}}]
[1,"NOTAG",{"$f":"IF(ISERROR(D807),\"NOTAG\",VLOOKUP(D807,taglook!A:B,2,FALSE))","v":"NOTAG"},{"$f":"VALUE(MID(rawrtf!A807,FIND(\"TFPTAG\",rawrtf!A807,1)+6,3))","v":{"$error":"#VALUE!"}}]
[1,"NOTAG",{"$f":"IF(ISERROR(D808),\"NOTAG\",VLOOKUP(D808,taglook!A:B,2,FALSE))","v":"NOTAG"},{"$f":"VALUE(MID(rawrtf!A808,FIND(\"TFPTAG\",rawrtf!A808,1)+6,3))","v":{"$error":"#VALUE!"}}]
[1,"NOTAG",{"$f":"IF(ISERROR(D809),\"NOTAG\",VLOOKUP(D809,taglook!A:B,2,FALSE))","v":"NOTAG"},{"$f":"VALUE(MID(rawrtf!A809,FIND(\"TFPTAG\",rawrtf!A809,1)+6,3))","v":{"$error":"#VALUE!"}}]
[1,"NOTAG",{"$f":"IF(ISERROR(D810),\"NOTAG\",VLOOKUP(D810,taglook!A:B,2,FALSE))","v":"NOTAG"},{"$f":"VALUE(MID(rawrtf!A810,FIND(\"TFPTAG\",rawrtf!A810,1)+6,3))","v":{"$error":"#VALUE!"}}]
[1,"NOTAG",{"$f":"IF(ISERROR(D811),\"NOTAG\",VLOOKUP(D811,taglook!A:B,2,FALSE))","v":"NOTAG"},{"$f":"VALUE(MID(rawrtf!A811,FIND(\"TFPTAG\",rawrtf!A811,1)+6,3))","v":{"$error":"#VALUE!"}}]
[1,"NOTAG",{"$f":"IF(ISERROR(D812),\"NOTAG\",VLOOKUP(D812,taglook!A:B,2,FALSE))","v":"NOTAG"},{"$f":"VALUE(MID(rawrtf!A812,FIND(\"TFPTAG\",rawrtf!A812,1)+6,3))","v":{"$error":"#VALUE!"}}]
[1,"NOTAG",{"$f":"IF(ISERROR(D813),\"NOTAG\",VLOOKUP(D813,taglook!A:B,2,FALSE))","v":"NOTAG"},{"$f":"VALUE(MID(rawrtf!A813,FIND(\"TFPTAG\",rawrtf!A813,1)+6,3))","v":{"$error":"#VALUE!"}}]
[1,"NOTAG",{"$f":"IF(ISERROR(D814),\"NOTAG\",VLOOKUP(D814,taglook!A:B,2,FALSE))","v":"NOTAG"},{"$f":"VALUE(MID(rawrtf!A814,FIND(\"TFPTAG\",rawrtf!A814,1)+6,3))","v":{"$error":"#VALUE!"}}]
[1,"NOTAG",{"$f":"IF(ISERROR(D815),\"NOTAG\",VLOOKUP(D815,taglook!A:B,2,FALSE))","v":"NOTAG"},{"$f":"VALUE(MID(rawrtf!A815,FIND(\"TFPTAG\",rawrtf!A815,1)+6,3))","v":{"$error":"#VALUE!"}}]
[1,"NOTAG",{"$f":"IF(ISERROR(D816),\"NOTAG\",VLOOKUP(D816,taglook!A:B,2,FALSE))","v":"NOTAG"},{"$f":"VALUE(MID(rawrtf!A816,FIND(\"TFPTAG\",rawrtf!A816,1)+6,3))","v":{"$error":"#VALUE!"}}]
[1,"NOTAG",{"$f":"IF(ISERROR(D817),\"NOTAG\",VLOOKUP(D817,taglook!A:B,2,FALSE))","v":"NOTAG"},{"$f":"VALUE(MID(rawrtf!A817,FIND(\"TFPTAG\",rawrtf!A817,1)+6,3))","v":{"$error":"#VALUE!"}}]
[1,"NOTAG",{"$f":"IF(ISERROR(D818),\"NOTAG\",VLOOKUP(D818,taglook!A:B,2,FALSE))","v":"NOTAG"},{"$f":"VALUE(MID(rawrtf!A818,FIND(\"TFPTAG\",rawrtf!A818,1)+6,3))","v":{"$error":"#VALUE!"}}]
[1,"NOTAG",{"$f":"IF(ISERROR(D819),\"NOTAG\",VLOOKUP(D819,taglook!A:B,2,FALSE))","v":"NOTAG"},{"$f":"VALUE(MID(rawrtf!A819,FIND(\"TFPTAG\",rawrtf!A819,1)+6,3))","v":{"$error":"#VALUE!"}}]
[1,"NOTAG",{"$f":"IF(ISERROR(D820),\"NOTAG\",VLOOKUP(D820,taglook!A:B,2,FALSE))","v":"NOTAG"},{"$f":"VALUE(MID(rawrtf!A820,FIND(\"TFPTAG\",rawrtf!A820,1)+6,3))","v":{"$error":"#VALUE!"}}]
[1,"NOTAG",{"$f":"IF(ISERROR(D821),\"NOTAG\",VLOOKUP(D821,taglook!A:B,2,FALSE))","v":"NOTAG"},{"$f":"VALUE(MID(rawrtf!A821,FIND(\"TFPTAG\",rawrtf!A821,1)+6,3))","v":{"$error":"#VALUE!"}}]
[1,"NOTAG",{"$f":"IF(ISERROR(D822),\"NOTAG\",VLOOKUP(D822,taglook!A:B,2,FALSE))","v":"NOTAG"},{"$f":"VALUE(MID(rawrtf!A822,FIND(\"TFPTAG\",rawrtf!A822,1)+6,3))","v":{"$error":"#VALUE!"}}]
[1,"NOTAG",{"$f":"IF(ISERROR(D823),\"NOTAG\",VLOOKUP(D823,taglook!A:B,2,FALSE))","v":"NOTAG"},{"$f":"VALUE(MID(rawrtf!A823,FIND(\"TFPTAG\",rawrtf!A823,1)+6,3))","v":{"$error":"#VALUE!"}}]
[1,"NOTAG",{"$f":"IF(ISERROR(D824),\"NOTAG\",VLOOKUP(D824,taglook!A:B,2,FALSE))","v":"NOTAG"},{"$f":"VALUE(MID(rawrtf!A824,FIND(\"TFPTAG\",rawrtf!A824,1)+6,3))","v":{"$error":"#VALUE!"}}]
[1,"NOTAG",{"$f":"IF(ISERROR(D825),\"NOTAG\",VLOOKUP(D825,taglook!A:B,2,FALSE))","v":"NOTAG"},{"$f":"VALUE(MID(rawrtf!A825,FIND(\"TFPTAG\",rawrtf!A825,1)+6,3))","v":{"$error":"#VALUE!"}}]
[1,"NOTAG",{"$f":"IF(ISERROR(D826),\"NOTAG\",VLOOKUP(D826,taglook!A:B,2,FALSE))","v":"NOTAG"},{"$f":"VALUE(MID(rawrtf!A826,FIND(\"TFPTAG\",rawrtf!A826,1)+6,3))","v":{"$error":"#VALUE!"}}]
[1,"NOTAG",{"$f":"IF(ISERROR(D827),\"NOTAG\",VLOOKUP(D827,taglook!A:B,2,FALSE))","v":"NOTAG"},{"$f":"VALUE(MID(rawrtf!A827,FIND(\"TFPTAG\",rawrtf!A827,1)+6,3))","v":{"$error":"#VALUE!"}}]
[1,"NOTAG",{"$f":"IF(ISERROR(D828),\"NOTAG\",VLOOKUP(D828,taglook!A:B,2,FALSE))","v":"NOTAG"},{"$f":"VALUE(MID(rawrtf!A828,FIND(\"TFPTAG\",rawrtf!A828,1)+6,3))","v":{"$error":"#VALUE!"}}]
[1,"NOTAG",{"$f":"IF(ISERROR(D829),\"NOTAG\",VLOOKUP(D829,taglook!A:B,2,FALSE))","v":"NOTAG"},{"$f":"VALUE(MID(rawrtf!A829,FIND(\"TFPTAG\",rawrtf!A829,1)+6,3))","v":{"$error":"#VALUE!"}}]
[1,"NOTAG",{"$f":"IF(ISERROR(D830),\"NOTAG\",VLOOKUP(D830,taglook!A:B,2,FALSE))","v":"NOTAG"},{"$f":"VALUE(MID(rawrtf!A830,FIND(\"TFPTAG\",rawrtf!A830,1)+6,3))","v":{"$error":"#VALUE!"}}]
[1,"NOTAG",{"$f":"IF(ISERROR(D831),\"NOTAG\",VLOOKUP(D831,taglook!A:B,2,FALSE))","v":"NOTAG"},{"$f":"VALUE(MID(rawrtf!A831,FIND(\"TFPTAG\",rawrtf!A831,1)+6,3))","v":{"$error":"#VALUE!"}}]
[1,"NOTAG",{"$f":"IF(ISERROR(D832),\"NOTAG\",VLOOKUP(D832,taglook!A:B,2,FALSE))","v":"NOTAG"},{"$f":"VALUE(MID(rawrtf!A832,FIND(\"TFPTAG\",rawrtf!A832,1)+6,3))","v":{"$error":"#VALUE!"}}]
[1,"NOTAG",{"$f":"IF(ISERROR(D833),\"NOTAG\",VLOOKUP(D833,taglook!A:B,2,FALSE))","v":"NOTAG"},{"$f":"VALUE(MID(rawrtf!A833,FIND(\"TFPTAG\",rawrtf!A833,1)+6,3))","v":{"$error":"#VALUE!"}}]
[1,"NOTAG",{"$f":"IF(ISERROR(D834),\"NOTAG\",VLOOKUP(D834,taglook!A:B,2,FALSE))","v":"NOTAG"},{"$f":"VALUE(MID(rawrtf!A834,FIND(\"TFPTAG\",rawrtf!A834,1)+6,3))","v":{"$error":"#VALUE!"}}]
[{"$f":"IF(OR(B835=\"SHOW\",B835=\"NOTAG\"),1,0)","v":1},"NOTAG",{"$f":"IF(ISERROR(D835),\"NOTAG\",VLOOKUP(D835,taglook!A:B,2,FALSE))","v":"NOTAG"},{"$f":"VALUE(MID(rawrtf!A835,FIND(\"TFPTAG\",rawrtf!A835,1)+6,3))","v":{"$error":"#VALUE!"}}]
[1,"NOTAG",{"$f":"IF(ISERROR(D836),\"NOTAG\",VLOOKUP(D836,taglook!A:B,2,FALSE))","v":"NOTAG"},{"$f":"VALUE(MID(rawrtf!A836,FIND(\"TFPTAG\",rawrtf!A836,1)+6,3))","v":{"$error":"#VALUE!"}}]
[1,"NOTAG",{"$f":"IF(ISERROR(D837),\"NOTAG\",VLOOKUP(D837,taglook!A:B,2,FALSE))","v":"NOTAG"},{"$f":"VALUE(MID(rawrtf!A837,FIND(\"TFPTAG\",rawrtf!A837,1)+6,3))","v":{"$error":"#VALUE!"}}]
[1,"NOTAG",{"$f":"IF(ISERROR(D838),\"NOTAG\",VLOOKUP(D838,taglook!A:B,2,FALSE))","v":"NOTAG"},{"$f":"VALUE(MID(rawrtf!A838,FIND(\"TFPTAG\",rawrtf!A838,1)+6,3))","v":{"$error":"#VALUE!"}}]
[1,"NOTAG",{"$f":"IF(ISERROR(D839),\"NOTAG\",VLOOKUP(D839,taglook!A:B,2,FALSE))","v":"NOTAG"},{"$f":"VALUE(MID(rawrtf!A839,FIND(\"TFPTAG\",rawrtf!A839,1)+6,3))","v":{"$error":"#VALUE!"}}]
[1,"NOTAG",{"$f":"IF(ISERROR(D840),\"NOTAG\",VLOOKUP(D840,taglook!A:B,2,FALSE))","v":"NOTAG"},{"$f":"VALUE(MID(rawrtf!A840,FIND(\"TFPTAG\",rawrtf!A840,1)+6,3))","v":{"$error":"#VALUE!"}}]
[1,"NOTAG",{"$f":"IF(ISERROR(D841),\"NOTAG\",VLOOKUP(D841,taglook!A:B,2,FALSE))","v":"NOTAG"},{"$f":"VALUE(MID(rawrtf!A841,FIND(\"TFPTAG\",rawrtf!A841,1)+6,3))","v":{"$error":"#VALUE!"}}]
[1,"NOTAG",{"$f":"IF(ISERROR(D842),\"NOTAG\",VLOOKUP(D842,taglook!A:B,2,FALSE))","v":"NOTAG"},{"$f":"VALUE(MID(rawrtf!A842,FIND(\"TFPTAG\",rawrtf!A842,1)+6,3))","v":{"$error":"#VALUE!"}}]
[1,"NOTAG",{"$f":"IF(ISERROR(D843),\"NOTAG\",VLOOKUP(D843,taglook!A:B,2,FALSE))","v":"NOTAG"},{"$f":"VALUE(MID(rawrtf!A843,FIND(\"TFPTAG\",rawrtf!A843,1)+6,3))","v":{"$error":"#VALUE!"}}]
[1,"NOTAG",{"$f":"IF(ISERROR(D844),\"NOTAG\",VLOOKUP(D844,taglook!A:B,2,FALSE))","v":"NOTAG"},{"$f":"VALUE(MID(rawrtf!A844,FIND(\"TFPTAG\",rawrtf!A844,1)+6,3))","v":{"$error":"#VALUE!"}}]
[1,"NOTAG",{"$f":"IF(ISERROR(D845),\"NOTAG\",VLOOKUP(D845,taglook!A:B,2,FALSE))","v":"NOTAG"},{"$f":"VALUE(MID(rawrtf!A845,FIND(\"TFPTAG\",rawrtf!A845,1)+6,3))","v":{"$error":"#VALUE!"}}]
[1,"NOTAG",{"$f":"IF(ISERROR(D846),\"NOTAG\",VLOOKUP(D846,taglook!A:B,2,FALSE))","v":"NOTAG"},{"$f":"VALUE(MID(rawrtf!A846,FIND(\"TFPTAG\",rawrtf!A846,1)+6,3))","v":{"$error":"#VALUE!"}}]
[1,"NOTAG",{"$f":"IF(ISERROR(D847),\"NOTAG\",VLOOKUP(D847,taglook!A:B,2,FALSE))","v":"NOTAG"},{"$f":"VALUE(MID(rawrtf!A847,FIND(\"TFPTAG\",rawrtf!A847,1)+6,3))","v":{"$error":"#VALUE!"}}]
[1,"NOTAG",{"$f":"IF(ISERROR(D848),\"NOTAG\",VLOOKUP(D848,taglook!A:B,2,FALSE))","v":"NOTAG"},{"$f":"VALUE(MID(rawrtf!A848,FIND(\"TFPTAG\",rawrtf!A848,1)+6,3))","v":{"$error":"#VALUE!"}}]
[1,"NOTAG",{"$f":"IF(ISERROR(D849),\"NOTAG\",VLOOKUP(D849,taglook!A:B,2,FALSE))","v":"NOTAG"},{"$f":"VALUE(MID(rawrtf!A849,FIND(\"TFPTAG\",rawrtf!A849,1)+6,3))","v":{"$error":"#VALUE!"}}]
[1,"NOTAG",{"$f":"IF(ISERROR(D850),\"NOTAG\",VLOOKUP(D850,taglook!A:B,2,FALSE))","v":"NOTAG"},{"$f":"VALUE(MID(rawrtf!A850,FIND(\"TFPTAG\",rawrtf!A850,1)+6,3))","v":{"$error":"#VALUE!"}}]
[1,"NOTAG",{"$f":"IF(ISERROR(D851),\"NOTAG\",VLOOKUP(D851,taglook!A:B,2,FALSE))","v":"NOTAG"},{"$f":"VALUE(MID(rawrtf!A851,FIND(\"TFPTAG\",rawrtf!A851,1)+6,3))","v":{"$error":"#VALUE!"}}]
[1,"NOTAG",{"$f":"IF(ISERROR(D852),\"NOTAG\",VLOOKUP(D852,taglook!A:B,2,FALSE))","v":"NOTAG"},{"$f":"VALUE(MID(rawrtf!A852,FIND(\"TFPTAG\",rawrtf!A852,1)+6,3))","v":{"$error":"#VALUE!"}}]
[1,"NOTAG",{"$f":"IF(ISERROR(D853),\"NOTAG\",VLOOKUP(D853,taglook!A:B,2,FALSE))","v":"NOTAG"},{"$f":"VALUE(MID(rawrtf!A853,FIND(\"TFPTAG\",rawrtf!A853,1)+6,3))","v":{"$error":"#VALUE!"}}]
[1,"NOTAG",{"$f":"IF(ISERROR(D854),\"NOTAG\",VLOOKUP(D854,taglook!A:B,2,FALSE))","v":"NOTAG"},{"$f":"VALUE(MID(rawrtf!A854,FIND(\"TFPTAG\",rawrtf!A854,1)+6,3))","v":{"$error":"#VALUE!"}}]
[1,"NOTAG",{"$f":"IF(ISERROR(D855),\"NOTAG\",VLOOKUP(D855,taglook!A:B,2,FALSE))","v":"NOTAG"},{"$f":"VALUE(MID(rawrtf!A855,FIND(\"TFPTAG\",rawrtf!A855,1)+6,3))","v":{"$error":"#VALUE!"}}]
[1,"NOTAG",{"$f":"IF(ISERROR(D856),\"NOTAG\",VLOOKUP(D856,taglook!A:B,2,FALSE))","v":"NOTAG"},{"$f":"VALUE(MID(rawrtf!A856,FIND(\"TFPTAG\",rawrtf!A856,1)+6,3))","v":{"$error":"#VALUE!"}}]
[1,"NOTAG",{"$f":"IF(ISERROR(D857),\"NOTAG\",VLOOKUP(D857,taglook!A:B,2,FALSE))","v":"NOTAG"},{"$f":"VALUE(MID(rawrtf!A857,FIND(\"TFPTAG\",rawrtf!A857,1)+6,3))","v":{"$error":"#VALUE!"}}]
[1,"NOTAG",{"$f":"IF(ISERROR(D858),\"NOTAG\",VLOOKUP(D858,taglook!A:B,2,FALSE))","v":"NOTAG"},{"$f":"VALUE(MID(rawrtf!A858,FIND(\"TFPTAG\",rawrtf!A858,1)+6,3))","v":{"$error":"#VALUE!"}}]
[1,"NOTAG",{"$f":"IF(ISERROR(D859),\"NOTAG\",VLOOKUP(D859,taglook!A:B,2,FALSE))","v":"NOTAG"},{"$f":"VALUE(MID(rawrtf!A859,FIND(\"TFPTAG\",rawrtf!A859,1)+6,3))","v":{"$error":"#VALUE!"}}]
[1,"NOTAG",{"$f":"IF(ISERROR(D860),\"NOTAG\",VLOOKUP(D860,taglook!A:B,2,FALSE))","v":"NOTAG"},{"$f":"VALUE(MID(rawrtf!A860,FIND(\"TFPTAG\",rawrtf!A860,1)+6,3))","v":{"$error":"#VALUE!"}}]
[1,"NOTAG",{"$f":"IF(ISERROR(D861),\"NOTAG\",VLOOKUP(D861,taglook!A:B,2,FALSE))","v":"NOTAG"},{"$f":"VALUE(MID(rawrtf!A861,FIND(\"TFPTAG\",rawrtf!A861,1)+6,3))","v":{"$error":"#VALUE!"}}]
[1,"NOTAG",{"$f":"IF(ISERROR(D862),\"NOTAG\",VLOOKUP(D862,taglook!A:B,2,FALSE))","v":"NOTAG"},{"$f":"VALUE(MID(rawrtf!A862,FIND(\"TFPTAG\",rawrtf!A862,1)+6,3))","v":{"$error":"#VALUE!"}}]
[1,"NOTAG",{"$f":"IF(ISERROR(D863),\"NOTAG\",VLOOKUP(D863,taglook!A:B,2,FALSE))","v":"NOTAG"},{"$f":"VALUE(MID(rawrtf!A863,FIND(\"TFPTAG\",rawrtf!A863,1)+6,3))","v":{"$error":"#VALUE!"}}]
[1,"NOTAG",{"$f":"IF(ISERROR(D864),\"NOTAG\",VLOOKUP(D864,taglook!A:B,2,FALSE))","v":"NOTAG"},{"$f":"VALUE(MID(rawrtf!A864,FIND(\"TFPTAG\",rawrtf!A864,1)+6,3))","v":{"$error":"#VALUE!"}}]
[1,"NOTAG",{"$f":"IF(ISERROR(D865),\"NOTAG\",VLOOKUP(D865,taglook!A:B,2,FALSE))","v":"NOTAG"},{"$f":"VALUE(MID(rawrtf!A865,FIND(\"TFPTAG\",rawrtf!A865,1)+6,3))","v":{"$error":"#VALUE!"}}]
[1,"NOTAG",{"$f":"IF(ISERROR(D866),\"NOTAG\",VLOOKUP(D866,taglook!A:B,2,FALSE))","v":"NOTAG"},{"$f":"VALUE(MID(rawrtf!A866,FIND(\"TFPTAG\",rawrtf!A866,1)+6,3))","v":{"$error":"#VALUE!"}}]
[1,"NOTAG",{"$f":"IF(ISERROR(D867),\"NOTAG\",VLOOKUP(D867,taglook!A:B,2,FALSE))","v":"NOTAG"},{"$f":"VALUE(MID(rawrtf!A867,FIND(\"TFPTAG\",rawrtf!A867,1)+6,3))","v":{"$error":"#VALUE!"}}]
[1,"NOTAG",{"$f":"IF(ISERROR(D868),\"NOTAG\",VLOOKUP(D868,taglook!A:B,2,FALSE))","v":"NOTAG"},{"$f":"VALUE(MID(rawrtf!A868,FIND(\"TFPTAG\",rawrtf!A868,1)+6,3))","v":{"$error":"#VALUE!"}}]
[1,{"$f":"IF(ISNA(C869),\"REDTAG\",IF(C869=\"NOTAG\",\"NOTAG\",IF(C869=1,\"SHOW\",IF(C869=0,\"HIDE\",\"ERROR\"))))","v":"NOTAG"},{"$f":"IF(ISERROR(D869),\"NOTAG\",VLOOKUP(D869,taglook!A:B,2,FALSE))","v":"NOTAG"},{"$f":"VALUE(MID(rawrtf!A869,FIND(\"TFPTAG\",rawrtf!A869,1)+6,3))","v":{"$error":"#VALUE!"}}]
[1,"NOTAG",{"$f":"IF(ISERROR(D870),\"NOTAG\",VLOOKUP(D870,taglook!A:B,2,FALSE))","v":"NOTAG"},{"$f":"VALUE(MID(rawrtf!A870,FIND(\"TFPTAG\",rawrtf!A870,1)+6,3))","v":{"$error":"#VALUE!"}}]
[1,"NOTAG",{"$f":"IF(ISERROR(D871),\"NOTAG\",VLOOKUP(D871,taglook!A:B,2,FALSE))","v":"NOTAG"},{"$f":"VALUE(MID(rawrtf!A871,FIND(\"TFPTAG\",rawrtf!A871,1)+6,3))","v":{"$error":"#VALUE!"}}]
[1,"NOTAG",{"$f":"IF(ISERROR(D872),\"NOTAG\",VLOOKUP(D872,taglook!A:B,2,FALSE))","v":"NOTAG"},{"$f":"VALUE(MID(rawrtf!A872,FIND(\"TFPTAG\",rawrtf!A872,1)+6,3))","v":{"$error":"#VALUE!"}}]
[1,"NOTAG",{"$f":"IF(ISERROR(D873),\"NOTAG\",VLOOKUP(D873,taglook!A:B,2,FALSE))","v":"NOTAG"},{"$f":"VALUE(MID(rawrtf!A873,FIND(\"TFPTAG\",rawrtf!A873,1)+6,3))","v":{"$error":"#VALUE!"}}]
[1,"NOTAG",{"$f":"IF(ISERROR(D874),\"NOTAG\",VLOOKUP(D874,taglook!A:B,2,FALSE))","v":"NOTAG"},{"$f":"VALUE(MID(rawrtf!A874,FIND(\"TFPTAG\",rawrtf!A874,1)+6,3))","v":{"$error":"#VALUE!"}}]
[1,"NOTAG",{"$f":"IF(ISERROR(D875),\"NOTAG\",VLOOKUP(D875,taglook!A:B,2,FALSE))","v":"NOTAG"},{"$f":"VALUE(MID(rawrtf!A875,FIND(\"TFPTAG\",rawrtf!A875,1)+6,3))","v":{"$error":"#VALUE!"}}]
[1,"NOTAG",{"$f":"IF(ISERROR(D876),\"NOTAG\",VLOOKUP(D876,taglook!A:B,2,FALSE))","v":"NOTAG"},{"$f":"VALUE(MID(rawrtf!A876,FIND(\"TFPTAG\",rawrtf!A876,1)+6,3))","v":{"$error":"#VALUE!"}}]
[1,"NOTAG",{"$f":"IF(ISERROR(D877),\"NOTAG\",VLOOKUP(D877,taglook!A:B,2,FALSE))","v":"NOTAG"},{"$f":"VALUE(MID(rawrtf!A877,FIND(\"TFPTAG\",rawrtf!A877,1)+6,3))","v":{"$error":"#VALUE!"}}]
[1,"NOTAG",{"$f":"IF(ISERROR(D878),\"NOTAG\",VLOOKUP(D878,taglook!A:B,2,FALSE))","v":"NOTAG"},{"$f":"VALUE(MID(rawrtf!A878,FIND(\"TFPTAG\",rawrtf!A878,1)+6,3))","v":{"$error":"#VALUE!"}}]
[1,"NOTAG",{"$f":"IF(ISERROR(D879),\"NOTAG\",VLOOKUP(D879,taglook!A:B,2,FALSE))","v":"NOTAG"},{"$f":"VALUE(MID(rawrtf!A879,FIND(\"TFPTAG\",rawrtf!A879,1)+6,3))","v":{"$error":"#VALUE!"}}]
[1,"NOTAG",{"$f":"IF(ISERROR(D880),\"NOTAG\",VLOOKUP(D880,taglook!A:B,2,FALSE))","v":"NOTAG"},{"$f":"VALUE(MID(rawrtf!A880,FIND(\"TFPTAG\",rawrtf!A880,1)+6,3))","v":{"$error":"#VALUE!"}}]
[1,"NOTAG",{"$f":"IF(ISERROR(D881),\"NOTAG\",VLOOKUP(D881,taglook!A:B,2,FALSE))","v":"NOTAG"},{"$f":"VALUE(MID(rawrtf!A881,FIND(\"TFPTAG\",rawrtf!A881,1)+6,3))","v":{"$error":"#VALUE!"}}]
[1,"NOTAG",{"$f":"IF(ISERROR(D882),\"NOTAG\",VLOOKUP(D882,taglook!A:B,2,FALSE))","v":"NOTAG"},{"$f":"VALUE(MID(rawrtf!A882,FIND(\"TFPTAG\",rawrtf!A882,1)+6,3))","v":{"$error":"#VALUE!"}}]
[1,"NOTAG",{"$f":"IF(ISERROR(D883),\"NOTAG\",VLOOKUP(D883,taglook!A:B,2,FALSE))","v":"NOTAG"},{"$f":"VALUE(MID(rawrtf!A883,FIND(\"TFPTAG\",rawrtf!A883,1)+6,3))","v":{"$error":"#VALUE!"}}]
[1,"NOTAG",{"$f":"IF(ISERROR(D884),\"NOTAG\",VLOOKUP(D884,taglook!A:B,2,FALSE))","v":"NOTAG"},{"$f":"VALUE(MID(rawrtf!A884,FIND(\"TFPTAG\",rawrtf!A884,1)+6,3))","v":{"$error":"#VALUE!"}}]
[1,"NOTAG",{"$f":"IF(ISERROR(D885),\"NOTAG\",VLOOKUP(D885,taglook!A:B,2,FALSE))","v":"NOTAG"},{"$f":"VALUE(MID(rawrtf!A885,FIND(\"TFPTAG\",rawrtf!A885,1)+6,3))","v":{"$error":"#VALUE!"}}]
[1,"NOTAG",{"$f":"IF(ISERROR(D886),\"NOTAG\",VLOOKUP(D886,taglook!A:B,2,FALSE))","v":"NOTAG"},{"$f":"VALUE(MID(rawrtf!A886,FIND(\"TFPTAG\",rawrtf!A886,1)+6,3))","v":{"$error":"#VALUE!"}}]
[1,"NOTAG",{"$f":"IF(ISERROR(D887),\"NOTAG\",VLOOKUP(D887,taglook!A:B,2,FALSE))","v":"NOTAG"},{"$f":"VALUE(MID(rawrtf!A887,FIND(\"TFPTAG\",rawrtf!A887,1)+6,3))","v":{"$error":"#VALUE!"}}]
[1,"NOTAG",{"$f":"IF(ISERROR(D888),\"NOTAG\",VLOOKUP(D888,taglook!A:B,2,FALSE))","v":"NOTAG"},{"$f":"VALUE(MID(rawrtf!A888,FIND(\"TFPTAG\",rawrtf!A888,1)+6,3))","v":{"$error":"#VALUE!"}}]
[1,"NOTAG",{"$f":"IF(ISERROR(D889),\"NOTAG\",VLOOKUP(D889,taglook!A:B,2,FALSE))","v":"NOTAG"},{"$f":"VALUE(MID(rawrtf!A889,FIND(\"TFPTAG\",rawrtf!A889,1)+6,3))","v":{"$error":"#VALUE!"}}]
[1,"NOTAG",{"$f":"IF(ISERROR(D890),\"NOTAG\",VLOOKUP(D890,taglook!A:B,2,FALSE))","v":"NOTAG"},{"$f":"VALUE(MID(rawrtf!A890,FIND(\"TFPTAG\",rawrtf!A890,1)+6,3))","v":{"$error":"#VALUE!"}}]
[1,"NOTAG",{"$f":"IF(ISERROR(D891),\"NOTAG\",VLOOKUP(D891,taglook!A:B,2,FALSE))","v":"NOTAG"},{"$f":"VALUE(MID(rawrtf!A891,FIND(\"TFPTAG\",rawrtf!A891,1)+6,3))","v":{"$error":"#VALUE!"}}]
[1,"NOTAG",{"$f":"IF(ISERROR(D892),\"NOTAG\",VLOOKUP(D892,taglook!A:B,2,FALSE))","v":"NOTAG"},{"$f":"VALUE(MID(rawrtf!A892,FIND(\"TFPTAG\",rawrtf!A892,1)+6,3))","v":{"$error":"#VALUE!"}}]
[1,"NOTAG",{"$f":"IF(ISERROR(D893),\"NOTAG\",VLOOKUP(D893,taglook!A:B,2,FALSE))","v":"NOTAG"},{"$f":"VALUE(MID(rawrtf!A893,FIND(\"TFPTAG\",rawrtf!A893,1)+6,3))","v":{"$error":"#VALUE!"}}]
[1,"NOTAG",{"$f":"IF(ISERROR(D894),\"NOTAG\",VLOOKUP(D894,taglook!A:B,2,FALSE))","v":"NOTAG"},{"$f":"VALUE(MID(rawrtf!A894,FIND(\"TFPTAG\",rawrtf!A894,1)+6,3))","v":{"$error":"#VALUE!"}}]
[1,"NOTAG",{"$f":"IF(ISERROR(D895),\"NOTAG\",VLOOKUP(D895,taglook!A:B,2,FALSE))","v":"NOTAG"},{"$f":"VALUE(MID(rawrtf!A895,FIND(\"TFPTAG\",rawrtf!A895,1)+6,3))","v":{"$error":"#VALUE!"}}]
[1,"NOTAG",{"$f":"IF(ISERROR(D896),\"NOTAG\",VLOOKUP(D896,taglook!A:B,2,FALSE))","v":"NOTAG"},{"$f":"VALUE(MID(rawrtf!A896,FIND(\"TFPTAG\",rawrtf!A896,1)+6,3))","v":{"$error":"#VALUE!"}}]
[1,"NOTAG",{"$f":"IF(ISERROR(D897),\"NOTAG\",VLOOKUP(D897,taglook!A:B,2,FALSE))","v":"NOTAG"},{"$f":"VALUE(MID(rawrtf!A897,FIND(\"TFPTAG\",rawrtf!A897,1)+6,3))","v":{"$error":"#VALUE!"}}]
[1,"NOTAG",{"$f":"IF(ISERROR(D898),\"NOTAG\",VLOOKUP(D898,taglook!A:B,2,FALSE))","v":"NOTAG"},{"$f":"VALUE(MID(rawrtf!A898,FIND(\"TFPTAG\",rawrtf!A898,1)+6,3))","v":{"$error":"#VALUE!"}}]
[{"$f":"IF(OR(B899=\"SHOW\",B899=\"NOTAG\"),1,0)","v":1},"NOTAG",{"$f":"IF(ISERROR(D899),\"NOTAG\",VLOOKUP(D899,taglook!A:B,2,FALSE))","v":"NOTAG"},{"$f":"VALUE(MID(rawrtf!A899,FIND(\"TFPTAG\",rawrtf!A899,1)+6,3))","v":{"$error":"#VALUE!"}}]
[1,"NOTAG",{"$f":"IF(ISERROR(D900),\"NOTAG\",VLOOKUP(D900,taglook!A:B,2,FALSE))","v":"NOTAG"},{"$f":"VALUE(MID(rawrtf!A900,FIND(\"TFPTAG\",rawrtf!A900,1)+6,3))","v":{"$error":"#VALUE!"}}]
[1,"NOTAG",{"$f":"IF(ISERROR(D901),\"NOTAG\",VLOOKUP(D901,taglook!A:B,2,FALSE))","v":"NOTAG"},{"$f":"VALUE(MID(rawrtf!A901,FIND(\"TFPTAG\",rawrtf!A901,1)+6,3))","v":{"$error":"#VALUE!"}}]
[1,"NOTAG",{"$f":"IF(ISERROR(D902),\"NOTAG\",VLOOKUP(D902,taglook!A:B,2,FALSE))","v":"NOTAG"},{"$f":"VALUE(MID(rawrtf!A902,FIND(\"TFPTAG\",rawrtf!A902,1)+6,3))","v":{"$error":"#VALUE!"}}]
[1,"NOTAG",{"$f":"IF(ISERROR(D903),\"NOTAG\",VLOOKUP(D903,taglook!A:B,2,FALSE))","v":"NOTAG"},{"$f":"VALUE(MID(rawrtf!A903,FIND(\"TFPTAG\",rawrtf!A903,1)+6,3))","v":{"$error":"#VALUE!"}}]
[1,"NOTAG",{"$f":"IF(ISERROR(D904),\"NOTAG\",VLOOKUP(D904,taglook!A:B,2,FALSE))","v":"NOTAG"},{"$f":"VALUE(MID(rawrtf!A904,FIND(\"TFPTAG\",rawrtf!A904,1)+6,3))","v":{"$error":"#VALUE!"}}]
[1,"NOTAG",{"$f":"IF(ISERROR(D905),\"NOTAG\",VLOOKUP(D905,taglook!A:B,2,FALSE))","v":"NOTAG"},{"$f":"VALUE(MID(rawrtf!A905,FIND(\"TFPTAG\",rawrtf!A905,1)+6,3))","v":{"$error":"#VALUE!"}}]
[1,"NOTAG",{"$f":"IF(ISERROR(D906),\"NOTAG\",VLOOKUP(D906,taglook!A:B,2,FALSE))","v":"NOTAG"},{"$f":"VALUE(MID(rawrtf!A906,FIND(\"TFPTAG\",rawrtf!A906,1)+6,3))","v":{"$error":"#VALUE!"}}]
[1,"NOTAG",{"$f":"IF(ISERROR(D907),\"NOTAG\",VLOOKUP(D907,taglook!A:B,2,FALSE))","v":"NOTAG"},{"$f":"VALUE(MID(rawrtf!A907,FIND(\"TFPTAG\",rawrtf!A907,1)+6,3))","v":{"$error":"#VALUE!"}}]
[1,"NOTAG",{"$f":"IF(ISERROR(D908),\"NOTAG\",VLOOKUP(D908,taglook!A:B,2,FALSE))","v":"NOTAG"},{"$f":"VALUE(MID(rawrtf!A908,FIND(\"TFPTAG\",rawrtf!A908,1)+6,3))","v":{"$error":"#VALUE!"}}]
[1,"NOTAG",{"$f":"IF(ISERROR(D909),\"NOTAG\",VLOOKUP(D909,taglook!A:B,2,FALSE))","v":"NOTAG"},{"$f":"VALUE(MID(rawrtf!A909,FIND(\"TFPTAG\",rawrtf!A909,1)+6,3))","v":{"$error":"#VALUE!"}}]
[1,"NOTAG",{"$f":"IF(ISERROR(D910),\"NOTAG\",VLOOKUP(D910,taglook!A:B,2,FALSE))","v":"NOTAG"},{"$f":"VALUE(MID(rawrtf!A910,FIND(\"TFPTAG\",rawrtf!A910,1)+6,3))","v":{"$error":"#VALUE!"}}]
[1,"NOTAG",{"$f":"IF(ISERROR(D911),\"NOTAG\",VLOOKUP(D911,taglook!A:B,2,FALSE))","v":"NOTAG"},{"$f":"VALUE(MID(rawrtf!A911,FIND(\"TFPTAG\",rawrtf!A911,1)+6,3))","v":{"$error":"#VALUE!"}}]
[1,"NOTAG",{"$f":"IF(ISERROR(D912),\"NOTAG\",VLOOKUP(D912,taglook!A:B,2,FALSE))","v":"NOTAG"},{"$f":"VALUE(MID(rawrtf!A912,FIND(\"TFPTAG\",rawrtf!A912,1)+6,3))","v":{"$error":"#VALUE!"}}]
[1,"NOTAG",{"$f":"IF(ISERROR(D913),\"NOTAG\",VLOOKUP(D913,taglook!A:B,2,FALSE))","v":"NOTAG"},{"$f":"VALUE(MID(rawrtf!A913,FIND(\"TFPTAG\",rawrtf!A913,1)+6,3))","v":{"$error":"#VALUE!"}}]
[1,"NOTAG",{"$f":"IF(ISERROR(D914),\"NOTAG\",VLOOKUP(D914,taglook!A:B,2,FALSE))","v":"NOTAG"},{"$f":"VALUE(MID(rawrtf!A914,FIND(\"TFPTAG\",rawrtf!A914,1)+6,3))","v":{"$error":"#VALUE!"}}]
[1,"NOTAG",{"$f":"IF(ISERROR(D915),\"NOTAG\",VLOOKUP(D915,taglook!A:B,2,FALSE))","v":"NOTAG"},{"$f":"VALUE(MID(rawrtf!A915,FIND(\"TFPTAG\",rawrtf!A915,1)+6,3))","v":{"$error":"#VALUE!"}}]
[1,"NOTAG",{"$f":"IF(ISERROR(D916),\"NOTAG\",VLOOKUP(D916,taglook!A:B,2,FALSE))","v":"NOTAG"},{"$f":"VALUE(MID(rawrtf!A916,FIND(\"TFPTAG\",rawrtf!A916,1)+6,3))","v":{"$error":"#VALUE!"}}]
[1,"NOTAG",{"$f":"IF(ISERROR(D917),\"NOTAG\",VLOOKUP(D917,taglook!A:B,2,FALSE))","v":"NOTAG"},{"$f":"VALUE(MID(rawrtf!A917,FIND(\"TFPTAG\",rawrtf!A917,1)+6,3))","v":{"$error":"#VALUE!"}}]
[1,"NOTAG",{"$f":"IF(ISERROR(D918),\"NOTAG\",VLOOKUP(D918,taglook!A:B,2,FALSE))","v":"NOTAG"},{"$f":"VALUE(MID(rawrtf!A918,FIND(\"TFPTAG\",rawrtf!A918,1)+6,3))","v":{"$error":"#VALUE!"}}]
[1,"NOTAG",{"$f":"IF(ISERROR(D919),\"NOTAG\",VLOOKUP(D919,taglook!A:B,2,FALSE))","v":"NOTAG"},{"$f":"VALUE(MID(rawrtf!A919,FIND(\"TFPTAG\",rawrtf!A919,1)+6,3))","v":{"$error":"#VALUE!"}}]
[1,"NOTAG",{"$f":"IF(ISERROR(D920),\"NOTAG\",VLOOKUP(D920,taglook!A:B,2,FALSE))","v":"NOTAG"},{"$f":"VALUE(MID(rawrtf!A920,FIND(\"TFPTAG\",rawrtf!A920,1)+6,3))","v":{"$error":"#VALUE!"}}]
[1,"NOTAG",{"$f":"IF(ISERROR(D921),\"NOTAG\",VLOOKUP(D921,taglook!A:B,2,FALSE))","v":"NOTAG"},{"$f":"VALUE(MID(rawrtf!A921,FIND(\"TFPTAG\",rawrtf!A921,1)+6,3))","v":{"$error":"#VALUE!"}}]
[1,"NOTAG",{"$f":"IF(ISERROR(D922),\"NOTAG\",VLOOKUP(D922,taglook!A:B,2,FALSE))","v":"NOTAG"},{"$f":"VALUE(MID(rawrtf!A922,FIND(\"TFPTAG\",rawrtf!A922,1)+6,3))","v":{"$error":"#VALUE!"}}]
[1,"NOTAG",{"$f":"IF(ISERROR(D923),\"NOTAG\",VLOOKUP(D923,taglook!A:B,2,FALSE))","v":"NOTAG"},{"$f":"VALUE(MID(rawrtf!A923,FIND(\"TFPTAG\",rawrtf!A923,1)+6,3))","v":{"$error":"#VALUE!"}}]
[1,"NOTAG",{"$f":"IF(ISERROR(D924),\"NOTAG\",VLOOKUP(D924,taglook!A:B,2,FALSE))","v":"NOTAG"},{"$f":"VALUE(MID(rawrtf!A924,FIND(\"TFPTAG\",rawrtf!A924,1)+6,3))","v":{"$error":"#VALUE!"}}]
[1,"NOTAG",{"$f":"IF(ISERROR(D925),\"NOTAG\",VLOOKUP(D925,taglook!A:B,2,FALSE))","v":"NOTAG"},{"$f":"VALUE(MID(rawrtf!A925,FIND(\"TFPTAG\",rawrtf!A925,1)+6,3))","v":{"$error":"#VALUE!"}}]
[1,"NOTAG",{"$f":"IF(ISERROR(D926),\"NOTAG\",VLOOKUP(D926,taglook!A:B,2,FALSE))","v":"NOTAG"},{"$f":"VALUE(MID(rawrtf!A926,FIND(\"TFPTAG\",rawrtf!A926,1)+6,3))","v":{"$error":"#VALUE!"}}]
[1,"NOTAG",{"$f":"IF(ISERROR(D927),\"NOTAG\",VLOOKUP(D927,taglook!A:B,2,FALSE))","v":"NOTAG"},{"$f":"VALUE(MID(rawrtf!A927,FIND(\"TFPTAG\",rawrtf!A927,1)+6,3))","v":{"$error":"#VALUE!"}}]
[1,"NOTAG",{"$f":"IF(ISERROR(D928),\"NOTAG\",VLOOKUP(D928,taglook!A:B,2,FALSE))","v":"NOTAG"},{"$f":"VALUE(MID(rawrtf!A928,FIND(\"TFPTAG\",rawrtf!A928,1)+6,3))","v":{"$error":"#VALUE!"}}]
[1,"NOTAG",{"$f":"IF(ISERROR(D929),\"NOTAG\",VLOOKUP(D929,taglook!A:B,2,FALSE))","v":"NOTAG"},{"$f":"VALUE(MID(rawrtf!A929,FIND(\"TFPTAG\",rawrtf!A929,1)+6,3))","v":{"$error":"#VALUE!"}}]
[1,"NOTAG",{"$f":"IF(ISERROR(D930),\"NOTAG\",VLOOKUP(D930,taglook!A:B,2,FALSE))","v":"NOTAG"},{"$f":"VALUE(MID(rawrtf!A930,FIND(\"TFPTAG\",rawrtf!A930,1)+6,3))","v":{"$error":"#VALUE!"}}]
[1,"NOTAG",{"$f":"IF(ISERROR(D931),\"NOTAG\",VLOOKUP(D931,taglook!A:B,2,FALSE))","v":"NOTAG"},{"$f":"VALUE(MID(rawrtf!A931,FIND(\"TFPTAG\",rawrtf!A931,1)+6,3))","v":{"$error":"#VALUE!"}}]
[1,"NOTAG",{"$f":"IF(ISERROR(D932),\"NOTAG\",VLOOKUP(D932,taglook!A:B,2,FALSE))","v":"NOTAG"},{"$f":"VALUE(MID(rawrtf!A932,FIND(\"TFPTAG\",rawrtf!A932,1)+6,3))","v":{"$error":"#VALUE!"}}]
[1,{"$f":"IF(ISNA(C933),\"REDTAG\",IF(C933=\"NOTAG\",\"NOTAG\",IF(C933=1,\"SHOW\",IF(C933=0,\"HIDE\",\"ERROR\"))))","v":"NOTAG"},{"$f":"IF(ISERROR(D933),\"NOTAG\",VLOOKUP(D933,taglook!A:B,2,FALSE))","v":"NOTAG"},{"$f":"VALUE(MID(rawrtf!A933,FIND(\"TFPTAG\",rawrtf!A933,1)+6,3))","v":{"$error":"#VALUE!"}}]
[1,"NOTAG",{"$f":"IF(ISERROR(D934),\"NOTAG\",VLOOKUP(D934,taglook!A:B,2,FALSE))","v":"NOTAG"},{"$f":"VALUE(MID(rawrtf!A934,FIND(\"TFPTAG\",rawrtf!A934,1)+6,3))","v":{"$error":"#VALUE!"}}]
[1,"NOTAG",{"$f":"IF(ISERROR(D935),\"NOTAG\",VLOOKUP(D935,taglook!A:B,2,FALSE))","v":"NOTAG"},{"$f":"VALUE(MID(rawrtf!A935,FIND(\"TFPTAG\",rawrtf!A935,1)+6,3))","v":{"$error":"#VALUE!"}}]
[1,"NOTAG",{"$f":"IF(ISERROR(D936),\"NOTAG\",VLOOKUP(D936,taglook!A:B,2,FALSE))","v":"NOTAG"},{"$f":"VALUE(MID(rawrtf!A936,FIND(\"TFPTAG\",rawrtf!A936,1)+6,3))","v":{"$error":"#VALUE!"}}]
[1,"NOTAG",{"$f":"IF(ISERROR(D937),\"NOTAG\",VLOOKUP(D937,taglook!A:B,2,FALSE))","v":"NOTAG"},{"$f":"VALUE(MID(rawrtf!A937,FIND(\"TFPTAG\",rawrtf!A937,1)+6,3))","v":{"$error":"#VALUE!"}}]
[1,"NOTAG",{"$f":"IF(ISERROR(D938),\"NOTAG\",VLOOKUP(D938,taglook!A:B,2,FALSE))","v":"NOTAG"},{"$f":"VALUE(MID(rawrtf!A938,FIND(\"TFPTAG\",rawrtf!A938,1)+6,3))","v":{"$error":"#VALUE!"}}]
[1,"NOTAG",{"$f":"IF(ISERROR(D939),\"NOTAG\",VLOOKUP(D939,taglook!A:B,2,FALSE))","v":"NOTAG"},{"$f":"VALUE(MID(rawrtf!A939,FIND(\"TFPTAG\",rawrtf!A939,1)+6,3))","v":{"$error":"#VALUE!"}}]
[1,"NOTAG",{"$f":"IF(ISERROR(D940),\"NOTAG\",VLOOKUP(D940,taglook!A:B,2,FALSE))","v":"NOTAG"},{"$f":"VALUE(MID(rawrtf!A940,FIND(\"TFPTAG\",rawrtf!A940,1)+6,3))","v":{"$error":"#VALUE!"}}]
[1,"NOTAG",{"$f":"IF(ISERROR(D941),\"NOTAG\",VLOOKUP(D941,taglook!A:B,2,FALSE))","v":"NOTAG"},{"$f":"VALUE(MID(rawrtf!A941,FIND(\"TFPTAG\",rawrtf!A941,1)+6,3))","v":{"$error":"#VALUE!"}}]
[1,"NOTAG",{"$f":"IF(ISERROR(D942),\"NOTAG\",VLOOKUP(D942,taglook!A:B,2,FALSE))","v":"NOTAG"},{"$f":"VALUE(MID(rawrtf!A942,FIND(\"TFPTAG\",rawrtf!A942,1)+6,3))","v":{"$error":"#VALUE!"}}]
[1,"NOTAG",{"$f":"IF(ISERROR(D943),\"NOTAG\",VLOOKUP(D943,taglook!A:B,2,FALSE))","v":"NOTAG"},{"$f":"VALUE(MID(rawrtf!A943,FIND(\"TFPTAG\",rawrtf!A943,1)+6,3))","v":{"$error":"#VALUE!"}}]
[1,"NOTAG",{"$f":"IF(ISERROR(D944),\"NOTAG\",VLOOKUP(D944,taglook!A:B,2,FALSE))","v":"NOTAG"},{"$f":"VALUE(MID(rawrtf!A944,FIND(\"TFPTAG\",rawrtf!A944,1)+6,3))","v":{"$error":"#VALUE!"}}]
[1,"NOTAG",{"$f":"IF(ISERROR(D945),\"NOTAG\",VLOOKUP(D945,taglook!A:B,2,FALSE))","v":"NOTAG"},{"$f":"VALUE(MID(rawrtf!A945,FIND(\"TFPTAG\",rawrtf!A945,1)+6,3))","v":{"$error":"#VALUE!"}}]
[1,"NOTAG",{"$f":"IF(ISERROR(D946),\"NOTAG\",VLOOKUP(D946,taglook!A:B,2,FALSE))","v":"NOTAG"},{"$f":"VALUE(MID(rawrtf!A946,FIND(\"TFPTAG\",rawrtf!A946,1)+6,3))","v":{"$error":"#VALUE!"}}]
[1,"NOTAG",{"$f":"IF(ISERROR(D947),\"NOTAG\",VLOOKUP(D947,taglook!A:B,2,FALSE))","v":"NOTAG"},{"$f":"VALUE(MID(rawrtf!A947,FIND(\"TFPTAG\",rawrtf!A947,1)+6,3))","v":{"$error":"#VALUE!"}}]
[1,"NOTAG",{"$f":"IF(ISERROR(D948),\"NOTAG\",VLOOKUP(D948,taglook!A:B,2,FALSE))","v":"NOTAG"},{"$f":"VALUE(MID(rawrtf!A948,FIND(\"TFPTAG\",rawrtf!A948,1)+6,3))","v":{"$error":"#VALUE!"}}]
[1,"NOTAG",{"$f":"IF(ISERROR(D949),\"NOTAG\",VLOOKUP(D949,taglook!A:B,2,FALSE))","v":"NOTAG"},{"$f":"VALUE(MID(rawrtf!A949,FIND(\"TFPTAG\",rawrtf!A949,1)+6,3))","v":{"$error":"#VALUE!"}}]
[1,"NOTAG",{"$f":"IF(ISERROR(D950),\"NOTAG\",VLOOKUP(D950,taglook!A:B,2,FALSE))","v":"NOTAG"},{"$f":"VALUE(MID(rawrtf!A950,FIND(\"TFPTAG\",rawrtf!A950,1)+6,3))","v":{"$error":"#VALUE!"}}]
[1,"NOTAG",{"$f":"IF(ISERROR(D951),\"NOTAG\",VLOOKUP(D951,taglook!A:B,2,FALSE))","v":"NOTAG"},{"$f":"VALUE(MID(rawrtf!A951,FIND(\"TFPTAG\",rawrtf!A951,1)+6,3))","v":{"$error":"#VALUE!"}}]
[1,"NOTAG",{"$f":"IF(ISERROR(D952),\"NOTAG\",VLOOKUP(D952,taglook!A:B,2,FALSE))","v":"NOTAG"},{"$f":"VALUE(MID(rawrtf!A952,FIND(\"TFPTAG\",rawrtf!A952,1)+6,3))","v":{"$error":"#VALUE!"}}]
[1,"NOTAG",{"$f":"IF(ISERROR(D953),\"NOTAG\",VLOOKUP(D953,taglook!A:B,2,FALSE))","v":"NOTAG"},{"$f":"VALUE(MID(rawrtf!A953,FIND(\"TFPTAG\",rawrtf!A953,1)+6,3))","v":{"$error":"#VALUE!"}}]
[1,"NOTAG",{"$f":"IF(ISERROR(D954),\"NOTAG\",VLOOKUP(D954,taglook!A:B,2,FALSE))","v":"NOTAG"},{"$f":"VALUE(MID(rawrtf!A954,FIND(\"TFPTAG\",rawrtf!A954,1)+6,3))","v":{"$error":"#VALUE!"}}]
[1,"NOTAG",{"$f":"IF(ISERROR(D955),\"NOTAG\",VLOOKUP(D955,taglook!A:B,2,FALSE))","v":"NOTAG"},{"$f":"VALUE(MID(rawrtf!A955,FIND(\"TFPTAG\",rawrtf!A955,1)+6,3))","v":{"$error":"#VALUE!"}}]
[1,"NOTAG",{"$f":"IF(ISERROR(D956),\"NOTAG\",VLOOKUP(D956,taglook!A:B,2,FALSE))","v":"NOTAG"},{"$f":"VALUE(MID(rawrtf!A956,FIND(\"TFPTAG\",rawrtf!A956,1)+6,3))","v":{"$error":"#VALUE!"}}]
[1,"NOTAG",{"$f":"IF(ISERROR(D957),\"NOTAG\",VLOOKUP(D957,taglook!A:B,2,FALSE))","v":"NOTAG"},{"$f":"VALUE(MID(rawrtf!A957,FIND(\"TFPTAG\",rawrtf!A957,1)+6,3))","v":{"$error":"#VALUE!"}}]
[1,"NOTAG",{"$f":"IF(ISERROR(D958),\"NOTAG\",VLOOKUP(D958,taglook!A:B,2,FALSE))","v":"NOTAG"},{"$f":"VALUE(MID(rawrtf!A958,FIND(\"TFPTAG\",rawrtf!A958,1)+6,3))","v":{"$error":"#VALUE!"}}]
[1,"NOTAG",{"$f":"IF(ISERROR(D959),\"NOTAG\",VLOOKUP(D959,taglook!A:B,2,FALSE))","v":"NOTAG"},{"$f":"VALUE(MID(rawrtf!A959,FIND(\"TFPTAG\",rawrtf!A959,1)+6,3))","v":{"$error":"#VALUE!"}}]
[1,"NOTAG",{"$f":"IF(ISERROR(D960),\"NOTAG\",VLOOKUP(D960,taglook!A:B,2,FALSE))","v":"NOTAG"},{"$f":"VALUE(MID(rawrtf!A960,FIND(\"TFPTAG\",rawrtf!A960,1)+6,3))","v":{"$error":"#VALUE!"}}]
[1,"NOTAG",{"$f":"IF(ISERROR(D961),\"NOTAG\",VLOOKUP(D961,taglook!A:B,2,FALSE))","v":"NOTAG"},{"$f":"VALUE(MID(rawrtf!A961,FIND(\"TFPTAG\",rawrtf!A961,1)+6,3))","v":{"$error":"#VALUE!"}}]
[1,"NOTAG",{"$f":"IF(ISERROR(D962),\"NOTAG\",VLOOKUP(D962,taglook!A:B,2,FALSE))","v":"NOTAG"},{"$f":"VALUE(MID(rawrtf!A962,FIND(\"TFPTAG\",rawrtf!A962,1)+6,3))","v":{"$error":"#VALUE!"}}]
[{"$f":"IF(OR(B963=\"SHOW\",B963=\"NOTAG\"),1,0)","v":1},"NOTAG",{"$f":"IF(ISERROR(D963),\"NOTAG\",VLOOKUP(D963,taglook!A:B,2,FALSE))","v":"NOTAG"},{"$f":"VALUE(MID(rawrtf!A963,FIND(\"TFPTAG\",rawrtf!A963,1)+6,3))","v":{"$error":"#VALUE!"}}]
[1,"NOTAG",{"$f":"IF(ISERROR(D964),\"NOTAG\",VLOOKUP(D964,taglook!A:B,2,FALSE))","v":"NOTAG"},{"$f":"VALUE(MID(rawrtf!A964,FIND(\"TFPTAG\",rawrtf!A964,1)+6,3))","v":{"$error":"#VALUE!"}}]
[1,"NOTAG",{"$f":"IF(ISERROR(D965),\"NOTAG\",VLOOKUP(D965,taglook!A:B,2,FALSE))","v":"NOTAG"},{"$f":"VALUE(MID(rawrtf!A965,FIND(\"TFPTAG\",rawrtf!A965,1)+6,3))","v":{"$error":"#VALUE!"}}]
[1,"NOTAG",{"$f":"IF(ISERROR(D966),\"NOTAG\",VLOOKUP(D966,taglook!A:B,2,FALSE))","v":"NOTAG"},{"$f":"VALUE(MID(rawrtf!A966,FIND(\"TFPTAG\",rawrtf!A966,1)+6,3))","v":{"$error":"#VALUE!"}}]
[1,"NOTAG",{"$f":"IF(ISERROR(D967),\"NOTAG\",VLOOKUP(D967,taglook!A:B,2,FALSE))","v":"NOTAG"},{"$f":"VALUE(MID(rawrtf!A967,FIND(\"TFPTAG\",rawrtf!A967,1)+6,3))","v":{"$error":"#VALUE!"}}]
[1,"NOTAG",{"$f":"IF(ISERROR(D968),\"NOTAG\",VLOOKUP(D968,taglook!A:B,2,FALSE))","v":"NOTAG"},{"$f":"VALUE(MID(rawrtf!A968,FIND(\"TFPTAG\",rawrtf!A968,1)+6,3))","v":{"$error":"#VALUE!"}}]
[1,"NOTAG",{"$f":"IF(ISERROR(D969),\"NOTAG\",VLOOKUP(D969,taglook!A:B,2,FALSE))","v":"NOTAG"},{"$f":"VALUE(MID(rawrtf!A969,FIND(\"TFPTAG\",rawrtf!A969,1)+6,3))","v":{"$error":"#VALUE!"}}]
[1,"NOTAG",{"$f":"IF(ISERROR(D970),\"NOTAG\",VLOOKUP(D970,taglook!A:B,2,FALSE))","v":"NOTAG"},{"$f":"VALUE(MID(rawrtf!A970,FIND(\"TFPTAG\",rawrtf!A970,1)+6,3))","v":{"$error":"#VALUE!"}}]
[1,"NOTAG",{"$f":"IF(ISERROR(D971),\"NOTAG\",VLOOKUP(D971,taglook!A:B,2,FALSE))","v":"NOTAG"},{"$f":"VALUE(MID(rawrtf!A971,FIND(\"TFPTAG\",rawrtf!A971,1)+6,3))","v":{"$error":"#VALUE!"}}]
[1,"NOTAG",{"$f":"IF(ISERROR(D972),\"NOTAG\",VLOOKUP(D972,taglook!A:B,2,FALSE))","v":"NOTAG"},{"$f":"VALUE(MID(rawrtf!A972,FIND(\"TFPTAG\",rawrtf!A972,1)+6,3))","v":{"$error":"#VALUE!"}}]
[1,"NOTAG",{"$f":"IF(ISERROR(D973),\"NOTAG\",VLOOKUP(D973,taglook!A:B,2,FALSE))","v":"NOTAG"},{"$f":"VALUE(MID(rawrtf!A973,FIND(\"TFPTAG\",rawrtf!A973,1)+6,3))","v":{"$error":"#VALUE!"}}]
[1,"NOTAG",{"$f":"IF(ISERROR(D974),\"NOTAG\",VLOOKUP(D974,taglook!A:B,2,FALSE))","v":"NOTAG"},{"$f":"VALUE(MID(rawrtf!A974,FIND(\"TFPTAG\",rawrtf!A974,1)+6,3))","v":{"$error":"#VALUE!"}}]
[1,"NOTAG",{"$f":"IF(ISERROR(D975),\"NOTAG\",VLOOKUP(D975,taglook!A:B,2,FALSE))","v":"NOTAG"},{"$f":"VALUE(MID(rawrtf!A975,FIND(\"TFPTAG\",rawrtf!A975,1)+6,3))","v":{"$error":"#VALUE!"}}]
[1,"NOTAG",{"$f":"IF(ISERROR(D976),\"NOTAG\",VLOOKUP(D976,taglook!A:B,2,FALSE))","v":"NOTAG"},{"$f":"VALUE(MID(rawrtf!A976,FIND(\"TFPTAG\",rawrtf!A976,1)+6,3))","v":{"$error":"#VALUE!"}}]
[1,"NOTAG",{"$f":"IF(ISERROR(D977),\"NOTAG\",VLOOKUP(D977,taglook!A:B,2,FALSE))","v":"NOTAG"},{"$f":"VALUE(MID(rawrtf!A977,FIND(\"TFPTAG\",rawrtf!A977,1)+6,3))","v":{"$error":"#VALUE!"}}]
[1,"NOTAG",{"$f":"IF(ISERROR(D978),\"NOTAG\",VLOOKUP(D978,taglook!A:B,2,FALSE))","v":"NOTAG"},{"$f":"VALUE(MID(rawrtf!A978,FIND(\"TFPTAG\",rawrtf!A978,1)+6,3))","v":{"$error":"#VALUE!"}}]
[1,"NOTAG",{"$f":"IF(ISERROR(D979),\"NOTAG\",VLOOKUP(D979,taglook!A:B,2,FALSE))","v":"NOTAG"},{"$f":"VALUE(MID(rawrtf!A979,FIND(\"TFPTAG\",rawrtf!A979,1)+6,3))","v":{"$error":"#VALUE!"}}]
[1,"NOTAG",{"$f":"IF(ISERROR(D980),\"NOTAG\",VLOOKUP(D980,taglook!A:B,2,FALSE))","v":"NOTAG"},{"$f":"VALUE(MID(rawrtf!A980,FIND(\"TFPTAG\",rawrtf!A980,1)+6,3))","v":{"$error":"#VALUE!"}}]
[1,"NOTAG",{"$f":"IF(ISERROR(D981),\"NOTAG\",VLOOKUP(D981,taglook!A:B,2,FALSE))","v":"NOTAG"},{"$f":"VALUE(MID(rawrtf!A981,FIND(\"TFPTAG\",rawrtf!A981,1)+6,3))","v":{"$error":"#VALUE!"}}]
[1,"NOTAG",{"$f":"IF(ISERROR(D982),\"NOTAG\",VLOOKUP(D982,taglook!A:B,2,FALSE))","v":"NOTAG"},{"$f":"VALUE(MID(rawrtf!A982,FIND(\"TFPTAG\",rawrtf!A982,1)+6,3))","v":{"$error":"#VALUE!"}}]
[1,"NOTAG",{"$f":"IF(ISERROR(D983),\"NOTAG\",VLOOKUP(D983,taglook!A:B,2,FALSE))","v":"NOTAG"},{"$f":"VALUE(MID(rawrtf!A983,FIND(\"TFPTAG\",rawrtf!A983,1)+6,3))","v":{"$error":"#VALUE!"}}]
[1,"NOTAG",{"$f":"IF(ISERROR(D984),\"NOTAG\",VLOOKUP(D984,taglook!A:B,2,FALSE))","v":"NOTAG"},{"$f":"VALUE(MID(rawrtf!A984,FIND(\"TFPTAG\",rawrtf!A984,1)+6,3))","v":{"$error":"#VALUE!"}}]
[1,"NOTAG",{"$f":"IF(ISERROR(D985),\"NOTAG\",VLOOKUP(D985,taglook!A:B,2,FALSE))","v":"NOTAG"},{"$f":"VALUE(MID(rawrtf!A985,FIND(\"TFPTAG\",rawrtf!A985,1)+6,3))","v":{"$error":"#VALUE!"}}]
[1,"NOTAG",{"$f":"IF(ISERROR(D986),\"NOTAG\",VLOOKUP(D986,taglook!A:B,2,FALSE))","v":"NOTAG"},{"$f":"VALUE(MID(rawrtf!A986,FIND(\"TFPTAG\",rawrtf!A986,1)+6,3))","v":{"$error":"#VALUE!"}}]
[1,"NOTAG",{"$f":"IF(ISERROR(D987),\"NOTAG\",VLOOKUP(D987,taglook!A:B,2,FALSE))","v":"NOTAG"},{"$f":"VALUE(MID(rawrtf!A987,FIND(\"TFPTAG\",rawrtf!A987,1)+6,3))","v":{"$error":"#VALUE!"}}]
[1,"NOTAG",{"$f":"IF(ISERROR(D988),\"NOTAG\",VLOOKUP(D988,taglook!A:B,2,FALSE))","v":"NOTAG"},{"$f":"VALUE(MID(rawrtf!A988,FIND(\"TFPTAG\",rawrtf!A988,1)+6,3))","v":{"$error":"#VALUE!"}}]
[1,"NOTAG",{"$f":"IF(ISERROR(D989),\"NOTAG\",VLOOKUP(D989,taglook!A:B,2,FALSE))","v":"NOTAG"},{"$f":"VALUE(MID(rawrtf!A989,FIND(\"TFPTAG\",rawrtf!A989,1)+6,3))","v":{"$error":"#VALUE!"}}]
[1,"NOTAG",{"$f":"IF(ISERROR(D990),\"NOTAG\",VLOOKUP(D990,taglook!A:B,2,FALSE))","v":"NOTAG"},{"$f":"VALUE(MID(rawrtf!A990,FIND(\"TFPTAG\",rawrtf!A990,1)+6,3))","v":{"$error":"#VALUE!"}}]
[1,"NOTAG",{"$f":"IF(ISERROR(D991),\"NOTAG\",VLOOKUP(D991,taglook!A:B,2,FALSE))","v":"NOTAG"},{"$f":"VALUE(MID(rawrtf!A991,FIND(\"TFPTAG\",rawrtf!A991,1)+6,3))","v":{"$error":"#VALUE!"}}]
[1,"NOTAG",{"$f":"IF(ISERROR(D992),\"NOTAG\",VLOOKUP(D992,taglook!A:B,2,FALSE))","v":"NOTAG"},{"$f":"VALUE(MID(rawrtf!A992,FIND(\"TFPTAG\",rawrtf!A992,1)+6,3))","v":{"$error":"#VALUE!"}}]
[1,"NOTAG",{"$f":"IF(ISERROR(D993),\"NOTAG\",VLOOKUP(D993,taglook!A:B,2,FALSE))","v":"NOTAG"},{"$f":"VALUE(MID(rawrtf!A993,FIND(\"TFPTAG\",rawrtf!A993,1)+6,3))","v":{"$error":"#VALUE!"}}]
[1,"NOTAG",{"$f":"IF(ISERROR(D994),\"NOTAG\",VLOOKUP(D994,taglook!A:B,2,FALSE))","v":"NOTAG"},{"$f":"VALUE(MID(rawrtf!A994,FIND(\"TFPTAG\",rawrtf!A994,1)+6,3))","v":{"$error":"#VALUE!"}}]
[1,"NOTAG",{"$f":"IF(ISERROR(D995),\"NOTAG\",VLOOKUP(D995,taglook!A:B,2,FALSE))","v":"NOTAG"},{"$f":"VALUE(MID(rawrtf!A995,FIND(\"TFPTAG\",rawrtf!A995,1)+6,3))","v":{"$error":"#VALUE!"}}]
[1,"NOTAG",{"$f":"IF(ISERROR(D996),\"NOTAG\",VLOOKUP(D996,taglook!A:B,2,FALSE))","v":"NOTAG"},{"$f":"VALUE(MID(rawrtf!A996,FIND(\"TFPTAG\",rawrtf!A996,1)+6,3))","v":{"$error":"#VALUE!"}}]
[1,{"$f":"IF(ISNA(C997),\"REDTAG\",IF(C997=\"NOTAG\",\"NOTAG\",IF(C997=1,\"SHOW\",IF(C997=0,\"HIDE\",\"ERROR\"))))","v":"NOTAG"},{"$f":"IF(ISERROR(D997),\"NOTAG\",VLOOKUP(D997,taglook!A:B,2,FALSE))","v":"NOTAG"},{"$f":"VALUE(MID(rawrtf!A997,FIND(\"TFPTAG\",rawrtf!A997,1)+6,3))","v":{"$error":"#VALUE!"}}]
[1,{"$f":"IF(ISNA(C998),\"REDTAG\",IF(C998=\"NOTAG\",\"NOTAG\",IF(C998=1,\"SHOW\",IF(C998=0,\"HIDE\",\"ERROR\"))))","v":"NOTAG"},{"$f":"IF(ISERROR(D998),\"NOTAG\",VLOOKUP(D998,taglook!A:B,2,FALSE))","v":"NOTAG"},{"$f":"VALUE(MID(rawrtf!A998,FIND(\"TFPTAG\",rawrtf!A998,1)+6,3))","v":{"$error":"#VALUE!"}}]
[1,{"$f":"IF(ISNA(C999),\"REDTAG\",IF(C999=\"NOTAG\",\"NOTAG\",IF(C999=1,\"SHOW\",IF(C999=0,\"HIDE\",\"ERROR\"))))","v":"NOTAG"},{"$f":"IF(ISERROR(D999),\"NOTAG\",VLOOKUP(D999,taglook!A:B,2,FALSE))","v":"NOTAG"},{"$f":"VALUE(MID(rawrtf!A999,FIND(\"TFPTAG\",rawrtf!A999,1)+6,3))","v":{"$error":"#VALUE!"}}]
[1,{"$f":"IF(ISNA(C1000),\"REDTAG\",IF(C1000=\"NOTAG\",\"NOTAG\",IF(C1000=1,\"SHOW\",IF(C1000=0,\"HIDE\",\"ERROR\"))))","v":"NOTAG"},{"$f":"IF(ISERROR(D1000),\"NOTAG\",VLOOKUP(D1000,taglook!A:B,2,FALSE))","v":"NOTAG"},{"$f":"VALUE(MID(rawrtf!A1000,FIND(\"TFPTAG\",rawrtf!A1000,1)+6,3))","v":{"$error":"#VALUE!"}}]

{"sheet":"rawrtf","index":15,"n_rows":768,"n_cols":1,"rows_kept":768,"cut":false,"hidden":true,"merged":[]}
["{\\rtf1\\ansi\\ansicpg1252\\uc1 \\deff0\\deflang1033\\deflangfe1033{\\fonttbl{\\f0\\froman\\fcharset0\\fprq2{\\*\\panose 02020603050405020304}Times New Roman;}{\\f1\\fswiss\\fcharset0\\fprq2{\\*\\panose 020b0604020202020204}Arial;}"]
["{\\f2\\fmodern\\fcharset0\\fprq1{\\*\\panose 02070309020205020404}Courier New;}{\\f3\\froman\\fcharset2\\fprq2{\\*\\panose 05050102010706020507}Symbol;}{\\f14\\fnil\\fcharset2\\fprq2{\\*\\panose 05000000000000000000}Wingdings;}"]
["{\\f28\\froman\\fcharset0\\fprq2{\\*\\panose 02040502050505030304}Palatino Linotype;}{\\f29\\fmodern\\fcharset0\\fprq1{\\*\\panose 020b0609040504020204}Lucida Console;}{\\f36\\froman\\fcharset238\\fprq2 Times New Roman CE;}"]
["{\\f37\\froman\\fcharset204\\fprq2 Times New Roman Cyr;}{\\f39\\froman\\fcharset161\\fprq2 Times New Roman Greek;}{\\f40\\froman\\fcharset162\\fprq2 Times New Roman Tur;}{\\f41\\froman\\fcharset177\\fprq2 Times New Roman (Hebrew);}"]
["{\\f42\\froman\\fcharset178\\fprq2 Times New Roman (Arabic);}{\\f43\\froman\\fcharset186\\fprq2 Times New Roman Baltic;}{\\f44\\fswiss\\fcharset238\\fprq2 Arial CE;}{\\f45\\fswiss\\fcharset204\\fprq2 Arial Cyr;}{\\f47\\fswiss\\fcharset161\\fprq2 Arial Greek;}"]
["{\\f48\\fswiss\\fcharset162\\fprq2 Arial Tur;}{\\f49\\fswiss\\fcharset177\\fprq2 Arial (Hebrew);}{\\f50\\fswiss\\fcharset178\\fprq2 Arial (Arabic);}{\\f51\\fswiss\\fcharset186\\fprq2 Arial Baltic;}{\\f52\\fmodern\\fcharset238\\fprq1 Courier New CE;}"]
["{\\f53\\fmodern\\fcharset204\\fprq1 Courier New Cyr;}{\\f55\\fmodern\\fcharset161\\fprq1 Courier New Greek;}{\\f56\\fmodern\\fcharset162\\fprq1 Courier New Tur;}{\\f57\\fmodern\\fcharset177\\fprq1 Courier New (Hebrew);}"]
["{\\f58\\fmodern\\fcharset178\\fprq1 Courier New (Arabic);}{\\f59\\fmodern\\fcharset186\\fprq1 Courier New Baltic;}{\\f260\\froman\\fcharset238\\fprq2 Palatino Linotype CE;}{\\f261\\froman\\fcharset204\\fprq2 Palatino Linotype Cyr;}"]
["{\\f263\\froman\\fcharset161\\fprq2 Palatino Linotype Greek;}{\\f264\\froman\\fcharset162\\fprq2 Palatino Linotype Tur;}{\\f267\\froman\\fcharset186\\fprq2 Palatino Linotype Baltic;}{\\f268\\fmodern\\fcharset238\\fprq1 Lucida Console CE;}"]
["{\\f269\\fmodern\\fcharset204\\fprq1 Lucida Console Cyr;}{\\f271\\fmodern\\fcharset161\\fprq1 Lucida Console Greek;}{\\f272\\fmodern\\fcharset162\\fprq1 Lucida Console Tur;}}{\\colortbl;\\red0\\green0\\blue0;\\red0\\green0\\blue255;\\red0\\green255\\blue255;"]
["\\red0\\green255\\blue0;\\red255\\green0\\blue255;\\red255\\green0\\blue0;\\red255\\green255\\blue0;\\red255\\green255\\blue255;\\red0\\green0\\blue128;\\red0\\green128\\blue128;\\red0\\green128\\blue0;\\red128\\green0\\blue128;\\red128\\green0\\blue0;\\red128\\green128\\blue0;"]
["\\red128\\green128\\blue128;\\red192\\green192\\blue192;\\red255\\green255\\blue255;}{\\stylesheet{\\ql \\li0\\ri0\\sa240\\widctlpar\\aspalpha\\aspnum\\faauto\\adjustright\\rin0\\lin0\\itap0 \\fs24\\lang2057\\langfe1033\\cgrid\\langnp2057\\langfenp1033 \\snext0 Normal;}{"]
["\\s1\\ql \\li0\\ri0\\sb240\\sa60\\keepn\\widctlpar\\aspalpha\\aspnum\\faauto\\adjustright\\rin0\\lin0\\itap0 \\b\\f1\\fs32\\lang2057\\langfe1033\\kerning32\\cgrid\\langnp2057\\langfenp1033 \\sbasedon0 \\snext0 heading 1;}{"]
["\\s2\\ql \\li0\\ri0\\sb240\\sa60\\keepn\\widctlpar\\aspalpha\\aspnum\\faauto\\adjustright\\rin0\\lin0\\itap0 \\b\\i\\f1\\fs28\\lang2057\\langfe1033\\cgrid\\langnp2057\\langfenp1033 \\sbasedon0 \\snext0 heading 2;}{"]
["\\s3\\ql \\li0\\ri0\\sb240\\sa60\\keepn\\widctlpar\\aspalpha\\aspnum\\faauto\\adjustright\\rin0\\lin0\\itap0 \\b\\f1\\fs26\\lang2057\\langfe1033\\cgrid\\langnp2057\\langfenp1033 \\sbasedon0 \\snext0 heading 3;}{\\s4\\ql \\fi-360\\li720\\ri0\\sb240\\sa60\\keepn\\widctlpar"]
["\\jclisttab\\tx720\\aspalpha\\aspnum\\faauto\\ls18\\adjustright\\rin0\\lin720\\itap0 \\f28\\fs24\\lang2057\\langfe1033\\cgrid\\langnp2057\\langfenp1033 \\sbasedon0 \\snext0 heading 4;}{"]
["\\s5\\ql \\li360\\ri0\\sa240\\keepn\\widctlpar\\aspalpha\\aspnum\\faauto\\outlinelevel4\\adjustright\\rin0\\lin360\\itap0 \\b\\f29\\fs20\\lang2057\\langfe1033\\cgrid\\langnp2057\\langfenp1033 \\sbasedon0 \\snext0 heading 5;}{\\*\\cs10 \\additive Default Paragraph Font;}}"]
["{\\*\\listtable{\\list\\listtemplateid1865182804\\listhybrid{\\listlevel\\levelnfc23\\levelnfcn23\\leveljc0\\leveljcn0\\levelfollow0\\levelstartat1\\levelspace360\\levelindent0{\\leveltext\\leveltemplateid67698689\\'01\\u-3913 ?;}{\\levelnumbers;}\\f3\\chbrdr"]
["\\brdrnone\\brdrcf1 \\chshdng0\\chcfpat1\\chcbpat1\\fbias0 \\fi-360\\li720\\jclisttab\\tx720 }{\\listlevel\\levelnfc23\\levelnfcn23\\leveljc0\\leveljcn0\\levelfollow0\\levelstartat1\\levelspace360\\levelindent0{\\leveltext\\leveltemplateid67698691\\'01o;}{\\levelnumbers;}\\f2"]
["\\chbrdr\\brdrnone\\brdrcf1 \\chshdng0\\chcfpat1\\chcbpat1\\fbias0 \\fi-360\\li1440\\jclisttab\\tx1440 }{\\listlevel\\levelnfc23\\levelnfcn23\\leveljc0\\leveljcn0\\levelfollow0\\levelstartat1\\levelspace360\\levelindent0{\\leveltext\\leveltemplateid67698693"]
["\\'01\\u-3929 ?;}{\\levelnumbers;}\\f14\\chbrdr\\brdrnone\\brdrcf1 \\chshdng0\\chcfpat1\\chcbpat1\\fbias0 \\fi-360\\li2160\\jclisttab\\tx2160 }{\\listlevel\\levelnfc23\\levelnfcn23\\leveljc0\\leveljcn0\\levelfollow0\\levelstartat1\\levelspace360\\levelindent0{\\leveltext"]
["\\leveltemplateid67698689\\'01\\u-3913 ?;}{\\levelnumbers;}\\f3\\chbrdr\\brdrnone\\brdrcf1 \\chshdng0\\chcfpat1\\chcbpat1\\fbias0 \\fi-360\\li2880\\jclisttab\\tx2880 }{\\listlevel\\levelnfc23\\levelnfcn23\\leveljc0\\leveljcn0\\levelfollow0\\levelstartat1\\levelspace360"]
["\\levelindent0{\\leveltext\\leveltemplateid67698691\\'01o;}{\\levelnumbers;}\\f2\\chbrdr\\brdrnone\\brdrcf1 \\chshdng0\\chcfpat1\\chcbpat1\\fbias0 \\fi-360\\li3600\\jclisttab\\tx3600 }{\\listlevel\\levelnfc23\\levelnfcn23\\leveljc0\\leveljcn0\\levelfollow0\\levelstartat1"]
["\\levelspace360\\levelindent0{\\leveltext\\leveltemplateid67698693\\'01\\u-3929 ?;}{\\levelnumbers;}\\f14\\chbrdr\\brdrnone\\brdrcf1 \\chshdng0\\chcfpat1\\chcbpat1\\fbias0 \\fi-360\\li4320\\jclisttab\\tx4320 }{\\listlevel\\levelnfc23\\levelnfcn23\\leveljc0\\leveljcn0"]
["\\levelfollow0\\levelstartat1\\levelspace360\\levelindent0{\\leveltext\\leveltemplateid67698689\\'01\\u-3913 ?;}{\\levelnumbers;}\\f3\\chbrdr\\brdrnone\\brdrcf1 \\chshdng0\\chcfpat1\\chcbpat1\\fbias0 \\fi-360\\li5040\\jclisttab\\tx5040 }{\\listlevel\\levelnfc23\\levelnfcn23"]
["\\leveljc0\\leveljcn0\\levelfollow0\\levelstartat1\\levelspace360\\levelindent0{\\leveltext\\leveltemplateid67698691\\'01o;}{\\levelnumbers;}\\f2\\chbrdr\\brdrnone\\brdrcf1 \\chshdng0\\chcfpat1\\chcbpat1\\fbias0 \\fi-360\\li5760\\jclisttab\\tx5760 }{\\listlevel\\levelnfc23"]
["\\levelnfcn23\\leveljc0\\leveljcn0\\levelfollow0\\levelstartat1\\levelspace360\\levelindent0{\\leveltext\\leveltemplateid67698693\\'01\\u-3929 ?;}{\\levelnumbers;}\\f14\\chbrdr\\brdrnone\\brdrcf1 \\chshdng0\\chcfpat1\\chcbpat1\\fbias0 \\fi-360\\li6480\\jclisttab\\tx6480 }"]
["{\\listname ;}\\listid351958852}{\\list\\listtemplateid1613499070\\listhybrid{\\listlevel\\levelnfc23\\levelnfcn23\\leveljc0\\leveljcn0\\levelfollow0\\levelstartat1\\levelspace360\\levelindent0{\\leveltext\\leveltemplateid67698689\\'01\\u-3913 ?;}{\\levelnumbers;}\\f3\\chbrdr"]
["\\brdrnone\\brdrcf1 \\chshdng0\\chcfpat1\\chcbpat1\\fbias0 \\fi-360\\li720\\jclisttab\\tx720 }{\\listlevel\\levelnfc23\\levelnfcn23\\leveljc0\\leveljcn0\\levelfollow0\\levelstartat1\\levelspace360\\levelindent0{\\leveltext\\leveltemplateid67698691\\'01o;}{\\levelnumbers;}\\f2"]
["\\chbrdr\\brdrnone\\brdrcf1 \\chshdng0\\chcfpat1\\chcbpat1\\fbias0 \\fi-360\\li1440\\jclisttab\\tx1440 }{\\listlevel\\levelnfc23\\levelnfcn23\\leveljc0\\leveljcn0\\levelfollow0\\levelstartat1\\levelspace360\\levelindent0{\\leveltext\\leveltemplateid67698693"]
["\\'01\\u-3929 ?;}{\\levelnumbers;}\\f14\\chbrdr\\brdrnone\\brdrcf1 \\chshdng0\\chcfpat1\\chcbpat1\\fbias0 \\fi-360\\li2160\\jclisttab\\tx2160 }{\\listlevel\\levelnfc23\\levelnfcn23\\leveljc0\\leveljcn0\\levelfollow0\\levelstartat1\\levelspace360\\levelindent0{\\leveltext"]
["\\leveltemplateid67698689\\'01\\u-3913 ?;}{\\levelnumbers;}\\f3\\chbrdr\\brdrnone\\brdrcf1 \\chshdng0\\chcfpat1\\chcbpat1\\fbias0 \\fi-360\\li2880\\jclisttab\\tx2880 }{\\listlevel\\levelnfc23\\levelnfcn23\\leveljc0\\leveljcn0\\levelfollow0\\levelstartat1\\levelspace360"]
["\\levelindent0{\\leveltext\\leveltemplateid67698691\\'01o;}{\\levelnumbers;}\\f2\\chbrdr\\brdrnone\\brdrcf1 \\chshdng0\\chcfpat1\\chcbpat1\\fbias0 \\fi-360\\li3600\\jclisttab\\tx3600 }{\\listlevel\\levelnfc23\\levelnfcn23\\leveljc0\\leveljcn0\\levelfollow0\\levelstartat1"]
["\\levelspace360\\levelindent0{\\leveltext\\leveltemplateid67698693\\'01\\u-3929 ?;}{\\levelnumbers;}\\f14\\chbrdr\\brdrnone\\brdrcf1 \\chshdng0\\chcfpat1\\chcbpat1\\fbias0 \\fi-360\\li4320\\jclisttab\\tx4320 }{\\listlevel\\levelnfc23\\levelnfcn23\\leveljc0\\leveljcn0"]
["\\levelfollow0\\levelstartat1\\levelspace360\\levelindent0{\\leveltext\\leveltemplateid67698689\\'01\\u-3913 ?;}{\\levelnumbers;}\\f3\\chbrdr\\brdrnone\\brdrcf1 \\chshdng0\\chcfpat1\\chcbpat1\\fbias0 \\fi-360\\li5040\\jclisttab\\tx5040 }{\\listlevel\\levelnfc23\\levelnfcn23"]
["\\leveljc0\\leveljcn0\\levelfollow0\\levelstartat1\\levelspace360\\levelindent0{\\leveltext\\leveltemplateid67698691\\'01o;}{\\levelnumbers;}\\f2\\chbrdr\\brdrnone\\brdrcf1 \\chshdng0\\chcfpat1\\chcbpat1\\fbias0 \\fi-360\\li5760\\jclisttab\\tx5760 }{\\listlevel\\levelnfc23"]
["\\levelnfcn23\\leveljc0\\leveljcn0\\levelfollow0\\levelstartat1\\levelspace360\\levelindent0{\\leveltext\\leveltemplateid67698693\\'01\\u-3929 ?;}{\\levelnumbers;}\\f14\\chbrdr\\brdrnone\\brdrcf1 \\chshdng0\\chcfpat1\\chcbpat1\\fbias0 \\fi-360\\li6480\\jclisttab\\tx6480 }"]
["{\\listname ;}\\listid512492878}{\\list\\listtemplateid-16367490\\listhybrid{\\listlevel\\levelnfc23\\levelnfcn23\\leveljc0\\leveljcn0\\levelfollow0\\levelstartat1\\levelspace360\\levelindent0{\\leveltext\\leveltemplateid67698689\\'01\\u-3913 ?;}{\\levelnumbers;}\\f3\\chbrdr"]
["\\brdrnone\\brdrcf1 \\chshdng0\\chcfpat1\\chcbpat1\\fbias0 \\fi-360\\li720\\jclisttab\\tx720 }{\\listlevel\\levelnfc23\\levelnfcn23\\leveljc0\\leveljcn0\\levelfollow0\\levelstartat1\\levelspace360\\levelindent0{\\leveltext\\leveltemplateid67698691\\'01o;}{\\levelnumbers;}\\f2"]
["\\chbrdr\\brdrnone\\brdrcf1 \\chshdng0\\chcfpat1\\chcbpat1\\fbias0 \\fi-360\\li1440\\jclisttab\\tx1440 }{\\listlevel\\levelnfc23\\levelnfcn23\\leveljc0\\leveljcn0\\levelfollow0\\levelstartat1\\levelspace360\\levelindent0{\\leveltext\\leveltemplateid67698693"]
["\\'01\\u-3929 ?;}{\\levelnumbers;}\\f14\\chbrdr\\brdrnone\\brdrcf1 \\chshdng0\\chcfpat1\\chcbpat1\\fbias0 \\fi-360\\li2160\\jclisttab\\tx2160 }{\\listlevel\\levelnfc23\\levelnfcn23\\leveljc0\\leveljcn0\\levelfollow0\\levelstartat1\\levelspace360\\levelindent0{\\leveltext"]
["\\leveltemplateid67698689\\'01\\u-3913 ?;}{\\levelnumbers;}\\f3\\chbrdr\\brdrnone\\brdrcf1 \\chshdng0\\chcfpat1\\chcbpat1\\fbias0 \\fi-360\\li2880\\jclisttab\\tx2880 }{\\listlevel\\levelnfc23\\levelnfcn23\\leveljc0\\leveljcn0\\levelfollow0\\levelstartat1\\levelspace360"]
["\\levelindent0{\\leveltext\\leveltemplateid67698691\\'01o;}{\\levelnumbers;}\\f2\\chbrdr\\brdrnone\\brdrcf1 \\chshdng0\\chcfpat1\\chcbpat1\\fbias0 \\fi-360\\li3600\\jclisttab\\tx3600 }{\\listlevel\\levelnfc23\\levelnfcn23\\leveljc0\\leveljcn0\\levelfollow0\\levelstartat1"]
["\\levelspace360\\levelindent0{\\leveltext\\leveltemplateid67698693\\'01\\u-3929 ?;}{\\levelnumbers;}\\f14\\chbrdr\\brdrnone\\brdrcf1 \\chshdng0\\chcfpat1\\chcbpat1\\fbias0 \\fi-360\\li4320\\jclisttab\\tx4320 }{\\listlevel\\levelnfc23\\levelnfcn23\\leveljc0\\leveljcn0"]
["\\levelfollow0\\levelstartat1\\levelspace360\\levelindent0{\\leveltext\\leveltemplateid67698689\\'01\\u-3913 ?;}{\\levelnumbers;}\\f3\\chbrdr\\brdrnone\\brdrcf1 \\chshdng0\\chcfpat1\\chcbpat1\\fbias0 \\fi-360\\li5040\\jclisttab\\tx5040 }{\\listlevel\\levelnfc23\\levelnfcn23"]
["\\leveljc0\\leveljcn0\\levelfollow0\\levelstartat1\\levelspace360\\levelindent0{\\leveltext\\leveltemplateid67698691\\'01o;}{\\levelnumbers;}\\f2\\chbrdr\\brdrnone\\brdrcf1 \\chshdng0\\chcfpat1\\chcbpat1\\fbias0 \\fi-360\\li5760\\jclisttab\\tx5760 }{\\listlevel\\levelnfc23"]
["\\levelnfcn23\\leveljc0\\leveljcn0\\levelfollow0\\levelstartat1\\levelspace360\\levelindent0{\\leveltext\\leveltemplateid67698693\\'01\\u-3929 ?;}{\\levelnumbers;}\\f14\\chbrdr\\brdrnone\\brdrcf1 \\chshdng0\\chcfpat1\\chcbpat1\\fbias0 \\fi-360\\li6480\\jclisttab\\tx6480 }"]
["{\\listname ;}\\listid753169515}{\\list\\listtemplateid1960226630\\listhybrid{\\listlevel\\levelnfc23\\levelnfcn23\\leveljc0\\leveljcn0\\levelfollow0\\levelstartat1\\levelspace360\\levelindent0{\\leveltext\\leveltemplateid67698689\\'01\\u-3913 ?;}{\\levelnumbers;}\\f3\\chbrdr"]
["\\brdrnone\\brdrcf1 \\chshdng0\\chcfpat1\\chcbpat1\\fbias0 \\fi-360\\li720\\jclisttab\\tx720 }{\\listlevel\\levelnfc23\\levelnfcn23\\leveljc0\\leveljcn0\\levelfollow0\\levelstartat1\\levelspace360\\levelindent0{\\leveltext\\leveltemplateid67698691\\'01o;}{\\levelnumbers;}\\f2"]
["\\chbrdr\\brdrnone\\brdrcf1 \\chshdng0\\chcfpat1\\chcbpat1\\fbias0 \\fi-360\\li1440\\jclisttab\\tx1440 }{\\listlevel\\levelnfc23\\levelnfcn23\\leveljc0\\leveljcn0\\levelfollow0\\levelstartat1\\levelspace360\\levelindent0{\\leveltext\\leveltemplateid67698693"]
["\\'01\\u-3929 ?;}{\\levelnumbers;}\\f14\\chbrdr\\brdrnone\\brdrcf1 \\chshdng0\\chcfpat1\\chcbpat1\\fbias0 \\fi-360\\li2160\\jclisttab\\tx2160 }{\\listlevel\\levelnfc23\\levelnfcn23\\leveljc0\\leveljcn0\\levelfollow0\\levelstartat1\\levelspace360\\levelindent0{\\leveltext"]
["\\leveltemplateid67698689\\'01\\u-3913 ?;}{\\levelnumbers;}\\f3\\chbrdr\\brdrnone\\brdrcf1 \\chshdng0\\chcfpat1\\chcbpat1\\fbias0 \\fi-360\\li2880\\jclisttab\\tx2880 }{\\listlevel\\levelnfc23\\levelnfcn23\\leveljc0\\leveljcn0\\levelfollow0\\levelstartat1\\levelspace360"]
["\\levelindent0{\\leveltext\\leveltemplateid67698691\\'01o;}{\\levelnumbers;}\\f2\\chbrdr\\brdrnone\\brdrcf1 \\chshdng0\\chcfpat1\\chcbpat1\\fbias0 \\fi-360\\li3600\\jclisttab\\tx3600 }{\\listlevel\\levelnfc23\\levelnfcn23\\leveljc0\\leveljcn0\\levelfollow0\\levelstartat1"]
["\\levelspace360\\levelindent0{\\leveltext\\leveltemplateid67698693\\'01\\u-3929 ?;}{\\levelnumbers;}\\f14\\chbrdr\\brdrnone\\brdrcf1 \\chshdng0\\chcfpat1\\chcbpat1\\fbias0 \\fi-360\\li4320\\jclisttab\\tx4320 }{\\listlevel\\levelnfc23\\levelnfcn23\\leveljc0\\leveljcn0"]
["\\levelfollow0\\levelstartat1\\levelspace360\\levelindent0{\\leveltext\\leveltemplateid67698689\\'01\\u-3913 ?;}{\\levelnumbers;}\\f3\\chbrdr\\brdrnone\\brdrcf1 \\chshdng0\\chcfpat1\\chcbpat1\\fbias0 \\fi-360\\li5040\\jclisttab\\tx5040 }{\\listlevel\\levelnfc23\\levelnfcn23"]
["\\leveljc0\\leveljcn0\\levelfollow0\\levelstartat1\\levelspace360\\levelindent0{\\leveltext\\leveltemplateid67698691\\'01o;}{\\levelnumbers;}\\f2\\chbrdr\\brdrnone\\brdrcf1 \\chshdng0\\chcfpat1\\chcbpat1\\fbias0 \\fi-360\\li5760\\jclisttab\\tx5760 }{\\listlevel\\levelnfc23"]
["\\levelnfcn23\\leveljc0\\leveljcn0\\levelfollow0\\levelstartat1\\levelspace360\\levelindent0{\\leveltext\\leveltemplateid67698693\\'01\\u-3929 ?;}{\\levelnumbers;}\\f14\\chbrdr\\brdrnone\\brdrcf1 \\chshdng0\\chcfpat1\\chcbpat1\\fbias0 \\fi-360\\li6480\\jclisttab\\tx6480 }"]
["{\\listname ;}\\listid839931700}{\\list\\listtemplateid-218047324\\listhybrid{\\listlevel\\levelnfc23\\levelnfcn23\\leveljc0\\leveljcn0\\levelfollow0\\levelstartat1\\levelspace360\\levelindent0{\\leveltext\\leveltemplateid67698689\\'01\\u-3913 ?;}{\\levelnumbers;}\\f3\\chbrdr"]
["\\brdrnone\\brdrcf1 \\chshdng0\\chcfpat1\\chcbpat1\\fbias0 \\fi-360\\li720\\jclisttab\\tx720 }{\\listlevel\\levelnfc23\\levelnfcn23\\leveljc0\\leveljcn0\\levelfollow0\\levelstartat1\\levelspace360\\levelindent0{\\leveltext\\leveltemplateid67698691\\'01o;}{\\levelnumbers;}\\f2"]
["\\chbrdr\\brdrnone\\brdrcf1 \\chshdng0\\chcfpat1\\chcbpat1\\fbias0 \\fi-360\\li1440\\jclisttab\\tx1440 }{\\listlevel\\levelnfc23\\levelnfcn23\\leveljc0\\leveljcn0\\levelfollow0\\levelstartat1\\levelspace360\\levelindent0{\\leveltext\\leveltemplateid67698693"]
["\\'01\\u-3929 ?;}{\\levelnumbers;}\\f14\\chbrdr\\brdrnone\\brdrcf1 \\chshdng0\\chcfpat1\\chcbpat1\\fbias0 \\fi-360\\li2160\\jclisttab\\tx2160 }{\\listlevel\\levelnfc23\\levelnfcn23\\leveljc0\\leveljcn0\\levelfollow0\\levelstartat1\\levelspace360\\levelindent0{\\leveltext"]
["\\leveltemplateid67698689\\'01\\u-3913 ?;}{\\levelnumbers;}\\f3\\chbrdr\\brdrnone\\brdrcf1 \\chshdng0\\chcfpat1\\chcbpat1\\fbias0 \\fi-360\\li2880\\jclisttab\\tx2880 }{\\listlevel\\levelnfc23\\levelnfcn23\\leveljc0\\leveljcn0\\levelfollow0\\levelstartat1\\levelspace360"]
["\\levelindent0{\\leveltext\\leveltemplateid67698691\\'01o;}{\\levelnumbers;}\\f2\\chbrdr\\brdrnone\\brdrcf1 \\chshdng0\\chcfpat1\\chcbpat1\\fbias0 \\fi-360\\li3600\\jclisttab\\tx3600 }{\\listlevel\\levelnfc23\\levelnfcn23\\leveljc0\\leveljcn0\\levelfollow0\\levelstartat1"]
["\\levelspace360\\levelindent0{\\leveltext\\leveltemplateid67698693\\'01\\u-3929 ?;}{\\levelnumbers;}\\f14\\chbrdr\\brdrnone\\brdrcf1 \\chshdng0\\chcfpat1\\chcbpat1\\fbias0 \\fi-360\\li4320\\jclisttab\\tx4320 }{\\listlevel\\levelnfc23\\levelnfcn23\\leveljc0\\leveljcn0"]
["\\levelfollow0\\levelstartat1\\levelspace360\\levelindent0{\\leveltext\\leveltemplateid67698689\\'01\\u-3913 ?;}{\\levelnumbers;}\\f3\\chbrdr\\brdrnone\\brdrcf1 \\chshdng0\\chcfpat1\\chcbpat1\\fbias0 \\fi-360\\li5040\\jclisttab\\tx5040 }{\\listlevel\\levelnfc23\\levelnfcn23"]
["\\leveljc0\\leveljcn0\\levelfollow0\\levelstartat1\\levelspace360\\levelindent0{\\leveltext\\leveltemplateid67698691\\'01o;}{\\levelnumbers;}\\f2\\chbrdr\\brdrnone\\brdrcf1 \\chshdng0\\chcfpat1\\chcbpat1\\fbias0 \\fi-360\\li5760\\jclisttab\\tx5760 }{\\listlevel\\levelnfc23"]
["\\levelnfcn23\\leveljc0\\leveljcn0\\levelfollow0\\levelstartat1\\levelspace360\\levelindent0{\\leveltext\\leveltemplateid67698693\\'01\\u-3929 ?;}{\\levelnumbers;}\\f14\\chbrdr\\brdrnone\\brdrcf1 \\chshdng0\\chcfpat1\\chcbpat1\\fbias0 \\fi-360\\li6480\\jclisttab\\tx6480 }"]
["{\\listname ;}\\listid874660257}{\\list\\listtemplateid-442448722\\listhybrid{\\listlevel\\levelnfc23\\levelnfcn23\\leveljc0\\leveljcn0\\levelfollow0\\levelstartat1\\levelspace360\\levelindent0{\\leveltext\\leveltemplateid67698689\\'01\\u-3913 ?;}{\\levelnumbers;}\\f3\\chbrdr"]
["\\brdrnone\\brdrcf1 \\chshdng0\\chcfpat1\\chcbpat1\\fbias0 \\fi-360\\li720\\jclisttab\\tx720 }{\\listlevel\\levelnfc23\\levelnfcn23\\leveljc0\\leveljcn0\\levelfollow0\\levelstartat1\\levelspace360\\levelindent0{\\leveltext\\leveltemplateid67698691\\'01o;}{\\levelnumbers;}\\f2"]
["\\chbrdr\\brdrnone\\brdrcf1 \\chshdng0\\chcfpat1\\chcbpat1\\fbias0 \\fi-360\\li1440\\jclisttab\\tx1440 }{\\listlevel\\levelnfc23\\levelnfcn23\\leveljc0\\leveljcn0\\levelfollow0\\levelstartat1\\levelspace360\\levelindent0{\\leveltext\\leveltemplateid67698693"]
["\\'01\\u-3929 ?;}{\\levelnumbers;}\\f14\\chbrdr\\brdrnone\\brdrcf1 \\chshdng0\\chcfpat1\\chcbpat1\\fbias0 \\fi-360\\li2160\\jclisttab\\tx2160 }{\\listlevel\\levelnfc23\\levelnfcn23\\leveljc0\\leveljcn0\\levelfollow0\\levelstartat1\\levelspace360\\levelindent0{\\leveltext"]
["\\leveltemplateid67698689\\'01\\u-3913 ?;}{\\levelnumbers;}\\f3\\chbrdr\\brdrnone\\brdrcf1 \\chshdng0\\chcfpat1\\chcbpat1\\fbias0 \\fi-360\\li2880\\jclisttab\\tx2880 }{\\listlevel\\levelnfc23\\levelnfcn23\\leveljc0\\leveljcn0\\levelfollow0\\levelstartat1\\levelspace360"]
["\\levelindent0{\\leveltext\\leveltemplateid67698691\\'01o;}{\\levelnumbers;}\\f2\\chbrdr\\brdrnone\\brdrcf1 \\chshdng0\\chcfpat1\\chcbpat1\\fbias0 \\fi-360\\li3600\\jclisttab\\tx3600 }{\\listlevel\\levelnfc23\\levelnfcn23\\leveljc0\\leveljcn0\\levelfollow0\\levelstartat1"]
["\\levelspace360\\levelindent0{\\leveltext\\leveltemplateid67698693\\'01\\u-3929 ?;}{\\levelnumbers;}\\f14\\chbrdr\\brdrnone\\brdrcf1 \\chshdng0\\chcfpat1\\chcbpat1\\fbias0 \\fi-360\\li4320\\jclisttab\\tx4320 }{\\listlevel\\levelnfc23\\levelnfcn23\\leveljc0\\leveljcn0"]
["\\levelfollow0\\levelstartat1\\levelspace360\\levelindent0{\\leveltext\\leveltemplateid67698689\\'01\\u-3913 ?;}{\\levelnumbers;}\\f3\\chbrdr\\brdrnone\\brdrcf1 \\chshdng0\\chcfpat1\\chcbpat1\\fbias0 \\fi-360\\li5040\\jclisttab\\tx5040 }{\\listlevel\\levelnfc23\\levelnfcn23"]
["\\leveljc0\\leveljcn0\\levelfollow0\\levelstartat1\\levelspace360\\levelindent0{\\leveltext\\leveltemplateid67698691\\'01o;}{\\levelnumbers;}\\f2\\chbrdr\\brdrnone\\brdrcf1 \\chshdng0\\chcfpat1\\chcbpat1\\fbias0 \\fi-360\\li5760\\jclisttab\\tx5760 }{\\listlevel\\levelnfc23"]
["\\levelnfcn23\\leveljc0\\leveljcn0\\levelfollow0\\levelstartat1\\levelspace360\\levelindent0{\\leveltext\\leveltemplateid67698693\\'01\\u-3929 ?;}{\\levelnumbers;}\\f14\\chbrdr\\brdrnone\\brdrcf1 \\chshdng0\\chcfpat1\\chcbpat1\\fbias0 \\fi-360\\li6480\\jclisttab\\tx6480 }"]
["{\\listname ;}\\listid975987307}{\\list\\listtemplateid2092439592\\listhybrid{\\listlevel\\levelnfc23\\levelnfcn23\\leveljc0\\leveljcn0\\levelfollow0\\levelstartat1\\levelspace360\\levelindent0{\\leveltext\\leveltemplateid67698689\\'01\\u-3913 ?;}{\\levelnumbers;}\\f3\\chbrdr"]
["\\brdrnone\\brdrcf1 \\chshdng0\\chcfpat1\\chcbpat1\\fbias0 \\fi-360\\li720\\jclisttab\\tx720 }{\\listlevel\\levelnfc23\\levelnfcn23\\leveljc0\\leveljcn0\\levelfollow0\\levelstartat1\\levelspace360\\levelindent0{\\leveltext\\leveltemplateid67698691\\'01o;}{\\levelnumbers;}\\f2"]
["\\chbrdr\\brdrnone\\brdrcf1 \\chshdng0\\chcfpat1\\chcbpat1\\fbias0 \\fi-360\\li1440\\jclisttab\\tx1440 }{\\listlevel\\levelnfc23\\levelnfcn23\\leveljc0\\leveljcn0\\levelfollow0\\levelstartat1\\levelspace360\\levelindent0{\\leveltext\\leveltemplateid67698693"]
["\\'01\\u-3929 ?;}{\\levelnumbers;}\\f14\\chbrdr\\brdrnone\\brdrcf1 \\chshdng0\\chcfpat1\\chcbpat1\\fbias0 \\fi-360\\li2160\\jclisttab\\tx2160 }{\\listlevel\\levelnfc23\\levelnfcn23\\leveljc0\\leveljcn0\\levelfollow0\\levelstartat1\\levelspace360\\levelindent0{\\leveltext"]
["\\leveltemplateid67698689\\'01\\u-3913 ?;}{\\levelnumbers;}\\f3\\chbrdr\\brdrnone\\brdrcf1 \\chshdng0\\chcfpat1\\chcbpat1\\fbias0 \\fi-360\\li2880\\jclisttab\\tx2880 }{\\listlevel\\levelnfc23\\levelnfcn23\\leveljc0\\leveljcn0\\levelfollow0\\levelstartat1\\levelspace360"]
["\\levelindent0{\\leveltext\\leveltemplateid67698691\\'01o;}{\\levelnumbers;}\\f2\\chbrdr\\brdrnone\\brdrcf1 \\chshdng0\\chcfpat1\\chcbpat1\\fbias0 \\fi-360\\li3600\\jclisttab\\tx3600 }{\\listlevel\\levelnfc23\\levelnfcn23\\leveljc0\\leveljcn0\\levelfollow0\\levelstartat1"]
["\\levelspace360\\levelindent0{\\leveltext\\leveltemplateid67698693\\'01\\u-3929 ?;}{\\levelnumbers;}\\f14\\chbrdr\\brdrnone\\brdrcf1 \\chshdng0\\chcfpat1\\chcbpat1\\fbias0 \\fi-360\\li4320\\jclisttab\\tx4320 }{\\listlevel\\levelnfc23\\levelnfcn23\\leveljc0\\leveljcn0"]
["\\levelfollow0\\levelstartat1\\levelspace360\\levelindent0{\\leveltext\\leveltemplateid67698689\\'01\\u-3913 ?;}{\\levelnumbers;}\\f3\\chbrdr\\brdrnone\\brdrcf1 \\chshdng0\\chcfpat1\\chcbpat1\\fbias0 \\fi-360\\li5040\\jclisttab\\tx5040 }{\\listlevel\\levelnfc23\\levelnfcn23"]
["\\leveljc0\\leveljcn0\\levelfollow0\\levelstartat1\\levelspace360\\levelindent0{\\leveltext\\leveltemplateid67698691\\'01o;}{\\levelnumbers;}\\f2\\chbrdr\\brdrnone\\brdrcf1 \\chshdng0\\chcfpat1\\chcbpat1\\fbias0 \\fi-360\\li5760\\jclisttab\\tx5760 }{\\listlevel\\levelnfc23"]
["\\levelnfcn23\\leveljc0\\leveljcn0\\levelfollow0\\levelstartat1\\levelspace360\\levelindent0{\\leveltext\\leveltemplateid67698693\\'01\\u-3929 ?;}{\\levelnumbers;}\\f14\\chbrdr\\brdrnone\\brdrcf1 \\chshdng0\\chcfpat1\\chcbpat1\\fbias0 \\fi-360\\li6480\\jclisttab\\tx6480 }"]
["{\\listname ;}\\listid1120412735}{\\list\\listtemplateid-491624000\\listhybrid{\\listlevel\\levelnfc23\\levelnfcn23\\leveljc0\\leveljcn0\\levelfollow0\\levelstartat1\\levelspace360\\levelindent0{\\leveltext\\leveltemplateid67698689\\'01\\u-3913 ?;}{\\levelnumbers;}\\f3"]
["\\chbrdr\\brdrnone\\brdrcf1 \\chshdng0\\chcfpat1\\chcbpat1\\fbias0 \\fi-360\\li720\\jclisttab\\tx720 }{\\listlevel\\levelnfc23\\levelnfcn23\\leveljc0\\leveljcn0\\levelfollow0\\levelstartat1\\levelspace360\\levelindent0{\\leveltext\\leveltemplateid67698691\\'01o;}{\\levelnumbers"]
[";}\\f2\\chbrdr\\brdrnone\\brdrcf1 \\chshdng0\\chcfpat1\\chcbpat1\\fbias0 \\fi-360\\li1440\\jclisttab\\tx1440 }{\\listlevel\\levelnfc23\\levelnfcn23\\leveljc0\\leveljcn0\\levelfollow0\\levelstartat1\\levelspace360\\levelindent0{\\leveltext\\leveltemplateid67698693"]
["\\'01\\u-3929 ?;}{\\levelnumbers;}\\f14\\chbrdr\\brdrnone\\brdrcf1 \\chshdng0\\chcfpat1\\chcbpat1\\fbias0 \\fi-360\\li2160\\jclisttab\\tx2160 }{\\listlevel\\levelnfc23\\levelnfcn23\\leveljc0\\leveljcn0\\levelfollow0\\levelstartat1\\levelspace360\\levelindent0{\\leveltext"]
["\\leveltemplateid67698689\\'01\\u-3913 ?;}{\\levelnumbers;}\\f3\\chbrdr\\brdrnone\\brdrcf1 \\chshdng0\\chcfpat1\\chcbpat1\\fbias0 \\fi-360\\li2880\\jclisttab\\tx2880 }{\\listlevel\\levelnfc23\\levelnfcn23\\leveljc0\\leveljcn0\\levelfollow0\\levelstartat1\\levelspace360"]
["\\levelindent0{\\leveltext\\leveltemplateid67698691\\'01o;}{\\levelnumbers;}\\f2\\chbrdr\\brdrnone\\brdrcf1 \\chshdng0\\chcfpat1\\chcbpat1\\fbias0 \\fi-360\\li3600\\jclisttab\\tx3600 }{\\listlevel\\levelnfc23\\levelnfcn23\\leveljc0\\leveljcn0\\levelfollow0\\levelstartat1"]
["\\levelspace360\\levelindent0{\\leveltext\\leveltemplateid67698693\\'01\\u-3929 ?;}{\\levelnumbers;}\\f14\\chbrdr\\brdrnone\\brdrcf1 \\chshdng0\\chcfpat1\\chcbpat1\\fbias0 \\fi-360\\li4320\\jclisttab\\tx4320 }{\\listlevel\\levelnfc23\\levelnfcn23\\leveljc0\\leveljcn0"]
["\\levelfollow0\\levelstartat1\\levelspace360\\levelindent0{\\leveltext\\leveltemplateid67698689\\'01\\u-3913 ?;}{\\levelnumbers;}\\f3\\chbrdr\\brdrnone\\brdrcf1 \\chshdng0\\chcfpat1\\chcbpat1\\fbias0 \\fi-360\\li5040\\jclisttab\\tx5040 }{\\listlevel\\levelnfc23\\levelnfcn23"]
["\\leveljc0\\leveljcn0\\levelfollow0\\levelstartat1\\levelspace360\\levelindent0{\\leveltext\\leveltemplateid67698691\\'01o;}{\\levelnumbers;}\\f2\\chbrdr\\brdrnone\\brdrcf1 \\chshdng0\\chcfpat1\\chcbpat1\\fbias0 \\fi-360\\li5760\\jclisttab\\tx5760 }{\\listlevel\\levelnfc23"]
["\\levelnfcn23\\leveljc0\\leveljcn0\\levelfollow0\\levelstartat1\\levelspace360\\levelindent0{\\leveltext\\leveltemplateid67698693\\'01\\u-3929 ?;}{\\levelnumbers;}\\f14\\chbrdr\\brdrnone\\brdrcf1 \\chshdng0\\chcfpat1\\chcbpat1\\fbias0 \\fi-360\\li6480\\jclisttab\\tx6480 }"]
["{\\listname ;}\\listid1195775696}{\\list\\listtemplateid555759248\\listhybrid{\\listlevel\\levelnfc23\\levelnfcn23\\leveljc0\\leveljcn0\\levelfollow0\\levelstartat1\\levelspace360\\levelindent0{\\leveltext\\leveltemplateid67698689\\'01\\u-3913 ?;}{\\levelnumbers;}\\f3\\chbrdr"]
["\\brdrnone\\brdrcf1 \\chshdng0\\chcfpat1\\chcbpat1\\fbias0 \\fi-360\\li720\\jclisttab\\tx720 }{\\listlevel\\levelnfc23\\levelnfcn23\\leveljc0\\leveljcn0\\levelfollow0\\levelstartat1\\levelspace360\\levelindent0{\\leveltext\\leveltemplateid67698691\\'01o;}{\\levelnumbers;}\\f2"]
["\\chbrdr\\brdrnone\\brdrcf1 \\chshdng0\\chcfpat1\\chcbpat1\\fbias0 \\fi-360\\li1440\\jclisttab\\tx1440 }{\\listlevel\\levelnfc23\\levelnfcn23\\leveljc0\\leveljcn0\\levelfollow0\\levelstartat1\\levelspace360\\levelindent0{\\leveltext\\leveltemplateid67698693"]
["\\'01\\u-3929 ?;}{\\levelnumbers;}\\f14\\chbrdr\\brdrnone\\brdrcf1 \\chshdng0\\chcfpat1\\chcbpat1\\fbias0 \\fi-360\\li2160\\jclisttab\\tx2160 }{\\listlevel\\levelnfc23\\levelnfcn23\\leveljc0\\leveljcn0\\levelfollow0\\levelstartat1\\levelspace360\\levelindent0{\\leveltext"]
["\\leveltemplateid67698689\\'01\\u-3913 ?;}{\\levelnumbers;}\\f3\\chbrdr\\brdrnone\\brdrcf1 \\chshdng0\\chcfpat1\\chcbpat1\\fbias0 \\fi-360\\li2880\\jclisttab\\tx2880 }{\\listlevel\\levelnfc23\\levelnfcn23\\leveljc0\\leveljcn0\\levelfollow0\\levelstartat1\\levelspace360"]
["\\levelindent0{\\leveltext\\leveltemplateid67698691\\'01o;}{\\levelnumbers;}\\f2\\chbrdr\\brdrnone\\brdrcf1 \\chshdng0\\chcfpat1\\chcbpat1\\fbias0 \\fi-360\\li3600\\jclisttab\\tx3600 }{\\listlevel\\levelnfc23\\levelnfcn23\\leveljc0\\leveljcn0\\levelfollow0\\levelstartat1"]
["\\levelspace360\\levelindent0{\\leveltext\\leveltemplateid67698693\\'01\\u-3929 ?;}{\\levelnumbers;}\\f14\\chbrdr\\brdrnone\\brdrcf1 \\chshdng0\\chcfpat1\\chcbpat1\\fbias0 \\fi-360\\li4320\\jclisttab\\tx4320 }{\\listlevel\\levelnfc23\\levelnfcn23\\leveljc0\\leveljcn0"]
["\\levelfollow0\\levelstartat1\\levelspace360\\levelindent0{\\leveltext\\leveltemplateid67698689\\'01\\u-3913 ?;}{\\levelnumbers;}\\f3\\chbrdr\\brdrnone\\brdrcf1 \\chshdng0\\chcfpat1\\chcbpat1\\fbias0 \\fi-360\\li5040\\jclisttab\\tx5040 }{\\listlevel\\levelnfc23\\levelnfcn23"]
["\\leveljc0\\leveljcn0\\levelfollow0\\levelstartat1\\levelspace360\\levelindent0{\\leveltext\\leveltemplateid67698691\\'01o;}{\\levelnumbers;}\\f2\\chbrdr\\brdrnone\\brdrcf1 \\chshdng0\\chcfpat1\\chcbpat1\\fbias0 \\fi-360\\li5760\\jclisttab\\tx5760 }{\\listlevel\\levelnfc23"]
["\\levelnfcn23\\leveljc0\\leveljcn0\\levelfollow0\\levelstartat1\\levelspace360\\levelindent0{\\leveltext\\leveltemplateid67698693\\'01\\u-3929 ?;}{\\levelnumbers;}\\f14\\chbrdr\\brdrnone\\brdrcf1 \\chshdng0\\chcfpat1\\chcbpat1\\fbias0 \\fi-360\\li6480\\jclisttab\\tx6480 }"]
["{\\listname ;}\\listid1206794323}{\\list\\listtemplateid761584338\\listhybrid{\\listlevel\\levelnfc23\\levelnfcn23\\leveljc0\\leveljcn0\\levelfollow0\\levelstartat1\\levelspace360\\levelindent0{\\leveltext\\leveltemplateid67698689\\'01\\u-3913 ?;}{\\levelnumbers;}\\f3\\chbrdr"]
["\\brdrnone\\brdrcf1 \\chshdng0\\chcfpat1\\chcbpat1\\fbias0 \\fi-360\\li720\\jclisttab\\tx720 }{\\listlevel\\levelnfc23\\levelnfcn23\\leveljc0\\leveljcn0\\levelfollow0\\levelstartat1\\levelspace360\\levelindent0{\\leveltext\\leveltemplateid67698691\\'01o;}{\\levelnumbers;}\\f2"]
["\\chbrdr\\brdrnone\\brdrcf1 \\chshdng0\\chcfpat1\\chcbpat1\\fbias0 \\fi-360\\li1440\\jclisttab\\tx1440 }{\\listlevel\\levelnfc23\\levelnfcn23\\leveljc0\\leveljcn0\\levelfollow0\\levelstartat1\\levelspace360\\levelindent0{\\leveltext\\leveltemplateid67698693"]
["\\'01\\u-3929 ?;}{\\levelnumbers;}\\f14\\chbrdr\\brdrnone\\brdrcf1 \\chshdng0\\chcfpat1\\chcbpat1\\fbias0 \\fi-360\\li2160\\jclisttab\\tx2160 }{\\listlevel\\levelnfc23\\levelnfcn23\\leveljc0\\leveljcn0\\levelfollow0\\levelstartat1\\levelspace360\\levelindent0{\\leveltext"]
["\\leveltemplateid67698689\\'01\\u-3913 ?;}{\\levelnumbers;}\\f3\\chbrdr\\brdrnone\\brdrcf1 \\chshdng0\\chcfpat1\\chcbpat1\\fbias0 \\fi-360\\li2880\\jclisttab\\tx2880 }{\\listlevel\\levelnfc23\\levelnfcn23\\leveljc0\\leveljcn0\\levelfollow0\\levelstartat1\\levelspace360"]
["\\levelindent0{\\leveltext\\leveltemplateid67698691\\'01o;}{\\levelnumbers;}\\f2\\chbrdr\\brdrnone\\brdrcf1 \\chshdng0\\chcfpat1\\chcbpat1\\fbias0 \\fi-360\\li3600\\jclisttab\\tx3600 }{\\listlevel\\levelnfc23\\levelnfcn23\\leveljc0\\leveljcn0\\levelfollow0\\levelstartat1"]
["\\levelspace360\\levelindent0{\\leveltext\\leveltemplateid67698693\\'01\\u-3929 ?;}{\\levelnumbers;}\\f14\\chbrdr\\brdrnone\\brdrcf1 \\chshdng0\\chcfpat1\\chcbpat1\\fbias0 \\fi-360\\li4320\\jclisttab\\tx4320 }{\\listlevel\\levelnfc23\\levelnfcn23\\leveljc0\\leveljcn0"]
["\\levelfollow0\\levelstartat1\\levelspace360\\levelindent0{\\leveltext\\leveltemplateid67698689\\'01\\u-3913 ?;}{\\levelnumbers;}\\f3\\chbrdr\\brdrnone\\brdrcf1 \\chshdng0\\chcfpat1\\chcbpat1\\fbias0 \\fi-360\\li5040\\jclisttab\\tx5040 }{\\listlevel\\levelnfc23\\levelnfcn23"]
["\\leveljc0\\leveljcn0\\levelfollow0\\levelstartat1\\levelspace360\\levelindent0{\\leveltext\\leveltemplateid67698691\\'01o;}{\\levelnumbers;}\\f2\\chbrdr\\brdrnone\\brdrcf1 \\chshdng0\\chcfpat1\\chcbpat1\\fbias0 \\fi-360\\li5760\\jclisttab\\tx5760 }{\\listlevel\\levelnfc23"]
["\\levelnfcn23\\leveljc0\\leveljcn0\\levelfollow0\\levelstartat1\\levelspace360\\levelindent0{\\leveltext\\leveltemplateid67698693\\'01\\u-3929 ?;}{\\levelnumbers;}\\f14\\chbrdr\\brdrnone\\brdrcf1 \\chshdng0\\chcfpat1\\chcbpat1\\fbias0 \\fi-360\\li6480\\jclisttab\\tx6480 }"]
["{\\listname ;}\\listid1455707875}{\\list\\listtemplateid1528995452\\listhybrid{\\listlevel\\levelnfc23\\levelnfcn23\\leveljc0\\leveljcn0\\levelfollow0\\levelstartat1\\levelspace360\\levelindent0{\\leveltext\\leveltemplateid67698689\\'01\\u-3913 ?;}{\\levelnumbers;}\\f3"]
["\\chbrdr\\brdrnone\\brdrcf1 \\chshdng0\\chcfpat1\\chcbpat1\\fbias0 \\fi-360\\li720\\jclisttab\\tx720 }{\\listlevel\\levelnfc23\\levelnfcn23\\leveljc0\\leveljcn0\\levelfollow0\\levelstartat1\\levelspace360\\levelindent0{\\leveltext\\leveltemplateid67698691\\'01o;}{\\levelnumbers"]
[";}\\f2\\chbrdr\\brdrnone\\brdrcf1 \\chshdng0\\chcfpat1\\chcbpat1\\fbias0 \\fi-360\\li1440\\jclisttab\\tx1440 }{\\listlevel\\levelnfc23\\levelnfcn23\\leveljc0\\leveljcn0\\levelfollow0\\levelstartat1\\levelspace360\\levelindent0{\\leveltext\\leveltemplateid67698693"]
["\\'01\\u-3929 ?;}{\\levelnumbers;}\\f14\\chbrdr\\brdrnone\\brdrcf1 \\chshdng0\\chcfpat1\\chcbpat1\\fbias0 \\fi-360\\li2160\\jclisttab\\tx2160 }{\\listlevel\\levelnfc23\\levelnfcn23\\leveljc0\\leveljcn0\\levelfollow0\\levelstartat1\\levelspace360\\levelindent0{\\leveltext"]
["\\leveltemplateid67698689\\'01\\u-3913 ?;}{\\levelnumbers;}\\f3\\chbrdr\\brdrnone\\brdrcf1 \\chshdng0\\chcfpat1\\chcbpat1\\fbias0 \\fi-360\\li2880\\jclisttab\\tx2880 }{\\listlevel\\levelnfc23\\levelnfcn23\\leveljc0\\leveljcn0\\levelfollow0\\levelstartat1\\levelspace360"]
["\\levelindent0{\\leveltext\\leveltemplateid67698691\\'01o;}{\\levelnumbers;}\\f2\\chbrdr\\brdrnone\\brdrcf1 \\chshdng0\\chcfpat1\\chcbpat1\\fbias0 \\fi-360\\li3600\\jclisttab\\tx3600 }{\\listlevel\\levelnfc23\\levelnfcn23\\leveljc0\\leveljcn0\\levelfollow0\\levelstartat1"]
["\\levelspace360\\levelindent0{\\leveltext\\leveltemplateid67698693\\'01\\u-3929 ?;}{\\levelnumbers;}\\f14\\chbrdr\\brdrnone\\brdrcf1 \\chshdng0\\chcfpat1\\chcbpat1\\fbias0 \\fi-360\\li4320\\jclisttab\\tx4320 }{\\listlevel\\levelnfc23\\levelnfcn23\\leveljc0\\leveljcn0"]
["\\levelfollow0\\levelstartat1\\levelspace360\\levelindent0{\\leveltext\\leveltemplateid67698689\\'01\\u-3913 ?;}{\\levelnumbers;}\\f3\\chbrdr\\brdrnone\\brdrcf1 \\chshdng0\\chcfpat1\\chcbpat1\\fbias0 \\fi-360\\li5040\\jclisttab\\tx5040 }{\\listlevel\\levelnfc23\\levelnfcn23"]
["\\leveljc0\\leveljcn0\\levelfollow0\\levelstartat1\\levelspace360\\levelindent0{\\leveltext\\leveltemplateid67698691\\'01o;}{\\levelnumbers;}\\f2\\chbrdr\\brdrnone\\brdrcf1 \\chshdng0\\chcfpat1\\chcbpat1\\fbias0 \\fi-360\\li5760\\jclisttab\\tx5760 }{\\listlevel\\levelnfc23"]
["\\levelnfcn23\\leveljc0\\leveljcn0\\levelfollow0\\levelstartat1\\levelspace360\\levelindent0{\\leveltext\\leveltemplateid67698693\\'01\\u-3929 ?;}{\\levelnumbers;}\\f14\\chbrdr\\brdrnone\\brdrcf1 \\chshdng0\\chcfpat1\\chcbpat1\\fbias0 \\fi-360\\li6480\\jclisttab\\tx6480 }"]
["{\\listname ;}\\listid1504471328}{\\list\\listtemplateid-1558382670\\listhybrid{\\listlevel\\levelnfc23\\levelnfcn23\\leveljc0\\leveljcn0\\levelfollow0\\levelstartat1\\levelspace0\\levelindent0{\\leveltext\\leveltemplateid67698689\\'01\\u-3913 ?;}{\\levelnumbers;}\\f3\\chbrdr"]
["\\brdrnone\\brdrcf1 \\chshdng0\\chcfpat1\\chcbpat1\\fbias0 \\fi-360\\li720\\jclisttab\\tx720 }{\\listlevel\\levelnfc23\\levelnfcn23\\leveljc0\\leveljcn0\\levelfollow0\\levelstartat1\\levelspace0\\levelindent0{\\leveltext\\leveltemplateid67698691\\'01o;}{\\levelnumbers;}\\f2"]
["\\chbrdr\\brdrnone\\brdrcf1 \\chshdng0\\chcfpat1\\chcbpat1\\fbias0 \\fi-360\\li1440\\jclisttab\\tx1440 }{\\listlevel\\levelnfc23\\levelnfcn23\\leveljc0\\leveljcn0\\levelfollow0\\levelstartat1\\levelspace0\\levelindent0{\\leveltext\\leveltemplateid67698693"]
["\\'01\\u-3929 ?;}{\\levelnumbers;}\\f14\\chbrdr\\brdrnone\\brdrcf1 \\chshdng0\\chcfpat1\\chcbpat1\\fbias0 \\fi-360\\li2160\\jclisttab\\tx2160 }{\\listlevel\\levelnfc23\\levelnfcn23\\leveljc0\\leveljcn0\\levelfollow0\\levelstartat1\\levelspace0\\levelindent0{\\leveltext"]
["\\leveltemplateid67698689\\'01\\u-3913 ?;}{\\levelnumbers;}\\f3\\chbrdr\\brdrnone\\brdrcf1 \\chshdng0\\chcfpat1\\chcbpat1\\fbias0 \\fi-360\\li2880\\jclisttab\\tx2880 }{\\listlevel\\levelnfc23\\levelnfcn23\\leveljc0\\leveljcn0\\levelfollow0\\levelstartat1\\levelspace0"]
["\\levelindent0{\\leveltext\\leveltemplateid67698691\\'01o;}{\\levelnumbers;}\\f2\\chbrdr\\brdrnone\\brdrcf1 \\chshdng0\\chcfpat1\\chcbpat1\\fbias0 \\fi-360\\li3600\\jclisttab\\tx3600 }{\\listlevel\\levelnfc23\\levelnfcn23\\leveljc0\\leveljcn0\\levelfollow0\\levelstartat1"]
["\\levelspace0\\levelindent0{\\leveltext\\leveltemplateid67698693\\'01\\u-3929 ?;}{\\levelnumbers;}\\f14\\chbrdr\\brdrnone\\brdrcf1 \\chshdng0\\chcfpat1\\chcbpat1\\fbias0 \\fi-360\\li4320\\jclisttab\\tx4320 }{\\listlevel\\levelnfc23\\levelnfcn23\\leveljc0\\leveljcn0\\levelfollow0"]
["\\levelstartat1\\levelspace0\\levelindent0{\\leveltext\\leveltemplateid67698689\\'01\\u-3913 ?;}{\\levelnumbers;}\\f3\\chbrdr\\brdrnone\\brdrcf1 \\chshdng0\\chcfpat1\\chcbpat1\\fbias0 \\fi-360\\li5040\\jclisttab\\tx5040 }{\\listlevel\\levelnfc23\\levelnfcn23\\leveljc0\\leveljcn0"]
["\\levelfollow0\\levelstartat1\\levelspace0\\levelindent0{\\leveltext\\leveltemplateid67698691\\'01o;}{\\levelnumbers;}\\f2\\chbrdr\\brdrnone\\brdrcf1 \\chshdng0\\chcfpat1\\chcbpat1\\fbias0 \\fi-360\\li5760\\jclisttab\\tx5760 }{\\listlevel\\levelnfc23\\levelnfcn23\\leveljc0"]
["\\leveljcn0\\levelfollow0\\levelstartat1\\levelspace0\\levelindent0{\\leveltext\\leveltemplateid67698693\\'01\\u-3929 ?;}{\\levelnumbers;}\\f14\\chbrdr\\brdrnone\\brdrcf1 \\chshdng0\\chcfpat1\\chcbpat1\\fbias0 \\fi-360\\li6480\\jclisttab\\tx6480 }{\\listname ;}\\listid1509980687"]
["}{\\list\\listtemplateid443971668\\listhybrid{\\listlevel\\levelnfc23\\levelnfcn23\\leveljc0\\leveljcn0\\levelfollow0\\levelstartat1\\levelspace360\\levelindent0{\\leveltext\\leveltemplateid67698689\\'01\\u-3913 ?;}{\\levelnumbers;}\\f3\\chbrdr\\brdrnone\\brdrcf1 "]
["\\chshdng0\\chcfpat1\\chcbpat1\\fbias0 \\fi-360\\li720\\jclisttab\\tx720 }{\\listlevel\\levelnfc23\\levelnfcn23\\leveljc0\\leveljcn0\\levelfollow0\\levelstartat1\\levelspace360\\levelindent0{\\leveltext\\leveltemplateid67698691\\'01o;}{\\levelnumbers;}\\f2\\chbrdr"]
["\\brdrnone\\brdrcf1 \\chshdng0\\chcfpat1\\chcbpat1\\fbias0 \\fi-360\\li1440\\jclisttab\\tx1440 }{\\listlevel\\levelnfc23\\levelnfcn23\\leveljc0\\leveljcn0\\levelfollow0\\levelstartat1\\levelspace360\\levelindent0{\\leveltext\\leveltemplateid67698693"]
["\\'01\\u-3929 ?;}{\\levelnumbers;}\\f14\\chbrdr\\brdrnone\\brdrcf1 \\chshdng0\\chcfpat1\\chcbpat1\\fbias0 \\fi-360\\li2160\\jclisttab\\tx2160 }{\\listlevel\\levelnfc23\\levelnfcn23\\leveljc0\\leveljcn0\\levelfollow0\\levelstartat1\\levelspace360\\levelindent0{\\leveltext"]
["\\leveltemplateid67698689\\'01\\u-3913 ?;}{\\levelnumbers;}\\f3\\chbrdr\\brdrnone\\brdrcf1 \\chshdng0\\chcfpat1\\chcbpat1\\fbias0 \\fi-360\\li2880\\jclisttab\\tx2880 }{\\listlevel\\levelnfc23\\levelnfcn23\\leveljc0\\leveljcn0\\levelfollow0\\levelstartat1\\levelspace360"]
["\\levelindent0{\\leveltext\\leveltemplateid67698691\\'01o;}{\\levelnumbers;}\\f2\\chbrdr\\brdrnone\\brdrcf1 \\chshdng0\\chcfpat1\\chcbpat1\\fbias0 \\fi-360\\li3600\\jclisttab\\tx3600 }{\\listlevel\\levelnfc23\\levelnfcn23\\leveljc0\\leveljcn0\\levelfollow0\\levelstartat1"]
["\\levelspace360\\levelindent0{\\leveltext\\leveltemplateid67698693\\'01\\u-3929 ?;}{\\levelnumbers;}\\f14\\chbrdr\\brdrnone\\brdrcf1 \\chshdng0\\chcfpat1\\chcbpat1\\fbias0 \\fi-360\\li4320\\jclisttab\\tx4320 }{\\listlevel\\levelnfc23\\levelnfcn23\\leveljc0\\leveljcn0"]
["\\levelfollow0\\levelstartat1\\levelspace360\\levelindent0{\\leveltext\\leveltemplateid67698689\\'01\\u-3913 ?;}{\\levelnumbers;}\\f3\\chbrdr\\brdrnone\\brdrcf1 \\chshdng0\\chcfpat1\\chcbpat1\\fbias0 \\fi-360\\li5040\\jclisttab\\tx5040 }{\\listlevel\\levelnfc23\\levelnfcn23"]
["\\leveljc0\\leveljcn0\\levelfollow0\\levelstartat1\\levelspace360\\levelindent0{\\leveltext\\leveltemplateid67698691\\'01o;}{\\levelnumbers;}\\f2\\chbrdr\\brdrnone\\brdrcf1 \\chshdng0\\chcfpat1\\chcbpat1\\fbias0 \\fi-360\\li5760\\jclisttab\\tx5760 }{\\listlevel\\levelnfc23"]
["\\levelnfcn23\\leveljc0\\leveljcn0\\levelfollow0\\levelstartat1\\levelspace360\\levelindent0{\\leveltext\\leveltemplateid67698693\\'01\\u-3929 ?;}{\\levelnumbers;}\\f14\\chbrdr\\brdrnone\\brdrcf1 \\chshdng0\\chcfpat1\\chcbpat1\\fbias0 \\fi-360\\li6480\\jclisttab\\tx6480 }"]
["{\\listname ;}\\listid1520660540}{\\list\\listtemplateid660272570\\listhybrid{\\listlevel\\levelnfc23\\levelnfcn23\\leveljc0\\leveljcn0\\levelfollow0\\levelstartat1\\levelspace360\\levelindent0{\\leveltext\\leveltemplateid67698689\\'01\\u-3913 ?;}{\\levelnumbers;}\\f3\\chbrdr"]
["\\brdrnone\\brdrcf1 \\chshdng0\\chcfpat1\\chcbpat1\\fbias0 \\fi-360\\li720\\jclisttab\\tx720 }{\\listlevel\\levelnfc23\\levelnfcn23\\leveljc0\\leveljcn0\\levelfollow0\\levelstartat1\\levelspace360\\levelindent0{\\leveltext\\leveltemplateid67698691\\'01o;}{\\levelnumbers;}\\f2"]
["\\chbrdr\\brdrnone\\brdrcf1 \\chshdng0\\chcfpat1\\chcbpat1\\fbias0 \\fi-360\\li1440\\jclisttab\\tx1440 }{\\listlevel\\levelnfc23\\levelnfcn23\\leveljc0\\leveljcn0\\levelfollow0\\levelstartat1\\levelspace360\\levelindent0{\\leveltext\\leveltemplateid67698693"]
["\\'01\\u-3929 ?;}{\\levelnumbers;}\\f14\\chbrdr\\brdrnone\\brdrcf1 \\chshdng0\\chcfpat1\\chcbpat1\\fbias0 \\fi-360\\li2160\\jclisttab\\tx2160 }{\\listlevel\\levelnfc23\\levelnfcn23\\leveljc0\\leveljcn0\\levelfollow0\\levelstartat1\\levelspace360\\levelindent0{\\leveltext"]
["\\leveltemplateid67698689\\'01\\u-3913 ?;}{\\levelnumbers;}\\f3\\chbrdr\\brdrnone\\brdrcf1 \\chshdng0\\chcfpat1\\chcbpat1\\fbias0 \\fi-360\\li2880\\jclisttab\\tx2880 }{\\listlevel\\levelnfc23\\levelnfcn23\\leveljc0\\leveljcn0\\levelfollow0\\levelstartat1\\levelspace360"]
["\\levelindent0{\\leveltext\\leveltemplateid67698691\\'01o;}{\\levelnumbers;}\\f2\\chbrdr\\brdrnone\\brdrcf1 \\chshdng0\\chcfpat1\\chcbpat1\\fbias0 \\fi-360\\li3600\\jclisttab\\tx3600 }{\\listlevel\\levelnfc23\\levelnfcn23\\leveljc0\\leveljcn0\\levelfollow0\\levelstartat1"]
["\\levelspace360\\levelindent0{\\leveltext\\leveltemplateid67698693\\'01\\u-3929 ?;}{\\levelnumbers;}\\f14\\chbrdr\\brdrnone\\brdrcf1 \\chshdng0\\chcfpat1\\chcbpat1\\fbias0 \\fi-360\\li4320\\jclisttab\\tx4320 }{\\listlevel\\levelnfc23\\levelnfcn23\\leveljc0\\leveljcn0"]
["\\levelfollow0\\levelstartat1\\levelspace360\\levelindent0{\\leveltext\\leveltemplateid67698689\\'01\\u-3913 ?;}{\\levelnumbers;}\\f3\\chbrdr\\brdrnone\\brdrcf1 \\chshdng0\\chcfpat1\\chcbpat1\\fbias0 \\fi-360\\li5040\\jclisttab\\tx5040 }{\\listlevel\\levelnfc23\\levelnfcn23"]
["\\leveljc0\\leveljcn0\\levelfollow0\\levelstartat1\\levelspace360\\levelindent0{\\leveltext\\leveltemplateid67698691\\'01o;}{\\levelnumbers;}\\f2\\chbrdr\\brdrnone\\brdrcf1 \\chshdng0\\chcfpat1\\chcbpat1\\fbias0 \\fi-360\\li5760\\jclisttab\\tx5760 }{\\listlevel\\levelnfc23"]
["\\levelnfcn23\\leveljc0\\leveljcn0\\levelfollow0\\levelstartat1\\levelspace360\\levelindent0{\\leveltext\\leveltemplateid67698693\\'01\\u-3929 ?;}{\\levelnumbers;}\\f14\\chbrdr\\brdrnone\\brdrcf1 \\chshdng0\\chcfpat1\\chcbpat1\\fbias0 \\fi-360\\li6480\\jclisttab\\tx6480 }"]
["{\\listname ;}\\listid1589655192}{\\list\\listtemplateid995156440\\listhybrid{\\listlevel\\levelnfc23\\levelnfcn23\\leveljc0\\leveljcn0\\levelfollow0\\levelstartat1\\levelspace360\\levelindent0{\\leveltext\\leveltemplateid67698689\\'01\\u-3913 ?;}{\\levelnumbers;}\\f3\\chbrdr"]
["\\brdrnone\\brdrcf1 \\chshdng0\\chcfpat1\\chcbpat1\\fbias0 \\fi-360\\li720\\jclisttab\\tx720 }{\\listlevel\\levelnfc23\\levelnfcn23\\leveljc0\\leveljcn0\\levelfollow0\\levelstartat1\\levelspace360\\levelindent0{\\leveltext\\leveltemplateid67698691\\'01o;}{\\levelnumbers;}\\f2"]
["\\chbrdr\\brdrnone\\brdrcf1 \\chshdng0\\chcfpat1\\chcbpat1\\fbias0 \\fi-360\\li1440\\jclisttab\\tx1440 }{\\listlevel\\levelnfc23\\levelnfcn23\\leveljc0\\leveljcn0\\levelfollow0\\levelstartat1\\levelspace360\\levelindent0{\\leveltext\\leveltemplateid67698693"]
["\\'01\\u-3929 ?;}{\\levelnumbers;}\\f14\\chbrdr\\brdrnone\\brdrcf1 \\chshdng0\\chcfpat1\\chcbpat1\\fbias0 \\fi-360\\li2160\\jclisttab\\tx2160 }{\\listlevel\\levelnfc23\\levelnfcn23\\leveljc0\\leveljcn0\\levelfollow0\\levelstartat1\\levelspace360\\levelindent0{\\leveltext"]
["\\leveltemplateid67698689\\'01\\u-3913 ?;}{\\levelnumbers;}\\f3\\chbrdr\\brdrnone\\brdrcf1 \\chshdng0\\chcfpat1\\chcbpat1\\fbias0 \\fi-360\\li2880\\jclisttab\\tx2880 }{\\listlevel\\levelnfc23\\levelnfcn23\\leveljc0\\leveljcn0\\levelfollow0\\levelstartat1\\levelspace360"]
["\\levelindent0{\\leveltext\\leveltemplateid67698691\\'01o;}{\\levelnumbers;}\\f2\\chbrdr\\brdrnone\\brdrcf1 \\chshdng0\\chcfpat1\\chcbpat1\\fbias0 \\fi-360\\li3600\\jclisttab\\tx3600 }{\\listlevel\\levelnfc23\\levelnfcn23\\leveljc0\\leveljcn0\\levelfollow0\\levelstartat1"]
["\\levelspace360\\levelindent0{\\leveltext\\leveltemplateid67698693\\'01\\u-3929 ?;}{\\levelnumbers;}\\f14\\chbrdr\\brdrnone\\brdrcf1 \\chshdng0\\chcfpat1\\chcbpat1\\fbias0 \\fi-360\\li4320\\jclisttab\\tx4320 }{\\listlevel\\levelnfc23\\levelnfcn23\\leveljc0\\leveljcn0"]
["\\levelfollow0\\levelstartat1\\levelspace360\\levelindent0{\\leveltext\\leveltemplateid67698689\\'01\\u-3913 ?;}{\\levelnumbers;}\\f3\\chbrdr\\brdrnone\\brdrcf1 \\chshdng0\\chcfpat1\\chcbpat1\\fbias0 \\fi-360\\li5040\\jclisttab\\tx5040 }{\\listlevel\\levelnfc23\\levelnfcn23"]
["\\leveljc0\\leveljcn0\\levelfollow0\\levelstartat1\\levelspace360\\levelindent0{\\leveltext\\leveltemplateid67698691\\'01o;}{\\levelnumbers;}\\f2\\chbrdr\\brdrnone\\brdrcf1 \\chshdng0\\chcfpat1\\chcbpat1\\fbias0 \\fi-360\\li5760\\jclisttab\\tx5760 }{\\listlevel\\levelnfc23"]
["\\levelnfcn23\\leveljc0\\leveljcn0\\levelfollow0\\levelstartat1\\levelspace360\\levelindent0{\\leveltext\\leveltemplateid67698693\\'01\\u-3929 ?;}{\\levelnumbers;}\\f14\\chbrdr\\brdrnone\\brdrcf1 \\chshdng0\\chcfpat1\\chcbpat1\\fbias0 \\fi-360\\li6480\\jclisttab\\tx6480 }"]
["{\\listname ;}\\listid1710110410}{\\list\\listtemplateid-1896327016\\listhybrid{\\listlevel\\levelnfc23\\levelnfcn23\\leveljc0\\leveljcn0\\levelfollow0\\levelstartat1\\levelspace360\\levelindent0{\\leveltext\\leveltemplateid-255035114\\'01\\u-3880 ?;}{\\levelnumbers;}\\f14"]
["\\chbrdr\\brdrnone\\brdrcf1 \\chshdng0\\chcfpat1\\chcbpat1\\fbias0 \\s4\\fi-360\\li720\\jclisttab\\tx720 }{\\listlevel\\levelnfc23\\levelnfcn23\\leveljc0\\leveljcn0\\levelfollow0\\levelstartat1\\levelspace360\\levelindent0{\\leveltext\\leveltemplateid67698691"]
["\\'01o;}{\\levelnumbers;}\\f2\\chbrdr\\brdrnone\\brdrcf1 \\chshdng0\\chcfpat1\\chcbpat1\\fbias0 \\fi-360\\li1440\\jclisttab\\tx1440 }{\\listlevel\\levelnfc23\\levelnfcn23\\leveljc0\\leveljcn0\\levelfollow0\\levelstartat1\\levelspace360\\levelindent0{\\leveltext"]
["\\leveltemplateid67698693\\'01\\u-3929 ?;}{\\levelnumbers;}\\f14\\chbrdr\\brdrnone\\brdrcf1 \\chshdng0\\chcfpat1\\chcbpat1\\fbias0 \\fi-360\\li2160\\jclisttab\\tx2160 }{\\listlevel\\levelnfc23\\levelnfcn23\\leveljc0\\leveljcn0\\levelfollow0\\levelstartat1\\levelspace360"]
["\\levelindent0{\\leveltext\\leveltemplateid67698689\\'01\\u-3913 ?;}{\\levelnumbers;}\\f3\\chbrdr\\brdrnone\\brdrcf1 \\chshdng0\\chcfpat1\\chcbpat1\\fbias0 \\fi-360\\li2880\\jclisttab\\tx2880 }{\\listlevel\\levelnfc23\\levelnfcn23\\leveljc0\\leveljcn0\\levelfollow0\\levelstartat1"]
["\\levelspace360\\levelindent0{\\leveltext\\leveltemplateid67698691\\'01o;}{\\levelnumbers;}\\f2\\chbrdr\\brdrnone\\brdrcf1 \\chshdng0\\chcfpat1\\chcbpat1\\fbias0 \\fi-360\\li3600\\jclisttab\\tx3600 }{\\listlevel\\levelnfc23\\levelnfcn23\\leveljc0\\leveljcn0\\levelfollow0"]
["\\levelstartat1\\levelspace360\\levelindent0{\\leveltext\\leveltemplateid67698693\\'01\\u-3929 ?;}{\\levelnumbers;}\\f14\\chbrdr\\brdrnone\\brdrcf1 \\chshdng0\\chcfpat1\\chcbpat1\\fbias0 \\fi-360\\li4320\\jclisttab\\tx4320 }{\\listlevel\\levelnfc23\\levelnfcn23\\leveljc0"]
["\\leveljcn0\\levelfollow0\\levelstartat1\\levelspace360\\levelindent0{\\leveltext\\leveltemplateid67698689\\'01\\u-3913 ?;}{\\levelnumbers;}\\f3\\chbrdr\\brdrnone\\brdrcf1 \\chshdng0\\chcfpat1\\chcbpat1\\fbias0 \\fi-360\\li5040\\jclisttab\\tx5040 }{\\listlevel\\levelnfc23"]
["\\levelnfcn23\\leveljc0\\leveljcn0\\levelfollow0\\levelstartat1\\levelspace360\\levelindent0{\\leveltext\\leveltemplateid67698691\\'01o;}{\\levelnumbers;}\\f2\\chbrdr\\brdrnone\\brdrcf1 \\chshdng0\\chcfpat1\\chcbpat1\\fbias0 \\fi-360\\li5760\\jclisttab\\tx5760 }{\\listlevel"]
["\\levelnfc23\\levelnfcn23\\leveljc0\\leveljcn0\\levelfollow0\\levelstartat1\\levelspace360\\levelindent0{\\leveltext\\leveltemplateid67698693\\'01\\u-3929 ?;}{\\levelnumbers;}\\f14\\chbrdr\\brdrnone\\brdrcf1 \\chshdng0\\chcfpat1\\chcbpat1\\fbias0 \\fi-360\\li6480"]
["\\jclisttab\\tx6480 }{\\listname ;}\\listid1778015599}{\\list\\listtemplateid157288230\\listhybrid{\\listlevel\\levelnfc23\\levelnfcn23\\leveljc0\\leveljcn0\\levelfollow0\\levelstartat1\\levelspace360\\levelindent0{\\leveltext\\leveltemplateid67698689"]
["\\'01\\u-3913 ?;}{\\levelnumbers;}\\f3\\chbrdr\\brdrnone\\brdrcf1 \\chshdng0\\chcfpat1\\chcbpat1\\fbias0 \\fi-360\\li720\\jclisttab\\tx720 }{\\listlevel\\levelnfc23\\levelnfcn23\\leveljc0\\leveljcn0\\levelfollow0\\levelstartat1\\levelspace360\\levelindent0{\\leveltext"]
["\\leveltemplateid67698691\\'01o;}{\\levelnumbers;}\\f2\\chbrdr\\brdrnone\\brdrcf1 \\chshdng0\\chcfpat1\\chcbpat1\\fbias0 \\fi-360\\li1440\\jclisttab\\tx1440 }{\\listlevel\\levelnfc23\\levelnfcn23\\leveljc0\\leveljcn0\\levelfollow0\\levelstartat1\\levelspace360\\levelindent0"]
["{\\leveltext\\leveltemplateid67698693\\'01\\u-3929 ?;}{\\levelnumbers;}\\f14\\chbrdr\\brdrnone\\brdrcf1 \\chshdng0\\chcfpat1\\chcbpat1\\fbias0 \\fi-360\\li2160\\jclisttab\\tx2160 }{\\listlevel\\levelnfc23\\levelnfcn23\\leveljc0\\leveljcn0\\levelfollow0\\levelstartat1"]
["\\levelspace360\\levelindent0{\\leveltext\\leveltemplateid67698689\\'01\\u-3913 ?;}{\\levelnumbers;}\\f3\\chbrdr\\brdrnone\\brdrcf1 \\chshdng0\\chcfpat1\\chcbpat1\\fbias0 \\fi-360\\li2880\\jclisttab\\tx2880 }{\\listlevel\\levelnfc23\\levelnfcn23\\leveljc0\\leveljcn0\\levelfollow0"]
["\\levelstartat1\\levelspace360\\levelindent0{\\leveltext\\leveltemplateid67698691\\'01o;}{\\levelnumbers;}\\f2\\chbrdr\\brdrnone\\brdrcf1 \\chshdng0\\chcfpat1\\chcbpat1\\fbias0 \\fi-360\\li3600\\jclisttab\\tx3600 }{\\listlevel\\levelnfc23\\levelnfcn23\\leveljc0\\leveljcn0"]
["\\levelfollow0\\levelstartat1\\levelspace360\\levelindent0{\\leveltext\\leveltemplateid67698693\\'01\\u-3929 ?;}{\\levelnumbers;}\\f14\\chbrdr\\brdrnone\\brdrcf1 \\chshdng0\\chcfpat1\\chcbpat1\\fbias0 \\fi-360\\li4320\\jclisttab\\tx4320 }{\\listlevel\\levelnfc23\\levelnfcn23"]
["\\leveljc0\\leveljcn0\\levelfollow0\\levelstartat1\\levelspace360\\levelindent0{\\leveltext\\leveltemplateid67698689\\'01\\u-3913 ?;}{\\levelnumbers;}\\f3\\chbrdr\\brdrnone\\brdrcf1 \\chshdng0\\chcfpat1\\chcbpat1\\fbias0 \\fi-360\\li5040\\jclisttab\\tx5040 }{\\listlevel"]
["\\levelnfc23\\levelnfcn23\\leveljc0\\leveljcn0\\levelfollow0\\levelstartat1\\levelspace360\\levelindent0{\\leveltext\\leveltemplateid67698691\\'01o;}{\\levelnumbers;}\\f2\\chbrdr\\brdrnone\\brdrcf1 \\chshdng0\\chcfpat1\\chcbpat1\\fbias0 \\fi-360\\li5760\\jclisttab\\tx5760 }"]
["{\\listlevel\\levelnfc23\\levelnfcn23\\leveljc0\\leveljcn0\\levelfollow0\\levelstartat1\\levelspace360\\levelindent0{\\leveltext\\leveltemplateid67698693\\'01\\u-3929 ?;}{\\levelnumbers;}\\f14\\chbrdr\\brdrnone\\brdrcf1 \\chshdng0\\chcfpat1\\chcbpat1\\fbias0 \\fi-360\\li6480"]
["\\jclisttab\\tx6480 }{\\listname ;}\\listid1785728884}{\\list\\listtemplateid-18844800\\listhybrid{\\listlevel\\levelnfc23\\levelnfcn23\\leveljc0\\leveljcn0\\levelfollow0\\levelstartat1\\levelspace360\\levelindent0{\\leveltext\\leveltemplateid67698689"]
["\\'01\\u-3913 ?;}{\\levelnumbers;}\\f3\\chbrdr\\brdrnone\\brdrcf1 \\chshdng0\\chcfpat1\\chcbpat1\\fbias0 \\fi-360\\li720\\jclisttab\\tx720 }{\\listlevel\\levelnfc23\\levelnfcn23\\leveljc0\\leveljcn0\\levelfollow0\\levelstartat1\\levelspace360\\levelindent0{\\leveltext"]
["\\leveltemplateid67698691\\'01o;}{\\levelnumbers;}\\f2\\chbrdr\\brdrnone\\brdrcf1 \\chshdng0\\chcfpat1\\chcbpat1\\fbias0 \\fi-360\\li1440\\jclisttab\\tx1440 }{\\listlevel\\levelnfc23\\levelnfcn23\\leveljc0\\leveljcn0\\levelfollow0\\levelstartat1\\levelspace360\\levelindent0"]
["{\\leveltext\\leveltemplateid67698693\\'01\\u-3929 ?;}{\\levelnumbers;}\\f14\\chbrdr\\brdrnone\\brdrcf1 \\chshdng0\\chcfpat1\\chcbpat1\\fbias0 \\fi-360\\li2160\\jclisttab\\tx2160 }{\\listlevel\\levelnfc23\\levelnfcn23\\leveljc0\\leveljcn0\\levelfollow0\\levelstartat1"]
["\\levelspace360\\levelindent0{\\leveltext\\leveltemplateid67698689\\'01\\u-3913 ?;}{\\levelnumbers;}\\f3\\chbrdr\\brdrnone\\brdrcf1 \\chshdng0\\chcfpat1\\chcbpat1\\fbias0 \\fi-360\\li2880\\jclisttab\\tx2880 }{\\listlevel\\levelnfc23\\levelnfcn23\\leveljc0\\leveljcn0\\levelfollow0"]
["\\levelstartat1\\levelspace360\\levelindent0{\\leveltext\\leveltemplateid67698691\\'01o;}{\\levelnumbers;}\\f2\\chbrdr\\brdrnone\\brdrcf1 \\chshdng0\\chcfpat1\\chcbpat1\\fbias0 \\fi-360\\li3600\\jclisttab\\tx3600 }{\\listlevel\\levelnfc23\\levelnfcn23\\leveljc0\\leveljcn0"]
["\\levelfollow0\\levelstartat1\\levelspace360\\levelindent0{\\leveltext\\leveltemplateid67698693\\'01\\u-3929 ?;}{\\levelnumbers;}\\f14\\chbrdr\\brdrnone\\brdrcf1 \\chshdng0\\chcfpat1\\chcbpat1\\fbias0 \\fi-360\\li4320\\jclisttab\\tx4320 }{\\listlevel\\levelnfc23\\levelnfcn23"]
["\\leveljc0\\leveljcn0\\levelfollow0\\levelstartat1\\levelspace360\\levelindent0{\\leveltext\\leveltemplateid67698689\\'01\\u-3913 ?;}{\\levelnumbers;}\\f3\\chbrdr\\brdrnone\\brdrcf1 \\chshdng0\\chcfpat1\\chcbpat1\\fbias0 \\fi-360\\li5040\\jclisttab\\tx5040 }{\\listlevel"]
["\\levelnfc23\\levelnfcn23\\leveljc0\\leveljcn0\\levelfollow0\\levelstartat1\\levelspace360\\levelindent0{\\leveltext\\leveltemplateid67698691\\'01o;}{\\levelnumbers;}\\f2\\chbrdr\\brdrnone\\brdrcf1 \\chshdng0\\chcfpat1\\chcbpat1\\fbias0 \\fi-360\\li5760\\jclisttab\\tx5760 }"]
["{\\listlevel\\levelnfc23\\levelnfcn23\\leveljc0\\leveljcn0\\levelfollow0\\levelstartat1\\levelspace360\\levelindent0{\\leveltext\\leveltemplateid67698693\\'01\\u-3929 ?;}{\\levelnumbers;}\\f14\\chbrdr\\brdrnone\\brdrcf1 \\chshdng0\\chcfpat1\\chcbpat1\\fbias0 \\fi-360\\li6480"]
["\\jclisttab\\tx6480 }{\\listname ;}\\listid1927304697}}{\\*\\listoverridetable{\\listoverride\\listid1195775696\\listoverridecount0\\ls1}{\\listoverride\\listid1120412735\\listoverridecount0\\ls2}{\\listoverride\\listid351958852\\listoverridecount0\\ls3}"]
["{\\listoverride\\listid1927304697\\listoverridecount0\\ls4}{\\listoverride\\listid874660257\\listoverridecount0\\ls5}{\\listoverride\\listid512492878\\listoverridecount0\\ls6}{\\listoverride\\listid975987307\\listoverridecount0\\ls7}{\\listoverride\\listid1710110410"]
["\\listoverridecount0\\ls8}{\\listoverride\\listid1520660540\\listoverridecount0\\ls9}{\\listoverride\\listid1785728884\\listoverridecount0\\ls10}{\\listoverride\\listid1455707875\\listoverridecount0\\ls11}{\\listoverride\\listid753169515\\listoverridecount0\\ls12}"]
["{\\listoverride\\listid1504471328\\listoverridecount0\\ls13}{\\listoverride\\listid839931700\\listoverridecount0\\ls14}{\\listoverride\\listid1589655192\\listoverridecount0\\ls15}{\\listoverride\\listid1206794323\\listoverridecount0\\ls16}{\\listoverride\\listid1509980687"]
["\\listoverridecount0\\ls17}{\\listoverride\\listid1778015599\\listoverridecount0\\ls18}}{\\info{\\title Totemic Foundation Plan}{\\author TFP v1.0 - Copyright Quocom Ltd 2006}{\\operator Quocom Ltd}{\\creatim\\yr2006\\mo10\\dy1\\hr00\\min00}"]
["{\\revtim\\yr2006\\mo10\\dy1\\hr00\\min00}{\\version1}{\\edmins1}{\\nofpages1}{\\nofwords100}{\\nofchars1000}{\\*\\company Quocom Ltd}{\\nofcharsws0}{\\vern8269}}\\paperw11906\\paperh16838 "]
["\\widowctrl\\ftnbj\\aenddoc\\noxlattoyen\\expshrtn\\noultrlspc\\dntblnsbdb\\nospaceforul\\hyphcaps0\\formshade\\horzdoc\\dgmargin\\dghspace180\\dgvspace180\\dghorigin1800\\dgvorigin1440\\dghshow1\\dgvshow1"]
["\\jexpand\\viewkind1\\viewscale117\\viewzk2\\pgbrdrhead\\pgbrdrfoot\\splytwnine\\ftnlytwnine\\htmautsp\\nolnhtadjtbl\\useltbaln\\alntblind\\lytcalctblwd\\lyttblrtgr\\lnbrkrule \\fet0\\sectd \\linex0\\headery708\\footery708\\colsx708\\endnhere\\sectlinegrid360\\sectdefaultcl "]
["{\\*\\pnseclvl1\\pnucrm\\pnstart1\\pnindent720\\pnhang{\\pntxta .}}{\\*\\pnseclvl2\\pnucltr\\pnstart1\\pnindent720\\pnhang{\\pntxta .}}{\\*\\pnseclvl3\\pndec\\pnstart1\\pnindent720\\pnhang{\\pntxta .}}{\\*\\pnseclvl4\\pnlcltr\\pnstart1\\pnindent720\\pnhang{\\pntxta )}}{\\*\\pnseclvl5"]
["\\pndec\\pnstart1\\pnindent720\\pnhang{\\pntxtb (}{\\pntxta )}}{\\*\\pnseclvl6\\pnlcltr\\pnstart1\\pnindent720\\pnhang{\\pntxtb (}{\\pntxta )}}{\\*\\pnseclvl7\\pnlcrm\\pnstart1\\pnindent720\\pnhang{\\pntxtb (}{\\pntxta )}}{\\*\\pnseclvl8\\pnlcltr\\pnstart1\\pnindent720\\pnhang"]
["{\\pntxtb (}{\\pntxta )}}{\\*\\pnseclvl9\\pnlcrm\\pnstart1\\pnindent720\\pnhang{\\pntxtb (}{\\pntxta )}}\\pard\\plain \\ql \\li360\\ri0\\sa240\\widctlpar\\aspalpha\\aspnum\\faauto\\adjustright\\rin0\\lin360\\itap0 \\fs24\\lang2057\\langfe1033\\cgrid\\langnp2057\\langfenp1033 {\\f28"]
["\\par "]
["\\par "]
["\\par "]
["\\par }\\pard \\ql \\li0\\ri0\\sa240\\widctlpar\\aspalpha\\aspnum\\faauto\\adjustright\\rin0\\lin0\\itap0 {\\f28 "]
["\\par }\\pard \\ql \\li360\\ri0\\sa240\\widctlpar\\aspalpha\\aspnum\\faauto\\adjustright\\rin0\\lin360\\itap0 {\\f28 "]
["\\par }\\pard \\ql \\li0\\ri0\\sa240\\widctlpar\\aspalpha\\aspnum\\faauto\\adjustright\\rin0\\lin0\\itap0 {\\f28 "]
["\\par }\\pard\\plain \\s1\\qc \\li0\\ri0\\sb240\\sa60\\keepn\\widctlpar\\aspalpha\\aspnum\\faauto\\outlinelevel0\\adjustright\\rin0\\lin0\\itap0 \\b\\f1\\fs32\\lang2057\\langfe1033\\kerning32\\cgrid\\langnp2057\\langfenp1033 {TFPSTR103}{\\f28 "]
["\\par }{Marketing Plan"]
["\\par }\\pard\\plain \\ql \\li360\\ri0\\sa240\\widctlpar\\aspalpha\\aspnum\\faauto\\adjustright\\rin0\\lin360\\itap0 \\fs24\\lang2057\\langfe1033\\cgrid\\langnp2057\\langfenp1033 {\\f28 "]
["\\par }\\pard \\ql \\li0\\ri0\\sa240\\widctlpar\\aspalpha\\aspnum\\faauto\\adjustright\\rin0\\lin0\\itap0 {\\f28 "]
["\\par }\\pard \\ql \\li360\\ri0\\sa240\\widctlpar\\aspalpha\\aspnum\\faauto\\adjustright\\rin0\\lin360\\itap0 {\\f28 "]
["\\par "]
["\\par "]
["\\par }\\pard \\ql \\li0\\ri0\\sa240\\widctlpar\\aspalpha\\aspnum\\faauto\\adjustright\\rin0\\lin0\\itap0 {\\f28 "]
["\\par }\\pard \\ql \\li360\\ri0\\sa240\\widctlpar\\aspalpha\\aspnum\\faauto\\adjustright\\rin0\\lin360\\itap0 {\\f28 "]
["\\par "]
["\\par "]
["\\par "]
["\\par "]
["\\par "]
["\\par "]
["\\par "]
["\\par }\\trowd \\trgaph108\\trleft252\\trbrdrh\\brdrs\\brdrw10 \\trbrdrv\\brdrs\\brdrw10 \\trftsWidth1\\trautofit1\\trpaddl108\\trpaddr108\\trpaddfl3\\trpaddfr3 \\clvertalt\\clbrdrt\\brdrnone \\clbrdrl\\brdrnone \\clbrdrb\\brdrnone \\clbrdrr\\brdrnone "]
["\\cltxlrtb\\clftsWidth3\\clwWidth4261 \\cellx4358\\clvertalt\\clbrdrt\\brdrnone \\clbrdrl\\brdrnone \\clbrdrb\\brdrnone \\clbrdrr\\brdrnone \\cltxlrtb\\clftsWidth3\\clwWidth4261 \\cellx8414\\pard "]
["\\ql \\li360\\ri0\\widctlpar\\intbl\\aspalpha\\aspnum\\faauto\\adjustright\\rin0\\lin360 {\\f28 TFPSTR103"]
["\\par TFPSTR104}{\\cell }\\pard \\qr \\li0\\ri0\\widctlpar\\intbl\\aspalpha\\aspnum\\faauto\\adjustright\\rin0\\lin0 {\\field{\\*\\fldinst { TIME \\\\@ \"dd MMMM yyyy\" }}{\\fldrslt {\\lang1024\\langfe1024\\noproof 12 October 2006}}}{\\cell }\\pard "]
["\\ql \\li0\\ri0\\widctlpar\\intbl\\aspalpha\\aspnum\\faauto\\adjustright\\rin0\\lin0 {\\f28 \\trowd \\trgaph108\\trleft252\\trbrdrh\\brdrs\\brdrw10 \\trbrdrv\\brdrs\\brdrw10 \\trftsWidth1\\trautofit1\\trpaddl108\\trpaddr108\\trpaddfl3\\trpaddfr3 \\clvertalt\\clbrdrt\\brdrnone \\clbrdrl"]
["\\brdrnone \\clbrdrb\\brdrnone \\clbrdrr\\brdrnone \\cltxlrtb\\clftsWidth3\\clwWidth4261 \\cellx4358\\clvertalt\\clbrdrt\\brdrnone \\clbrdrl\\brdrnone \\clbrdrb\\brdrnone \\clbrdrr\\brdrnone \\cltxlrtb\\clftsWidth3\\clwWidth4261 \\cellx8414\\row }\\pard\\plain "]
["\\s1\\ql \\li360\\ri0\\sb240\\sa60\\keepn\\widctlpar\\aspalpha\\aspnum\\faauto\\outlinelevel0\\adjustright\\rin0\\lin360\\itap0 \\b\\f1\\fs32\\lang2057\\langfe1033\\kerning32\\cgrid\\langnp2057\\langfenp1033 {\\f28 \\page Executive Summary"]
["\\par }\\pard\\plain \\ql \\li360\\ri0\\sa240\\widctlpar\\aspalpha\\aspnum\\faauto\\adjustright\\rin0\\lin360\\itap0 \\fs24\\lang2057\\langfe1033\\cgrid\\langnp2057\\langfenp1033 {\\f28 "]
["This is a marketing plan for TFPSTR103.  It describes the strategy and budget required for sales and marketing over the coming year."]
["\\par The company\\rquote s marketing objective is: TFPSTR107.  To maximise the probability of achieving this requires an integrated plan making appropriate use of all the elements of the marketing mix."]
["\\par The plan has a budget of TFPSTR532 and has the following principal programmes:"]
["\\par TFPTAG191\\u9679\\'3f  a core marketing programme that raises awareness and drives sales amongst both customers and prospects"]
["\\par TFPTAG276\\u9679\\'3f  a calendar of sales promotions to increase sales and acquire new customers at key points through the year"]
["\\par TFPTAG361\\u9679\\'3f  a series of promotions targeted at existing customers to maintain and increase sales"]
["\\par TFPTAG446\\u9679\\'3f  a customer relationship marketing (CRM) to develop the loyalty and sales opportunities amongst existing customers"]
["\\par }\\pard\\plain \\s1\\ql \\li360\\ri0\\sb240\\sa60\\keepn\\widctlpar\\aspalpha\\aspnum\\faauto\\outlinelevel0\\adjustright\\rin0\\lin360\\itap0 \\b\\f1\\fs32\\lang2057\\langfe1033\\kerning32\\cgrid\\langnp2057\\langfenp1033 {\\f28 Market Situation"]
["\\par }\\pard\\plain \\s2\\ql \\li360\\ri0\\sb240\\sa60\\keepn\\widctlpar\\aspalpha\\aspnum\\faauto\\outlinelevel1\\adjustright\\rin0\\lin360\\itap0 \\b\\i\\f1\\fs28\\lang2057\\langfe1033\\cgrid\\langnp2057\\langfenp1033 {\\f28 TFPSTR103"]
["\\par }\\pard\\plain \\ql \\li360\\ri0\\sa240\\widctlpar\\aspalpha\\aspnum\\faauto\\adjustright\\rin0\\lin360\\itap0 \\fs24\\lang2057\\langfe1033\\cgrid\\langnp2057\\langfenp1033 {\\f28 The company provides TFPSTR105.  In the last year it had:"]
["\\par \\u9679\\'3f  a turnover of TFPSTR150, from sales in this market"]
["\\par \\u9679\\'3f  TFPSTR151 customers"]
["\\par TFPTAG111The areas served by the company are: TFPSTR111."]
["\\par TFPTAG112\\u9679\\'3f  this covers TFPSTR112% of the UK population"]
["\\par The total market comprises TFPSTR113 individual customers and prospects"]
["\\par \\u9679\\'3f  in terms of sales, the company has a TFPSTR114% share of the market"]
["\\par }\\pard\\plain \\s2\\ql \\li360\\ri0\\sb240\\sa60\\keepn\\widctlpar\\aspalpha\\aspnum\\faauto\\outlinelevel1\\adjustright\\rin0\\lin360\\itap0 \\b\\i\\f1\\fs28\\lang2057\\langfe1033\\cgrid\\langnp2057\\langfenp1033 {\\f28 Key Competitors"]
["\\par }\\pard\\plain \\ql \\li360\\ri0\\sa240\\widctlpar\\aspalpha\\aspnum\\faauto\\adjustright\\rin0\\lin360\\itap0 \\fs24\\lang2057\\langfe1033\\cgrid\\langnp2057\\langfenp1033 {\\f28 TFPSTR103 has the following competitors:"]
["\\par }\\pard\\plain \\s3\\ql \\li360\\ri0\\sb240\\sa60\\keepn\\widctlpar\\aspalpha\\aspnum\\faauto\\outlinelevel2\\adjustright\\rin0\\lin360\\itap0 \\b\\f1\\fs26\\lang2057\\langfe1033\\cgrid\\langnp2057\\langfenp1033 {\\f28 TFPTAG115TFPSTR115"]
["\\par }\\pard\\plain \\ql \\li360\\ri0\\sa240\\widctlpar\\aspalpha\\aspnum\\faauto\\adjustright\\rin0\\lin360\\itap0 \\fs24\\lang2057\\langfe1033\\cgrid\\langnp2057\\langfenp1033 {\\f28 TFPTAG116Market share = TFPSTR116%"]
["\\par }\\pard\\plain \\s3\\ql \\li360\\ri0\\sb240\\sa60\\keepn\\widctlpar\\aspalpha\\aspnum\\faauto\\outlinelevel2\\adjustright\\rin0\\lin360\\itap0 \\b\\f1\\fs26\\lang2057\\langfe1033\\cgrid\\langnp2057\\langfenp1033 {\\f28 TFPTAG117TFPSTR117"]
["\\par }\\pard\\plain \\ql \\li360\\ri0\\sa240\\widctlpar\\aspalpha\\aspnum\\faauto\\adjustright\\rin0\\lin360\\itap0 \\fs24\\lang2057\\langfe1033\\cgrid\\langnp2057\\langfenp1033 {\\f28 TFPTAG118Market share = TFPSTR118%"]
["\\par }\\pard\\plain \\s3\\ql \\li360\\ri0\\sb240\\sa60\\keepn\\widctlpar\\aspalpha\\aspnum\\faauto\\outlinelevel2\\adjustright\\rin0\\lin360\\itap0 \\b\\f1\\fs26\\lang2057\\langfe1033\\cgrid\\langnp2057\\langfenp1033 {\\f28 TFPTAG119TFPSTR119"]
["\\par }\\pard\\plain \\ql \\li360\\ri0\\sa240\\widctlpar\\aspalpha\\aspnum\\faauto\\adjustright\\rin0\\lin360\\itap0 \\fs24\\lang2057\\langfe1033\\cgrid\\langnp2057\\langfenp1033 {\\f28 TFPTAG120Market share = TFPSTR120%"]
["\\par }\\pard\\plain \\s3\\ql \\li360\\ri0\\sb240\\sa60\\keepn\\widctlpar\\aspalpha\\aspnum\\faauto\\outlinelevel2\\adjustright\\rin0\\lin360\\itap0 \\b\\f1\\fs26\\lang2057\\langfe1033\\cgrid\\langnp2057\\langfenp1033 {\\f28 TFPTAG121TFPSTR121"]
["\\par }\\pard\\plain \\ql \\li360\\ri0\\sa240\\widctlpar\\aspalpha\\aspnum\\faauto\\adjustright\\rin0\\lin360\\itap0 \\fs24\\lang2057\\langfe1033\\cgrid\\langnp2057\\langfenp1033 {\\f28 TFPTAG122Market share = TFPSTR122%"]
["\\par }\\pard\\plain \\s3\\ql \\li360\\ri0\\sb240\\sa60\\keepn\\widctlpar\\aspalpha\\aspnum\\faauto\\outlinelevel2\\adjustright\\rin0\\lin360\\itap0 \\b\\f1\\fs26\\lang2057\\langfe1033\\cgrid\\langnp2057\\langfenp1033 {\\f28 TFPTAG123TFPSTR123"]
["\\par }\\pard\\plain \\ql \\li360\\ri0\\sa240\\widctlpar\\aspalpha\\aspnum\\faauto\\adjustright\\rin0\\lin360\\itap0 \\fs24\\lang2057\\langfe1033\\cgrid\\langnp2057\\langfenp1033 {\\f28 TFPTAG124Market share = TFPSTR124%"]
["\\par }\\pard\\plain \\s3\\ql \\li360\\ri0\\sb240\\sa60\\keepn\\widctlpar\\aspalpha\\aspnum\\faauto\\outlinelevel2\\adjustright\\rin0\\lin360\\itap0 \\b\\f1\\fs26\\lang2057\\langfe1033\\cgrid\\langnp2057\\langfenp1033 {\\f28 TFPTAG125TFPSTR125"]
["\\par }\\pard\\plain \\ql \\li360\\ri0\\sa240\\widctlpar\\aspalpha\\aspnum\\faauto\\adjustright\\rin0\\lin360\\itap0 \\fs24\\lang2057\\langfe1033\\cgrid\\langnp2057\\langfenp1033 {\\f28 TFPTAG126Market share = TFPSTR126%"]
["\\par }\\pard\\plain \\s3\\ql \\li360\\ri0\\sb240\\sa60\\keepn\\widctlpar\\aspalpha\\aspnum\\faauto\\outlinelevel2\\adjustright\\rin0\\lin360\\itap0 \\b\\f1\\fs26\\lang2057\\langfe1033\\cgrid\\langnp2057\\langfenp1033 {\\f28 TFPTAG127TFPSTR127"]
["\\par }\\pard\\plain \\ql \\li360\\ri0\\sa240\\widctlpar\\aspalpha\\aspnum\\faauto\\adjustright\\rin0\\lin360\\itap0 \\fs24\\lang2057\\langfe1033\\cgrid\\langnp2057\\langfenp1033 {\\f28 TFPTAG128Market share = TFPSTR128%"]
["\\par }\\pard\\plain \\s3\\ql \\li360\\ri0\\sb240\\sa60\\keepn\\widctlpar\\aspalpha\\aspnum\\faauto\\outlinelevel2\\adjustright\\rin0\\lin360\\itap0 \\b\\f1\\fs26\\lang2057\\langfe1033\\cgrid\\langnp2057\\langfenp1033 {\\f28 TFPTAG129TFPSTR129"]
["\\par }\\pard\\plain \\ql \\li360\\ri0\\sa240\\widctlpar\\aspalpha\\aspnum\\faauto\\adjustright\\rin0\\lin360\\itap0 \\fs24\\lang2057\\langfe1033\\cgrid\\langnp2057\\langfenp1033 {\\f28 TFPTAG130Market share = TFPSTR130%"]
["\\par }\\pard\\plain \\s3\\ql \\li360\\ri0\\sb240\\sa60\\keepn\\widctlpar\\aspalpha\\aspnum\\faauto\\outlinelevel2\\adjustright\\rin0\\lin360\\itap0 \\b\\f1\\fs26\\lang2057\\langfe1033\\cgrid\\langnp2057\\langfenp1033 {\\f28 TFPTAG131TFPSTR131"]
["\\par }\\pard\\plain \\ql \\li360\\ri0\\sa240\\widctlpar\\aspalpha\\aspnum\\faauto\\adjustright\\rin0\\lin360\\itap0 \\fs24\\lang2057\\langfe1033\\cgrid\\langnp2057\\langfenp1033 {\\f28 TFPTAG132Market share = TFPSTR132%"]
["\\par }\\pard\\plain \\s1\\ql \\li360\\ri0\\sb240\\sa60\\keepn\\widctlpar\\aspalpha\\aspnum\\faauto\\outlinelevel0\\adjustright\\rin0\\lin360\\itap0 \\b\\f1\\fs32\\lang2057\\langfe1033\\kerning32\\cgrid\\langnp2057\\langfenp1033 {\\f28 Strategy"]
["\\par }\\pard\\plain \\s2\\ql \\li360\\ri0\\sb240\\sa60\\keepn\\widctlpar\\aspalpha\\aspnum\\faauto\\outlinelevel1\\adjustright\\rin0\\lin360\\itap0 \\b\\i\\f1\\fs28\\lang2057\\langfe1033\\cgrid\\langnp2057\\langfenp1033 {\\f28 Business Targets"]
["\\par }\\pard\\plain \\ql \\li360\\ri0\\sa240\\widctlpar\\aspalpha\\aspnum\\faauto\\adjustright\\rin0\\lin360\\itap0 \\fs24\\lang2057\\langfe1033\\cgrid\\langnp2057\\langfenp1033 {\\f28 The company\\rquote s current business objective is: TFPSTR106.  To achieve this th"]
["ere needs to be:"]
["\\par \\u9679\\'3f  a marketing objective of: TFPSTR107"]
["\\par \\u9679\\'3f  a turnover of TFPSTR108 for the upcoming year"]
["\\par \\u9679\\'3f  TFPSTR109 new customers acquired"]
["\\par }\\pard\\plain \\s2\\ql \\li360\\ri0\\sb240\\sa60\\keepn\\widctlpar\\aspalpha\\aspnum\\faauto\\outlinelevel1\\adjustright\\rin0\\lin360\\itap0 \\b\\i\\f1\\fs28\\lang2057\\langfe1033\\cgrid\\langnp2057\\langfenp1033 {\\f28 Communication Objectives"]
["\\par }\\pard\\plain \\s3\\ql \\li360\\ri0\\sb240\\sa60\\keepn\\widctlpar\\aspalpha\\aspnum\\faauto\\outlinelevel2\\adjustright\\rin0\\lin360\\itap0 \\b\\f1\\fs26\\lang2057\\langfe1033\\cgrid\\langnp2057\\langfenp1033 {\\f28 Audience"]
["\\par }\\pard\\plain \\ql \\li360\\ri0\\sa240\\widctlpar\\aspalpha\\aspnum\\faauto\\adjustright\\rin0\\lin360\\itap0 \\fs24\\lang2057\\langfe1033\\cgrid\\langnp2057\\langfenp1033 {\\f28 The key target audience is TFPSTR133.  Segments of this audience will be addresse"]
["d through the specific activities of:"]
["\\par TFPTAG191\\u9679\\'3f  a core marketing programme that cost effectively targets a large proportion of customers and prospects with the key sales messages"]
["\\par TFPTAG276\\u9679\\'3f  a sales promotion programme to communicate the particular sales messages relevant to the promotional calendar"]
["\\par TFPTAG361\\u9679\\'3f  a programme of promotions aimed specifically at existing customers, levering on the existing relationship"]
["\\par TFPTAG446\\u9679\\'3f  an ongoing customer relationship marketing (CRM) programme to increase customer loyalty and profitability"]
["\\par }\\pard\\plain \\s3\\ql \\li360\\ri0\\sb240\\sa60\\keepn\\widctlpar\\aspalpha\\aspnum\\faauto\\outlinelevel2\\adjustright\\rin0\\lin360\\itap0 \\b\\f1\\fs26\\lang2057\\langfe1033\\cgrid\\langnp2057\\langfenp1033 {\\f28 Message"]
["\\par }\\pard\\plain \\ql \\li360\\ri0\\sa240\\widctlpar\\aspalpha\\aspnum\\faauto\\adjustright\\rin0\\lin360\\itap0 \\fs24\\lang2057\\langfe1033\\cgrid\\langnp2057\\langfenp1033 {\\f28 "]
["The above programmes will be targeted at segments of the key target audience.  Each programme will have messages and a tone of voice relevant to the specific objectives."]
["\\par However, the basis for every programme will be the need to persuade every customer and prospect to buy from the company.  This will be done by communicating the single-minded proposition that the company has TFPSTR136."]
["\\par Every communication of an example of the proposition will also provide substantiation for that claim.  The substantiation will be based upon the fact that people should choose to buy from the company because TFPSTR137."]
["\\par }\\pard\\plain \\s1\\ql \\li360\\ri0\\sb240\\sa60\\keepn\\widctlpar\\aspalpha\\aspnum\\faauto\\outlinelevel0\\adjustright\\rin0\\lin360\\itap0 \\b\\f1\\fs32\\lang2057\\langfe1033\\kerning32\\cgrid\\langnp2057\\langfenp1033 {\\f28 Sales & Marketing Programmes"]
["\\par }\\pard\\plain \\s2\\ql \\li360\\ri0\\sb240\\sa60\\keepn\\widctlpar\\aspalpha\\aspnum\\faauto\\outlinelevel1\\adjustright\\rin0\\lin360\\itap0 \\b\\i\\f1\\fs28\\lang2057\\langfe1033\\cgrid\\langnp2057\\langfenp1033 {\\f28 TFPTAG191Core Marketing Programme"]
["\\par }\\pard\\plain \\ql \\li360\\ri0\\sa240\\widctlpar\\aspalpha\\aspnum\\faauto\\adjustright\\rin0\\lin360\\itap0 \\fs24\\lang2057\\langfe1033\\cgrid\\langnp2057\\langfenp1033 {\\f28 The purpose of this programme will be to make maximal use of t"]
["he budget to influence purchase decisions made throughout the year.  This will be done by reaching a large proportion of customers and prospects with the key sales messages.  The programme will then channel them through the buying process, providing relev"]
["ant information on the way."]
["\\par TFPTAG192The basic sales message will be projected to the widest audience through a campaign of:"]
["\\par TFPTAG193\\u9679\\'3f  TFPSTR193"]
["\\par TFPTAG194\\u9679\\'3f  TFPSTR194"]
["\\par TFPTAG195\\u9679\\'3f  TFPSTR195"]
["\\par TFPTAG196\\u9679\\'3f  TFPSTR196"]
["\\par TFPTAG197\\u9679\\'3f  TFPSTR197"]
["\\par TFPTAG198\\u9679\\'3f  TFPSTR198"]
["\\par TFPTAG199\\u9679\\'3f  TFPSTR199"]
["\\par TFPTAG200\\u9679\\'3f  TFPSTR200"]
["\\par TFPTAG201\\u9679\\'3f  TFPSTR201"]
["\\par TFPTAG202\\u9679\\'3f  TFPSTR202"]
["\\par TFPTAG203\\u9679\\'3f  TFPSTR203"]
["\\par TFPTAG204\\u9679\\'3f  TFPSTR204"]
["\\par TFPTAG205\\u9679\\'3f  TFPSTR205"]
["\\par TFPTAG206\\u9679\\'3f  TFPSTR206"]
["\\par TFPTAG207\\u9679\\'3f  TFPSTR207"]
["\\par TFPTAG208\\u9679\\'3f  TFPSTR208"]
["\\par TFPTAG209\\u9679\\'3f  TFPSTR209"]
["\\par TFPTAG210\\u9679\\'3f  TFPSTR210"]
["\\par TFPTAG211\\u9679\\'3f  TFPSTR211"]
["\\par TFPTAG212\\u9679\\'3f  TFPSTR212"]
["\\par TFPTAG213Communications providing more information to help with the purchase decision will be provided through:"]
["\\par TFPTAG214\\u9679\\'3f  TFPSTR214"]
["\\par TFPTAG215\\u9679\\'3f  TFPSTR215"]
["\\par TFPTAG216\\u9679\\'3f  TFPSTR216"]
["\\par TFPTAG217\\u9679\\'3f  TFPSTR217"]
["\\par TFPTAG218\\u9679\\'3f  TFPSTR218"]
["\\par TFPTAG219\\u9679\\'3f  TFPSTR219"]
["\\par TFPTAG220\\u9679\\'3f  TFPSTR220"]
["\\par TFPTAG221\\u9679\\'3f  TFPSTR221"]
["\\par TFPTAG222\\u9679\\'3f  TFPSTR222"]
["\\par TFPTAG223\\u9679\\'3f  TFPSTR223"]
["\\par TFPTAG224\\u9679\\'3f  TFPSTR224"]
["\\par TFPTAG225\\u9679\\'3f  TFPSTR225"]
["\\par TFPTAG226\\u9679\\'3f  TFPSTR226"]
["\\par TFPTAG227\\u9679\\'3f  TFPSTR227"]
["\\par TFPTAG228\\u9679\\'3f  TFPSTR228"]
["\\par TFPTAG229\\u9679\\'3f  TFPSTR229"]
["\\par TFPTAG230\\u9679\\'3f  TFPSTR230"]
["\\par TFPTAG231\\u9679\\'3f  TFPSTR231"]
["\\par TFPTAG232\\u9679\\'3f  TFPSTR232"]
["\\par TFPTAG233\\u9679\\'3f  TFPSTR233"]
["\\par TFPTAG234Individuals who respond to the above communications will have appointments set via:"]
["\\par TFPTAG235\\u9679\\'3f  TFPSTR235"]
["\\par TFPTAG236\\u9679\\'3f  TFPSTR236"]
["\\par TFPTAG237\\u9679\\'3f  TFPSTR237"]
["\\par TFPTAG238\\u9679\\'3f  TFPSTR238"]
["\\par TFPTAG239\\u9679\\'3f  TFPSTR239"]
["\\par TFPTAG240\\u9679\\'3f  TFPSTR240"]
["\\par TFPTAG241\\u9679\\'3f  TFPSTR241"]
["\\par TFPTAG242\\u9679\\'3f  TFPSTR242"]
["\\par TFPTAG243\\u9679\\'3f  TFPSTR243"]
["\\par TFPTAG244\\u9679\\'3f  TFPSTR244"]
["\\par TFPTAG245\\u9679\\'3f  TFPSTR245"]
["\\par TFPTAG246\\u9679\\'3f  TFPSTR246"]
["\\par TFPTAG247\\u9679\\'3f  TFPSTR247"]
["\\par TFPTAG248\\u9679\\'3f  TFPSTR248"]
["\\par TFPTAG249\\u9679\\'3f  TFPSTR249"]
["\\par TFPTAG250\\u9679\\'3f  TFPSTR250"]
["\\par TFPTAG251\\u9679\\'3f  TFPSTR251"]
["\\par TFPTAG252\\u9679\\'3f  TFPSTR252"]
["\\par TFPTAG253\\u9679\\'3f  TFPSTR253"]
["\\par TFPTAG254\\u9679\\'3f  TFPSTR254"]
["\\par TFPTAG255Sales will be closed with the use of:"]
["\\par TFPTAG256\\u9679\\'3f  TFPSTR256"]
["\\par TFPTAG257\\u9679\\'3f  TFPSTR257"]
["\\par TFPTAG258\\u9679\\'3f  TFPSTR258"]
["\\par TFPTAG259\\u9679\\'3f  TFPSTR259"]
["\\par TFPTAG260\\u9679\\'3f  TFPSTR260"]
["\\par TFPTAG261\\u9679\\'3f  TFPSTR261"]
["\\par TFPTAG262\\u9679\\'3f  TFPSTR262"]
["\\par TFPTAG263\\u9679\\'3f  TFPSTR263"]
["\\par TFPTAG264\\u9679\\'3f  TFPSTR264"]
["\\par TFPTAG265\\u9679\\'3f  TFPSTR265"]
["\\par TFPTAG266\\u9679\\'3f  TFPSTR266"]
["\\par TFPTAG267\\u9679\\'3f  TFPSTR267"]
["\\par TFPTAG268\\u9679\\'3f  TFPSTR268"]
["\\par TFPTAG269\\u9679\\'3f  TFPSTR269"]
["\\par TFPTAG270\\u9679\\'3f  TFPSTR270"]
["\\par TFPTAG271\\u9679\\'3f  TFPSTR271"]
["\\par TFPTAG272\\u9679\\'3f  TFPSTR272"]
["\\par TFPTAG273\\u9679\\'3f  TFPSTR273"]
["\\par TFPTAG274\\u9679\\'3f  TFPSTR274"]
["\\par TFPTAG275\\u9679\\'3f  TFPSTR275"]
["\\par }\\pard\\plain \\s2\\ql \\li360\\ri0\\sb240\\sa60\\keepn\\widctlpar\\aspalpha\\aspnum\\faauto\\outlinelevel1\\adjustright\\rin0\\lin360\\itap0 \\b\\i\\f1\\fs28\\lang2057\\langfe1033\\cgrid\\langnp2057\\langfenp1033 {\\f28 TFPTAG276Sales Promotions"]
["\\par }\\pard\\plain \\ql \\li360\\ri0\\sa240\\widctlpar\\aspalpha\\aspnum\\faauto\\adjustright\\rin0\\lin360\\itap0 \\fs24\\lang2057\\langfe1033\\cgrid\\langnp2057\\langfenp1033 {\\f28 "]
["TFPTAG276The following sales promotional calendar will be implemented to take advantage of the important opportunities during the year:"]
["\\par }\\pard\\plain \\s3\\ql \\li360\\ri0\\sb240\\sa60\\keepn\\widctlpar\\aspalpha\\aspnum\\faauto\\outlinelevel2\\adjustright\\rin0\\lin360\\itap0 \\b\\f1\\fs26\\lang2057\\langfe1033\\cgrid\\langnp2057\\langfenp1033 {\\f28 TFPTAG171TFPSTR171"]
["\\par }\\pard\\plain \\ql \\li360\\ri0\\sa240\\widctlpar\\aspalpha\\aspnum\\faauto\\adjustright\\rin0\\lin360\\itap0 \\fs24\\lang2057\\langfe1033\\cgrid\\langnp2057\\langfenp1033 {\\f28 TFPTAG172Timing = TFPSTR172"]
["\\par }\\pard\\plain \\s3\\ql \\li360\\ri0\\sb240\\sa60\\keepn\\widctlpar\\aspalpha\\aspnum\\faauto\\outlinelevel2\\adjustright\\rin0\\lin360\\itap0 \\b\\f1\\fs26\\lang2057\\langfe1033\\cgrid\\langnp2057\\langfenp1033 {\\f28 TFPTAG173TFPSTR173"]
["\\par }\\pard\\plain \\ql \\li360\\ri0\\sa240\\widctlpar\\aspalpha\\aspnum\\faauto\\adjustright\\rin0\\lin360\\itap0 \\fs24\\lang2057\\langfe1033\\cgrid\\langnp2057\\langfenp1033 {\\f28 TFPTAG174Timing = TFPSTR174"]
["\\par }\\pard\\plain \\s3\\ql \\li360\\ri0\\sb240\\sa60\\keepn\\widctlpar\\aspalpha\\aspnum\\faauto\\outlinelevel2\\adjustright\\rin0\\lin360\\itap0 \\b\\f1\\fs26\\lang2057\\langfe1033\\cgrid\\langnp2057\\langfenp1033 {\\f28 TFPTAG175TFPSTR175"]
["\\par }\\pard\\plain \\ql \\li360\\ri0\\sa240\\widctlpar\\aspalpha\\aspnum\\faauto\\adjustright\\rin0\\lin360\\itap0 \\fs24\\lang2057\\langfe1033\\cgrid\\langnp2057\\langfenp1033 {\\f28 TFPTAG176Timing = TFPSTR176"]
["\\par }\\pard\\plain \\s3\\ql \\li360\\ri0\\sb240\\sa60\\keepn\\widctlpar\\aspalpha\\aspnum\\faauto\\outlinelevel2\\adjustright\\rin0\\lin360\\itap0 \\b\\f1\\fs26\\lang2057\\langfe1033\\cgrid\\langnp2057\\langfenp1033 {\\f28 TFPTAG177TFPSTR177"]
["\\par }\\pard\\plain \\ql \\li360\\ri0\\sa240\\widctlpar\\aspalpha\\aspnum\\faauto\\adjustright\\rin0\\lin360\\itap0 \\fs24\\lang2057\\langfe1033\\cgrid\\langnp2057\\langfenp1033 {\\f28 TFPTAG178Timing = TFPSTR178"]
["\\par }\\pard\\plain \\s3\\ql \\li360\\ri0\\sb240\\sa60\\keepn\\widctlpar\\aspalpha\\aspnum\\faauto\\outlinelevel2\\adjustright\\rin0\\lin360\\itap0 \\b\\f1\\fs26\\lang2057\\langfe1033\\cgrid\\langnp2057\\langfenp1033 {\\f28 TFPTAG179TFPSTR179"]
["\\par }\\pard\\plain \\ql \\li360\\ri0\\sa240\\widctlpar\\aspalpha\\aspnum\\faauto\\adjustright\\rin0\\lin360\\itap0 \\fs24\\lang2057\\langfe1033\\cgrid\\langnp2057\\langfenp1033 {\\f28 TFPTAG180Timing = TFPSTR180"]
["\\par }\\pard\\plain \\s3\\ql \\li360\\ri0\\sb240\\sa60\\keepn\\widctlpar\\aspalpha\\aspnum\\faauto\\outlinelevel2\\adjustright\\rin0\\lin360\\itap0 \\b\\f1\\fs26\\lang2057\\langfe1033\\cgrid\\langnp2057\\langfenp1033 {\\f28 TFPTAG181TFPSTR181"]
["\\par }\\pard\\plain \\ql \\li360\\ri0\\sa240\\widctlpar\\aspalpha\\aspnum\\faauto\\adjustright\\rin0\\lin360\\itap0 \\fs24\\lang2057\\langfe1033\\cgrid\\langnp2057\\langfenp1033 {\\f28 TFPTAG182Timing = TFPSTR182"]
["\\par }\\pard\\plain \\s3\\ql \\li360\\ri0\\sb240\\sa60\\keepn\\widctlpar\\aspalpha\\aspnum\\faauto\\outlinelevel2\\adjustright\\rin0\\lin360\\itap0 \\b\\f1\\fs26\\lang2057\\langfe1033\\cgrid\\langnp2057\\langfenp1033 {\\f28 TFPTAG183TFPSTR183"]
["\\par }\\pard\\plain \\ql \\li360\\ri0\\sa240\\widctlpar\\aspalpha\\aspnum\\faauto\\adjustright\\rin0\\lin360\\itap0 \\fs24\\lang2057\\langfe1033\\cgrid\\langnp2057\\langfenp1033 {\\f28 TFPTAG184Timing = TFPSTR184"]
["\\par }\\pard\\plain \\s3\\ql \\li360\\ri0\\sb240\\sa60\\keepn\\widctlpar\\aspalpha\\aspnum\\faauto\\outlinelevel2\\adjustright\\rin0\\lin360\\itap0 \\b\\f1\\fs26\\lang2057\\langfe1033\\cgrid\\langnp2057\\langfenp1033 {\\f28 TFPTAG185TFPSTR185"]
["\\par }\\pard\\plain \\ql \\li360\\ri0\\sa240\\widctlpar\\aspalpha\\aspnum\\faauto\\adjustright\\rin0\\lin360\\itap0 \\fs24\\lang2057\\langfe1033\\cgrid\\langnp2057\\langfenp1033 {\\f28 TFPTAG186Timing = TFPSTR186"]
["\\par }\\pard\\plain \\s3\\ql \\li360\\ri0\\sb240\\sa60\\keepn\\widctlpar\\aspalpha\\aspnum\\faauto\\outlinelevel2\\adjustright\\rin0\\lin360\\itap0 \\b\\f1\\fs26\\lang2057\\langfe1033\\cgrid\\langnp2057\\langfenp1033 {\\f28 TFPTAG187TFPSTR187"]
["\\par }\\pard\\plain \\ql \\li360\\ri0\\sa240\\widctlpar\\aspalpha\\aspnum\\faauto\\adjustright\\rin0\\lin360\\itap0 \\fs24\\lang2057\\langfe1033\\cgrid\\langnp2057\\langfenp1033 {\\f28 TFPTAG188Timing = TFPSTR188"]
["\\par TFPTAG276A promotion will channel customers and prospects through a progression of communication stages.   These stages will mirror their information needs through the buying process."]
["\\par TFPTAG277The initial attention-grabbing communications with be delivered by:"]
["\\par TFPTAG278\\u9679\\'3f  TFPSTR278"]
["\\par TFPTAG279\\u9679\\'3f  TFPSTR279"]
["\\par TFPTAG280\\u9679\\'3f  TFPSTR280"]
["\\par TFPTAG281\\u9679\\'3f  TFPSTR281"]
["\\par TFPTAG282\\u9679\\'3f  TFPSTR282"]
["\\par TFPTAG283\\u9679\\'3f  TFPSTR283"]
["\\par TFPTAG284\\u9679\\'3f  TFPSTR284"]
["\\par TFPTAG285\\u9679\\'3f  TFPSTR285"]
["\\par TFPTAG286\\u9679\\'3f  TFPSTR286"]
["\\par TFPTAG287\\u9679\\'3f  TFPSTR287"]
["\\par TFPTAG288\\u9679\\'3f  TFPSTR288"]
["\\par TFPTAG289\\u9679\\'3f  TFPSTR289"]
["\\par TFPTAG290\\u9679\\'3f  TFPSTR290"]
["\\par TFPTAG291\\u9679\\'3f  TFPSTR291"]
["\\par TFPTAG292\\u9679\\'3f  TFPSTR292"]
["\\par TFPTAG293\\u9679\\'3f  TFPSTR293"]
["\\par TFPTAG294\\u9679\\'3f  TFPSTR294"]
["\\par TFPTAG295\\u9679\\'3f  TFPSTR295"]
["\\par TFPTAG296\\u9679\\'3f  TFPSTR296"]
["\\par TFPTAG297\\u9679\\'3f  TFPSTR297"]
["\\par TFPTAG298The information needed to help someone decide TFPSTR103 is the right choice will be made available through:"]
["\\par TFPTAG299\\u9679\\'3f  TFPSTR299"]
["\\par TFPTAG300\\u9679\\'3f  TFPSTR300"]
["\\par TFPTAG301\\u9679\\'3f  TFPSTR301"]
["\\par TFPTAG302\\u9679\\'3f  TFPSTR302"]
["\\par TFPTAG303\\u9679\\'3f  TFPSTR303"]
["\\par TFPTAG304\\u9679\\'3f  TFPSTR304"]
["\\par TFPTAG305\\u9679\\'3f  TFPSTR305"]
["\\par TFPTAG306\\u9679\\'3f  TFPSTR306"]
["\\par TFPTAG307\\u9679\\'3f  TFPSTR307"]
["\\par TFPTAG308\\u9679\\'3f  TFPSTR308"]
["\\par TFPTAG309\\u9679\\'3f  TFPSTR309"]
["\\par TFPTAG310\\u9679\\'3f  TFPSTR310"]
["\\par TFPTAG311\\u9679\\'3f  TFPSTR311"]
["\\par TFPTAG312\\u9679\\'3f  TFPSTR312"]
["\\par TFPTAG313\\u9679\\'3f  TFPSTR313"]
["\\par TFPTAG314\\u9679\\'3f  TFPSTR314"]
["\\par TFPTAG315\\u9679\\'3f  TFPSTR315"]
["\\par TFPTAG316\\u9679\\'3f  TFPSTR316"]
["\\par TFPTAG317\\u9679\\'3f  TFPSTR317"]
["\\par TFPTAG318\\u9679\\'3f  TFPSTR318"]
["\\par TFPTAG319Response to a promotion will be used as an opportunity to set up an appointment using the following methods:"]
["\\par TFPTAG320\\u9679\\'3f  TFPSTR320"]
["\\par TFPTAG321\\u9679\\'3f  TFPSTR321"]
["\\par TFPTAG322\\u9679\\'3f  TFPSTR322"]
["\\par TFPTAG323\\u9679\\'3f  TFPSTR323"]
["\\par TFPTAG324\\u9679\\'3f  TFPSTR324"]
["\\par TFPTAG325\\u9679\\'3f  TFPSTR325"]
["\\par TFPTAG326\\u9679\\'3f  TFPSTR326"]
["\\par TFPTAG327\\u9679\\'3f  TFPSTR327"]
["\\par TFPTAG328\\u9679\\'3f  TFPSTR328"]
["\\par TFPTAG329\\u9679\\'3f  TFPSTR329"]
["\\par TFPTAG330\\u9679\\'3f  TFPSTR330"]
["\\par TFPTAG331\\u9679\\'3f  TFPSTR331"]
["\\par TFPTAG332\\u9679\\'3f  TFPSTR332"]
["\\par TFPTAG333\\u9679\\'3f  TFPSTR333"]
["\\par TFPTAG334\\u9679\\'3f  TFPSTR334"]
["\\par TFPTAG335\\u9679\\'3f  TFPSTR335"]
["\\par TFPTAG336\\u9679\\'3f  TFPSTR336"]
["\\par TFPTAG337\\u9679\\'3f  TFPSTR337"]
["\\par TFPTAG338\\u9679\\'3f  TFPSTR338"]
["\\par TFPTAG339\\u9679\\'3f  TFPSTR339"]
["\\par TFPTAG340Sales leads resulting from the promotion will be handled using:"]
["\\par TFPTAG341\\u9679\\'3f  TFPSTR341"]
["\\par TFPTAG342\\u9679\\'3f  TFPSTR342"]
["\\par TFPTAG343\\u9679\\'3f  TFPSTR343"]
["\\par TFPTAG344\\u9679\\'3f  TFPSTR344"]
["\\par TFPTAG345\\u9679\\'3f  TFPSTR345"]
["\\par TFPTAG346\\u9679\\'3f  TFPSTR346"]
["\\par TFPTAG347\\u9679\\'3f  TFPSTR347"]
["\\par TFPTAG348\\u9679\\'3f  TFPSTR348"]
["\\par TFPTAG349\\u9679\\'3f  TFPSTR349"]
["\\par TFPTAG350\\u9679\\'3f  TFPSTR350"]
["\\par TFPTAG351\\u9679\\'3f  TFPSTR351"]
["\\par TFPTAG352\\u9679\\'3f  TFPSTR352"]
["\\par TFPTAG353\\u9679\\'3f  TFPSTR353"]
["\\par TFPTAG354\\u9679\\'3f  TFPSTR354"]
["\\par TFPTAG355\\u9679\\'3f  TFPSTR355"]
["\\par TFPTAG356\\u9679\\'3f  TFPSTR356"]
["\\par TFPTAG357\\u9679\\'3f  TFPSTR357"]
["\\par TFPTAG358\\u9679\\'3f  TFPSTR358"]
["\\par TFPTAG359\\u9679\\'3f  TFPSTR359"]
["\\par TFPTAG360\\u9679\\'3f  TFPSTR360"]
["\\par }\\pard\\plain \\s2\\ql \\li360\\ri0\\sb240\\sa60\\keepn\\widctlpar\\aspalpha\\aspnum\\faauto\\outlinelevel1\\adjustright\\rin0\\lin360\\itap0 \\b\\i\\f1\\fs28\\lang2057\\langfe1033\\cgrid\\langnp2057\\langfenp1033 {\\f28 TFPTAG361Customer Promotions"]
["\\par }\\pard\\plain \\ql \\li360\\ri0\\sa240\\widctlpar\\aspalpha\\aspnum\\faauto\\adjustright\\rin0\\lin360\\itap0 \\fs24\\lang2057\\langfe1033\\cgrid\\langnp2057\\langfenp1033 {\\f28 TFPTAG361The opportunity will be taken to"]
[" leverage the existing relationships with customers, by cost effectively selling to them at key points during the year:"]
["\\par }\\pard\\plain \\s3\\ql \\li360\\ri0\\sb240\\sa60\\keepn\\widctlpar\\aspalpha\\aspnum\\faauto\\outlinelevel2\\adjustright\\rin0\\lin360\\itap0 \\b\\f1\\fs26\\lang2057\\langfe1033\\cgrid\\langnp2057\\langfenp1033 {\\f28 TFPTAG153TFPSTR153"]
["\\par }\\pard\\plain \\ql \\li360\\ri0\\sa240\\widctlpar\\aspalpha\\aspnum\\faauto\\adjustright\\rin0\\lin360\\itap0 \\fs24\\lang2057\\langfe1033\\cgrid\\langnp2057\\langfenp1033 {\\f28 TFPTAG154Timing = TFPSTR154"]
["\\par }\\pard\\plain \\s3\\ql \\li360\\ri0\\sb240\\sa60\\keepn\\widctlpar\\aspalpha\\aspnum\\faauto\\outlinelevel2\\adjustright\\rin0\\lin360\\itap0 \\b\\f1\\fs26\\lang2057\\langfe1033\\cgrid\\langnp2057\\langfenp1033 {\\f28 TFPTAG155TFPSTR155"]
["\\par }\\pard\\plain \\ql \\li360\\ri0\\sa240\\widctlpar\\aspalpha\\aspnum\\faauto\\adjustright\\rin0\\lin360\\itap0 \\fs24\\lang2057\\langfe1033\\cgrid\\langnp2057\\langfenp1033 {\\f28 TFPTAG156Timing = TFPSTR156"]
["\\par }\\pard\\plain \\s3\\ql \\li360\\ri0\\sb240\\sa60\\keepn\\widctlpar\\aspalpha\\aspnum\\faauto\\outlinelevel2\\adjustright\\rin0\\lin360\\itap0 \\b\\f1\\fs26\\lang2057\\langfe1033\\cgrid\\langnp2057\\langfenp1033 {\\f28 TFPTAG157TFPSTR157"]
["\\par }\\pard\\plain \\ql \\li360\\ri0\\sa240\\widctlpar\\aspalpha\\aspnum\\faauto\\adjustright\\rin0\\lin360\\itap0 \\fs24\\lang2057\\langfe1033\\cgrid\\langnp2057\\langfenp1033 {\\f28 TFPTAG158Timing = TFPSTR158"]
["\\par }\\pard\\plain \\s3\\ql \\li360\\ri0\\sb240\\sa60\\keepn\\widctlpar\\aspalpha\\aspnum\\faauto\\outlinelevel2\\adjustright\\rin0\\lin360\\itap0 \\b\\f1\\fs26\\lang2057\\langfe1033\\cgrid\\langnp2057\\langfenp1033 {\\f28 TFPTAG159TFPSTR159"]
["\\par }\\pard\\plain \\ql \\li360\\ri0\\sa240\\widctlpar\\aspalpha\\aspnum\\faauto\\adjustright\\rin0\\lin360\\itap0 \\fs24\\lang2057\\langfe1033\\cgrid\\langnp2057\\langfenp1033 {\\f28 TFPTAG160Timing = TFPSTR160"]
["\\par }\\pard\\plain \\s3\\ql \\li360\\ri0\\sb240\\sa60\\keepn\\widctlpar\\aspalpha\\aspnum\\faauto\\outlinelevel2\\adjustright\\rin0\\lin360\\itap0 \\b\\f1\\fs26\\lang2057\\langfe1033\\cgrid\\langnp2057\\langfenp1033 {\\f28 TFPTAG161TFPSTR161"]
["\\par }\\pard\\plain \\ql \\li360\\ri0\\sa240\\widctlpar\\aspalpha\\aspnum\\faauto\\adjustright\\rin0\\lin360\\itap0 \\fs24\\lang2057\\langfe1033\\cgrid\\langnp2057\\langfenp1033 {\\f28 TFPTAG162Timing = TFPSTR162"]
["\\par }\\pard\\plain \\s3\\ql \\li360\\ri0\\sb240\\sa60\\keepn\\widctlpar\\aspalpha\\aspnum\\faauto\\outlinelevel2\\adjustright\\rin0\\lin360\\itap0 \\b\\f1\\fs26\\lang2057\\langfe1033\\cgrid\\langnp2057\\langfenp1033 {\\f28 TFPTAG163TFPSTR163"]
["\\par }\\pard\\plain \\ql \\li360\\ri0\\sa240\\widctlpar\\aspalpha\\aspnum\\faauto\\adjustright\\rin0\\lin360\\itap0 \\fs24\\lang2057\\langfe1033\\cgrid\\langnp2057\\langfenp1033 {\\f28 TFPTAG164Timing = TFPSTR164"]
["\\par }\\pard\\plain \\s3\\ql \\li360\\ri0\\sb240\\sa60\\keepn\\widctlpar\\aspalpha\\aspnum\\faauto\\outlinelevel2\\adjustright\\rin0\\lin360\\itap0 \\b\\f1\\fs26\\lang2057\\langfe1033\\cgrid\\langnp2057\\langfenp1033 {\\f28 TFPTAG165TFPSTR165"]
["\\par }\\pard\\plain \\ql \\li360\\ri0\\sa240\\widctlpar\\aspalpha\\aspnum\\faauto\\adjustright\\rin0\\lin360\\itap0 \\fs24\\lang2057\\langfe1033\\cgrid\\langnp2057\\langfenp1033 {\\f28 TFPTAG166Timing = TFPSTR166"]
["\\par }\\pard\\plain \\s3\\ql \\li360\\ri0\\sb240\\sa60\\keepn\\widctlpar\\aspalpha\\aspnum\\faauto\\outlinelevel2\\adjustright\\rin0\\lin360\\itap0 \\b\\f1\\fs26\\lang2057\\langfe1033\\cgrid\\langnp2057\\langfenp1033 {\\f28 TFPTAG167TFPSTR167"]
["\\par }\\pard\\plain \\ql \\li360\\ri0\\sa240\\widctlpar\\aspalpha\\aspnum\\faauto\\adjustright\\rin0\\lin360\\itap0 \\fs24\\lang2057\\langfe1033\\cgrid\\langnp2057\\langfenp1033 {\\f28 TFPTAG168Timing = TFPSTR168"]
["\\par }\\pard\\plain \\s3\\ql \\li360\\ri0\\sb240\\sa60\\keepn\\widctlpar\\aspalpha\\aspnum\\faauto\\outlinelevel2\\adjustright\\rin0\\lin360\\itap0 \\b\\f1\\fs26\\lang2057\\langfe1033\\cgrid\\langnp2057\\langfenp1033 {\\f28 TFPTAG169TFPSTR169"]
["\\par }\\pard\\plain \\ql \\li360\\ri0\\sa240\\widctlpar\\aspalpha\\aspnum\\faauto\\adjustright\\rin0\\lin360\\itap0 \\fs24\\lang2057\\langfe1033\\cgrid\\langnp2057\\langfenp1033 {\\f28 TFPTAG170Timing = TFPSTR170"]
["\\par TFPTAG362The first step is to remind customers of the key benefits of buying from TFPSTR103 by contacting them with:"]
["\\par TFPTAG363\\u9679\\'3f  TFPSTR363"]
["\\par TFPTAG364\\u9679\\'3f  TFPSTR364"]
["\\par TFPTAG365\\u9679\\'3f  TFPSTR365"]
["\\par TFPTAG366\\u9679\\'3f  TFPSTR366"]
["\\par TFPTAG367\\u9679\\'3f  TFPSTR367"]
["\\par TFPTAG368\\u9679\\'3f  TFPSTR368"]
["\\par TFPTAG369\\u9679\\'3f  TFPSTR369"]
["\\par TFPTAG370\\u9679\\'3f  TFPSTR370"]
["\\par TFPTAG371\\u9679\\'3f  TFPSTR371"]
["\\par TFPTAG372\\u9679\\'3f  TFPSTR372"]
["\\par TFPTAG373\\u9679\\'3f  TFPSTR373"]
["\\par TFPTAG374\\u9679\\'3f  TFPSTR374"]
["\\par TFPTAG375\\u9679\\'3f  TFPSTR375"]
["\\par TFPTAG376\\u9679\\'3f  TFPSTR376"]
["\\par TFPTAG377\\u9679\\'3f  TFPSTR377"]
["\\par TFPTAG378\\u9679\\'3f  TFPSTR378"]
["\\par TFPTAG379\\u9679\\'3f  TFPSTR379"]
["\\par TFPTAG380\\u9679\\'3f  TFPSTR380"]
["\\par TFPTAG381\\u9679\\'3f  TFPSTR381"]
["\\par TFPTAG382\\u9679\\'3f  TFPSTR382"]
["\\par TFPTAG383Information about the promotional offers will be communicated via:"]
["\\par TFPTAG384\\u9679\\'3f  TFPSTR384"]
["\\par TFPTAG385\\u9679\\'3f  TFPSTR385"]
["\\par TFPTAG386\\u9679\\'3f  TFPSTR386"]
["\\par TFPTAG387\\u9679\\'3f  TFPSTR387"]
["\\par TFPTAG388\\u9679\\'3f  TFPSTR388"]
["\\par TFPTAG389\\u9679\\'3f  TFPSTR389"]
["\\par TFPTAG390\\u9679\\'3f  TFPSTR390"]
["\\par TFPTAG391\\u9679\\'3f  TFPSTR391"]
["\\par TFPTAG392\\u9679\\'3f  TFPSTR392"]
["\\par TFPTAG393\\u9679\\'3f  TFPSTR393"]
["\\par TFPTAG394\\u9679\\'3f  TFPSTR394"]
["\\par TFPTAG395\\u9679\\'3f  TFPSTR395"]
["\\par TFPTAG396\\u9679\\'3f  TFPSTR396"]
["\\par TFPTAG397\\u9679\\'3f  TFPSTR397"]
["\\par TFPTAG398\\u9679\\'3f  TFPSTR398"]
["\\par TFPTAG399\\u9679\\'3f  TFPSTR399"]
["\\par TFPTAG400\\u9679\\'3f  TFPSTR400"]
["\\par TFPTAG401\\u9679\\'3f  TFPSTR401"]
["\\par TFPTAG402\\u9679\\'3f  TFPSTR402"]
["\\par TFPTAG403\\u9679\\'3f  TFPSTR403"]
["\\par TFPTAG404Promotion responses will be directed to the following facilities in order to set a sales appointment:"]
["\\par TFPTAG405\\u9679\\'3f  TFPSTR405"]
["\\par TFPTAG406\\u9679\\'3f  TFPSTR406"]
["\\par TFPTAG407\\u9679\\'3f  TFPSTR407"]
["\\par TFPTAG408\\u9679\\'3f  TFPSTR408"]
["\\par TFPTAG409\\u9679\\'3f  TFPSTR409"]
["\\par TFPTAG410\\u9679\\'3f  TFPSTR410"]
["\\par TFPTAG411\\u9679\\'3f  TFPSTR411"]
["\\par TFPTAG412\\u9679\\'3f  TFPSTR412"]
["\\par TFPTAG413\\u9679\\'3f  TFPSTR413"]
["\\par TFPTAG414\\u9679\\'3f  TFPSTR414"]
["\\par TFPTAG415\\u9679\\'3f  TFPSTR415"]
["\\par TFPTAG416\\u9679\\'3f  TFPSTR416"]
["\\par TFPTAG417\\u9679\\'3f  TFPSTR417"]
["\\par TFPTAG418\\u9679\\'3f  TFPSTR418"]
["\\par TFPTAG419\\u9679\\'3f  TFPSTR419"]
["\\par TFPTAG420\\u9679\\'3f  TFPSTR420"]
["\\par TFPTAG421\\u9679\\'3f  TFPSTR421"]
["\\par TFPTAG422\\u9679\\'3f  TFPSTR422"]
["\\par TFPTAG423\\u9679\\'3f  TFPSTR423"]
["\\par TFPTAG424\\u9679\\'3f  TFPSTR424"]
["\\par TFPTAG425Customers interested in making a purchase as a result of the promotion will be channelled to:"]
["\\par TFPTAG426\\u9679\\'3f  TFPSTR426"]
["\\par TFPTAG427\\u9679\\'3f  TFPSTR427"]
["\\par TFPTAG428\\u9679\\'3f  TFPSTR428"]
["\\par TFPTAG429\\u9679\\'3f  TFPSTR429"]
["\\par TFPTAG430\\u9679\\'3f  TFPSTR430"]
["\\par TFPTAG431\\u9679\\'3f  TFPSTR431"]
["\\par TFPTAG432\\u9679\\'3f  TFPSTR432"]
["\\par TFPTAG433\\u9679\\'3f  TFPSTR433"]
["\\par TFPTAG434\\u9679\\'3f  TFPSTR434"]
["\\par TFPTAG435\\u9679\\'3f  TFPSTR435"]
["\\par TFPTAG436\\u9679\\'3f  TFPSTR436"]
["\\par TFPTAG437\\u9679\\'3f  TFPSTR437"]
["\\par TFPTAG438\\u9679\\'3f  TFPSTR438"]
["\\par TFPTAG439\\u9679\\'3f  TFPSTR439"]
["\\par TFPTAG440\\u9679\\'3f  TFPSTR440"]
["\\par TFPTAG441\\u9679\\'3f  TFPSTR441"]
["\\par TFPTAG442\\u9679\\'3f  TFPSTR442"]
["\\par TFPTAG443\\u9679\\'3f  TFPSTR443"]
["\\par TFPTAG444\\u9679\\'3f  TFPSTR444"]
["\\par TFPTAG445\\u9679\\'3f  TFPSTR445"]
["\\par }\\pard\\plain \\s2\\ql \\li360\\ri0\\sb240\\sa60\\keepn\\widctlpar\\aspalpha\\aspnum\\faauto\\outlinelevel1\\adjustright\\rin0\\lin360\\itap0 \\b\\i\\f1\\fs28\\lang2057\\langfe1033\\cgrid\\langnp2057\\langfenp1033 {\\f28 TFPTAG446CRM Programme"]
["\\par }\\pard\\plain \\ql \\li360\\ri0\\sa240\\widctlpar\\aspalpha\\aspnum\\faauto\\adjustright\\rin0\\lin360\\itap0 \\fs24\\lang2057\\langfe1033\\cgrid\\langnp2057\\langfenp1033 {\\f28 TFPTAG446An ongoing programme to maintain the relationship with previous customers,"]
[" to ensure they are future customers, represents an efficient use of the marketing budget.  Database driven communications enable relevant messages to be targeted at key customer segments."]
["\\par TFPTAG447Periodic communications, refreshing the customers\\rquote  understanding of the benefits of TFPSTR103, will be sent using:"]
["\\par TFPTAG448\\u9679\\'3f  TFPSTR448"]
["\\par TFPTAG449\\u9679\\'3f  TFPSTR449"]
["\\par TFPTAG450\\u9679\\'3f  TFPSTR450"]
["\\par TFPTAG451\\u9679\\'3f  TFPSTR451"]
["\\par TFPTAG452\\u9679\\'3f  TFPSTR452"]
["\\par TFPTAG453\\u9679\\'3f  TFPSTR453"]
["\\par TFPTAG454\\u9679\\'3f  TFPSTR454"]
["\\par TFPTAG455\\u9679\\'3f  TFPSTR455"]
["\\par TFPTAG456\\u9679\\'3f  TFPSTR456"]
["\\par TFPTAG457\\u9679\\'3f  TFPSTR457"]
["\\par TFPTAG458\\u9679\\'3f  TFPSTR458"]
["\\par TFPTAG459\\u9679\\'3f  TFPSTR459"]
["\\par TFPTAG460\\u9679\\'3f  TFPSTR460"]
["\\par TFPTAG461\\u9679\\'3f  TFPSTR461"]
["\\par TFPTAG462\\u9679\\'3f  TFPSTR462"]
["\\par TFPTAG463\\u9679\\'3f  TFPSTR463"]
["\\par TFPTAG464\\u9679\\'3f  TFPSTR464"]
["\\par TFPTAG465\\u9679\\'3f  TFPSTR465"]
["\\par TFPTAG466\\u9679\\'3f  TFPSTR466"]
["\\par TFPTAG467\\u9679\\'3f  TFPSTR467"]
["\\par TFPTAG468Customers will be informed of interesting facts and news about the TFPSTR105 through:"]
["\\par TFPTAG469\\u9679\\'3f  TFPSTR469"]
["\\par TFPTAG470\\u9679\\'3f  TFPSTR470"]
["\\par TFPTAG471\\u9679\\'3f  TFPSTR471"]
["\\par TFPTAG472\\u9679\\'3f  TFPSTR472"]
["\\par TFPTAG473\\u9679\\'3f  TFPSTR473"]
["\\par TFPTAG474\\u9679\\'3f  TFPSTR474"]
["\\par TFPTAG475\\u9679\\'3f  TFPSTR475"]
["\\par TFPTAG476\\u9679\\'3f  TFPSTR476"]
["\\par TFPTAG477\\u9679\\'3f  TFPSTR477"]
["\\par TFPTAG478\\u9679\\'3f  TFPSTR478"]
["\\par TFPTAG479\\u9679\\'3f  TFPSTR479"]
["\\par TFPTAG480\\u9679\\'3f  TFPSTR480"]
["\\par TFPTAG481\\u9679\\'3f  TFPSTR481"]
["\\par TFPTAG482\\u9679\\'3f  TFPSTR482"]
["\\par TFPTAG483\\u9679\\'3f  TFPSTR483"]
["\\par TFPTAG484\\u9679\\'3f  TFPSTR484"]
["\\par TFPTAG485\\u9679\\'3f  TFPSTR485"]
["\\par TFPTAG486\\u9679\\'3f  TFPSTR486"]
["\\par TFPTAG487\\u9679\\'3f  TFPSTR487"]
["\\par TFPTAG488\\u9679\\'3f  TFPSTR488"]
["\\par TFPTAG489Customers will be invited to respond to the above CRM communications.  Sales appointments will be set when they respond.  Responses will be handled via:"]
["\\par TFPTAG490\\u9679\\'3f  TFPSTR490"]
["\\par TFPTAG491\\u9679\\'3f  TFPSTR491"]
["\\par TFPTAG492\\u9679\\'3f  TFPSTR492"]
["\\par TFPTAG493\\u9679\\'3f  TFPSTR493"]
["\\par TFPTAG494\\u9679\\'3f  TFPSTR494"]
["\\par TFPTAG495\\u9679\\'3f  TFPSTR495"]
["\\par TFPTAG496\\u9679\\'3f  TFPSTR496"]
["\\par TFPTAG497\\u9679\\'3f  TFPSTR497"]
["\\par TFPTAG498\\u9679\\'3f  TFPSTR498"]
["\\par TFPTAG499\\u9679\\'3f  TFPSTR499"]
["\\par TFPTAG500\\u9679\\'3f  TFPSTR500"]
["\\par TFPTAG501\\u9679\\'3f  TFPSTR501"]
["\\par TFPTAG502\\u9679\\'3f  TFPSTR502"]
["\\par TFPTAG503\\u9679\\'3f  TFPSTR503"]
["\\par TFPTAG504\\u9679\\'3f  TFPSTR504"]
["\\par TFPTAG505\\u9679\\'3f  TFPSTR505"]
["\\par TFPTAG506\\u9679\\'3f  TFPSTR506"]
["\\par TFPTAG507\\u9679\\'3f  TFPSTR507"]
["\\par TFPTAG508\\u9679\\'3f  TFPSTR508"]
["\\par TFPTAG509\\u9679\\'3f  TFPSTR509"]
["\\par TFPTAG510Sales enquiries from existing customers will be handled by:"]
["\\par TFPTAG511\\u9679\\'3f  TFPSTR511"]
["\\par TFPTAG512\\u9679\\'3f  TFPSTR512"]
["\\par TFPTAG513\\u9679\\'3f  TFPSTR513"]
["\\par TFPTAG514\\u9679\\'3f  TFPSTR514"]
["\\par TFPTAG515\\u9679\\'3f  TFPSTR515"]
["\\par TFPTAG516\\u9679\\'3f  TFPSTR516"]
["\\par TFPTAG517\\u9679\\'3f  TFPSTR517"]
["\\par TFPTAG518\\u9679\\'3f  TFPSTR518"]
["\\par TFPTAG519\\u9679\\'3f  TFPSTR519"]
["\\par TFPTAG520\\u9679\\'3f  TFPSTR520"]
["\\par TFPTAG521\\u9679\\'3f  TFPSTR521"]
["\\par TFPTAG522\\u9679\\'3f  TFPSTR522"]
["\\par TFPTAG523\\u9679\\'3f  TFPSTR523"]
["\\par TFPTAG524\\u9679\\'3f  TFPSTR524"]
["\\par TFPTAG525\\u9679\\'3f  TFPSTR525"]
["\\par TFPTAG526\\u9679\\'3f  TFPSTR526"]
["\\par TFPTAG527\\u9679\\'3f  TFPSTR527"]
["\\par TFPTAG528\\u9679\\'3f  TFPSTR528"]
["\\par TFPTAG529\\u9679\\'3f  TFPSTR529"]
["\\par TFPTAG530\\u9679\\'3f  TFPSTR530"]
["\\par }\\pard\\plain \\s1\\ql \\li360\\ri0\\sb240\\sa60\\keepn\\widctlpar\\aspalpha\\aspnum\\faauto\\outlinelevel0\\adjustright\\rin0\\lin360\\itap0 \\b\\f1\\fs32\\lang2057\\langfe1033\\kerning32\\cgrid\\langnp2057\\langfenp1033 {Budget"]
["\\par }\\pard\\plain \\s5\\ql \\li357\\ri0\\sb120\\sa240\\keepn\\widctlpar\\brdrb\\brdrs\\brdrw10\\brsp20 \\aspalpha\\aspnum\\faauto\\outlinelevel4\\adjustright\\rin0\\lin357\\itap0 \\b\\f29\\fs20\\lang2057\\langfe1033\\cgrid\\langnp2057\\langfenp1033 {TFPTAG531TFPSTR531"]
["\\par }\\pard\\plain \\ql \\li360\\ri0\\sa240\\widctlpar\\aspalpha\\aspnum\\faauto\\adjustright\\rin0\\lin360\\itap0 \\fs24\\lang2057\\langfe1033\\cgrid\\langnp2057\\langfenp1033 {\\f29\\fs20 TFPTAG533TFPSTR533"]
["\\par TFPTAG535TFPSTR535"]
["\\par TFPTAG537TFPSTR537"]
["\\par TFPTAG539TFPSTR539"]
["\\par TFPTAG541TFPSTR541"]
["\\par TFPTAG543TFPSTR543"]
["\\par TFPTAG545TFPSTR545"]
["\\par TFPTAG547TFPSTR547"]
["\\par TFPTAG549TFPSTR549"]
["\\par TFPTAG551TFPSTR551"]
["\\par TFPTAG553TFPSTR553"]
["\\par TFPTAG555TFPSTR555"]
["\\par TFPTAG557TFPSTR557"]
["\\par TFPTAG559TFPSTR559"]
["\\par TFPTAG561TFPSTR561"]
["\\par TFPTAG563TFPSTR563"]
["\\par TFPTAG565TFPSTR565"]
["\\par TFPTAG567TFPSTR567"]
["\\par TFPTAG569TFPSTR569"]
["\\par TFPTAG571TFPSTR571"]
["\\par TFPTAG573TFPSTR573"]
["\\par TFPTAG575TFPSTR575"]
["\\par TFPTAG577TFPSTR577"]
["\\par TFPTAG579TFPSTR579"]
["\\par TFPTAG581TFPSTR581"]
["\\par TFPTAG583TFPSTR583"]
["\\par TFPTAG585TFPSTR585"]
["\\par TFPTAG587TFPSTR587"]
["\\par TFPTAG589TFPSTR589"]
["\\par TFPTAG591TFPSTR591"]
["\\par TFPTAG593TFPSTR593"]
["\\par TFPTAG595TFPSTR595"]
["\\par TFPTAG597TFPSTR597"]
["\\par TFPTAG599TFPSTR599"]
["\\par TFPTAG601TFPSTR601"]
["\\par TFPTAG603TFPSTR603"]
["\\par TFPTAG605TFPSTR605"]
["\\par TFPTAG607TFPSTR607"]
["\\par TFPTAG609TFPSTR609"]
["\\par TFPTAG611TFPSTR611"]
["\\par TFPTAG613TFPSTR613"]
["\\par TFPTAG615TFPSTR615"]
["\\par TFPTAG617TFPSTR617"]
["\\par TFPTAG619TFPSTR619"]
["\\par TFPTAG621TFPSTR621"]
["\\par TFPTAG623TFPSTR623"]
["\\par TFPTAG625TFPSTR625"]
["\\par TFPTAG627TFPSTR627"]
["\\par TFPTAG629TFPSTR629"]
["\\par TFPTAG631TFPSTR631"]
["\\par TFPTAG633TFPSTR633"]
["\\par TFPTAG635TFPSTR635"]
["\\par TFPTAG637TFPSTR637"]
["\\par TFPTAG639TFPSTR639"]
["\\par TFPTAG641TFPSTR641"]
["\\par TFPTAG643TFPSTR643"]
["\\par TFPTAG645TFPSTR645"]
["\\par TFPTAG647TFPSTR647"]
["\\par TFPTAG649TFPSTR649"]
["\\par TFPTAG651TFPSTR651"]
["\\par TFPTAG653TFPSTR653"]
["\\par TFPTAG655TFPSTR655"]
["\\par TFPTAG657TFPSTR657"]
["\\par TFPTAG659TFPSTR659"]
["\\par TFPTAG661TFPSTR661"]
["\\par TFPTAG663TFPSTR663"]
["\\par TFPTAG665TFPSTR665"]
["\\par TFPTAG667TFPSTR667"]
["\\par TFPTAG669TFPSTR669"]
["\\par TFPTAG671TFPSTR671"]
["\\par TFPTAG673TFPSTR673"]
["\\par TFPTAG675TFPSTR675"]
["\\par TFPTAG677TFPSTR677"]
["\\par TFPTAG679TFPSTR679"]
["\\par TFPTAG681TFPSTR681"]
["\\par TFPTAG683TFPSTR683"]
["\\par TFPTAG685TFPSTR685"]
["\\par TFPTAG687TFPSTR687"]
["\\par TFPTAG689TFPSTR689"]
["\\par TFPTAG691TFPSTR691"]
["\\par TFPTAG693TFPSTR693"]
["\\par TFPTAG695TFPSTR695"]
["\\par TFPTAG697TFPSTR697"]
["\\par TFPTAG699TFPSTR699}{\\f28 "]
["\\par }}"]

{"sheet":"rtf","index":16,"n_rows":1000,"n_cols":1,"rows_kept":1000,"cut":false,"hidden":true,"merged":[]}
[{"$f":"IF(tagflag!A1=1,IF(strflag!A1=1,SUBSTITUTE(IF(tagflag!B1=\"NOTAG\",rawrtf!A1,SUBSTITUTE(rawrtf!A1,\"TFPTAG\"&tagflag!D1,\"\")),\"TFPSTR\"&strflag!B1,strflag!D1),IF(tagflag!B1=\"NOTAG\",rawrtf!A1,SUBSTITUTE(rawrtf!A1,\"TFPTAG\"&tagflag!D1,\"\"))),\"\")","v":"{\\rtf1\\ansi\\ansicpg1252\\uc1 \\deff0\\deflang1033\\deflangfe1033{\\fonttbl{\\f0\\froman\\fcharset0\\fprq2{\\*\\panose 02020603050405020304}Times New Roman;}{\\f1\\fswiss\\fcharset0\\fprq2{\\*\\panose 020b0604020202020204}Arial;}"}]
[{"$f":"IF(tagflag!A2=1,IF(strflag!A2=1,SUBSTITUTE(IF(tagflag!B2=\"NOTAG\",rawrtf!A2,SUBSTITUTE(rawrtf!A2,\"TFPTAG\"&tagflag!D2,\"\")),\"TFPSTR\"&strflag!B2,strflag!D2),IF(tagflag!B2=\"NOTAG\",rawrtf!A2,SUBSTITUTE(rawrtf!A2,\"TFPTAG\"&tagflag!D2,\"\"))),\"\")","v":"{\\f2\\fmodern\\fcharset0\\fprq1{\\*\\panose 02070309020205020404}Courier New;}{\\f3\\froman\\fcharset2\\fprq2{\\*\\panose 05050102010706020507}Symbol;}{\\f14\\fnil\\fcharset2\\fprq2{\\*\\panose 05000000000000000000}Wingdings;}"}]
[{"$f":"IF(tagflag!A3=1,IF(strflag!A3=1,SUBSTITUTE(IF(tagflag!B3=\"NOTAG\",rawrtf!A3,SUBSTITUTE(rawrtf!A3,\"TFPTAG\"&tagflag!D3,\"\")),\"TFPSTR\"&strflag!B3,strflag!D3),IF(tagflag!B3=\"NOTAG\",rawrtf!A3,SUBSTITUTE(rawrtf!A3,\"TFPTAG\"&tagflag!D3,\"\"))),\"\")","v":"{\\f28\\froman\\fcharset0\\fprq2{\\*\\panose 02040502050505030304}Palatino Linotype;}{\\f29\\fmodern\\fcharset0\\fprq1{\\*\\panose 020b0609040504020204}Lucida Console;}{\\f36\\froman\\fcharset238\\fprq2 Times New Roman CE;}"}]
[{"$f":"IF(tagflag!A4=1,IF(strflag!A4=1,SUBSTITUTE(IF(tagflag!B4=\"NOTAG\",rawrtf!A4,SUBSTITUTE(rawrtf!A4,\"TFPTAG\"&tagflag!D4,\"\")),\"TFPSTR\"&strflag!B4,strflag!D4),IF(tagflag!B4=\"NOTAG\",rawrtf!A4,SUBSTITUTE(rawrtf!A4,\"TFPTAG\"&tagflag!D4,\"\"))),\"\")","v":"{\\f37\\froman\\fcharset204\\fprq2 Times New Roman Cyr;}{\\f39\\froman\\fcharset161\\fprq2 Times New Roman Greek;}{\\f40\\froman\\fcharset162\\fprq2 Times New Roman Tur;}{\\f41\\froman\\fcharset177\\fprq2 Times New Roman (Hebrew);}"}]
[{"$f":"IF(tagflag!A5=1,IF(strflag!A5=1,SUBSTITUTE(IF(tagflag!B5=\"NOTAG\",rawrtf!A5,SUBSTITUTE(rawrtf!A5,\"TFPTAG\"&tagflag!D5,\"\")),\"TFPSTR\"&strflag!B5,strflag!D5),IF(tagflag!B5=\"NOTAG\",rawrtf!A5,SUBSTITUTE(rawrtf!A5,\"TFPTAG\"&tagflag!D5,\"\"))),\"\")","v":"{\\f42\\froman\\fcharset178\\fprq2 Times New Roman (Arabic);}{\\f43\\froman\\fcharset186\\fprq2 Times New Roman Baltic;}{\\f44\\fswiss\\fcharset238\\fprq2 Arial CE;}{\\f45\\fswiss\\fcharset204\\fprq2 Arial Cyr;}{\\f47\\fswiss\\fcharset161\\fprq2 Arial Greek;}"}]
[{"$f":"IF(tagflag!A6=1,IF(strflag!A6=1,SUBSTITUTE(IF(tagflag!B6=\"NOTAG\",rawrtf!A6,SUBSTITUTE(rawrtf!A6,\"TFPTAG\"&tagflag!D6,\"\")),\"TFPSTR\"&strflag!B6,strflag!D6),IF(tagflag!B6=\"NOTAG\",rawrtf!A6,SUBSTITUTE(rawrtf!A6,\"TFPTAG\"&tagflag!D6,\"\"))),\"\")","v":"{\\f48\\fswiss\\fcharset162\\fprq2 Arial Tur;}{\\f49\\fswiss\\fcharset177\\fprq2 Arial (Hebrew);}{\\f50\\fswiss\\fcharset178\\fprq2 Arial (Arabic);}{\\f51\\fswiss\\fcharset186\\fprq2 Arial Baltic;}{\\f52\\fmodern\\fcharset238\\fprq1 Courier New CE;}"}]
[{"$f":"IF(tagflag!A7=1,IF(strflag!A7=1,SUBSTITUTE(IF(tagflag!B7=\"NOTAG\",rawrtf!A7,SUBSTITUTE(rawrtf!A7,\"TFPTAG\"&tagflag!D7,\"\")),\"TFPSTR\"&strflag!B7,strflag!D7),IF(tagflag!B7=\"NOTAG\",rawrtf!A7,SUBSTITUTE(rawrtf!A7,\"TFPTAG\"&tagflag!D7,\"\"))),\"\")","v":"{\\f53\\fmodern\\fcharset204\\fprq1 Courier New Cyr;}{\\f55\\fmodern\\fcharset161\\fprq1 Courier New Greek;}{\\f56\\fmodern\\fcharset162\\fprq1 Courier New Tur;}{\\f57\\fmodern\\fcharset177\\fprq1 Courier New (Hebrew);}"}]
[{"$f":"IF(tagflag!A8=1,IF(strflag!A8=1,SUBSTITUTE(IF(tagflag!B8=\"NOTAG\",rawrtf!A8,SUBSTITUTE(rawrtf!A8,\"TFPTAG\"&tagflag!D8,\"\")),\"TFPSTR\"&strflag!B8,strflag!D8),IF(tagflag!B8=\"NOTAG\",rawrtf!A8,SUBSTITUTE(rawrtf!A8,\"TFPTAG\"&tagflag!D8,\"\"))),\"\")","v":"{\\f58\\fmodern\\fcharset178\\fprq1 Courier New (Arabic);}{\\f59\\fmodern\\fcharset186\\fprq1 Courier New Baltic;}{\\f260\\froman\\fcharset238\\fprq2 Palatino Linotype CE;}{\\f261\\froman\\fcharset204\\fprq2 Palatino Linotype Cyr;}"}]
[{"$f":"IF(tagflag!A9=1,IF(strflag!A9=1,SUBSTITUTE(IF(tagflag!B9=\"NOTAG\",rawrtf!A9,SUBSTITUTE(rawrtf!A9,\"TFPTAG\"&tagflag!D9,\"\")),\"TFPSTR\"&strflag!B9,strflag!D9),IF(tagflag!B9=\"NOTAG\",rawrtf!A9,SUBSTITUTE(rawrtf!A9,\"TFPTAG\"&tagflag!D9,\"\"))),\"\")","v":"{\\f263\\froman\\fcharset161\\fprq2 Palatino Linotype Greek;}{\\f264\\froman\\fcharset162\\fprq2 Palatino Linotype Tur;}{\\f267\\froman\\fcharset186\\fprq2 Palatino Linotype Baltic;}{\\f268\\fmodern\\fcharset238\\fprq1 Lucida Console CE;}"}]
[{"$f":"IF(tagflag!A10=1,IF(strflag!A10=1,SUBSTITUTE(IF(tagflag!B10=\"NOTAG\",rawrtf!A10,SUBSTITUTE(rawrtf!A10,\"TFPTAG\"&tagflag!D10,\"\")),\"TFPSTR\"&strflag!B10,strflag!D10),IF(tagflag!B10=\"NOTAG\",rawrtf!A10,SUBSTITUTE(rawrtf!A10,\"TFPTAG\"&tagflag!D10,\"\"))),\"\")","v":"{\\f269\\fmodern\\fcharset204\\fprq1 Lucida Console Cyr;}{\\f271\\fmodern\\fcharset161\\fprq1 Lucida Console Greek;}{\\f272\\fmodern\\fcharset162\\fprq1 Lucida Console Tur;}}{\\colortbl;\\red0\\green0\\blue0;\\red0\\green0\\blue255;\\red0\\green255\\blue255;"}]
[{"$f":"IF(tagflag!A11=1,IF(strflag!A11=1,SUBSTITUTE(IF(tagflag!B11=\"NOTAG\",rawrtf!A11,SUBSTITUTE(rawrtf!A11,\"TFPTAG\"&tagflag!D11,\"\")),\"TFPSTR\"&strflag!B11,strflag!D11),IF(tagflag!B11=\"NOTAG\",rawrtf!A11,SUBSTITUTE(rawrtf!A11,\"TFPTAG\"&tagflag!D11,\"\"))),\"\")","v":"\\red0\\green255\\blue0;\\red255\\green0\\blue255;\\red255\\green0\\blue0;\\red255\\green255\\blue0;\\red255\\green255\\blue255;\\red0\\green0\\blue128;\\red0\\green128\\blue128;\\red0\\green128\\blue0;\\red128\\green0\\blue128;\\red128\\green0\\blue0;\\red128\\green128\\blue0;"}]
[{"$f":"IF(tagflag!A12=1,IF(strflag!A12=1,SUBSTITUTE(IF(tagflag!B12=\"NOTAG\",rawrtf!A12,SUBSTITUTE(rawrtf!A12,\"TFPTAG\"&tagflag!D12,\"\")),\"TFPSTR\"&strflag!B12,strflag!D12),IF(tagflag!B12=\"NOTAG\",rawrtf!A12,SUBSTITUTE(rawrtf!A12,\"TFPTAG\"&tagflag!D12,\"\"))),\"\")","v":"\\red128\\green128\\blue128;\\red192\\green192\\blue192;\\red255\\green255\\blue255;}{\\stylesheet{\\ql \\li0\\ri0\\sa240\\widctlpar\\aspalpha\\aspnum\\faauto\\adjustright\\rin0\\lin0\\itap0 \\fs24\\lang2057\\langfe1033\\cgrid\\langnp2057\\langfenp1033 \\snext0 Normal;}{"}]
[{"$f":"IF(tagflag!A13=1,IF(strflag!A13=1,SUBSTITUTE(IF(tagflag!B13=\"NOTAG\",rawrtf!A13,SUBSTITUTE(rawrtf!A13,\"TFPTAG\"&tagflag!D13,\"\")),\"TFPSTR\"&strflag!B13,strflag!D13),IF(tagflag!B13=\"NOTAG\",rawrtf!A13,SUBSTITUTE(rawrtf!A13,\"TFPTAG\"&tagflag!D13,\"\"))),\"\")","v":"\\s1\\ql \\li0\\ri0\\sb240\\sa60\\keepn\\widctlpar\\aspalpha\\aspnum\\faauto\\adjustright\\rin0\\lin0\\itap0 \\b\\f1\\fs32\\lang2057\\langfe1033\\kerning32\\cgrid\\langnp2057\\langfenp1033 \\sbasedon0 \\snext0 heading 1;}{"}]
[{"$f":"IF(tagflag!A14=1,IF(strflag!A14=1,SUBSTITUTE(IF(tagflag!B14=\"NOTAG\",rawrtf!A14,SUBSTITUTE(rawrtf!A14,\"TFPTAG\"&tagflag!D14,\"\")),\"TFPSTR\"&strflag!B14,strflag!D14),IF(tagflag!B14=\"NOTAG\",rawrtf!A14,SUBSTITUTE(rawrtf!A14,\"TFPTAG\"&tagflag!D14,\"\"))),\"\")","v":"\\s2\\ql \\li0\\ri0\\sb240\\sa60\\keepn\\widctlpar\\aspalpha\\aspnum\\faauto\\adjustright\\rin0\\lin0\\itap0 \\b\\i\\f1\\fs28\\lang2057\\langfe1033\\cgrid\\langnp2057\\langfenp1033 \\sbasedon0 \\snext0 heading 2;}{"}]
[{"$f":"IF(tagflag!A15=1,IF(strflag!A15=1,SUBSTITUTE(IF(tagflag!B15=\"NOTAG\",rawrtf!A15,SUBSTITUTE(rawrtf!A15,\"TFPTAG\"&tagflag!D15,\"\")),\"TFPSTR\"&strflag!B15,strflag!D15),IF(tagflag!B15=\"NOTAG\",rawrtf!A15,SUBSTITUTE(rawrtf!A15,\"TFPTAG\"&tagflag!D15,\"\"))),\"\")","v":"\\s3\\ql \\li0\\ri0\\sb240\\sa60\\keepn\\widctlpar\\aspalpha\\aspnum\\faauto\\adjustright\\rin0\\lin0\\itap0 \\b\\f1\\fs26\\lang2057\\langfe1033\\cgrid\\langnp2057\\langfenp1033 \\sbasedon0 \\snext0 heading 3;}{\\s4\\ql \\fi-360\\li720\\ri0\\sb240\\sa60\\keepn\\widctlpar"}]
[{"$f":"IF(tagflag!A16=1,IF(strflag!A16=1,SUBSTITUTE(IF(tagflag!B16=\"NOTAG\",rawrtf!A16,SUBSTITUTE(rawrtf!A16,\"TFPTAG\"&tagflag!D16,\"\")),\"TFPSTR\"&strflag!B16,strflag!D16),IF(tagflag!B16=\"NOTAG\",rawrtf!A16,SUBSTITUTE(rawrtf!A16,\"TFPTAG\"&tagflag!D16,\"\"))),\"\")","v":"\\jclisttab\\tx720\\aspalpha\\aspnum\\faauto\\ls18\\adjustright\\rin0\\lin720\\itap0 \\f28\\fs24\\lang2057\\langfe1033\\cgrid\\langnp2057\\langfenp1033 \\sbasedon0 \\snext0 heading 4;}{"}]
[{"$f":"IF(tagflag!A17=1,IF(strflag!A17=1,SUBSTITUTE(IF(tagflag!B17=\"NOTAG\",rawrtf!A17,SUBSTITUTE(rawrtf!A17,\"TFPTAG\"&tagflag!D17,\"\")),\"TFPSTR\"&strflag!B17,strflag!D17),IF(tagflag!B17=\"NOTAG\",rawrtf!A17,SUBSTITUTE(rawrtf!A17,\"TFPTAG\"&tagflag!D17,\"\"))),\"\")","v":"\\s5\\ql \\li360\\ri0\\sa240\\keepn\\widctlpar\\aspalpha\\aspnum\\faauto\\outlinelevel4\\adjustright\\rin0\\lin360\\itap0 \\b\\f29\\fs20\\lang2057\\langfe1033\\cgrid\\langnp2057\\langfenp1033 \\sbasedon0 \\snext0 heading 5;}{\\*\\cs10 \\additive Default Paragraph Font;}}"}]
[{"$f":"IF(tagflag!A18=1,IF(strflag!A18=1,SUBSTITUTE(IF(tagflag!B18=\"NOTAG\",rawrtf!A18,SUBSTITUTE(rawrtf!A18,\"TFPTAG\"&tagflag!D18,\"\")),\"TFPSTR\"&strflag!B18,strflag!D18),IF(tagflag!B18=\"NOTAG\",rawrtf!A18,SUBSTITUTE(rawrtf!A18,\"TFPTAG\"&tagflag!D18,\"\"))),\"\")","v":"{\\*\\listtable{\\list\\listtemplateid1865182804\\listhybrid{\\listlevel\\levelnfc23\\levelnfcn23\\leveljc0\\leveljcn0\\levelfollow0\\levelstartat1\\levelspace360\\levelindent0{\\leveltext\\leveltemplateid67698689\\'01\\u-3913 ?;}{\\levelnumbers;}\\f3\\chbrdr"}]
[{"$f":"IF(tagflag!A19=1,IF(strflag!A19=1,SUBSTITUTE(IF(tagflag!B19=\"NOTAG\",rawrtf!A19,SUBSTITUTE(rawrtf!A19,\"TFPTAG\"&tagflag!D19,\"\")),\"TFPSTR\"&strflag!B19,strflag!D19),IF(tagflag!B19=\"NOTAG\",rawrtf!A19,SUBSTITUTE(rawrtf!A19,\"TFPTAG\"&tagflag!D19,\"\"))),\"\")","v":"\\brdrnone\\brdrcf1 \\chshdng0\\chcfpat1\\chcbpat1\\fbias0 \\fi-360\\li720\\jclisttab\\tx720 }{\\listlevel\\levelnfc23\\levelnfcn23\\leveljc0\\leveljcn0\\levelfollow0\\levelstartat1\\levelspace360\\levelindent0{\\leveltext\\leveltemplateid67698691\\'01o;}{\\levelnumbers;}\\f2"}]
[{"$f":"IF(tagflag!A20=1,IF(strflag!A20=1,SUBSTITUTE(IF(tagflag!B20=\"NOTAG\",rawrtf!A20,SUBSTITUTE(rawrtf!A20,\"TFPTAG\"&tagflag!D20,\"\")),\"TFPSTR\"&strflag!B20,strflag!D20),IF(tagflag!B20=\"NOTAG\",rawrtf!A20,SUBSTITUTE(rawrtf!A20,\"TFPTAG\"&tagflag!D20,\"\"))),\"\")","v":"\\chbrdr\\brdrnone\\brdrcf1 \\chshdng0\\chcfpat1\\chcbpat1\\fbias0 \\fi-360\\li1440\\jclisttab\\tx1440 }{\\listlevel\\levelnfc23\\levelnfcn23\\leveljc0\\leveljcn0\\levelfollow0\\levelstartat1\\levelspace360\\levelindent0{\\leveltext\\leveltemplateid67698693"}]
[{"$f":"IF(tagflag!A21=1,IF(strflag!A21=1,SUBSTITUTE(IF(tagflag!B21=\"NOTAG\",rawrtf!A21,SUBSTITUTE(rawrtf!A21,\"TFPTAG\"&tagflag!D21,\"\")),\"TFPSTR\"&strflag!B21,strflag!D21),IF(tagflag!B21=\"NOTAG\",rawrtf!A21,SUBSTITUTE(rawrtf!A21,\"TFPTAG\"&tagflag!D21,\"\"))),\"\")","v":"\\'01\\u-3929 ?;}{\\levelnumbers;}\\f14\\chbrdr\\brdrnone\\brdrcf1 \\chshdng0\\chcfpat1\\chcbpat1\\fbias0 \\fi-360\\li2160\\jclisttab\\tx2160 }{\\listlevel\\levelnfc23\\levelnfcn23\\leveljc0\\leveljcn0\\levelfollow0\\levelstartat1\\levelspace360\\levelindent0{\\leveltext"}]
[{"$f":"IF(tagflag!A22=1,IF(strflag!A22=1,SUBSTITUTE(IF(tagflag!B22=\"NOTAG\",rawrtf!A22,SUBSTITUTE(rawrtf!A22,\"TFPTAG\"&tagflag!D22,\"\")),\"TFPSTR\"&strflag!B22,strflag!D22),IF(tagflag!B22=\"NOTAG\",rawrtf!A22,SUBSTITUTE(rawrtf!A22,\"TFPTAG\"&tagflag!D22,\"\"))),\"\")","v":"\\leveltemplateid67698689\\'01\\u-3913 ?;}{\\levelnumbers;}\\f3\\chbrdr\\brdrnone\\brdrcf1 \\chshdng0\\chcfpat1\\chcbpat1\\fbias0 \\fi-360\\li2880\\jclisttab\\tx2880 }{\\listlevel\\levelnfc23\\levelnfcn23\\leveljc0\\leveljcn0\\levelfollow0\\levelstartat1\\levelspace360"}]
[{"$f":"IF(tagflag!A23=1,IF(strflag!A23=1,SUBSTITUTE(IF(tagflag!B23=\"NOTAG\",rawrtf!A23,SUBSTITUTE(rawrtf!A23,\"TFPTAG\"&tagflag!D23,\"\")),\"TFPSTR\"&strflag!B23,strflag!D23),IF(tagflag!B23=\"NOTAG\",rawrtf!A23,SUBSTITUTE(rawrtf!A23,\"TFPTAG\"&tagflag!D23,\"\"))),\"\")","v":"\\levelindent0{\\leveltext\\leveltemplateid67698691\\'01o;}{\\levelnumbers;}\\f2\\chbrdr\\brdrnone\\brdrcf1 \\chshdng0\\chcfpat1\\chcbpat1\\fbias0 \\fi-360\\li3600\\jclisttab\\tx3600 }{\\listlevel\\levelnfc23\\levelnfcn23\\leveljc0\\leveljcn0\\levelfollow0\\levelstartat1"}]
[{"$f":"IF(tagflag!A24=1,IF(strflag!A24=1,SUBSTITUTE(IF(tagflag!B24=\"NOTAG\",rawrtf!A24,SUBSTITUTE(rawrtf!A24,\"TFPTAG\"&tagflag!D24,\"\")),\"TFPSTR\"&strflag!B24,strflag!D24),IF(tagflag!B24=\"NOTAG\",rawrtf!A24,SUBSTITUTE(rawrtf!A24,\"TFPTAG\"&tagflag!D24,\"\"))),\"\")","v":"\\levelspace360\\levelindent0{\\leveltext\\leveltemplateid67698693\\'01\\u-3929 ?;}{\\levelnumbers;}\\f14\\chbrdr\\brdrnone\\brdrcf1 \\chshdng0\\chcfpat1\\chcbpat1\\fbias0 \\fi-360\\li4320\\jclisttab\\tx4320 }{\\listlevel\\levelnfc23\\levelnfcn23\\leveljc0\\leveljcn0"}]
[{"$f":"IF(tagflag!A25=1,IF(strflag!A25=1,SUBSTITUTE(IF(tagflag!B25=\"NOTAG\",rawrtf!A25,SUBSTITUTE(rawrtf!A25,\"TFPTAG\"&tagflag!D25,\"\")),\"TFPSTR\"&strflag!B25,strflag!D25),IF(tagflag!B25=\"NOTAG\",rawrtf!A25,SUBSTITUTE(rawrtf!A25,\"TFPTAG\"&tagflag!D25,\"\"))),\"\")","v":"\\levelfollow0\\levelstartat1\\levelspace360\\levelindent0{\\leveltext\\leveltemplateid67698689\\'01\\u-3913 ?;}{\\levelnumbers;}\\f3\\chbrdr\\brdrnone\\brdrcf1 \\chshdng0\\chcfpat1\\chcbpat1\\fbias0 \\fi-360\\li5040\\jclisttab\\tx5040 }{\\listlevel\\levelnfc23\\levelnfcn23"}]
[{"$f":"IF(tagflag!A26=1,IF(strflag!A26=1,SUBSTITUTE(IF(tagflag!B26=\"NOTAG\",rawrtf!A26,SUBSTITUTE(rawrtf!A26,\"TFPTAG\"&tagflag!D26,\"\")),\"TFPSTR\"&strflag!B26,strflag!D26),IF(tagflag!B26=\"NOTAG\",rawrtf!A26,SUBSTITUTE(rawrtf!A26,\"TFPTAG\"&tagflag!D26,\"\"))),\"\")","v":"\\leveljc0\\leveljcn0\\levelfollow0\\levelstartat1\\levelspace360\\levelindent0{\\leveltext\\leveltemplateid67698691\\'01o;}{\\levelnumbers;}\\f2\\chbrdr\\brdrnone\\brdrcf1 \\chshdng0\\chcfpat1\\chcbpat1\\fbias0 \\fi-360\\li5760\\jclisttab\\tx5760 }{\\listlevel\\levelnfc23"}]
[{"$f":"IF(tagflag!A27=1,IF(strflag!A27=1,SUBSTITUTE(IF(tagflag!B27=\"NOTAG\",rawrtf!A27,SUBSTITUTE(rawrtf!A27,\"TFPTAG\"&tagflag!D27,\"\")),\"TFPSTR\"&strflag!B27,strflag!D27),IF(tagflag!B27=\"NOTAG\",rawrtf!A27,SUBSTITUTE(rawrtf!A27,\"TFPTAG\"&tagflag!D27,\"\"))),\"\")","v":"\\levelnfcn23\\leveljc0\\leveljcn0\\levelfollow0\\levelstartat1\\levelspace360\\levelindent0{\\leveltext\\leveltemplateid67698693\\'01\\u-3929 ?;}{\\levelnumbers;}\\f14\\chbrdr\\brdrnone\\brdrcf1 \\chshdng0\\chcfpat1\\chcbpat1\\fbias0 \\fi-360\\li6480\\jclisttab\\tx6480 }"}]
[{"$f":"IF(tagflag!A28=1,IF(strflag!A28=1,SUBSTITUTE(IF(tagflag!B28=\"NOTAG\",rawrtf!A28,SUBSTITUTE(rawrtf!A28,\"TFPTAG\"&tagflag!D28,\"\")),\"TFPSTR\"&strflag!B28,strflag!D28),IF(tagflag!B28=\"NOTAG\",rawrtf!A28,SUBSTITUTE(rawrtf!A28,\"TFPTAG\"&tagflag!D28,\"\"))),\"\")","v":"{\\listname ;}\\listid351958852}{\\list\\listtemplateid1613499070\\listhybrid{\\listlevel\\levelnfc23\\levelnfcn23\\leveljc0\\leveljcn0\\levelfollow0\\levelstartat1\\levelspace360\\levelindent0{\\leveltext\\leveltemplateid67698689\\'01\\u-3913 ?;}{\\levelnumbers;}\\f3\\chbrdr"}]
[{"$f":"IF(tagflag!A29=1,IF(strflag!A29=1,SUBSTITUTE(IF(tagflag!B29=\"NOTAG\",rawrtf!A29,SUBSTITUTE(rawrtf!A29,\"TFPTAG\"&tagflag!D29,\"\")),\"TFPSTR\"&strflag!B29,strflag!D29),IF(tagflag!B29=\"NOTAG\",rawrtf!A29,SUBSTITUTE(rawrtf!A29,\"TFPTAG\"&tagflag!D29,\"\"))),\"\")","v":"\\brdrnone\\brdrcf1 \\chshdng0\\chcfpat1\\chcbpat1\\fbias0 \\fi-360\\li720\\jclisttab\\tx720 }{\\listlevel\\levelnfc23\\levelnfcn23\\leveljc0\\leveljcn0\\levelfollow0\\levelstartat1\\levelspace360\\levelindent0{\\leveltext\\leveltemplateid67698691\\'01o;}{\\levelnumbers;}\\f2"}]
[{"$f":"IF(tagflag!A30=1,IF(strflag!A30=1,SUBSTITUTE(IF(tagflag!B30=\"NOTAG\",rawrtf!A30,SUBSTITUTE(rawrtf!A30,\"TFPTAG\"&tagflag!D30,\"\")),\"TFPSTR\"&strflag!B30,strflag!D30),IF(tagflag!B30=\"NOTAG\",rawrtf!A30,SUBSTITUTE(rawrtf!A30,\"TFPTAG\"&tagflag!D30,\"\"))),\"\")","v":"\\chbrdr\\brdrnone\\brdrcf1 \\chshdng0\\chcfpat1\\chcbpat1\\fbias0 \\fi-360\\li1440\\jclisttab\\tx1440 }{\\listlevel\\levelnfc23\\levelnfcn23\\leveljc0\\leveljcn0\\levelfollow0\\levelstartat1\\levelspace360\\levelindent0{\\leveltext\\leveltemplateid67698693"}]
[{"$f":"IF(tagflag!A31=1,IF(strflag!A31=1,SUBSTITUTE(IF(tagflag!B31=\"NOTAG\",rawrtf!A31,SUBSTITUTE(rawrtf!A31,\"TFPTAG\"&tagflag!D31,\"\")),\"TFPSTR\"&strflag!B31,strflag!D31),IF(tagflag!B31=\"NOTAG\",rawrtf!A31,SUBSTITUTE(rawrtf!A31,\"TFPTAG\"&tagflag!D31,\"\"))),\"\")","v":"\\'01\\u-3929 ?;}{\\levelnumbers;}\\f14\\chbrdr\\brdrnone\\brdrcf1 \\chshdng0\\chcfpat1\\chcbpat1\\fbias0 \\fi-360\\li2160\\jclisttab\\tx2160 }{\\listlevel\\levelnfc23\\levelnfcn23\\leveljc0\\leveljcn0\\levelfollow0\\levelstartat1\\levelspace360\\levelindent0{\\leveltext"}]
[{"$f":"IF(tagflag!A32=1,IF(strflag!A32=1,SUBSTITUTE(IF(tagflag!B32=\"NOTAG\",rawrtf!A32,SUBSTITUTE(rawrtf!A32,\"TFPTAG\"&tagflag!D32,\"\")),\"TFPSTR\"&strflag!B32,strflag!D32),IF(tagflag!B32=\"NOTAG\",rawrtf!A32,SUBSTITUTE(rawrtf!A32,\"TFPTAG\"&tagflag!D32,\"\"))),\"\")","v":"\\leveltemplateid67698689\\'01\\u-3913 ?;}{\\levelnumbers;}\\f3\\chbrdr\\brdrnone\\brdrcf1 \\chshdng0\\chcfpat1\\chcbpat1\\fbias0 \\fi-360\\li2880\\jclisttab\\tx2880 }{\\listlevel\\levelnfc23\\levelnfcn23\\leveljc0\\leveljcn0\\levelfollow0\\levelstartat1\\levelspace360"}]
[{"$f":"IF(tagflag!A33=1,IF(strflag!A33=1,SUBSTITUTE(IF(tagflag!B33=\"NOTAG\",rawrtf!A33,SUBSTITUTE(rawrtf!A33,\"TFPTAG\"&tagflag!D33,\"\")),\"TFPSTR\"&strflag!B33,strflag!D33),IF(tagflag!B33=\"NOTAG\",rawrtf!A33,SUBSTITUTE(rawrtf!A33,\"TFPTAG\"&tagflag!D33,\"\"))),\"\")","v":"\\levelindent0{\\leveltext\\leveltemplateid67698691\\'01o;}{\\levelnumbers;}\\f2\\chbrdr\\brdrnone\\brdrcf1 \\chshdng0\\chcfpat1\\chcbpat1\\fbias0 \\fi-360\\li3600\\jclisttab\\tx3600 }{\\listlevel\\levelnfc23\\levelnfcn23\\leveljc0\\leveljcn0\\levelfollow0\\levelstartat1"}]
[{"$f":"IF(tagflag!A34=1,IF(strflag!A34=1,SUBSTITUTE(IF(tagflag!B34=\"NOTAG\",rawrtf!A34,SUBSTITUTE(rawrtf!A34,\"TFPTAG\"&tagflag!D34,\"\")),\"TFPSTR\"&strflag!B34,strflag!D34),IF(tagflag!B34=\"NOTAG\",rawrtf!A34,SUBSTITUTE(rawrtf!A34,\"TFPTAG\"&tagflag!D34,\"\"))),\"\")","v":"\\levelspace360\\levelindent0{\\leveltext\\leveltemplateid67698693\\'01\\u-3929 ?;}{\\levelnumbers;}\\f14\\chbrdr\\brdrnone\\brdrcf1 \\chshdng0\\chcfpat1\\chcbpat1\\fbias0 \\fi-360\\li4320\\jclisttab\\tx4320 }{\\listlevel\\levelnfc23\\levelnfcn23\\leveljc0\\leveljcn0"}]
[{"$f":"IF(tagflag!A35=1,IF(strflag!A35=1,SUBSTITUTE(IF(tagflag!B35=\"NOTAG\",rawrtf!A35,SUBSTITUTE(rawrtf!A35,\"TFPTAG\"&tagflag!D35,\"\")),\"TFPSTR\"&strflag!B35,strflag!D35),IF(tagflag!B35=\"NOTAG\",rawrtf!A35,SUBSTITUTE(rawrtf!A35,\"TFPTAG\"&tagflag!D35,\"\"))),\"\")","v":"\\levelfollow0\\levelstartat1\\levelspace360\\levelindent0{\\leveltext\\leveltemplateid67698689\\'01\\u-3913 ?;}{\\levelnumbers;}\\f3\\chbrdr\\brdrnone\\brdrcf1 \\chshdng0\\chcfpat1\\chcbpat1\\fbias0 \\fi-360\\li5040\\jclisttab\\tx5040 }{\\listlevel\\levelnfc23\\levelnfcn23"}]
[{"$f":"IF(tagflag!A36=1,IF(strflag!A36=1,SUBSTITUTE(IF(tagflag!B36=\"NOTAG\",rawrtf!A36,SUBSTITUTE(rawrtf!A36,\"TFPTAG\"&tagflag!D36,\"\")),\"TFPSTR\"&strflag!B36,strflag!D36),IF(tagflag!B36=\"NOTAG\",rawrtf!A36,SUBSTITUTE(rawrtf!A36,\"TFPTAG\"&tagflag!D36,\"\"))),\"\")","v":"\\leveljc0\\leveljcn0\\levelfollow0\\levelstartat1\\levelspace360\\levelindent0{\\leveltext\\leveltemplateid67698691\\'01o;}{\\levelnumbers;}\\f2\\chbrdr\\brdrnone\\brdrcf1 \\chshdng0\\chcfpat1\\chcbpat1\\fbias0 \\fi-360\\li5760\\jclisttab\\tx5760 }{\\listlevel\\levelnfc23"}]
[{"$f":"IF(tagflag!A37=1,IF(strflag!A37=1,SUBSTITUTE(IF(tagflag!B37=\"NOTAG\",rawrtf!A37,SUBSTITUTE(rawrtf!A37,\"TFPTAG\"&tagflag!D37,\"\")),\"TFPSTR\"&strflag!B37,strflag!D37),IF(tagflag!B37=\"NOTAG\",rawrtf!A37,SUBSTITUTE(rawrtf!A37,\"TFPTAG\"&tagflag!D37,\"\"))),\"\")","v":"\\levelnfcn23\\leveljc0\\leveljcn0\\levelfollow0\\levelstartat1\\levelspace360\\levelindent0{\\leveltext\\leveltemplateid67698693\\'01\\u-3929 ?;}{\\levelnumbers;}\\f14\\chbrdr\\brdrnone\\brdrcf1 \\chshdng0\\chcfpat1\\chcbpat1\\fbias0 \\fi-360\\li6480\\jclisttab\\tx6480 }"}]
[{"$f":"IF(tagflag!A38=1,IF(strflag!A38=1,SUBSTITUTE(IF(tagflag!B38=\"NOTAG\",rawrtf!A38,SUBSTITUTE(rawrtf!A38,\"TFPTAG\"&tagflag!D38,\"\")),\"TFPSTR\"&strflag!B38,strflag!D38),IF(tagflag!B38=\"NOTAG\",rawrtf!A38,SUBSTITUTE(rawrtf!A38,\"TFPTAG\"&tagflag!D38,\"\"))),\"\")","v":"{\\listname ;}\\listid512492878}{\\list\\listtemplateid-16367490\\listhybrid{\\listlevel\\levelnfc23\\levelnfcn23\\leveljc0\\leveljcn0\\levelfollow0\\levelstartat1\\levelspace360\\levelindent0{\\leveltext\\leveltemplateid67698689\\'01\\u-3913 ?;}{\\levelnumbers;}\\f3\\chbrdr"}]
[{"$f":"IF(tagflag!A39=1,IF(strflag!A39=1,SUBSTITUTE(IF(tagflag!B39=\"NOTAG\",rawrtf!A39,SUBSTITUTE(rawrtf!A39,\"TFPTAG\"&tagflag!D39,\"\")),\"TFPSTR\"&strflag!B39,strflag!D39),IF(tagflag!B39=\"NOTAG\",rawrtf!A39,SUBSTITUTE(rawrtf!A39,\"TFPTAG\"&tagflag!D39,\"\"))),\"\")","v":"\\brdrnone\\brdrcf1 \\chshdng0\\chcfpat1\\chcbpat1\\fbias0 \\fi-360\\li720\\jclisttab\\tx720 }{\\listlevel\\levelnfc23\\levelnfcn23\\leveljc0\\leveljcn0\\levelfollow0\\levelstartat1\\levelspace360\\levelindent0{\\leveltext\\leveltemplateid67698691\\'01o;}{\\levelnumbers;}\\f2"}]
[{"$f":"IF(tagflag!A40=1,IF(strflag!A40=1,SUBSTITUTE(IF(tagflag!B40=\"NOTAG\",rawrtf!A40,SUBSTITUTE(rawrtf!A40,\"TFPTAG\"&tagflag!D40,\"\")),\"TFPSTR\"&strflag!B40,strflag!D40),IF(tagflag!B40=\"NOTAG\",rawrtf!A40,SUBSTITUTE(rawrtf!A40,\"TFPTAG\"&tagflag!D40,\"\"))),\"\")","v":"\\chbrdr\\brdrnone\\brdrcf1 \\chshdng0\\chcfpat1\\chcbpat1\\fbias0 \\fi-360\\li1440\\jclisttab\\tx1440 }{\\listlevel\\levelnfc23\\levelnfcn23\\leveljc0\\leveljcn0\\levelfollow0\\levelstartat1\\levelspace360\\levelindent0{\\leveltext\\leveltemplateid67698693"}]
[{"$f":"IF(tagflag!A41=1,IF(strflag!A41=1,SUBSTITUTE(IF(tagflag!B41=\"NOTAG\",rawrtf!A41,SUBSTITUTE(rawrtf!A41,\"TFPTAG\"&tagflag!D41,\"\")),\"TFPSTR\"&strflag!B41,strflag!D41),IF(tagflag!B41=\"NOTAG\",rawrtf!A41,SUBSTITUTE(rawrtf!A41,\"TFPTAG\"&tagflag!D41,\"\"))),\"\")","v":"\\'01\\u-3929 ?;}{\\levelnumbers;}\\f14\\chbrdr\\brdrnone\\brdrcf1 \\chshdng0\\chcfpat1\\chcbpat1\\fbias0 \\fi-360\\li2160\\jclisttab\\tx2160 }{\\listlevel\\levelnfc23\\levelnfcn23\\leveljc0\\leveljcn0\\levelfollow0\\levelstartat1\\levelspace360\\levelindent0{\\leveltext"}]
[{"$f":"IF(tagflag!A42=1,IF(strflag!A42=1,SUBSTITUTE(IF(tagflag!B42=\"NOTAG\",rawrtf!A42,SUBSTITUTE(rawrtf!A42,\"TFPTAG\"&tagflag!D42,\"\")),\"TFPSTR\"&strflag!B42,strflag!D42),IF(tagflag!B42=\"NOTAG\",rawrtf!A42,SUBSTITUTE(rawrtf!A42,\"TFPTAG\"&tagflag!D42,\"\"))),\"\")","v":"\\leveltemplateid67698689\\'01\\u-3913 ?;}{\\levelnumbers;}\\f3\\chbrdr\\brdrnone\\brdrcf1 \\chshdng0\\chcfpat1\\chcbpat1\\fbias0 \\fi-360\\li2880\\jclisttab\\tx2880 }{\\listlevel\\levelnfc23\\levelnfcn23\\leveljc0\\leveljcn0\\levelfollow0\\levelstartat1\\levelspace360"}]
[{"$f":"IF(tagflag!A43=1,IF(strflag!A43=1,SUBSTITUTE(IF(tagflag!B43=\"NOTAG\",rawrtf!A43,SUBSTITUTE(rawrtf!A43,\"TFPTAG\"&tagflag!D43,\"\")),\"TFPSTR\"&strflag!B43,strflag!D43),IF(tagflag!B43=\"NOTAG\",rawrtf!A43,SUBSTITUTE(rawrtf!A43,\"TFPTAG\"&tagflag!D43,\"\"))),\"\")","v":"\\levelindent0{\\leveltext\\leveltemplateid67698691\\'01o;}{\\levelnumbers;}\\f2\\chbrdr\\brdrnone\\brdrcf1 \\chshdng0\\chcfpat1\\chcbpat1\\fbias0 \\fi-360\\li3600\\jclisttab\\tx3600 }{\\listlevel\\levelnfc23\\levelnfcn23\\leveljc0\\leveljcn0\\levelfollow0\\levelstartat1"}]
[{"$f":"IF(tagflag!A44=1,IF(strflag!A44=1,SUBSTITUTE(IF(tagflag!B44=\"NOTAG\",rawrtf!A44,SUBSTITUTE(rawrtf!A44,\"TFPTAG\"&tagflag!D44,\"\")),\"TFPSTR\"&strflag!B44,strflag!D44),IF(tagflag!B44=\"NOTAG\",rawrtf!A44,SUBSTITUTE(rawrtf!A44,\"TFPTAG\"&tagflag!D44,\"\"))),\"\")","v":"\\levelspace360\\levelindent0{\\leveltext\\leveltemplateid67698693\\'01\\u-3929 ?;}{\\levelnumbers;}\\f14\\chbrdr\\brdrnone\\brdrcf1 \\chshdng0\\chcfpat1\\chcbpat1\\fbias0 \\fi-360\\li4320\\jclisttab\\tx4320 }{\\listlevel\\levelnfc23\\levelnfcn23\\leveljc0\\leveljcn0"}]
[{"$f":"IF(tagflag!A45=1,IF(strflag!A45=1,SUBSTITUTE(IF(tagflag!B45=\"NOTAG\",rawrtf!A45,SUBSTITUTE(rawrtf!A45,\"TFPTAG\"&tagflag!D45,\"\")),\"TFPSTR\"&strflag!B45,strflag!D45),IF(tagflag!B45=\"NOTAG\",rawrtf!A45,SUBSTITUTE(rawrtf!A45,\"TFPTAG\"&tagflag!D45,\"\"))),\"\")","v":"\\levelfollow0\\levelstartat1\\levelspace360\\levelindent0{\\leveltext\\leveltemplateid67698689\\'01\\u-3913 ?;}{\\levelnumbers;}\\f3\\chbrdr\\brdrnone\\brdrcf1 \\chshdng0\\chcfpat1\\chcbpat1\\fbias0 \\fi-360\\li5040\\jclisttab\\tx5040 }{\\listlevel\\levelnfc23\\levelnfcn23"}]
[{"$f":"IF(tagflag!A46=1,IF(strflag!A46=1,SUBSTITUTE(IF(tagflag!B46=\"NOTAG\",rawrtf!A46,SUBSTITUTE(rawrtf!A46,\"TFPTAG\"&tagflag!D46,\"\")),\"TFPSTR\"&strflag!B46,strflag!D46),IF(tagflag!B46=\"NOTAG\",rawrtf!A46,SUBSTITUTE(rawrtf!A46,\"TFPTAG\"&tagflag!D46,\"\"))),\"\")","v":"\\leveljc0\\leveljcn0\\levelfollow0\\levelstartat1\\levelspace360\\levelindent0{\\leveltext\\leveltemplateid67698691\\'01o;}{\\levelnumbers;}\\f2\\chbrdr\\brdrnone\\brdrcf1 \\chshdng0\\chcfpat1\\chcbpat1\\fbias0 \\fi-360\\li5760\\jclisttab\\tx5760 }{\\listlevel\\levelnfc23"}]
[{"$f":"IF(tagflag!A47=1,IF(strflag!A47=1,SUBSTITUTE(IF(tagflag!B47=\"NOTAG\",rawrtf!A47,SUBSTITUTE(rawrtf!A47,\"TFPTAG\"&tagflag!D47,\"\")),\"TFPSTR\"&strflag!B47,strflag!D47),IF(tagflag!B47=\"NOTAG\",rawrtf!A47,SUBSTITUTE(rawrtf!A47,\"TFPTAG\"&tagflag!D47,\"\"))),\"\")","v":"\\levelnfcn23\\leveljc0\\leveljcn0\\levelfollow0\\levelstartat1\\levelspace360\\levelindent0{\\leveltext\\leveltemplateid67698693\\'01\\u-3929 ?;}{\\levelnumbers;}\\f14\\chbrdr\\brdrnone\\brdrcf1 \\chshdng0\\chcfpat1\\chcbpat1\\fbias0 \\fi-360\\li6480\\jclisttab\\tx6480 }"}]
[{"$f":"IF(tagflag!A48=1,IF(strflag!A48=1,SUBSTITUTE(IF(tagflag!B48=\"NOTAG\",rawrtf!A48,SUBSTITUTE(rawrtf!A48,\"TFPTAG\"&tagflag!D48,\"\")),\"TFPSTR\"&strflag!B48,strflag!D48),IF(tagflag!B48=\"NOTAG\",rawrtf!A48,SUBSTITUTE(rawrtf!A48,\"TFPTAG\"&tagflag!D48,\"\"))),\"\")","v":"{\\listname ;}\\listid753169515}{\\list\\listtemplateid1960226630\\listhybrid{\\listlevel\\levelnfc23\\levelnfcn23\\leveljc0\\leveljcn0\\levelfollow0\\levelstartat1\\levelspace360\\levelindent0{\\leveltext\\leveltemplateid67698689\\'01\\u-3913 ?;}{\\levelnumbers;}\\f3\\chbrdr"}]
[{"$f":"IF(tagflag!A49=1,IF(strflag!A49=1,SUBSTITUTE(IF(tagflag!B49=\"NOTAG\",rawrtf!A49,SUBSTITUTE(rawrtf!A49,\"TFPTAG\"&tagflag!D49,\"\")),\"TFPSTR\"&strflag!B49,strflag!D49),IF(tagflag!B49=\"NOTAG\",rawrtf!A49,SUBSTITUTE(rawrtf!A49,\"TFPTAG\"&tagflag!D49,\"\"))),\"\")","v":"\\brdrnone\\brdrcf1 \\chshdng0\\chcfpat1\\chcbpat1\\fbias0 \\fi-360\\li720\\jclisttab\\tx720 }{\\listlevel\\levelnfc23\\levelnfcn23\\leveljc0\\leveljcn0\\levelfollow0\\levelstartat1\\levelspace360\\levelindent0{\\leveltext\\leveltemplateid67698691\\'01o;}{\\levelnumbers;}\\f2"}]
[{"$f":"IF(tagflag!A50=1,IF(strflag!A50=1,SUBSTITUTE(IF(tagflag!B50=\"NOTAG\",rawrtf!A50,SUBSTITUTE(rawrtf!A50,\"TFPTAG\"&tagflag!D50,\"\")),\"TFPSTR\"&strflag!B50,strflag!D50),IF(tagflag!B50=\"NOTAG\",rawrtf!A50,SUBSTITUTE(rawrtf!A50,\"TFPTAG\"&tagflag!D50,\"\"))),\"\")","v":"\\chbrdr\\brdrnone\\brdrcf1 \\chshdng0\\chcfpat1\\chcbpat1\\fbias0 \\fi-360\\li1440\\jclisttab\\tx1440 }{\\listlevel\\levelnfc23\\levelnfcn23\\leveljc0\\leveljcn0\\levelfollow0\\levelstartat1\\levelspace360\\levelindent0{\\leveltext\\leveltemplateid67698693"}]
[{"$f":"IF(tagflag!A51=1,IF(strflag!A51=1,SUBSTITUTE(IF(tagflag!B51=\"NOTAG\",rawrtf!A51,SUBSTITUTE(rawrtf!A51,\"TFPTAG\"&tagflag!D51,\"\")),\"TFPSTR\"&strflag!B51,strflag!D51),IF(tagflag!B51=\"NOTAG\",rawrtf!A51,SUBSTITUTE(rawrtf!A51,\"TFPTAG\"&tagflag!D51,\"\"))),\"\")","v":"\\'01\\u-3929 ?;}{\\levelnumbers;}\\f14\\chbrdr\\brdrnone\\brdrcf1 \\chshdng0\\chcfpat1\\chcbpat1\\fbias0 \\fi-360\\li2160\\jclisttab\\tx2160 }{\\listlevel\\levelnfc23\\levelnfcn23\\leveljc0\\leveljcn0\\levelfollow0\\levelstartat1\\levelspace360\\levelindent0{\\leveltext"}]
[{"$f":"IF(tagflag!A52=1,IF(strflag!A52=1,SUBSTITUTE(IF(tagflag!B52=\"NOTAG\",rawrtf!A52,SUBSTITUTE(rawrtf!A52,\"TFPTAG\"&tagflag!D52,\"\")),\"TFPSTR\"&strflag!B52,strflag!D52),IF(tagflag!B52=\"NOTAG\",rawrtf!A52,SUBSTITUTE(rawrtf!A52,\"TFPTAG\"&tagflag!D52,\"\"))),\"\")","v":"\\leveltemplateid67698689\\'01\\u-3913 ?;}{\\levelnumbers;}\\f3\\chbrdr\\brdrnone\\brdrcf1 \\chshdng0\\chcfpat1\\chcbpat1\\fbias0 \\fi-360\\li2880\\jclisttab\\tx2880 }{\\listlevel\\levelnfc23\\levelnfcn23\\leveljc0\\leveljcn0\\levelfollow0\\levelstartat1\\levelspace360"}]
[{"$f":"IF(tagflag!A53=1,IF(strflag!A53=1,SUBSTITUTE(IF(tagflag!B53=\"NOTAG\",rawrtf!A53,SUBSTITUTE(rawrtf!A53,\"TFPTAG\"&tagflag!D53,\"\")),\"TFPSTR\"&strflag!B53,strflag!D53),IF(tagflag!B53=\"NOTAG\",rawrtf!A53,SUBSTITUTE(rawrtf!A53,\"TFPTAG\"&tagflag!D53,\"\"))),\"\")","v":"\\levelindent0{\\leveltext\\leveltemplateid67698691\\'01o;}{\\levelnumbers;}\\f2\\chbrdr\\brdrnone\\brdrcf1 \\chshdng0\\chcfpat1\\chcbpat1\\fbias0 \\fi-360\\li3600\\jclisttab\\tx3600 }{\\listlevel\\levelnfc23\\levelnfcn23\\leveljc0\\leveljcn0\\levelfollow0\\levelstartat1"}]
[{"$f":"IF(tagflag!A54=1,IF(strflag!A54=1,SUBSTITUTE(IF(tagflag!B54=\"NOTAG\",rawrtf!A54,SUBSTITUTE(rawrtf!A54,\"TFPTAG\"&tagflag!D54,\"\")),\"TFPSTR\"&strflag!B54,strflag!D54),IF(tagflag!B54=\"NOTAG\",rawrtf!A54,SUBSTITUTE(rawrtf!A54,\"TFPTAG\"&tagflag!D54,\"\"))),\"\")","v":"\\levelspace360\\levelindent0{\\leveltext\\leveltemplateid67698693\\'01\\u-3929 ?;}{\\levelnumbers;}\\f14\\chbrdr\\brdrnone\\brdrcf1 \\chshdng0\\chcfpat1\\chcbpat1\\fbias0 \\fi-360\\li4320\\jclisttab\\tx4320 }{\\listlevel\\levelnfc23\\levelnfcn23\\leveljc0\\leveljcn0"}]
[{"$f":"IF(tagflag!A55=1,IF(strflag!A55=1,SUBSTITUTE(IF(tagflag!B55=\"NOTAG\",rawrtf!A55,SUBSTITUTE(rawrtf!A55,\"TFPTAG\"&tagflag!D55,\"\")),\"TFPSTR\"&strflag!B55,strflag!D55),IF(tagflag!B55=\"NOTAG\",rawrtf!A55,SUBSTITUTE(rawrtf!A55,\"TFPTAG\"&tagflag!D55,\"\"))),\"\")","v":"\\levelfollow0\\levelstartat1\\levelspace360\\levelindent0{\\leveltext\\leveltemplateid67698689\\'01\\u-3913 ?;}{\\levelnumbers;}\\f3\\chbrdr\\brdrnone\\brdrcf1 \\chshdng0\\chcfpat1\\chcbpat1\\fbias0 \\fi-360\\li5040\\jclisttab\\tx5040 }{\\listlevel\\levelnfc23\\levelnfcn23"}]
[{"$f":"IF(tagflag!A56=1,IF(strflag!A56=1,SUBSTITUTE(IF(tagflag!B56=\"NOTAG\",rawrtf!A56,SUBSTITUTE(rawrtf!A56,\"TFPTAG\"&tagflag!D56,\"\")),\"TFPSTR\"&strflag!B56,strflag!D56),IF(tagflag!B56=\"NOTAG\",rawrtf!A56,SUBSTITUTE(rawrtf!A56,\"TFPTAG\"&tagflag!D56,\"\"))),\"\")","v":"\\leveljc0\\leveljcn0\\levelfollow0\\levelstartat1\\levelspace360\\levelindent0{\\leveltext\\leveltemplateid67698691\\'01o;}{\\levelnumbers;}\\f2\\chbrdr\\brdrnone\\brdrcf1 \\chshdng0\\chcfpat1\\chcbpat1\\fbias0 \\fi-360\\li5760\\jclisttab\\tx5760 }{\\listlevel\\levelnfc23"}]
[{"$f":"IF(tagflag!A57=1,IF(strflag!A57=1,SUBSTITUTE(IF(tagflag!B57=\"NOTAG\",rawrtf!A57,SUBSTITUTE(rawrtf!A57,\"TFPTAG\"&tagflag!D57,\"\")),\"TFPSTR\"&strflag!B57,strflag!D57),IF(tagflag!B57=\"NOTAG\",rawrtf!A57,SUBSTITUTE(rawrtf!A57,\"TFPTAG\"&tagflag!D57,\"\"))),\"\")","v":"\\levelnfcn23\\leveljc0\\leveljcn0\\levelfollow0\\levelstartat1\\levelspace360\\levelindent0{\\leveltext\\leveltemplateid67698693\\'01\\u-3929 ?;}{\\levelnumbers;}\\f14\\chbrdr\\brdrnone\\brdrcf1 \\chshdng0\\chcfpat1\\chcbpat1\\fbias0 \\fi-360\\li6480\\jclisttab\\tx6480 }"}]
[{"$f":"IF(tagflag!A58=1,IF(strflag!A58=1,SUBSTITUTE(IF(tagflag!B58=\"NOTAG\",rawrtf!A58,SUBSTITUTE(rawrtf!A58,\"TFPTAG\"&tagflag!D58,\"\")),\"TFPSTR\"&strflag!B58,strflag!D58),IF(tagflag!B58=\"NOTAG\",rawrtf!A58,SUBSTITUTE(rawrtf!A58,\"TFPTAG\"&tagflag!D58,\"\"))),\"\")","v":"{\\listname ;}\\listid839931700}{\\list\\listtemplateid-218047324\\listhybrid{\\listlevel\\levelnfc23\\levelnfcn23\\leveljc0\\leveljcn0\\levelfollow0\\levelstartat1\\levelspace360\\levelindent0{\\leveltext\\leveltemplateid67698689\\'01\\u-3913 ?;}{\\levelnumbers;}\\f3\\chbrdr"}]
[{"$f":"IF(tagflag!A59=1,IF(strflag!A59=1,SUBSTITUTE(IF(tagflag!B59=\"NOTAG\",rawrtf!A59,SUBSTITUTE(rawrtf!A59,\"TFPTAG\"&tagflag!D59,\"\")),\"TFPSTR\"&strflag!B59,strflag!D59),IF(tagflag!B59=\"NOTAG\",rawrtf!A59,SUBSTITUTE(rawrtf!A59,\"TFPTAG\"&tagflag!D59,\"\"))),\"\")","v":"\\brdrnone\\brdrcf1 \\chshdng0\\chcfpat1\\chcbpat1\\fbias0 \\fi-360\\li720\\jclisttab\\tx720 }{\\listlevel\\levelnfc23\\levelnfcn23\\leveljc0\\leveljcn0\\levelfollow0\\levelstartat1\\levelspace360\\levelindent0{\\leveltext\\leveltemplateid67698691\\'01o;}{\\levelnumbers;}\\f2"}]
[{"$f":"IF(tagflag!A60=1,IF(strflag!A60=1,SUBSTITUTE(IF(tagflag!B60=\"NOTAG\",rawrtf!A60,SUBSTITUTE(rawrtf!A60,\"TFPTAG\"&tagflag!D60,\"\")),\"TFPSTR\"&strflag!B60,strflag!D60),IF(tagflag!B60=\"NOTAG\",rawrtf!A60,SUBSTITUTE(rawrtf!A60,\"TFPTAG\"&tagflag!D60,\"\"))),\"\")","v":"\\chbrdr\\brdrnone\\brdrcf1 \\chshdng0\\chcfpat1\\chcbpat1\\fbias0 \\fi-360\\li1440\\jclisttab\\tx1440 }{\\listlevel\\levelnfc23\\levelnfcn23\\leveljc0\\leveljcn0\\levelfollow0\\levelstartat1\\levelspace360\\levelindent0{\\leveltext\\leveltemplateid67698693"}]
[{"$f":"IF(tagflag!A61=1,IF(strflag!A61=1,SUBSTITUTE(IF(tagflag!B61=\"NOTAG\",rawrtf!A61,SUBSTITUTE(rawrtf!A61,\"TFPTAG\"&tagflag!D61,\"\")),\"TFPSTR\"&strflag!B61,strflag!D61),IF(tagflag!B61=\"NOTAG\",rawrtf!A61,SUBSTITUTE(rawrtf!A61,\"TFPTAG\"&tagflag!D61,\"\"))),\"\")","v":"\\'01\\u-3929 ?;}{\\levelnumbers;}\\f14\\chbrdr\\brdrnone\\brdrcf1 \\chshdng0\\chcfpat1\\chcbpat1\\fbias0 \\fi-360\\li2160\\jclisttab\\tx2160 }{\\listlevel\\levelnfc23\\levelnfcn23\\leveljc0\\leveljcn0\\levelfollow0\\levelstartat1\\levelspace360\\levelindent0{\\leveltext"}]
[{"$f":"IF(tagflag!A62=1,IF(strflag!A62=1,SUBSTITUTE(IF(tagflag!B62=\"NOTAG\",rawrtf!A62,SUBSTITUTE(rawrtf!A62,\"TFPTAG\"&tagflag!D62,\"\")),\"TFPSTR\"&strflag!B62,strflag!D62),IF(tagflag!B62=\"NOTAG\",rawrtf!A62,SUBSTITUTE(rawrtf!A62,\"TFPTAG\"&tagflag!D62,\"\"))),\"\")","v":"\\leveltemplateid67698689\\'01\\u-3913 ?;}{\\levelnumbers;}\\f3\\chbrdr\\brdrnone\\brdrcf1 \\chshdng0\\chcfpat1\\chcbpat1\\fbias0 \\fi-360\\li2880\\jclisttab\\tx2880 }{\\listlevel\\levelnfc23\\levelnfcn23\\leveljc0\\leveljcn0\\levelfollow0\\levelstartat1\\levelspace360"}]
[{"$f":"IF(tagflag!A63=1,IF(strflag!A63=1,SUBSTITUTE(IF(tagflag!B63=\"NOTAG\",rawrtf!A63,SUBSTITUTE(rawrtf!A63,\"TFPTAG\"&tagflag!D63,\"\")),\"TFPSTR\"&strflag!B63,strflag!D63),IF(tagflag!B63=\"NOTAG\",rawrtf!A63,SUBSTITUTE(rawrtf!A63,\"TFPTAG\"&tagflag!D63,\"\"))),\"\")","v":"\\levelindent0{\\leveltext\\leveltemplateid67698691\\'01o;}{\\levelnumbers;}\\f2\\chbrdr\\brdrnone\\brdrcf1 \\chshdng0\\chcfpat1\\chcbpat1\\fbias0 \\fi-360\\li3600\\jclisttab\\tx3600 }{\\listlevel\\levelnfc23\\levelnfcn23\\leveljc0\\leveljcn0\\levelfollow0\\levelstartat1"}]
[{"$f":"IF(tagflag!A64=1,IF(strflag!A64=1,SUBSTITUTE(IF(tagflag!B64=\"NOTAG\",rawrtf!A64,SUBSTITUTE(rawrtf!A64,\"TFPTAG\"&tagflag!D64,\"\")),\"TFPSTR\"&strflag!B64,strflag!D64),IF(tagflag!B64=\"NOTAG\",rawrtf!A64,SUBSTITUTE(rawrtf!A64,\"TFPTAG\"&tagflag!D64,\"\"))),\"\")","v":"\\levelspace360\\levelindent0{\\leveltext\\leveltemplateid67698693\\'01\\u-3929 ?;}{\\levelnumbers;}\\f14\\chbrdr\\brdrnone\\brdrcf1 \\chshdng0\\chcfpat1\\chcbpat1\\fbias0 \\fi-360\\li4320\\jclisttab\\tx4320 }{\\listlevel\\levelnfc23\\levelnfcn23\\leveljc0\\leveljcn0"}]
[{"$f":"IF(tagflag!A65=1,IF(strflag!A65=1,SUBSTITUTE(IF(tagflag!B65=\"NOTAG\",rawrtf!A65,SUBSTITUTE(rawrtf!A65,\"TFPTAG\"&tagflag!D65,\"\")),\"TFPSTR\"&strflag!B65,strflag!D65),IF(tagflag!B65=\"NOTAG\",rawrtf!A65,SUBSTITUTE(rawrtf!A65,\"TFPTAG\"&tagflag!D65,\"\"))),\"\")","v":"\\levelfollow0\\levelstartat1\\levelspace360\\levelindent0{\\leveltext\\leveltemplateid67698689\\'01\\u-3913 ?;}{\\levelnumbers;}\\f3\\chbrdr\\brdrnone\\brdrcf1 \\chshdng0\\chcfpat1\\chcbpat1\\fbias0 \\fi-360\\li5040\\jclisttab\\tx5040 }{\\listlevel\\levelnfc23\\levelnfcn23"}]
[{"$f":"IF(tagflag!A66=1,IF(strflag!A66=1,SUBSTITUTE(IF(tagflag!B66=\"NOTAG\",rawrtf!A66,SUBSTITUTE(rawrtf!A66,\"TFPTAG\"&tagflag!D66,\"\")),\"TFPSTR\"&strflag!B66,strflag!D66),IF(tagflag!B66=\"NOTAG\",rawrtf!A66,SUBSTITUTE(rawrtf!A66,\"TFPTAG\"&tagflag!D66,\"\"))),\"\")","v":"\\leveljc0\\leveljcn0\\levelfollow0\\levelstartat1\\levelspace360\\levelindent0{\\leveltext\\leveltemplateid67698691\\'01o;}{\\levelnumbers;}\\f2\\chbrdr\\brdrnone\\brdrcf1 \\chshdng0\\chcfpat1\\chcbpat1\\fbias0 \\fi-360\\li5760\\jclisttab\\tx5760 }{\\listlevel\\levelnfc23"}]
[{"$f":"IF(tagflag!A67=1,IF(strflag!A67=1,SUBSTITUTE(IF(tagflag!B67=\"NOTAG\",rawrtf!A67,SUBSTITUTE(rawrtf!A67,\"TFPTAG\"&tagflag!D67,\"\")),\"TFPSTR\"&strflag!B67,strflag!D67),IF(tagflag!B67=\"NOTAG\",rawrtf!A67,SUBSTITUTE(rawrtf!A67,\"TFPTAG\"&tagflag!D67,\"\"))),\"\")","v":"\\levelnfcn23\\leveljc0\\leveljcn0\\levelfollow0\\levelstartat1\\levelspace360\\levelindent0{\\leveltext\\leveltemplateid67698693\\'01\\u-3929 ?;}{\\levelnumbers;}\\f14\\chbrdr\\brdrnone\\brdrcf1 \\chshdng0\\chcfpat1\\chcbpat1\\fbias0 \\fi-360\\li6480\\jclisttab\\tx6480 }"}]
[{"$f":"IF(tagflag!A68=1,IF(strflag!A68=1,SUBSTITUTE(IF(tagflag!B68=\"NOTAG\",rawrtf!A68,SUBSTITUTE(rawrtf!A68,\"TFPTAG\"&tagflag!D68,\"\")),\"TFPSTR\"&strflag!B68,strflag!D68),IF(tagflag!B68=\"NOTAG\",rawrtf!A68,SUBSTITUTE(rawrtf!A68,\"TFPTAG\"&tagflag!D68,\"\"))),\"\")","v":"{\\listname ;}\\listid874660257}{\\list\\listtemplateid-442448722\\listhybrid{\\listlevel\\levelnfc23\\levelnfcn23\\leveljc0\\leveljcn0\\levelfollow0\\levelstartat1\\levelspace360\\levelindent0{\\leveltext\\leveltemplateid67698689\\'01\\u-3913 ?;}{\\levelnumbers;}\\f3\\chbrdr"}]
[{"$f":"IF(tagflag!A69=1,IF(strflag!A69=1,SUBSTITUTE(IF(tagflag!B69=\"NOTAG\",rawrtf!A69,SUBSTITUTE(rawrtf!A69,\"TFPTAG\"&tagflag!D69,\"\")),\"TFPSTR\"&strflag!B69,strflag!D69),IF(tagflag!B69=\"NOTAG\",rawrtf!A69,SUBSTITUTE(rawrtf!A69,\"TFPTAG\"&tagflag!D69,\"\"))),\"\")","v":"\\brdrnone\\brdrcf1 \\chshdng0\\chcfpat1\\chcbpat1\\fbias0 \\fi-360\\li720\\jclisttab\\tx720 }{\\listlevel\\levelnfc23\\levelnfcn23\\leveljc0\\leveljcn0\\levelfollow0\\levelstartat1\\levelspace360\\levelindent0{\\leveltext\\leveltemplateid67698691\\'01o;}{\\levelnumbers;}\\f2"}]
[{"$f":"IF(tagflag!A70=1,IF(strflag!A70=1,SUBSTITUTE(IF(tagflag!B70=\"NOTAG\",rawrtf!A70,SUBSTITUTE(rawrtf!A70,\"TFPTAG\"&tagflag!D70,\"\")),\"TFPSTR\"&strflag!B70,strflag!D70),IF(tagflag!B70=\"NOTAG\",rawrtf!A70,SUBSTITUTE(rawrtf!A70,\"TFPTAG\"&tagflag!D70,\"\"))),\"\")","v":"\\chbrdr\\brdrnone\\brdrcf1 \\chshdng0\\chcfpat1\\chcbpat1\\fbias0 \\fi-360\\li1440\\jclisttab\\tx1440 }{\\listlevel\\levelnfc23\\levelnfcn23\\leveljc0\\leveljcn0\\levelfollow0\\levelstartat1\\levelspace360\\levelindent0{\\leveltext\\leveltemplateid67698693"}]
[{"$f":"IF(tagflag!A71=1,IF(strflag!A71=1,SUBSTITUTE(IF(tagflag!B71=\"NOTAG\",rawrtf!A71,SUBSTITUTE(rawrtf!A71,\"TFPTAG\"&tagflag!D71,\"\")),\"TFPSTR\"&strflag!B71,strflag!D71),IF(tagflag!B71=\"NOTAG\",rawrtf!A71,SUBSTITUTE(rawrtf!A71,\"TFPTAG\"&tagflag!D71,\"\"))),\"\")","v":"\\'01\\u-3929 ?;}{\\levelnumbers;}\\f14\\chbrdr\\brdrnone\\brdrcf1 \\chshdng0\\chcfpat1\\chcbpat1\\fbias0 \\fi-360\\li2160\\jclisttab\\tx2160 }{\\listlevel\\levelnfc23\\levelnfcn23\\leveljc0\\leveljcn0\\levelfollow0\\levelstartat1\\levelspace360\\levelindent0{\\leveltext"}]
[{"$f":"IF(tagflag!A72=1,IF(strflag!A72=1,SUBSTITUTE(IF(tagflag!B72=\"NOTAG\",rawrtf!A72,SUBSTITUTE(rawrtf!A72,\"TFPTAG\"&tagflag!D72,\"\")),\"TFPSTR\"&strflag!B72,strflag!D72),IF(tagflag!B72=\"NOTAG\",rawrtf!A72,SUBSTITUTE(rawrtf!A72,\"TFPTAG\"&tagflag!D72,\"\"))),\"\")","v":"\\leveltemplateid67698689\\'01\\u-3913 ?;}{\\levelnumbers;}\\f3\\chbrdr\\brdrnone\\brdrcf1 \\chshdng0\\chcfpat1\\chcbpat1\\fbias0 \\fi-360\\li2880\\jclisttab\\tx2880 }{\\listlevel\\levelnfc23\\levelnfcn23\\leveljc0\\leveljcn0\\levelfollow0\\levelstartat1\\levelspace360"}]
[{"$f":"IF(tagflag!A73=1,IF(strflag!A73=1,SUBSTITUTE(IF(tagflag!B73=\"NOTAG\",rawrtf!A73,SUBSTITUTE(rawrtf!A73,\"TFPTAG\"&tagflag!D73,\"\")),\"TFPSTR\"&strflag!B73,strflag!D73),IF(tagflag!B73=\"NOTAG\",rawrtf!A73,SUBSTITUTE(rawrtf!A73,\"TFPTAG\"&tagflag!D73,\"\"))),\"\")","v":"\\levelindent0{\\leveltext\\leveltemplateid67698691\\'01o;}{\\levelnumbers;}\\f2\\chbrdr\\brdrnone\\brdrcf1 \\chshdng0\\chcfpat1\\chcbpat1\\fbias0 \\fi-360\\li3600\\jclisttab\\tx3600 }{\\listlevel\\levelnfc23\\levelnfcn23\\leveljc0\\leveljcn0\\levelfollow0\\levelstartat1"}]
[{"$f":"IF(tagflag!A74=1,IF(strflag!A74=1,SUBSTITUTE(IF(tagflag!B74=\"NOTAG\",rawrtf!A74,SUBSTITUTE(rawrtf!A74,\"TFPTAG\"&tagflag!D74,\"\")),\"TFPSTR\"&strflag!B74,strflag!D74),IF(tagflag!B74=\"NOTAG\",rawrtf!A74,SUBSTITUTE(rawrtf!A74,\"TFPTAG\"&tagflag!D74,\"\"))),\"\")","v":"\\levelspace360\\levelindent0{\\leveltext\\leveltemplateid67698693\\'01\\u-3929 ?;}{\\levelnumbers;}\\f14\\chbrdr\\brdrnone\\brdrcf1 \\chshdng0\\chcfpat1\\chcbpat1\\fbias0 \\fi-360\\li4320\\jclisttab\\tx4320 }{\\listlevel\\levelnfc23\\levelnfcn23\\leveljc0\\leveljcn0"}]
[{"$f":"IF(tagflag!A75=1,IF(strflag!A75=1,SUBSTITUTE(IF(tagflag!B75=\"NOTAG\",rawrtf!A75,SUBSTITUTE(rawrtf!A75,\"TFPTAG\"&tagflag!D75,\"\")),\"TFPSTR\"&strflag!B75,strflag!D75),IF(tagflag!B75=\"NOTAG\",rawrtf!A75,SUBSTITUTE(rawrtf!A75,\"TFPTAG\"&tagflag!D75,\"\"))),\"\")","v":"\\levelfollow0\\levelstartat1\\levelspace360\\levelindent0{\\leveltext\\leveltemplateid67698689\\'01\\u-3913 ?;}{\\levelnumbers;}\\f3\\chbrdr\\brdrnone\\brdrcf1 \\chshdng0\\chcfpat1\\chcbpat1\\fbias0 \\fi-360\\li5040\\jclisttab\\tx5040 }{\\listlevel\\levelnfc23\\levelnfcn23"}]
[{"$f":"IF(tagflag!A76=1,IF(strflag!A76=1,SUBSTITUTE(IF(tagflag!B76=\"NOTAG\",rawrtf!A76,SUBSTITUTE(rawrtf!A76,\"TFPTAG\"&tagflag!D76,\"\")),\"TFPSTR\"&strflag!B76,strflag!D76),IF(tagflag!B76=\"NOTAG\",rawrtf!A76,SUBSTITUTE(rawrtf!A76,\"TFPTAG\"&tagflag!D76,\"\"))),\"\")","v":"\\leveljc0\\leveljcn0\\levelfollow0\\levelstartat1\\levelspace360\\levelindent0{\\leveltext\\leveltemplateid67698691\\'01o;}{\\levelnumbers;}\\f2\\chbrdr\\brdrnone\\brdrcf1 \\chshdng0\\chcfpat1\\chcbpat1\\fbias0 \\fi-360\\li5760\\jclisttab\\tx5760 }{\\listlevel\\levelnfc23"}]
[{"$f":"IF(tagflag!A77=1,IF(strflag!A77=1,SUBSTITUTE(IF(tagflag!B77=\"NOTAG\",rawrtf!A77,SUBSTITUTE(rawrtf!A77,\"TFPTAG\"&tagflag!D77,\"\")),\"TFPSTR\"&strflag!B77,strflag!D77),IF(tagflag!B77=\"NOTAG\",rawrtf!A77,SUBSTITUTE(rawrtf!A77,\"TFPTAG\"&tagflag!D77,\"\"))),\"\")","v":"\\levelnfcn23\\leveljc0\\leveljcn0\\levelfollow0\\levelstartat1\\levelspace360\\levelindent0{\\leveltext\\leveltemplateid67698693\\'01\\u-3929 ?;}{\\levelnumbers;}\\f14\\chbrdr\\brdrnone\\brdrcf1 \\chshdng0\\chcfpat1\\chcbpat1\\fbias0 \\fi-360\\li6480\\jclisttab\\tx6480 }"}]
[{"$f":"IF(tagflag!A78=1,IF(strflag!A78=1,SUBSTITUTE(IF(tagflag!B78=\"NOTAG\",rawrtf!A78,SUBSTITUTE(rawrtf!A78,\"TFPTAG\"&tagflag!D78,\"\")),\"TFPSTR\"&strflag!B78,strflag!D78),IF(tagflag!B78=\"NOTAG\",rawrtf!A78,SUBSTITUTE(rawrtf!A78,\"TFPTAG\"&tagflag!D78,\"\"))),\"\")","v":"{\\listname ;}\\listid975987307}{\\list\\listtemplateid2092439592\\listhybrid{\\listlevel\\levelnfc23\\levelnfcn23\\leveljc0\\leveljcn0\\levelfollow0\\levelstartat1\\levelspace360\\levelindent0{\\leveltext\\leveltemplateid67698689\\'01\\u-3913 ?;}{\\levelnumbers;}\\f3\\chbrdr"}]
[{"$f":"IF(tagflag!A79=1,IF(strflag!A79=1,SUBSTITUTE(IF(tagflag!B79=\"NOTAG\",rawrtf!A79,SUBSTITUTE(rawrtf!A79,\"TFPTAG\"&tagflag!D79,\"\")),\"TFPSTR\"&strflag!B79,strflag!D79),IF(tagflag!B79=\"NOTAG\",rawrtf!A79,SUBSTITUTE(rawrtf!A79,\"TFPTAG\"&tagflag!D79,\"\"))),\"\")","v":"\\brdrnone\\brdrcf1 \\chshdng0\\chcfpat1\\chcbpat1\\fbias0 \\fi-360\\li720\\jclisttab\\tx720 }{\\listlevel\\levelnfc23\\levelnfcn23\\leveljc0\\leveljcn0\\levelfollow0\\levelstartat1\\levelspace360\\levelindent0{\\leveltext\\leveltemplateid67698691\\'01o;}{\\levelnumbers;}\\f2"}]
[{"$f":"IF(tagflag!A80=1,IF(strflag!A80=1,SUBSTITUTE(IF(tagflag!B80=\"NOTAG\",rawrtf!A80,SUBSTITUTE(rawrtf!A80,\"TFPTAG\"&tagflag!D80,\"\")),\"TFPSTR\"&strflag!B80,strflag!D80),IF(tagflag!B80=\"NOTAG\",rawrtf!A80,SUBSTITUTE(rawrtf!A80,\"TFPTAG\"&tagflag!D80,\"\"))),\"\")","v":"\\chbrdr\\brdrnone\\brdrcf1 \\chshdng0\\chcfpat1\\chcbpat1\\fbias0 \\fi-360\\li1440\\jclisttab\\tx1440 }{\\listlevel\\levelnfc23\\levelnfcn23\\leveljc0\\leveljcn0\\levelfollow0\\levelstartat1\\levelspace360\\levelindent0{\\leveltext\\leveltemplateid67698693"}]
[{"$f":"IF(tagflag!A81=1,IF(strflag!A81=1,SUBSTITUTE(IF(tagflag!B81=\"NOTAG\",rawrtf!A81,SUBSTITUTE(rawrtf!A81,\"TFPTAG\"&tagflag!D81,\"\")),\"TFPSTR\"&strflag!B81,strflag!D81),IF(tagflag!B81=\"NOTAG\",rawrtf!A81,SUBSTITUTE(rawrtf!A81,\"TFPTAG\"&tagflag!D81,\"\"))),\"\")","v":"\\'01\\u-3929 ?;}{\\levelnumbers;}\\f14\\chbrdr\\brdrnone\\brdrcf1 \\chshdng0\\chcfpat1\\chcbpat1\\fbias0 \\fi-360\\li2160\\jclisttab\\tx2160 }{\\listlevel\\levelnfc23\\levelnfcn23\\leveljc0\\leveljcn0\\levelfollow0\\levelstartat1\\levelspace360\\levelindent0{\\leveltext"}]
[{"$f":"IF(tagflag!A82=1,IF(strflag!A82=1,SUBSTITUTE(IF(tagflag!B82=\"NOTAG\",rawrtf!A82,SUBSTITUTE(rawrtf!A82,\"TFPTAG\"&tagflag!D82,\"\")),\"TFPSTR\"&strflag!B82,strflag!D82),IF(tagflag!B82=\"NOTAG\",rawrtf!A82,SUBSTITUTE(rawrtf!A82,\"TFPTAG\"&tagflag!D82,\"\"))),\"\")","v":"\\leveltemplateid67698689\\'01\\u-3913 ?;}{\\levelnumbers;}\\f3\\chbrdr\\brdrnone\\brdrcf1 \\chshdng0\\chcfpat1\\chcbpat1\\fbias0 \\fi-360\\li2880\\jclisttab\\tx2880 }{\\listlevel\\levelnfc23\\levelnfcn23\\leveljc0\\leveljcn0\\levelfollow0\\levelstartat1\\levelspace360"}]
[{"$f":"IF(tagflag!A83=1,IF(strflag!A83=1,SUBSTITUTE(IF(tagflag!B83=\"NOTAG\",rawrtf!A83,SUBSTITUTE(rawrtf!A83,\"TFPTAG\"&tagflag!D83,\"\")),\"TFPSTR\"&strflag!B83,strflag!D83),IF(tagflag!B83=\"NOTAG\",rawrtf!A83,SUBSTITUTE(rawrtf!A83,\"TFPTAG\"&tagflag!D83,\"\"))),\"\")","v":"\\levelindent0{\\leveltext\\leveltemplateid67698691\\'01o;}{\\levelnumbers;}\\f2\\chbrdr\\brdrnone\\brdrcf1 \\chshdng0\\chcfpat1\\chcbpat1\\fbias0 \\fi-360\\li3600\\jclisttab\\tx3600 }{\\listlevel\\levelnfc23\\levelnfcn23\\leveljc0\\leveljcn0\\levelfollow0\\levelstartat1"}]
[{"$f":"IF(tagflag!A84=1,IF(strflag!A84=1,SUBSTITUTE(IF(tagflag!B84=\"NOTAG\",rawrtf!A84,SUBSTITUTE(rawrtf!A84,\"TFPTAG\"&tagflag!D84,\"\")),\"TFPSTR\"&strflag!B84,strflag!D84),IF(tagflag!B84=\"NOTAG\",rawrtf!A84,SUBSTITUTE(rawrtf!A84,\"TFPTAG\"&tagflag!D84,\"\"))),\"\")","v":"\\levelspace360\\levelindent0{\\leveltext\\leveltemplateid67698693\\'01\\u-3929 ?;}{\\levelnumbers;}\\f14\\chbrdr\\brdrnone\\brdrcf1 \\chshdng0\\chcfpat1\\chcbpat1\\fbias0 \\fi-360\\li4320\\jclisttab\\tx4320 }{\\listlevel\\levelnfc23\\levelnfcn23\\leveljc0\\leveljcn0"}]
[{"$f":"IF(tagflag!A85=1,IF(strflag!A85=1,SUBSTITUTE(IF(tagflag!B85=\"NOTAG\",rawrtf!A85,SUBSTITUTE(rawrtf!A85,\"TFPTAG\"&tagflag!D85,\"\")),\"TFPSTR\"&strflag!B85,strflag!D85),IF(tagflag!B85=\"NOTAG\",rawrtf!A85,SUBSTITUTE(rawrtf!A85,\"TFPTAG\"&tagflag!D85,\"\"))),\"\")","v":"\\levelfollow0\\levelstartat1\\levelspace360\\levelindent0{\\leveltext\\leveltemplateid67698689\\'01\\u-3913 ?;}{\\levelnumbers;}\\f3\\chbrdr\\brdrnone\\brdrcf1 \\chshdng0\\chcfpat1\\chcbpat1\\fbias0 \\fi-360\\li5040\\jclisttab\\tx5040 }{\\listlevel\\levelnfc23\\levelnfcn23"}]
[{"$f":"IF(tagflag!A86=1,IF(strflag!A86=1,SUBSTITUTE(IF(tagflag!B86=\"NOTAG\",rawrtf!A86,SUBSTITUTE(rawrtf!A86,\"TFPTAG\"&tagflag!D86,\"\")),\"TFPSTR\"&strflag!B86,strflag!D86),IF(tagflag!B86=\"NOTAG\",rawrtf!A86,SUBSTITUTE(rawrtf!A86,\"TFPTAG\"&tagflag!D86,\"\"))),\"\")","v":"\\leveljc0\\leveljcn0\\levelfollow0\\levelstartat1\\levelspace360\\levelindent0{\\leveltext\\leveltemplateid67698691\\'01o;}{\\levelnumbers;}\\f2\\chbrdr\\brdrnone\\brdrcf1 \\chshdng0\\chcfpat1\\chcbpat1\\fbias0 \\fi-360\\li5760\\jclisttab\\tx5760 }{\\listlevel\\levelnfc23"}]
[{"$f":"IF(tagflag!A87=1,IF(strflag!A87=1,SUBSTITUTE(IF(tagflag!B87=\"NOTAG\",rawrtf!A87,SUBSTITUTE(rawrtf!A87,\"TFPTAG\"&tagflag!D87,\"\")),\"TFPSTR\"&strflag!B87,strflag!D87),IF(tagflag!B87=\"NOTAG\",rawrtf!A87,SUBSTITUTE(rawrtf!A87,\"TFPTAG\"&tagflag!D87,\"\"))),\"\")","v":"\\levelnfcn23\\leveljc0\\leveljcn0\\levelfollow0\\levelstartat1\\levelspace360\\levelindent0{\\leveltext\\leveltemplateid67698693\\'01\\u-3929 ?;}{\\levelnumbers;}\\f14\\chbrdr\\brdrnone\\brdrcf1 \\chshdng0\\chcfpat1\\chcbpat1\\fbias0 \\fi-360\\li6480\\jclisttab\\tx6480 }"}]
[{"$f":"IF(tagflag!A88=1,IF(strflag!A88=1,SUBSTITUTE(IF(tagflag!B88=\"NOTAG\",rawrtf!A88,SUBSTITUTE(rawrtf!A88,\"TFPTAG\"&tagflag!D88,\"\")),\"TFPSTR\"&strflag!B88,strflag!D88),IF(tagflag!B88=\"NOTAG\",rawrtf!A88,SUBSTITUTE(rawrtf!A88,\"TFPTAG\"&tagflag!D88,\"\"))),\"\")","v":"{\\listname ;}\\listid1120412735}{\\list\\listtemplateid-491624000\\listhybrid{\\listlevel\\levelnfc23\\levelnfcn23\\leveljc0\\leveljcn0\\levelfollow0\\levelstartat1\\levelspace360\\levelindent0{\\leveltext\\leveltemplateid67698689\\'01\\u-3913 ?;}{\\levelnumbers;}\\f3"}]
[{"$f":"IF(tagflag!A89=1,IF(strflag!A89=1,SUBSTITUTE(IF(tagflag!B89=\"NOTAG\",rawrtf!A89,SUBSTITUTE(rawrtf!A89,\"TFPTAG\"&tagflag!D89,\"\")),\"TFPSTR\"&strflag!B89,strflag!D89),IF(tagflag!B89=\"NOTAG\",rawrtf!A89,SUBSTITUTE(rawrtf!A89,\"TFPTAG\"&tagflag!D89,\"\"))),\"\")","v":"\\chbrdr\\brdrnone\\brdrcf1 \\chshdng0\\chcfpat1\\chcbpat1\\fbias0 \\fi-360\\li720\\jclisttab\\tx720 }{\\listlevel\\levelnfc23\\levelnfcn23\\leveljc0\\leveljcn0\\levelfollow0\\levelstartat1\\levelspace360\\levelindent0{\\leveltext\\leveltemplateid67698691\\'01o;}{\\levelnumbers"}]
[{"$f":"IF(tagflag!A90=1,IF(strflag!A90=1,SUBSTITUTE(IF(tagflag!B90=\"NOTAG\",rawrtf!A90,SUBSTITUTE(rawrtf!A90,\"TFPTAG\"&tagflag!D90,\"\")),\"TFPSTR\"&strflag!B90,strflag!D90),IF(tagflag!B90=\"NOTAG\",rawrtf!A90,SUBSTITUTE(rawrtf!A90,\"TFPTAG\"&tagflag!D90,\"\"))),\"\")","v":";}\\f2\\chbrdr\\brdrnone\\brdrcf1 \\chshdng0\\chcfpat1\\chcbpat1\\fbias0 \\fi-360\\li1440\\jclisttab\\tx1440 }{\\listlevel\\levelnfc23\\levelnfcn23\\leveljc0\\leveljcn0\\levelfollow0\\levelstartat1\\levelspace360\\levelindent0{\\leveltext\\leveltemplateid67698693"}]
[{"$f":"IF(tagflag!A91=1,IF(strflag!A91=1,SUBSTITUTE(IF(tagflag!B91=\"NOTAG\",rawrtf!A91,SUBSTITUTE(rawrtf!A91,\"TFPTAG\"&tagflag!D91,\"\")),\"TFPSTR\"&strflag!B91,strflag!D91),IF(tagflag!B91=\"NOTAG\",rawrtf!A91,SUBSTITUTE(rawrtf!A91,\"TFPTAG\"&tagflag!D91,\"\"))),\"\")","v":"\\'01\\u-3929 ?;}{\\levelnumbers;}\\f14\\chbrdr\\brdrnone\\brdrcf1 \\chshdng0\\chcfpat1\\chcbpat1\\fbias0 \\fi-360\\li2160\\jclisttab\\tx2160 }{\\listlevel\\levelnfc23\\levelnfcn23\\leveljc0\\leveljcn0\\levelfollow0\\levelstartat1\\levelspace360\\levelindent0{\\leveltext"}]
[{"$f":"IF(tagflag!A92=1,IF(strflag!A92=1,SUBSTITUTE(IF(tagflag!B92=\"NOTAG\",rawrtf!A92,SUBSTITUTE(rawrtf!A92,\"TFPTAG\"&tagflag!D92,\"\")),\"TFPSTR\"&strflag!B92,strflag!D92),IF(tagflag!B92=\"NOTAG\",rawrtf!A92,SUBSTITUTE(rawrtf!A92,\"TFPTAG\"&tagflag!D92,\"\"))),\"\")","v":"\\leveltemplateid67698689\\'01\\u-3913 ?;}{\\levelnumbers;}\\f3\\chbrdr\\brdrnone\\brdrcf1 \\chshdng0\\chcfpat1\\chcbpat1\\fbias0 \\fi-360\\li2880\\jclisttab\\tx2880 }{\\listlevel\\levelnfc23\\levelnfcn23\\leveljc0\\leveljcn0\\levelfollow0\\levelstartat1\\levelspace360"}]
[{"$f":"IF(tagflag!A93=1,IF(strflag!A93=1,SUBSTITUTE(IF(tagflag!B93=\"NOTAG\",rawrtf!A93,SUBSTITUTE(rawrtf!A93,\"TFPTAG\"&tagflag!D93,\"\")),\"TFPSTR\"&strflag!B93,strflag!D93),IF(tagflag!B93=\"NOTAG\",rawrtf!A93,SUBSTITUTE(rawrtf!A93,\"TFPTAG\"&tagflag!D93,\"\"))),\"\")","v":"\\levelindent0{\\leveltext\\leveltemplateid67698691\\'01o;}{\\levelnumbers;}\\f2\\chbrdr\\brdrnone\\brdrcf1 \\chshdng0\\chcfpat1\\chcbpat1\\fbias0 \\fi-360\\li3600\\jclisttab\\tx3600 }{\\listlevel\\levelnfc23\\levelnfcn23\\leveljc0\\leveljcn0\\levelfollow0\\levelstartat1"}]
[{"$f":"IF(tagflag!A94=1,IF(strflag!A94=1,SUBSTITUTE(IF(tagflag!B94=\"NOTAG\",rawrtf!A94,SUBSTITUTE(rawrtf!A94,\"TFPTAG\"&tagflag!D94,\"\")),\"TFPSTR\"&strflag!B94,strflag!D94),IF(tagflag!B94=\"NOTAG\",rawrtf!A94,SUBSTITUTE(rawrtf!A94,\"TFPTAG\"&tagflag!D94,\"\"))),\"\")","v":"\\levelspace360\\levelindent0{\\leveltext\\leveltemplateid67698693\\'01\\u-3929 ?;}{\\levelnumbers;}\\f14\\chbrdr\\brdrnone\\brdrcf1 \\chshdng0\\chcfpat1\\chcbpat1\\fbias0 \\fi-360\\li4320\\jclisttab\\tx4320 }{\\listlevel\\levelnfc23\\levelnfcn23\\leveljc0\\leveljcn0"}]
[{"$f":"IF(tagflag!A95=1,IF(strflag!A95=1,SUBSTITUTE(IF(tagflag!B95=\"NOTAG\",rawrtf!A95,SUBSTITUTE(rawrtf!A95,\"TFPTAG\"&tagflag!D95,\"\")),\"TFPSTR\"&strflag!B95,strflag!D95),IF(tagflag!B95=\"NOTAG\",rawrtf!A95,SUBSTITUTE(rawrtf!A95,\"TFPTAG\"&tagflag!D95,\"\"))),\"\")","v":"\\levelfollow0\\levelstartat1\\levelspace360\\levelindent0{\\leveltext\\leveltemplateid67698689\\'01\\u-3913 ?;}{\\levelnumbers;}\\f3\\chbrdr\\brdrnone\\brdrcf1 \\chshdng0\\chcfpat1\\chcbpat1\\fbias0 \\fi-360\\li5040\\jclisttab\\tx5040 }{\\listlevel\\levelnfc23\\levelnfcn23"}]
[{"$f":"IF(tagflag!A96=1,IF(strflag!A96=1,SUBSTITUTE(IF(tagflag!B96=\"NOTAG\",rawrtf!A96,SUBSTITUTE(rawrtf!A96,\"TFPTAG\"&tagflag!D96,\"\")),\"TFPSTR\"&strflag!B96,strflag!D96),IF(tagflag!B96=\"NOTAG\",rawrtf!A96,SUBSTITUTE(rawrtf!A96,\"TFPTAG\"&tagflag!D96,\"\"))),\"\")","v":"\\leveljc0\\leveljcn0\\levelfollow0\\levelstartat1\\levelspace360\\levelindent0{\\leveltext\\leveltemplateid67698691\\'01o;}{\\levelnumbers;}\\f2\\chbrdr\\brdrnone\\brdrcf1 \\chshdng0\\chcfpat1\\chcbpat1\\fbias0 \\fi-360\\li5760\\jclisttab\\tx5760 }{\\listlevel\\levelnfc23"}]
[{"$f":"IF(tagflag!A97=1,IF(strflag!A97=1,SUBSTITUTE(IF(tagflag!B97=\"NOTAG\",rawrtf!A97,SUBSTITUTE(rawrtf!A97,\"TFPTAG\"&tagflag!D97,\"\")),\"TFPSTR\"&strflag!B97,strflag!D97),IF(tagflag!B97=\"NOTAG\",rawrtf!A97,SUBSTITUTE(rawrtf!A97,\"TFPTAG\"&tagflag!D97,\"\"))),\"\")","v":"\\levelnfcn23\\leveljc0\\leveljcn0\\levelfollow0\\levelstartat1\\levelspace360\\levelindent0{\\leveltext\\leveltemplateid67698693\\'01\\u-3929 ?;}{\\levelnumbers;}\\f14\\chbrdr\\brdrnone\\brdrcf1 \\chshdng0\\chcfpat1\\chcbpat1\\fbias0 \\fi-360\\li6480\\jclisttab\\tx6480 }"}]
[{"$f":"IF(tagflag!A98=1,IF(strflag!A98=1,SUBSTITUTE(IF(tagflag!B98=\"NOTAG\",rawrtf!A98,SUBSTITUTE(rawrtf!A98,\"TFPTAG\"&tagflag!D98,\"\")),\"TFPSTR\"&strflag!B98,strflag!D98),IF(tagflag!B98=\"NOTAG\",rawrtf!A98,SUBSTITUTE(rawrtf!A98,\"TFPTAG\"&tagflag!D98,\"\"))),\"\")","v":"{\\listname ;}\\listid1195775696}{\\list\\listtemplateid555759248\\listhybrid{\\listlevel\\levelnfc23\\levelnfcn23\\leveljc0\\leveljcn0\\levelfollow0\\levelstartat1\\levelspace360\\levelindent0{\\leveltext\\leveltemplateid67698689\\'01\\u-3913 ?;}{\\levelnumbers;}\\f3\\chbrdr"}]
[{"$f":"IF(tagflag!A99=1,IF(strflag!A99=1,SUBSTITUTE(IF(tagflag!B99=\"NOTAG\",rawrtf!A99,SUBSTITUTE(rawrtf!A99,\"TFPTAG\"&tagflag!D99,\"\")),\"TFPSTR\"&strflag!B99,strflag!D99),IF(tagflag!B99=\"NOTAG\",rawrtf!A99,SUBSTITUTE(rawrtf!A99,\"TFPTAG\"&tagflag!D99,\"\"))),\"\")","v":"\\brdrnone\\brdrcf1 \\chshdng0\\chcfpat1\\chcbpat1\\fbias0 \\fi-360\\li720\\jclisttab\\tx720 }{\\listlevel\\levelnfc23\\levelnfcn23\\leveljc0\\leveljcn0\\levelfollow0\\levelstartat1\\levelspace360\\levelindent0{\\leveltext\\leveltemplateid67698691\\'01o;}{\\levelnumbers;}\\f2"}]
[{"$f":"IF(tagflag!A100=1,IF(strflag!A100=1,SUBSTITUTE(IF(tagflag!B100=\"NOTAG\",rawrtf!A100,SUBSTITUTE(rawrtf!A100,\"TFPTAG\"&tagflag!D100,\"\")),\"TFPSTR\"&strflag!B100,strflag!D100),IF(tagflag!B100=\"NOTAG\",rawrtf!A100,SUBSTITUTE(rawrtf!A100,\"TFPTAG\"&tagflag!D100,\"\"))),\"\")","v":"\\chbrdr\\brdrnone\\brdrcf1 \\chshdng0\\chcfpat1\\chcbpat1\\fbias0 \\fi-360\\li1440\\jclisttab\\tx1440 }{\\listlevel\\levelnfc23\\levelnfcn23\\leveljc0\\leveljcn0\\levelfollow0\\levelstartat1\\levelspace360\\levelindent0{\\leveltext\\leveltemplateid67698693"}]
[{"$f":"IF(tagflag!A101=1,IF(strflag!A101=1,SUBSTITUTE(IF(tagflag!B101=\"NOTAG\",rawrtf!A101,SUBSTITUTE(rawrtf!A101,\"TFPTAG\"&tagflag!D101,\"\")),\"TFPSTR\"&strflag!B101,strflag!D101),IF(tagflag!B101=\"NOTAG\",rawrtf!A101,SUBSTITUTE(rawrtf!A101,\"TFPTAG\"&tagflag!D101,\"\"))),\"\")","v":"\\'01\\u-3929 ?;}{\\levelnumbers;}\\f14\\chbrdr\\brdrnone\\brdrcf1 \\chshdng0\\chcfpat1\\chcbpat1\\fbias0 \\fi-360\\li2160\\jclisttab\\tx2160 }{\\listlevel\\levelnfc23\\levelnfcn23\\leveljc0\\leveljcn0\\levelfollow0\\levelstartat1\\levelspace360\\levelindent0{\\leveltext"}]
[{"$f":"IF(tagflag!A102=1,IF(strflag!A102=1,SUBSTITUTE(IF(tagflag!B102=\"NOTAG\",rawrtf!A102,SUBSTITUTE(rawrtf!A102,\"TFPTAG\"&tagflag!D102,\"\")),\"TFPSTR\"&strflag!B102,strflag!D102),IF(tagflag!B102=\"NOTAG\",rawrtf!A102,SUBSTITUTE(rawrtf!A102,\"TFPTAG\"&tagflag!D102,\"\"))),\"\")","v":"\\leveltemplateid67698689\\'01\\u-3913 ?;}{\\levelnumbers;}\\f3\\chbrdr\\brdrnone\\brdrcf1 \\chshdng0\\chcfpat1\\chcbpat1\\fbias0 \\fi-360\\li2880\\jclisttab\\tx2880 }{\\listlevel\\levelnfc23\\levelnfcn23\\leveljc0\\leveljcn0\\levelfollow0\\levelstartat1\\levelspace360"}]
[{"$f":"IF(tagflag!A103=1,IF(strflag!A103=1,SUBSTITUTE(IF(tagflag!B103=\"NOTAG\",rawrtf!A103,SUBSTITUTE(rawrtf!A103,\"TFPTAG\"&tagflag!D103,\"\")),\"TFPSTR\"&strflag!B103,strflag!D103),IF(tagflag!B103=\"NOTAG\",rawrtf!A103,SUBSTITUTE(rawrtf!A103,\"TFPTAG\"&tagflag!D103,\"\"))),\"\")","v":"\\levelindent0{\\leveltext\\leveltemplateid67698691\\'01o;}{\\levelnumbers;}\\f2\\chbrdr\\brdrnone\\brdrcf1 \\chshdng0\\chcfpat1\\chcbpat1\\fbias0 \\fi-360\\li3600\\jclisttab\\tx3600 }{\\listlevel\\levelnfc23\\levelnfcn23\\leveljc0\\leveljcn0\\levelfollow0\\levelstartat1"}]
[{"$f":"IF(tagflag!A104=1,IF(strflag!A104=1,SUBSTITUTE(IF(tagflag!B104=\"NOTAG\",rawrtf!A104,SUBSTITUTE(rawrtf!A104,\"TFPTAG\"&tagflag!D104,\"\")),\"TFPSTR\"&strflag!B104,strflag!D104),IF(tagflag!B104=\"NOTAG\",rawrtf!A104,SUBSTITUTE(rawrtf!A104,\"TFPTAG\"&tagflag!D104,\"\"))),\"\")","v":"\\levelspace360\\levelindent0{\\leveltext\\leveltemplateid67698693\\'01\\u-3929 ?;}{\\levelnumbers;}\\f14\\chbrdr\\brdrnone\\brdrcf1 \\chshdng0\\chcfpat1\\chcbpat1\\fbias0 \\fi-360\\li4320\\jclisttab\\tx4320 }{\\listlevel\\levelnfc23\\levelnfcn23\\leveljc0\\leveljcn0"}]
[{"$f":"IF(tagflag!A105=1,IF(strflag!A105=1,SUBSTITUTE(IF(tagflag!B105=\"NOTAG\",rawrtf!A105,SUBSTITUTE(rawrtf!A105,\"TFPTAG\"&tagflag!D105,\"\")),\"TFPSTR\"&strflag!B105,strflag!D105),IF(tagflag!B105=\"NOTAG\",rawrtf!A105,SUBSTITUTE(rawrtf!A105,\"TFPTAG\"&tagflag!D105,\"\"))),\"\")","v":"\\levelfollow0\\levelstartat1\\levelspace360\\levelindent0{\\leveltext\\leveltemplateid67698689\\'01\\u-3913 ?;}{\\levelnumbers;}\\f3\\chbrdr\\brdrnone\\brdrcf1 \\chshdng0\\chcfpat1\\chcbpat1\\fbias0 \\fi-360\\li5040\\jclisttab\\tx5040 }{\\listlevel\\levelnfc23\\levelnfcn23"}]
[{"$f":"IF(tagflag!A106=1,IF(strflag!A106=1,SUBSTITUTE(IF(tagflag!B106=\"NOTAG\",rawrtf!A106,SUBSTITUTE(rawrtf!A106,\"TFPTAG\"&tagflag!D106,\"\")),\"TFPSTR\"&strflag!B106,strflag!D106),IF(tagflag!B106=\"NOTAG\",rawrtf!A106,SUBSTITUTE(rawrtf!A106,\"TFPTAG\"&tagflag!D106,\"\"))),\"\")","v":"\\leveljc0\\leveljcn0\\levelfollow0\\levelstartat1\\levelspace360\\levelindent0{\\leveltext\\leveltemplateid67698691\\'01o;}{\\levelnumbers;}\\f2\\chbrdr\\brdrnone\\brdrcf1 \\chshdng0\\chcfpat1\\chcbpat1\\fbias0 \\fi-360\\li5760\\jclisttab\\tx5760 }{\\listlevel\\levelnfc23"}]
[{"$f":"IF(tagflag!A107=1,IF(strflag!A107=1,SUBSTITUTE(IF(tagflag!B107=\"NOTAG\",rawrtf!A107,SUBSTITUTE(rawrtf!A107,\"TFPTAG\"&tagflag!D107,\"\")),\"TFPSTR\"&strflag!B107,strflag!D107),IF(tagflag!B107=\"NOTAG\",rawrtf!A107,SUBSTITUTE(rawrtf!A107,\"TFPTAG\"&tagflag!D107,\"\"))),\"\")","v":"\\levelnfcn23\\leveljc0\\leveljcn0\\levelfollow0\\levelstartat1\\levelspace360\\levelindent0{\\leveltext\\leveltemplateid67698693\\'01\\u-3929 ?;}{\\levelnumbers;}\\f14\\chbrdr\\brdrnone\\brdrcf1 \\chshdng0\\chcfpat1\\chcbpat1\\fbias0 \\fi-360\\li6480\\jclisttab\\tx6480 }"}]
[{"$f":"IF(tagflag!A108=1,IF(strflag!A108=1,SUBSTITUTE(IF(tagflag!B108=\"NOTAG\",rawrtf!A108,SUBSTITUTE(rawrtf!A108,\"TFPTAG\"&tagflag!D108,\"\")),\"TFPSTR\"&strflag!B108,strflag!D108),IF(tagflag!B108=\"NOTAG\",rawrtf!A108,SUBSTITUTE(rawrtf!A108,\"TFPTAG\"&tagflag!D108,\"\"))),\"\")","v":"{\\listname ;}\\listid1206794323}{\\list\\listtemplateid761584338\\listhybrid{\\listlevel\\levelnfc23\\levelnfcn23\\leveljc0\\leveljcn0\\levelfollow0\\levelstartat1\\levelspace360\\levelindent0{\\leveltext\\leveltemplateid67698689\\'01\\u-3913 ?;}{\\levelnumbers;}\\f3\\chbrdr"}]
[{"$f":"IF(tagflag!A109=1,IF(strflag!A109=1,SUBSTITUTE(IF(tagflag!B109=\"NOTAG\",rawrtf!A109,SUBSTITUTE(rawrtf!A109,\"TFPTAG\"&tagflag!D109,\"\")),\"TFPSTR\"&strflag!B109,strflag!D109),IF(tagflag!B109=\"NOTAG\",rawrtf!A109,SUBSTITUTE(rawrtf!A109,\"TFPTAG\"&tagflag!D109,\"\"))),\"\")","v":"\\brdrnone\\brdrcf1 \\chshdng0\\chcfpat1\\chcbpat1\\fbias0 \\fi-360\\li720\\jclisttab\\tx720 }{\\listlevel\\levelnfc23\\levelnfcn23\\leveljc0\\leveljcn0\\levelfollow0\\levelstartat1\\levelspace360\\levelindent0{\\leveltext\\leveltemplateid67698691\\'01o;}{\\levelnumbers;}\\f2"}]
[{"$f":"IF(tagflag!A110=1,IF(strflag!A110=1,SUBSTITUTE(IF(tagflag!B110=\"NOTAG\",rawrtf!A110,SUBSTITUTE(rawrtf!A110,\"TFPTAG\"&tagflag!D110,\"\")),\"TFPSTR\"&strflag!B110,strflag!D110),IF(tagflag!B110=\"NOTAG\",rawrtf!A110,SUBSTITUTE(rawrtf!A110,\"TFPTAG\"&tagflag!D110,\"\"))),\"\")","v":"\\chbrdr\\brdrnone\\brdrcf1 \\chshdng0\\chcfpat1\\chcbpat1\\fbias0 \\fi-360\\li1440\\jclisttab\\tx1440 }{\\listlevel\\levelnfc23\\levelnfcn23\\leveljc0\\leveljcn0\\levelfollow0\\levelstartat1\\levelspace360\\levelindent0{\\leveltext\\leveltemplateid67698693"}]
[{"$f":"IF(tagflag!A111=1,IF(strflag!A111=1,SUBSTITUTE(IF(tagflag!B111=\"NOTAG\",rawrtf!A111,SUBSTITUTE(rawrtf!A111,\"TFPTAG\"&tagflag!D111,\"\")),\"TFPSTR\"&strflag!B111,strflag!D111),IF(tagflag!B111=\"NOTAG\",rawrtf!A111,SUBSTITUTE(rawrtf!A111,\"TFPTAG\"&tagflag!D111,\"\"))),\"\")","v":"\\'01\\u-3929 ?;}{\\levelnumbers;}\\f14\\chbrdr\\brdrnone\\brdrcf1 \\chshdng0\\chcfpat1\\chcbpat1\\fbias0 \\fi-360\\li2160\\jclisttab\\tx2160 }{\\listlevel\\levelnfc23\\levelnfcn23\\leveljc0\\leveljcn0\\levelfollow0\\levelstartat1\\levelspace360\\levelindent0{\\leveltext"}]
[{"$f":"IF(tagflag!A112=1,IF(strflag!A112=1,SUBSTITUTE(IF(tagflag!B112=\"NOTAG\",rawrtf!A112,SUBSTITUTE(rawrtf!A112,\"TFPTAG\"&tagflag!D112,\"\")),\"TFPSTR\"&strflag!B112,strflag!D112),IF(tagflag!B112=\"NOTAG\",rawrtf!A112,SUBSTITUTE(rawrtf!A112,\"TFPTAG\"&tagflag!D112,\"\"))),\"\")","v":"\\leveltemplateid67698689\\'01\\u-3913 ?;}{\\levelnumbers;}\\f3\\chbrdr\\brdrnone\\brdrcf1 \\chshdng0\\chcfpat1\\chcbpat1\\fbias0 \\fi-360\\li2880\\jclisttab\\tx2880 }{\\listlevel\\levelnfc23\\levelnfcn23\\leveljc0\\leveljcn0\\levelfollow0\\levelstartat1\\levelspace360"}]
[{"$f":"IF(tagflag!A113=1,IF(strflag!A113=1,SUBSTITUTE(IF(tagflag!B113=\"NOTAG\",rawrtf!A113,SUBSTITUTE(rawrtf!A113,\"TFPTAG\"&tagflag!D113,\"\")),\"TFPSTR\"&strflag!B113,strflag!D113),IF(tagflag!B113=\"NOTAG\",rawrtf!A113,SUBSTITUTE(rawrtf!A113,\"TFPTAG\"&tagflag!D113,\"\"))),\"\")","v":"\\levelindent0{\\leveltext\\leveltemplateid67698691\\'01o;}{\\levelnumbers;}\\f2\\chbrdr\\brdrnone\\brdrcf1 \\chshdng0\\chcfpat1\\chcbpat1\\fbias0 \\fi-360\\li3600\\jclisttab\\tx3600 }{\\listlevel\\levelnfc23\\levelnfcn23\\leveljc0\\leveljcn0\\levelfollow0\\levelstartat1"}]
[{"$f":"IF(tagflag!A114=1,IF(strflag!A114=1,SUBSTITUTE(IF(tagflag!B114=\"NOTAG\",rawrtf!A114,SUBSTITUTE(rawrtf!A114,\"TFPTAG\"&tagflag!D114,\"\")),\"TFPSTR\"&strflag!B114,strflag!D114),IF(tagflag!B114=\"NOTAG\",rawrtf!A114,SUBSTITUTE(rawrtf!A114,\"TFPTAG\"&tagflag!D114,\"\"))),\"\")","v":"\\levelspace360\\levelindent0{\\leveltext\\leveltemplateid67698693\\'01\\u-3929 ?;}{\\levelnumbers;}\\f14\\chbrdr\\brdrnone\\brdrcf1 \\chshdng0\\chcfpat1\\chcbpat1\\fbias0 \\fi-360\\li4320\\jclisttab\\tx4320 }{\\listlevel\\levelnfc23\\levelnfcn23\\leveljc0\\leveljcn0"}]
[{"$f":"IF(tagflag!A115=1,IF(strflag!A115=1,SUBSTITUTE(IF(tagflag!B115=\"NOTAG\",rawrtf!A115,SUBSTITUTE(rawrtf!A115,\"TFPTAG\"&tagflag!D115,\"\")),\"TFPSTR\"&strflag!B115,strflag!D115),IF(tagflag!B115=\"NOTAG\",rawrtf!A115,SUBSTITUTE(rawrtf!A115,\"TFPTAG\"&tagflag!D115,\"\"))),\"\")","v":"\\levelfollow0\\levelstartat1\\levelspace360\\levelindent0{\\leveltext\\leveltemplateid67698689\\'01\\u-3913 ?;}{\\levelnumbers;}\\f3\\chbrdr\\brdrnone\\brdrcf1 \\chshdng0\\chcfpat1\\chcbpat1\\fbias0 \\fi-360\\li5040\\jclisttab\\tx5040 }{\\listlevel\\levelnfc23\\levelnfcn23"}]
[{"$f":"IF(tagflag!A116=1,IF(strflag!A116=1,SUBSTITUTE(IF(tagflag!B116=\"NOTAG\",rawrtf!A116,SUBSTITUTE(rawrtf!A116,\"TFPTAG\"&tagflag!D116,\"\")),\"TFPSTR\"&strflag!B116,strflag!D116),IF(tagflag!B116=\"NOTAG\",rawrtf!A116,SUBSTITUTE(rawrtf!A116,\"TFPTAG\"&tagflag!D116,\"\"))),\"\")","v":"\\leveljc0\\leveljcn0\\levelfollow0\\levelstartat1\\levelspace360\\levelindent0{\\leveltext\\leveltemplateid67698691\\'01o;}{\\levelnumbers;}\\f2\\chbrdr\\brdrnone\\brdrcf1 \\chshdng0\\chcfpat1\\chcbpat1\\fbias0 \\fi-360\\li5760\\jclisttab\\tx5760 }{\\listlevel\\levelnfc23"}]
[{"$f":"IF(tagflag!A117=1,IF(strflag!A117=1,SUBSTITUTE(IF(tagflag!B117=\"NOTAG\",rawrtf!A117,SUBSTITUTE(rawrtf!A117,\"TFPTAG\"&tagflag!D117,\"\")),\"TFPSTR\"&strflag!B117,strflag!D117),IF(tagflag!B117=\"NOTAG\",rawrtf!A117,SUBSTITUTE(rawrtf!A117,\"TFPTAG\"&tagflag!D117,\"\"))),\"\")","v":"\\levelnfcn23\\leveljc0\\leveljcn0\\levelfollow0\\levelstartat1\\levelspace360\\levelindent0{\\leveltext\\leveltemplateid67698693\\'01\\u-3929 ?;}{\\levelnumbers;}\\f14\\chbrdr\\brdrnone\\brdrcf1 \\chshdng0\\chcfpat1\\chcbpat1\\fbias0 \\fi-360\\li6480\\jclisttab\\tx6480 }"}]
[{"$f":"IF(tagflag!A118=1,IF(strflag!A118=1,SUBSTITUTE(IF(tagflag!B118=\"NOTAG\",rawrtf!A118,SUBSTITUTE(rawrtf!A118,\"TFPTAG\"&tagflag!D118,\"\")),\"TFPSTR\"&strflag!B118,strflag!D118),IF(tagflag!B118=\"NOTAG\",rawrtf!A118,SUBSTITUTE(rawrtf!A118,\"TFPTAG\"&tagflag!D118,\"\"))),\"\")","v":"{\\listname ;}\\listid1455707875}{\\list\\listtemplateid1528995452\\listhybrid{\\listlevel\\levelnfc23\\levelnfcn23\\leveljc0\\leveljcn0\\levelfollow0\\levelstartat1\\levelspace360\\levelindent0{\\leveltext\\leveltemplateid67698689\\'01\\u-3913 ?;}{\\levelnumbers;}\\f3"}]
[{"$f":"IF(tagflag!A119=1,IF(strflag!A119=1,SUBSTITUTE(IF(tagflag!B119=\"NOTAG\",rawrtf!A119,SUBSTITUTE(rawrtf!A119,\"TFPTAG\"&tagflag!D119,\"\")),\"TFPSTR\"&strflag!B119,strflag!D119),IF(tagflag!B119=\"NOTAG\",rawrtf!A119,SUBSTITUTE(rawrtf!A119,\"TFPTAG\"&tagflag!D119,\"\"))),\"\")","v":"\\chbrdr\\brdrnone\\brdrcf1 \\chshdng0\\chcfpat1\\chcbpat1\\fbias0 \\fi-360\\li720\\jclisttab\\tx720 }{\\listlevel\\levelnfc23\\levelnfcn23\\leveljc0\\leveljcn0\\levelfollow0\\levelstartat1\\levelspace360\\levelindent0{\\leveltext\\leveltemplateid67698691\\'01o;}{\\levelnumbers"}]
[{"$f":"IF(tagflag!A120=1,IF(strflag!A120=1,SUBSTITUTE(IF(tagflag!B120=\"NOTAG\",rawrtf!A120,SUBSTITUTE(rawrtf!A120,\"TFPTAG\"&tagflag!D120,\"\")),\"TFPSTR\"&strflag!B120,strflag!D120),IF(tagflag!B120=\"NOTAG\",rawrtf!A120,SUBSTITUTE(rawrtf!A120,\"TFPTAG\"&tagflag!D120,\"\"))),\"\")","v":";}\\f2\\chbrdr\\brdrnone\\brdrcf1 \\chshdng0\\chcfpat1\\chcbpat1\\fbias0 \\fi-360\\li1440\\jclisttab\\tx1440 }{\\listlevel\\levelnfc23\\levelnfcn23\\leveljc0\\leveljcn0\\levelfollow0\\levelstartat1\\levelspace360\\levelindent0{\\leveltext\\leveltemplateid67698693"}]
[{"$f":"IF(tagflag!A121=1,IF(strflag!A121=1,SUBSTITUTE(IF(tagflag!B121=\"NOTAG\",rawrtf!A121,SUBSTITUTE(rawrtf!A121,\"TFPTAG\"&tagflag!D121,\"\")),\"TFPSTR\"&strflag!B121,strflag!D121),IF(tagflag!B121=\"NOTAG\",rawrtf!A121,SUBSTITUTE(rawrtf!A121,\"TFPTAG\"&tagflag!D121,\"\"))),\"\")","v":"\\'01\\u-3929 ?;}{\\levelnumbers;}\\f14\\chbrdr\\brdrnone\\brdrcf1 \\chshdng0\\chcfpat1\\chcbpat1\\fbias0 \\fi-360\\li2160\\jclisttab\\tx2160 }{\\listlevel\\levelnfc23\\levelnfcn23\\leveljc0\\leveljcn0\\levelfollow0\\levelstartat1\\levelspace360\\levelindent0{\\leveltext"}]
[{"$f":"IF(tagflag!A122=1,IF(strflag!A122=1,SUBSTITUTE(IF(tagflag!B122=\"NOTAG\",rawrtf!A122,SUBSTITUTE(rawrtf!A122,\"TFPTAG\"&tagflag!D122,\"\")),\"TFPSTR\"&strflag!B122,strflag!D122),IF(tagflag!B122=\"NOTAG\",rawrtf!A122,SUBSTITUTE(rawrtf!A122,\"TFPTAG\"&tagflag!D122,\"\"))),\"\")","v":"\\leveltemplateid67698689\\'01\\u-3913 ?;}{\\levelnumbers;}\\f3\\chbrdr\\brdrnone\\brdrcf1 \\chshdng0\\chcfpat1\\chcbpat1\\fbias0 \\fi-360\\li2880\\jclisttab\\tx2880 }{\\listlevel\\levelnfc23\\levelnfcn23\\leveljc0\\leveljcn0\\levelfollow0\\levelstartat1\\levelspace360"}]
[{"$f":"IF(tagflag!A123=1,IF(strflag!A123=1,SUBSTITUTE(IF(tagflag!B123=\"NOTAG\",rawrtf!A123,SUBSTITUTE(rawrtf!A123,\"TFPTAG\"&tagflag!D123,\"\")),\"TFPSTR\"&strflag!B123,strflag!D123),IF(tagflag!B123=\"NOTAG\",rawrtf!A123,SUBSTITUTE(rawrtf!A123,\"TFPTAG\"&tagflag!D123,\"\"))),\"\")","v":"\\levelindent0{\\leveltext\\leveltemplateid67698691\\'01o;}{\\levelnumbers;}\\f2\\chbrdr\\brdrnone\\brdrcf1 \\chshdng0\\chcfpat1\\chcbpat1\\fbias0 \\fi-360\\li3600\\jclisttab\\tx3600 }{\\listlevel\\levelnfc23\\levelnfcn23\\leveljc0\\leveljcn0\\levelfollow0\\levelstartat1"}]
[{"$f":"IF(tagflag!A124=1,IF(strflag!A124=1,SUBSTITUTE(IF(tagflag!B124=\"NOTAG\",rawrtf!A124,SUBSTITUTE(rawrtf!A124,\"TFPTAG\"&tagflag!D124,\"\")),\"TFPSTR\"&strflag!B124,strflag!D124),IF(tagflag!B124=\"NOTAG\",rawrtf!A124,SUBSTITUTE(rawrtf!A124,\"TFPTAG\"&tagflag!D124,\"\"))),\"\")","v":"\\levelspace360\\levelindent0{\\leveltext\\leveltemplateid67698693\\'01\\u-3929 ?;}{\\levelnumbers;}\\f14\\chbrdr\\brdrnone\\brdrcf1 \\chshdng0\\chcfpat1\\chcbpat1\\fbias0 \\fi-360\\li4320\\jclisttab\\tx4320 }{\\listlevel\\levelnfc23\\levelnfcn23\\leveljc0\\leveljcn0"}]
[{"$f":"IF(tagflag!A125=1,IF(strflag!A125=1,SUBSTITUTE(IF(tagflag!B125=\"NOTAG\",rawrtf!A125,SUBSTITUTE(rawrtf!A125,\"TFPTAG\"&tagflag!D125,\"\")),\"TFPSTR\"&strflag!B125,strflag!D125),IF(tagflag!B125=\"NOTAG\",rawrtf!A125,SUBSTITUTE(rawrtf!A125,\"TFPTAG\"&tagflag!D125,\"\"))),\"\")","v":"\\levelfollow0\\levelstartat1\\levelspace360\\levelindent0{\\leveltext\\leveltemplateid67698689\\'01\\u-3913 ?;}{\\levelnumbers;}\\f3\\chbrdr\\brdrnone\\brdrcf1 \\chshdng0\\chcfpat1\\chcbpat1\\fbias0 \\fi-360\\li5040\\jclisttab\\tx5040 }{\\listlevel\\levelnfc23\\levelnfcn23"}]
[{"$f":"IF(tagflag!A126=1,IF(strflag!A126=1,SUBSTITUTE(IF(tagflag!B126=\"NOTAG\",rawrtf!A126,SUBSTITUTE(rawrtf!A126,\"TFPTAG\"&tagflag!D126,\"\")),\"TFPSTR\"&strflag!B126,strflag!D126),IF(tagflag!B126=\"NOTAG\",rawrtf!A126,SUBSTITUTE(rawrtf!A126,\"TFPTAG\"&tagflag!D126,\"\"))),\"\")","v":"\\leveljc0\\leveljcn0\\levelfollow0\\levelstartat1\\levelspace360\\levelindent0{\\leveltext\\leveltemplateid67698691\\'01o;}{\\levelnumbers;}\\f2\\chbrdr\\brdrnone\\brdrcf1 \\chshdng0\\chcfpat1\\chcbpat1\\fbias0 \\fi-360\\li5760\\jclisttab\\tx5760 }{\\listlevel\\levelnfc23"}]
[{"$f":"IF(tagflag!A127=1,IF(strflag!A127=1,SUBSTITUTE(IF(tagflag!B127=\"NOTAG\",rawrtf!A127,SUBSTITUTE(rawrtf!A127,\"TFPTAG\"&tagflag!D127,\"\")),\"TFPSTR\"&strflag!B127,strflag!D127),IF(tagflag!B127=\"NOTAG\",rawrtf!A127,SUBSTITUTE(rawrtf!A127,\"TFPTAG\"&tagflag!D127,\"\"))),\"\")","v":"\\levelnfcn23\\leveljc0\\leveljcn0\\levelfollow0\\levelstartat1\\levelspace360\\levelindent0{\\leveltext\\leveltemplateid67698693\\'01\\u-3929 ?;}{\\levelnumbers;}\\f14\\chbrdr\\brdrnone\\brdrcf1 \\chshdng0\\chcfpat1\\chcbpat1\\fbias0 \\fi-360\\li6480\\jclisttab\\tx6480 }"}]
[{"$f":"IF(tagflag!A128=1,IF(strflag!A128=1,SUBSTITUTE(IF(tagflag!B128=\"NOTAG\",rawrtf!A128,SUBSTITUTE(rawrtf!A128,\"TFPTAG\"&tagflag!D128,\"\")),\"TFPSTR\"&strflag!B128,strflag!D128),IF(tagflag!B128=\"NOTAG\",rawrtf!A128,SUBSTITUTE(rawrtf!A128,\"TFPTAG\"&tagflag!D128,\"\"))),\"\")","v":"{\\listname ;}\\listid1504471328}{\\list\\listtemplateid-1558382670\\listhybrid{\\listlevel\\levelnfc23\\levelnfcn23\\leveljc0\\leveljcn0\\levelfollow0\\levelstartat1\\levelspace0\\levelindent0{\\leveltext\\leveltemplateid67698689\\'01\\u-3913 ?;}{\\levelnumbers;}\\f3\\chbrdr"}]
[{"$f":"IF(tagflag!A129=1,IF(strflag!A129=1,SUBSTITUTE(IF(tagflag!B129=\"NOTAG\",rawrtf!A129,SUBSTITUTE(rawrtf!A129,\"TFPTAG\"&tagflag!D129,\"\")),\"TFPSTR\"&strflag!B129,strflag!D129),IF(tagflag!B129=\"NOTAG\",rawrtf!A129,SUBSTITUTE(rawrtf!A129,\"TFPTAG\"&tagflag!D129,\"\"))),\"\")","v":"\\brdrnone\\brdrcf1 \\chshdng0\\chcfpat1\\chcbpat1\\fbias0 \\fi-360\\li720\\jclisttab\\tx720 }{\\listlevel\\levelnfc23\\levelnfcn23\\leveljc0\\leveljcn0\\levelfollow0\\levelstartat1\\levelspace0\\levelindent0{\\leveltext\\leveltemplateid67698691\\'01o;}{\\levelnumbers;}\\f2"}]
[{"$f":"IF(tagflag!A130=1,IF(strflag!A130=1,SUBSTITUTE(IF(tagflag!B130=\"NOTAG\",rawrtf!A130,SUBSTITUTE(rawrtf!A130,\"TFPTAG\"&tagflag!D130,\"\")),\"TFPSTR\"&strflag!B130,strflag!D130),IF(tagflag!B130=\"NOTAG\",rawrtf!A130,SUBSTITUTE(rawrtf!A130,\"TFPTAG\"&tagflag!D130,\"\"))),\"\")","v":"\\chbrdr\\brdrnone\\brdrcf1 \\chshdng0\\chcfpat1\\chcbpat1\\fbias0 \\fi-360\\li1440\\jclisttab\\tx1440 }{\\listlevel\\levelnfc23\\levelnfcn23\\leveljc0\\leveljcn0\\levelfollow0\\levelstartat1\\levelspace0\\levelindent0{\\leveltext\\leveltemplateid67698693"}]
[{"$f":"IF(tagflag!A131=1,IF(strflag!A131=1,SUBSTITUTE(IF(tagflag!B131=\"NOTAG\",rawrtf!A131,SUBSTITUTE(rawrtf!A131,\"TFPTAG\"&tagflag!D131,\"\")),\"TFPSTR\"&strflag!B131,strflag!D131),IF(tagflag!B131=\"NOTAG\",rawrtf!A131,SUBSTITUTE(rawrtf!A131,\"TFPTAG\"&tagflag!D131,\"\"))),\"\")","v":"\\'01\\u-3929 ?;}{\\levelnumbers;}\\f14\\chbrdr\\brdrnone\\brdrcf1 \\chshdng0\\chcfpat1\\chcbpat1\\fbias0 \\fi-360\\li2160\\jclisttab\\tx2160 }{\\listlevel\\levelnfc23\\levelnfcn23\\leveljc0\\leveljcn0\\levelfollow0\\levelstartat1\\levelspace0\\levelindent0{\\leveltext"}]
[{"$f":"IF(tagflag!A132=1,IF(strflag!A132=1,SUBSTITUTE(IF(tagflag!B132=\"NOTAG\",rawrtf!A132,SUBSTITUTE(rawrtf!A132,\"TFPTAG\"&tagflag!D132,\"\")),\"TFPSTR\"&strflag!B132,strflag!D132),IF(tagflag!B132=\"NOTAG\",rawrtf!A132,SUBSTITUTE(rawrtf!A132,\"TFPTAG\"&tagflag!D132,\"\"))),\"\")","v":"\\leveltemplateid67698689\\'01\\u-3913 ?;}{\\levelnumbers;}\\f3\\chbrdr\\brdrnone\\brdrcf1 \\chshdng0\\chcfpat1\\chcbpat1\\fbias0 \\fi-360\\li2880\\jclisttab\\tx2880 }{\\listlevel\\levelnfc23\\levelnfcn23\\leveljc0\\leveljcn0\\levelfollow0\\levelstartat1\\levelspace0"}]
[{"$f":"IF(tagflag!A133=1,IF(strflag!A133=1,SUBSTITUTE(IF(tagflag!B133=\"NOTAG\",rawrtf!A133,SUBSTITUTE(rawrtf!A133,\"TFPTAG\"&tagflag!D133,\"\")),\"TFPSTR\"&strflag!B133,strflag!D133),IF(tagflag!B133=\"NOTAG\",rawrtf!A133,SUBSTITUTE(rawrtf!A133,\"TFPTAG\"&tagflag!D133,\"\"))),\"\")","v":"\\levelindent0{\\leveltext\\leveltemplateid67698691\\'01o;}{\\levelnumbers;}\\f2\\chbrdr\\brdrnone\\brdrcf1 \\chshdng0\\chcfpat1\\chcbpat1\\fbias0 \\fi-360\\li3600\\jclisttab\\tx3600 }{\\listlevel\\levelnfc23\\levelnfcn23\\leveljc0\\leveljcn0\\levelfollow0\\levelstartat1"}]
[{"$f":"IF(tagflag!A134=1,IF(strflag!A134=1,SUBSTITUTE(IF(tagflag!B134=\"NOTAG\",rawrtf!A134,SUBSTITUTE(rawrtf!A134,\"TFPTAG\"&tagflag!D134,\"\")),\"TFPSTR\"&strflag!B134,strflag!D134),IF(tagflag!B134=\"NOTAG\",rawrtf!A134,SUBSTITUTE(rawrtf!A134,\"TFPTAG\"&tagflag!D134,\"\"))),\"\")","v":"\\levelspace0\\levelindent0{\\leveltext\\leveltemplateid67698693\\'01\\u-3929 ?;}{\\levelnumbers;}\\f14\\chbrdr\\brdrnone\\brdrcf1 \\chshdng0\\chcfpat1\\chcbpat1\\fbias0 \\fi-360\\li4320\\jclisttab\\tx4320 }{\\listlevel\\levelnfc23\\levelnfcn23\\leveljc0\\leveljcn0\\levelfollow0"}]
[{"$f":"IF(tagflag!A135=1,IF(strflag!A135=1,SUBSTITUTE(IF(tagflag!B135=\"NOTAG\",rawrtf!A135,SUBSTITUTE(rawrtf!A135,\"TFPTAG\"&tagflag!D135,\"\")),\"TFPSTR\"&strflag!B135,strflag!D135),IF(tagflag!B135=\"NOTAG\",rawrtf!A135,SUBSTITUTE(rawrtf!A135,\"TFPTAG\"&tagflag!D135,\"\"))),\"\")","v":"\\levelstartat1\\levelspace0\\levelindent0{\\leveltext\\leveltemplateid67698689\\'01\\u-3913 ?;}{\\levelnumbers;}\\f3\\chbrdr\\brdrnone\\brdrcf1 \\chshdng0\\chcfpat1\\chcbpat1\\fbias0 \\fi-360\\li5040\\jclisttab\\tx5040 }{\\listlevel\\levelnfc23\\levelnfcn23\\leveljc0\\leveljcn0"}]
[{"$f":"IF(tagflag!A136=1,IF(strflag!A136=1,SUBSTITUTE(IF(tagflag!B136=\"NOTAG\",rawrtf!A136,SUBSTITUTE(rawrtf!A136,\"TFPTAG\"&tagflag!D136,\"\")),\"TFPSTR\"&strflag!B136,strflag!D136),IF(tagflag!B136=\"NOTAG\",rawrtf!A136,SUBSTITUTE(rawrtf!A136,\"TFPTAG\"&tagflag!D136,\"\"))),\"\")","v":"\\levelfollow0\\levelstartat1\\levelspace0\\levelindent0{\\leveltext\\leveltemplateid67698691\\'01o;}{\\levelnumbers;}\\f2\\chbrdr\\brdrnone\\brdrcf1 \\chshdng0\\chcfpat1\\chcbpat1\\fbias0 \\fi-360\\li5760\\jclisttab\\tx5760 }{\\listlevel\\levelnfc23\\levelnfcn23\\leveljc0"}]
[{"$f":"IF(tagflag!A137=1,IF(strflag!A137=1,SUBSTITUTE(IF(tagflag!B137=\"NOTAG\",rawrtf!A137,SUBSTITUTE(rawrtf!A137,\"TFPTAG\"&tagflag!D137,\"\")),\"TFPSTR\"&strflag!B137,strflag!D137),IF(tagflag!B137=\"NOTAG\",rawrtf!A137,SUBSTITUTE(rawrtf!A137,\"TFPTAG\"&tagflag!D137,\"\"))),\"\")","v":"\\leveljcn0\\levelfollow0\\levelstartat1\\levelspace0\\levelindent0{\\leveltext\\leveltemplateid67698693\\'01\\u-3929 ?;}{\\levelnumbers;}\\f14\\chbrdr\\brdrnone\\brdrcf1 \\chshdng0\\chcfpat1\\chcbpat1\\fbias0 \\fi-360\\li6480\\jclisttab\\tx6480 }{\\listname ;}\\listid1509980687"}]
[{"$f":"IF(tagflag!A138=1,IF(strflag!A138=1,SUBSTITUTE(IF(tagflag!B138=\"NOTAG\",rawrtf!A138,SUBSTITUTE(rawrtf!A138,\"TFPTAG\"&tagflag!D138,\"\")),\"TFPSTR\"&strflag!B138,strflag!D138),IF(tagflag!B138=\"NOTAG\",rawrtf!A138,SUBSTITUTE(rawrtf!A138,\"TFPTAG\"&tagflag!D138,\"\"))),\"\")","v":"}{\\list\\listtemplateid443971668\\listhybrid{\\listlevel\\levelnfc23\\levelnfcn23\\leveljc0\\leveljcn0\\levelfollow0\\levelstartat1\\levelspace360\\levelindent0{\\leveltext\\leveltemplateid67698689\\'01\\u-3913 ?;}{\\levelnumbers;}\\f3\\chbrdr\\brdrnone\\brdrcf1 "}]
[{"$f":"IF(tagflag!A139=1,IF(strflag!A139=1,SUBSTITUTE(IF(tagflag!B139=\"NOTAG\",rawrtf!A139,SUBSTITUTE(rawrtf!A139,\"TFPTAG\"&tagflag!D139,\"\")),\"TFPSTR\"&strflag!B139,strflag!D139),IF(tagflag!B139=\"NOTAG\",rawrtf!A139,SUBSTITUTE(rawrtf!A139,\"TFPTAG\"&tagflag!D139,\"\"))),\"\")","v":"\\chshdng0\\chcfpat1\\chcbpat1\\fbias0 \\fi-360\\li720\\jclisttab\\tx720 }{\\listlevel\\levelnfc23\\levelnfcn23\\leveljc0\\leveljcn0\\levelfollow0\\levelstartat1\\levelspace360\\levelindent0{\\leveltext\\leveltemplateid67698691\\'01o;}{\\levelnumbers;}\\f2\\chbrdr"}]
[{"$f":"IF(tagflag!A140=1,IF(strflag!A140=1,SUBSTITUTE(IF(tagflag!B140=\"NOTAG\",rawrtf!A140,SUBSTITUTE(rawrtf!A140,\"TFPTAG\"&tagflag!D140,\"\")),\"TFPSTR\"&strflag!B140,strflag!D140),IF(tagflag!B140=\"NOTAG\",rawrtf!A140,SUBSTITUTE(rawrtf!A140,\"TFPTAG\"&tagflag!D140,\"\"))),\"\")","v":"\\brdrnone\\brdrcf1 \\chshdng0\\chcfpat1\\chcbpat1\\fbias0 \\fi-360\\li1440\\jclisttab\\tx1440 }{\\listlevel\\levelnfc23\\levelnfcn23\\leveljc0\\leveljcn0\\levelfollow0\\levelstartat1\\levelspace360\\levelindent0{\\leveltext\\leveltemplateid67698693"}]
[{"$f":"IF(tagflag!A141=1,IF(strflag!A141=1,SUBSTITUTE(IF(tagflag!B141=\"NOTAG\",rawrtf!A141,SUBSTITUTE(rawrtf!A141,\"TFPTAG\"&tagflag!D141,\"\")),\"TFPSTR\"&strflag!B141,strflag!D141),IF(tagflag!B141=\"NOTAG\",rawrtf!A141,SUBSTITUTE(rawrtf!A141,\"TFPTAG\"&tagflag!D141,\"\"))),\"\")","v":"\\'01\\u-3929 ?;}{\\levelnumbers;}\\f14\\chbrdr\\brdrnone\\brdrcf1 \\chshdng0\\chcfpat1\\chcbpat1\\fbias0 \\fi-360\\li2160\\jclisttab\\tx2160 }{\\listlevel\\levelnfc23\\levelnfcn23\\leveljc0\\leveljcn0\\levelfollow0\\levelstartat1\\levelspace360\\levelindent0{\\leveltext"}]
[{"$f":"IF(tagflag!A142=1,IF(strflag!A142=1,SUBSTITUTE(IF(tagflag!B142=\"NOTAG\",rawrtf!A142,SUBSTITUTE(rawrtf!A142,\"TFPTAG\"&tagflag!D142,\"\")),\"TFPSTR\"&strflag!B142,strflag!D142),IF(tagflag!B142=\"NOTAG\",rawrtf!A142,SUBSTITUTE(rawrtf!A142,\"TFPTAG\"&tagflag!D142,\"\"))),\"\")","v":"\\leveltemplateid67698689\\'01\\u-3913 ?;}{\\levelnumbers;}\\f3\\chbrdr\\brdrnone\\brdrcf1 \\chshdng0\\chcfpat1\\chcbpat1\\fbias0 \\fi-360\\li2880\\jclisttab\\tx2880 }{\\listlevel\\levelnfc23\\levelnfcn23\\leveljc0\\leveljcn0\\levelfollow0\\levelstartat1\\levelspace360"}]
[{"$f":"IF(tagflag!A143=1,IF(strflag!A143=1,SUBSTITUTE(IF(tagflag!B143=\"NOTAG\",rawrtf!A143,SUBSTITUTE(rawrtf!A143,\"TFPTAG\"&tagflag!D143,\"\")),\"TFPSTR\"&strflag!B143,strflag!D143),IF(tagflag!B143=\"NOTAG\",rawrtf!A143,SUBSTITUTE(rawrtf!A143,\"TFPTAG\"&tagflag!D143,\"\"))),\"\")","v":"\\levelindent0{\\leveltext\\leveltemplateid67698691\\'01o;}{\\levelnumbers;}\\f2\\chbrdr\\brdrnone\\brdrcf1 \\chshdng0\\chcfpat1\\chcbpat1\\fbias0 \\fi-360\\li3600\\jclisttab\\tx3600 }{\\listlevel\\levelnfc23\\levelnfcn23\\leveljc0\\leveljcn0\\levelfollow0\\levelstartat1"}]
[{"$f":"IF(tagflag!A144=1,IF(strflag!A144=1,SUBSTITUTE(IF(tagflag!B144=\"NOTAG\",rawrtf!A144,SUBSTITUTE(rawrtf!A144,\"TFPTAG\"&tagflag!D144,\"\")),\"TFPSTR\"&strflag!B144,strflag!D144),IF(tagflag!B144=\"NOTAG\",rawrtf!A144,SUBSTITUTE(rawrtf!A144,\"TFPTAG\"&tagflag!D144,\"\"))),\"\")","v":"\\levelspace360\\levelindent0{\\leveltext\\leveltemplateid67698693\\'01\\u-3929 ?;}{\\levelnumbers;}\\f14\\chbrdr\\brdrnone\\brdrcf1 \\chshdng0\\chcfpat1\\chcbpat1\\fbias0 \\fi-360\\li4320\\jclisttab\\tx4320 }{\\listlevel\\levelnfc23\\levelnfcn23\\leveljc0\\leveljcn0"}]
[{"$f":"IF(tagflag!A145=1,IF(strflag!A145=1,SUBSTITUTE(IF(tagflag!B145=\"NOTAG\",rawrtf!A145,SUBSTITUTE(rawrtf!A145,\"TFPTAG\"&tagflag!D145,\"\")),\"TFPSTR\"&strflag!B145,strflag!D145),IF(tagflag!B145=\"NOTAG\",rawrtf!A145,SUBSTITUTE(rawrtf!A145,\"TFPTAG\"&tagflag!D145,\"\"))),\"\")","v":"\\levelfollow0\\levelstartat1\\levelspace360\\levelindent0{\\leveltext\\leveltemplateid67698689\\'01\\u-3913 ?;}{\\levelnumbers;}\\f3\\chbrdr\\brdrnone\\brdrcf1 \\chshdng0\\chcfpat1\\chcbpat1\\fbias0 \\fi-360\\li5040\\jclisttab\\tx5040 }{\\listlevel\\levelnfc23\\levelnfcn23"}]
[{"$f":"IF(tagflag!A146=1,IF(strflag!A146=1,SUBSTITUTE(IF(tagflag!B146=\"NOTAG\",rawrtf!A146,SUBSTITUTE(rawrtf!A146,\"TFPTAG\"&tagflag!D146,\"\")),\"TFPSTR\"&strflag!B146,strflag!D146),IF(tagflag!B146=\"NOTAG\",rawrtf!A146,SUBSTITUTE(rawrtf!A146,\"TFPTAG\"&tagflag!D146,\"\"))),\"\")","v":"\\leveljc0\\leveljcn0\\levelfollow0\\levelstartat1\\levelspace360\\levelindent0{\\leveltext\\leveltemplateid67698691\\'01o;}{\\levelnumbers;}\\f2\\chbrdr\\brdrnone\\brdrcf1 \\chshdng0\\chcfpat1\\chcbpat1\\fbias0 \\fi-360\\li5760\\jclisttab\\tx5760 }{\\listlevel\\levelnfc23"}]
[{"$f":"IF(tagflag!A147=1,IF(strflag!A147=1,SUBSTITUTE(IF(tagflag!B147=\"NOTAG\",rawrtf!A147,SUBSTITUTE(rawrtf!A147,\"TFPTAG\"&tagflag!D147,\"\")),\"TFPSTR\"&strflag!B147,strflag!D147),IF(tagflag!B147=\"NOTAG\",rawrtf!A147,SUBSTITUTE(rawrtf!A147,\"TFPTAG\"&tagflag!D147,\"\"))),\"\")","v":"\\levelnfcn23\\leveljc0\\leveljcn0\\levelfollow0\\levelstartat1\\levelspace360\\levelindent0{\\leveltext\\leveltemplateid67698693\\'01\\u-3929 ?;}{\\levelnumbers;}\\f14\\chbrdr\\brdrnone\\brdrcf1 \\chshdng0\\chcfpat1\\chcbpat1\\fbias0 \\fi-360\\li6480\\jclisttab\\tx6480 }"}]
[{"$f":"IF(tagflag!A148=1,IF(strflag!A148=1,SUBSTITUTE(IF(tagflag!B148=\"NOTAG\",rawrtf!A148,SUBSTITUTE(rawrtf!A148,\"TFPTAG\"&tagflag!D148,\"\")),\"TFPSTR\"&strflag!B148,strflag!D148),IF(tagflag!B148=\"NOTAG\",rawrtf!A148,SUBSTITUTE(rawrtf!A148,\"TFPTAG\"&tagflag!D148,\"\"))),\"\")","v":"{\\listname ;}\\listid1520660540}{\\list\\listtemplateid660272570\\listhybrid{\\listlevel\\levelnfc23\\levelnfcn23\\leveljc0\\leveljcn0\\levelfollow0\\levelstartat1\\levelspace360\\levelindent0{\\leveltext\\leveltemplateid67698689\\'01\\u-3913 ?;}{\\levelnumbers;}\\f3\\chbrdr"}]
[{"$f":"IF(tagflag!A149=1,IF(strflag!A149=1,SUBSTITUTE(IF(tagflag!B149=\"NOTAG\",rawrtf!A149,SUBSTITUTE(rawrtf!A149,\"TFPTAG\"&tagflag!D149,\"\")),\"TFPSTR\"&strflag!B149,strflag!D149),IF(tagflag!B149=\"NOTAG\",rawrtf!A149,SUBSTITUTE(rawrtf!A149,\"TFPTAG\"&tagflag!D149,\"\"))),\"\")","v":"\\brdrnone\\brdrcf1 \\chshdng0\\chcfpat1\\chcbpat1\\fbias0 \\fi-360\\li720\\jclisttab\\tx720 }{\\listlevel\\levelnfc23\\levelnfcn23\\leveljc0\\leveljcn0\\levelfollow0\\levelstartat1\\levelspace360\\levelindent0{\\leveltext\\leveltemplateid67698691\\'01o;}{\\levelnumbers;}\\f2"}]
[{"$f":"IF(tagflag!A150=1,IF(strflag!A150=1,SUBSTITUTE(IF(tagflag!B150=\"NOTAG\",rawrtf!A150,SUBSTITUTE(rawrtf!A150,\"TFPTAG\"&tagflag!D150,\"\")),\"TFPSTR\"&strflag!B150,strflag!D150),IF(tagflag!B150=\"NOTAG\",rawrtf!A150,SUBSTITUTE(rawrtf!A150,\"TFPTAG\"&tagflag!D150,\"\"))),\"\")","v":"\\chbrdr\\brdrnone\\brdrcf1 \\chshdng0\\chcfpat1\\chcbpat1\\fbias0 \\fi-360\\li1440\\jclisttab\\tx1440 }{\\listlevel\\levelnfc23\\levelnfcn23\\leveljc0\\leveljcn0\\levelfollow0\\levelstartat1\\levelspace360\\levelindent0{\\leveltext\\leveltemplateid67698693"}]
[{"$f":"IF(tagflag!A151=1,IF(strflag!A151=1,SUBSTITUTE(IF(tagflag!B151=\"NOTAG\",rawrtf!A151,SUBSTITUTE(rawrtf!A151,\"TFPTAG\"&tagflag!D151,\"\")),\"TFPSTR\"&strflag!B151,strflag!D151),IF(tagflag!B151=\"NOTAG\",rawrtf!A151,SUBSTITUTE(rawrtf!A151,\"TFPTAG\"&tagflag!D151,\"\"))),\"\")","v":"\\'01\\u-3929 ?;}{\\levelnumbers;}\\f14\\chbrdr\\brdrnone\\brdrcf1 \\chshdng0\\chcfpat1\\chcbpat1\\fbias0 \\fi-360\\li2160\\jclisttab\\tx2160 }{\\listlevel\\levelnfc23\\levelnfcn23\\leveljc0\\leveljcn0\\levelfollow0\\levelstartat1\\levelspace360\\levelindent0{\\leveltext"}]
[{"$f":"IF(tagflag!A152=1,IF(strflag!A152=1,SUBSTITUTE(IF(tagflag!B152=\"NOTAG\",rawrtf!A152,SUBSTITUTE(rawrtf!A152,\"TFPTAG\"&tagflag!D152,\"\")),\"TFPSTR\"&strflag!B152,strflag!D152),IF(tagflag!B152=\"NOTAG\",rawrtf!A152,SUBSTITUTE(rawrtf!A152,\"TFPTAG\"&tagflag!D152,\"\"))),\"\")","v":"\\leveltemplateid67698689\\'01\\u-3913 ?;}{\\levelnumbers;}\\f3\\chbrdr\\brdrnone\\brdrcf1 \\chshdng0\\chcfpat1\\chcbpat1\\fbias0 \\fi-360\\li2880\\jclisttab\\tx2880 }{\\listlevel\\levelnfc23\\levelnfcn23\\leveljc0\\leveljcn0\\levelfollow0\\levelstartat1\\levelspace360"}]
[{"$f":"IF(tagflag!A153=1,IF(strflag!A153=1,SUBSTITUTE(IF(tagflag!B153=\"NOTAG\",rawrtf!A153,SUBSTITUTE(rawrtf!A153,\"TFPTAG\"&tagflag!D153,\"\")),\"TFPSTR\"&strflag!B153,strflag!D153),IF(tagflag!B153=\"NOTAG\",rawrtf!A153,SUBSTITUTE(rawrtf!A153,\"TFPTAG\"&tagflag!D153,\"\"))),\"\")","v":"\\levelindent0{\\leveltext\\leveltemplateid67698691\\'01o;}{\\levelnumbers;}\\f2\\chbrdr\\brdrnone\\brdrcf1 \\chshdng0\\chcfpat1\\chcbpat1\\fbias0 \\fi-360\\li3600\\jclisttab\\tx3600 }{\\listlevel\\levelnfc23\\levelnfcn23\\leveljc0\\leveljcn0\\levelfollow0\\levelstartat1"}]
[{"$f":"IF(tagflag!A154=1,IF(strflag!A154=1,SUBSTITUTE(IF(tagflag!B154=\"NOTAG\",rawrtf!A154,SUBSTITUTE(rawrtf!A154,\"TFPTAG\"&tagflag!D154,\"\")),\"TFPSTR\"&strflag!B154,strflag!D154),IF(tagflag!B154=\"NOTAG\",rawrtf!A154,SUBSTITUTE(rawrtf!A154,\"TFPTAG\"&tagflag!D154,\"\"))),\"\")","v":"\\levelspace360\\levelindent0{\\leveltext\\leveltemplateid67698693\\'01\\u-3929 ?;}{\\levelnumbers;}\\f14\\chbrdr\\brdrnone\\brdrcf1 \\chshdng0\\chcfpat1\\chcbpat1\\fbias0 \\fi-360\\li4320\\jclisttab\\tx4320 }{\\listlevel\\levelnfc23\\levelnfcn23\\leveljc0\\leveljcn0"}]
[{"$f":"IF(tagflag!A155=1,IF(strflag!A155=1,SUBSTITUTE(IF(tagflag!B155=\"NOTAG\",rawrtf!A155,SUBSTITUTE(rawrtf!A155,\"TFPTAG\"&tagflag!D155,\"\")),\"TFPSTR\"&strflag!B155,strflag!D155),IF(tagflag!B155=\"NOTAG\",rawrtf!A155,SUBSTITUTE(rawrtf!A155,\"TFPTAG\"&tagflag!D155,\"\"))),\"\")","v":"\\levelfollow0\\levelstartat1\\levelspace360\\levelindent0{\\leveltext\\leveltemplateid67698689\\'01\\u-3913 ?;}{\\levelnumbers;}\\f3\\chbrdr\\brdrnone\\brdrcf1 \\chshdng0\\chcfpat1\\chcbpat1\\fbias0 \\fi-360\\li5040\\jclisttab\\tx5040 }{\\listlevel\\levelnfc23\\levelnfcn23"}]
[{"$f":"IF(tagflag!A156=1,IF(strflag!A156=1,SUBSTITUTE(IF(tagflag!B156=\"NOTAG\",rawrtf!A156,SUBSTITUTE(rawrtf!A156,\"TFPTAG\"&tagflag!D156,\"\")),\"TFPSTR\"&strflag!B156,strflag!D156),IF(tagflag!B156=\"NOTAG\",rawrtf!A156,SUBSTITUTE(rawrtf!A156,\"TFPTAG\"&tagflag!D156,\"\"))),\"\")","v":"\\leveljc0\\leveljcn0\\levelfollow0\\levelstartat1\\levelspace360\\levelindent0{\\leveltext\\leveltemplateid67698691\\'01o;}{\\levelnumbers;}\\f2\\chbrdr\\brdrnone\\brdrcf1 \\chshdng0\\chcfpat1\\chcbpat1\\fbias0 \\fi-360\\li5760\\jclisttab\\tx5760 }{\\listlevel\\levelnfc23"}]
[{"$f":"IF(tagflag!A157=1,IF(strflag!A157=1,SUBSTITUTE(IF(tagflag!B157=\"NOTAG\",rawrtf!A157,SUBSTITUTE(rawrtf!A157,\"TFPTAG\"&tagflag!D157,\"\")),\"TFPSTR\"&strflag!B157,strflag!D157),IF(tagflag!B157=\"NOTAG\",rawrtf!A157,SUBSTITUTE(rawrtf!A157,\"TFPTAG\"&tagflag!D157,\"\"))),\"\")","v":"\\levelnfcn23\\leveljc0\\leveljcn0\\levelfollow0\\levelstartat1\\levelspace360\\levelindent0{\\leveltext\\leveltemplateid67698693\\'01\\u-3929 ?;}{\\levelnumbers;}\\f14\\chbrdr\\brdrnone\\brdrcf1 \\chshdng0\\chcfpat1\\chcbpat1\\fbias0 \\fi-360\\li6480\\jclisttab\\tx6480 }"}]
[{"$f":"IF(tagflag!A158=1,IF(strflag!A158=1,SUBSTITUTE(IF(tagflag!B158=\"NOTAG\",rawrtf!A158,SUBSTITUTE(rawrtf!A158,\"TFPTAG\"&tagflag!D158,\"\")),\"TFPSTR\"&strflag!B158,strflag!D158),IF(tagflag!B158=\"NOTAG\",rawrtf!A158,SUBSTITUTE(rawrtf!A158,\"TFPTAG\"&tagflag!D158,\"\"))),\"\")","v":"{\\listname ;}\\listid1589655192}{\\list\\listtemplateid995156440\\listhybrid{\\listlevel\\levelnfc23\\levelnfcn23\\leveljc0\\leveljcn0\\levelfollow0\\levelstartat1\\levelspace360\\levelindent0{\\leveltext\\leveltemplateid67698689\\'01\\u-3913 ?;}{\\levelnumbers;}\\f3\\chbrdr"}]
[{"$f":"IF(tagflag!A159=1,IF(strflag!A159=1,SUBSTITUTE(IF(tagflag!B159=\"NOTAG\",rawrtf!A159,SUBSTITUTE(rawrtf!A159,\"TFPTAG\"&tagflag!D159,\"\")),\"TFPSTR\"&strflag!B159,strflag!D159),IF(tagflag!B159=\"NOTAG\",rawrtf!A159,SUBSTITUTE(rawrtf!A159,\"TFPTAG\"&tagflag!D159,\"\"))),\"\")","v":"\\brdrnone\\brdrcf1 \\chshdng0\\chcfpat1\\chcbpat1\\fbias0 \\fi-360\\li720\\jclisttab\\tx720 }{\\listlevel\\levelnfc23\\levelnfcn23\\leveljc0\\leveljcn0\\levelfollow0\\levelstartat1\\levelspace360\\levelindent0{\\leveltext\\leveltemplateid67698691\\'01o;}{\\levelnumbers;}\\f2"}]
[{"$f":"IF(tagflag!A160=1,IF(strflag!A160=1,SUBSTITUTE(IF(tagflag!B160=\"NOTAG\",rawrtf!A160,SUBSTITUTE(rawrtf!A160,\"TFPTAG\"&tagflag!D160,\"\")),\"TFPSTR\"&strflag!B160,strflag!D160),IF(tagflag!B160=\"NOTAG\",rawrtf!A160,SUBSTITUTE(rawrtf!A160,\"TFPTAG\"&tagflag!D160,\"\"))),\"\")","v":"\\chbrdr\\brdrnone\\brdrcf1 \\chshdng0\\chcfpat1\\chcbpat1\\fbias0 \\fi-360\\li1440\\jclisttab\\tx1440 }{\\listlevel\\levelnfc23\\levelnfcn23\\leveljc0\\leveljcn0\\levelfollow0\\levelstartat1\\levelspace360\\levelindent0{\\leveltext\\leveltemplateid67698693"}]
[{"$f":"IF(tagflag!A161=1,IF(strflag!A161=1,SUBSTITUTE(IF(tagflag!B161=\"NOTAG\",rawrtf!A161,SUBSTITUTE(rawrtf!A161,\"TFPTAG\"&tagflag!D161,\"\")),\"TFPSTR\"&strflag!B161,strflag!D161),IF(tagflag!B161=\"NOTAG\",rawrtf!A161,SUBSTITUTE(rawrtf!A161,\"TFPTAG\"&tagflag!D161,\"\"))),\"\")","v":"\\'01\\u-3929 ?;}{\\levelnumbers;}\\f14\\chbrdr\\brdrnone\\brdrcf1 \\chshdng0\\chcfpat1\\chcbpat1\\fbias0 \\fi-360\\li2160\\jclisttab\\tx2160 }{\\listlevel\\levelnfc23\\levelnfcn23\\leveljc0\\leveljcn0\\levelfollow0\\levelstartat1\\levelspace360\\levelindent0{\\leveltext"}]
[{"$f":"IF(tagflag!A162=1,IF(strflag!A162=1,SUBSTITUTE(IF(tagflag!B162=\"NOTAG\",rawrtf!A162,SUBSTITUTE(rawrtf!A162,\"TFPTAG\"&tagflag!D162,\"\")),\"TFPSTR\"&strflag!B162,strflag!D162),IF(tagflag!B162=\"NOTAG\",rawrtf!A162,SUBSTITUTE(rawrtf!A162,\"TFPTAG\"&tagflag!D162,\"\"))),\"\")","v":"\\leveltemplateid67698689\\'01\\u-3913 ?;}{\\levelnumbers;}\\f3\\chbrdr\\brdrnone\\brdrcf1 \\chshdng0\\chcfpat1\\chcbpat1\\fbias0 \\fi-360\\li2880\\jclisttab\\tx2880 }{\\listlevel\\levelnfc23\\levelnfcn23\\leveljc0\\leveljcn0\\levelfollow0\\levelstartat1\\levelspace360"}]
[{"$f":"IF(tagflag!A163=1,IF(strflag!A163=1,SUBSTITUTE(IF(tagflag!B163=\"NOTAG\",rawrtf!A163,SUBSTITUTE(rawrtf!A163,\"TFPTAG\"&tagflag!D163,\"\")),\"TFPSTR\"&strflag!B163,strflag!D163),IF(tagflag!B163=\"NOTAG\",rawrtf!A163,SUBSTITUTE(rawrtf!A163,\"TFPTAG\"&tagflag!D163,\"\"))),\"\")","v":"\\levelindent0{\\leveltext\\leveltemplateid67698691\\'01o;}{\\levelnumbers;}\\f2\\chbrdr\\brdrnone\\brdrcf1 \\chshdng0\\chcfpat1\\chcbpat1\\fbias0 \\fi-360\\li3600\\jclisttab\\tx3600 }{\\listlevel\\levelnfc23\\levelnfcn23\\leveljc0\\leveljcn0\\levelfollow0\\levelstartat1"}]
[{"$f":"IF(tagflag!A164=1,IF(strflag!A164=1,SUBSTITUTE(IF(tagflag!B164=\"NOTAG\",rawrtf!A164,SUBSTITUTE(rawrtf!A164,\"TFPTAG\"&tagflag!D164,\"\")),\"TFPSTR\"&strflag!B164,strflag!D164),IF(tagflag!B164=\"NOTAG\",rawrtf!A164,SUBSTITUTE(rawrtf!A164,\"TFPTAG\"&tagflag!D164,\"\"))),\"\")","v":"\\levelspace360\\levelindent0{\\leveltext\\leveltemplateid67698693\\'01\\u-3929 ?;}{\\levelnumbers;}\\f14\\chbrdr\\brdrnone\\brdrcf1 \\chshdng0\\chcfpat1\\chcbpat1\\fbias0 \\fi-360\\li4320\\jclisttab\\tx4320 }{\\listlevel\\levelnfc23\\levelnfcn23\\leveljc0\\leveljcn0"}]
[{"$f":"IF(tagflag!A165=1,IF(strflag!A165=1,SUBSTITUTE(IF(tagflag!B165=\"NOTAG\",rawrtf!A165,SUBSTITUTE(rawrtf!A165,\"TFPTAG\"&tagflag!D165,\"\")),\"TFPSTR\"&strflag!B165,strflag!D165),IF(tagflag!B165=\"NOTAG\",rawrtf!A165,SUBSTITUTE(rawrtf!A165,\"TFPTAG\"&tagflag!D165,\"\"))),\"\")","v":"\\levelfollow0\\levelstartat1\\levelspace360\\levelindent0{\\leveltext\\leveltemplateid67698689\\'01\\u-3913 ?;}{\\levelnumbers;}\\f3\\chbrdr\\brdrnone\\brdrcf1 \\chshdng0\\chcfpat1\\chcbpat1\\fbias0 \\fi-360\\li5040\\jclisttab\\tx5040 }{\\listlevel\\levelnfc23\\levelnfcn23"}]
[{"$f":"IF(tagflag!A166=1,IF(strflag!A166=1,SUBSTITUTE(IF(tagflag!B166=\"NOTAG\",rawrtf!A166,SUBSTITUTE(rawrtf!A166,\"TFPTAG\"&tagflag!D166,\"\")),\"TFPSTR\"&strflag!B166,strflag!D166),IF(tagflag!B166=\"NOTAG\",rawrtf!A166,SUBSTITUTE(rawrtf!A166,\"TFPTAG\"&tagflag!D166,\"\"))),\"\")","v":"\\leveljc0\\leveljcn0\\levelfollow0\\levelstartat1\\levelspace360\\levelindent0{\\leveltext\\leveltemplateid67698691\\'01o;}{\\levelnumbers;}\\f2\\chbrdr\\brdrnone\\brdrcf1 \\chshdng0\\chcfpat1\\chcbpat1\\fbias0 \\fi-360\\li5760\\jclisttab\\tx5760 }{\\listlevel\\levelnfc23"}]
[{"$f":"IF(tagflag!A167=1,IF(strflag!A167=1,SUBSTITUTE(IF(tagflag!B167=\"NOTAG\",rawrtf!A167,SUBSTITUTE(rawrtf!A167,\"TFPTAG\"&tagflag!D167,\"\")),\"TFPSTR\"&strflag!B167,strflag!D167),IF(tagflag!B167=\"NOTAG\",rawrtf!A167,SUBSTITUTE(rawrtf!A167,\"TFPTAG\"&tagflag!D167,\"\"))),\"\")","v":"\\levelnfcn23\\leveljc0\\leveljcn0\\levelfollow0\\levelstartat1\\levelspace360\\levelindent0{\\leveltext\\leveltemplateid67698693\\'01\\u-3929 ?;}{\\levelnumbers;}\\f14\\chbrdr\\brdrnone\\brdrcf1 \\chshdng0\\chcfpat1\\chcbpat1\\fbias0 \\fi-360\\li6480\\jclisttab\\tx6480 }"}]
[{"$f":"IF(tagflag!A168=1,IF(strflag!A168=1,SUBSTITUTE(IF(tagflag!B168=\"NOTAG\",rawrtf!A168,SUBSTITUTE(rawrtf!A168,\"TFPTAG\"&tagflag!D168,\"\")),\"TFPSTR\"&strflag!B168,strflag!D168),IF(tagflag!B168=\"NOTAG\",rawrtf!A168,SUBSTITUTE(rawrtf!A168,\"TFPTAG\"&tagflag!D168,\"\"))),\"\")","v":"{\\listname ;}\\listid1710110410}{\\list\\listtemplateid-1896327016\\listhybrid{\\listlevel\\levelnfc23\\levelnfcn23\\leveljc0\\leveljcn0\\levelfollow0\\levelstartat1\\levelspace360\\levelindent0{\\leveltext\\leveltemplateid-255035114\\'01\\u-3880 ?;}{\\levelnumbers;}\\f14"}]
[{"$f":"IF(tagflag!A169=1,IF(strflag!A169=1,SUBSTITUTE(IF(tagflag!B169=\"NOTAG\",rawrtf!A169,SUBSTITUTE(rawrtf!A169,\"TFPTAG\"&tagflag!D169,\"\")),\"TFPSTR\"&strflag!B169,strflag!D169),IF(tagflag!B169=\"NOTAG\",rawrtf!A169,SUBSTITUTE(rawrtf!A169,\"TFPTAG\"&tagflag!D169,\"\"))),\"\")","v":"\\chbrdr\\brdrnone\\brdrcf1 \\chshdng0\\chcfpat1\\chcbpat1\\fbias0 \\s4\\fi-360\\li720\\jclisttab\\tx720 }{\\listlevel\\levelnfc23\\levelnfcn23\\leveljc0\\leveljcn0\\levelfollow0\\levelstartat1\\levelspace360\\levelindent0{\\leveltext\\leveltemplateid67698691"}]
[{"$f":"IF(tagflag!A170=1,IF(strflag!A170=1,SUBSTITUTE(IF(tagflag!B170=\"NOTAG\",rawrtf!A170,SUBSTITUTE(rawrtf!A170,\"TFPTAG\"&tagflag!D170,\"\")),\"TFPSTR\"&strflag!B170,strflag!D170),IF(tagflag!B170=\"NOTAG\",rawrtf!A170,SUBSTITUTE(rawrtf!A170,\"TFPTAG\"&tagflag!D170,\"\"))),\"\")","v":"\\'01o;}{\\levelnumbers;}\\f2\\chbrdr\\brdrnone\\brdrcf1 \\chshdng0\\chcfpat1\\chcbpat1\\fbias0 \\fi-360\\li1440\\jclisttab\\tx1440 }{\\listlevel\\levelnfc23\\levelnfcn23\\leveljc0\\leveljcn0\\levelfollow0\\levelstartat1\\levelspace360\\levelindent0{\\leveltext"}]
[{"$f":"IF(tagflag!A171=1,IF(strflag!A171=1,SUBSTITUTE(IF(tagflag!B171=\"NOTAG\",rawrtf!A171,SUBSTITUTE(rawrtf!A171,\"TFPTAG\"&tagflag!D171,\"\")),\"TFPSTR\"&strflag!B171,strflag!D171),IF(tagflag!B171=\"NOTAG\",rawrtf!A171,SUBSTITUTE(rawrtf!A171,\"TFPTAG\"&tagflag!D171,\"\"))),\"\")","v":"\\leveltemplateid67698693\\'01\\u-3929 ?;}{\\levelnumbers;}\\f14\\chbrdr\\brdrnone\\brdrcf1 \\chshdng0\\chcfpat1\\chcbpat1\\fbias0 \\fi-360\\li2160\\jclisttab\\tx2160 }{\\listlevel\\levelnfc23\\levelnfcn23\\leveljc0\\leveljcn0\\levelfollow0\\levelstartat1\\levelspace360"}]
[{"$f":"IF(tagflag!A172=1,IF(strflag!A172=1,SUBSTITUTE(IF(tagflag!B172=\"NOTAG\",rawrtf!A172,SUBSTITUTE(rawrtf!A172,\"TFPTAG\"&tagflag!D172,\"\")),\"TFPSTR\"&strflag!B172,strflag!D172),IF(tagflag!B172=\"NOTAG\",rawrtf!A172,SUBSTITUTE(rawrtf!A172,\"TFPTAG\"&tagflag!D172,\"\"))),\"\")","v":"\\levelindent0{\\leveltext\\leveltemplateid67698689\\'01\\u-3913 ?;}{\\levelnumbers;}\\f3\\chbrdr\\brdrnone\\brdrcf1 \\chshdng0\\chcfpat1\\chcbpat1\\fbias0 \\fi-360\\li2880\\jclisttab\\tx2880 }{\\listlevel\\levelnfc23\\levelnfcn23\\leveljc0\\leveljcn0\\levelfollow0\\levelstartat1"}]
[{"$f":"IF(tagflag!A173=1,IF(strflag!A173=1,SUBSTITUTE(IF(tagflag!B173=\"NOTAG\",rawrtf!A173,SUBSTITUTE(rawrtf!A173,\"TFPTAG\"&tagflag!D173,\"\")),\"TFPSTR\"&strflag!B173,strflag!D173),IF(tagflag!B173=\"NOTAG\",rawrtf!A173,SUBSTITUTE(rawrtf!A173,\"TFPTAG\"&tagflag!D173,\"\"))),\"\")","v":"\\levelspace360\\levelindent0{\\leveltext\\leveltemplateid67698691\\'01o;}{\\levelnumbers;}\\f2\\chbrdr\\brdrnone\\brdrcf1 \\chshdng0\\chcfpat1\\chcbpat1\\fbias0 \\fi-360\\li3600\\jclisttab\\tx3600 }{\\listlevel\\levelnfc23\\levelnfcn23\\leveljc0\\leveljcn0\\levelfollow0"}]
[{"$f":"IF(tagflag!A174=1,IF(strflag!A174=1,SUBSTITUTE(IF(tagflag!B174=\"NOTAG\",rawrtf!A174,SUBSTITUTE(rawrtf!A174,\"TFPTAG\"&tagflag!D174,\"\")),\"TFPSTR\"&strflag!B174,strflag!D174),IF(tagflag!B174=\"NOTAG\",rawrtf!A174,SUBSTITUTE(rawrtf!A174,\"TFPTAG\"&tagflag!D174,\"\"))),\"\")","v":"\\levelstartat1\\levelspace360\\levelindent0{\\leveltext\\leveltemplateid67698693\\'01\\u-3929 ?;}{\\levelnumbers;}\\f14\\chbrdr\\brdrnone\\brdrcf1 \\chshdng0\\chcfpat1\\chcbpat1\\fbias0 \\fi-360\\li4320\\jclisttab\\tx4320 }{\\listlevel\\levelnfc23\\levelnfcn23\\leveljc0"}]
[{"$f":"IF(tagflag!A175=1,IF(strflag!A175=1,SUBSTITUTE(IF(tagflag!B175=\"NOTAG\",rawrtf!A175,SUBSTITUTE(rawrtf!A175,\"TFPTAG\"&tagflag!D175,\"\")),\"TFPSTR\"&strflag!B175,strflag!D175),IF(tagflag!B175=\"NOTAG\",rawrtf!A175,SUBSTITUTE(rawrtf!A175,\"TFPTAG\"&tagflag!D175,\"\"))),\"\")","v":"\\leveljcn0\\levelfollow0\\levelstartat1\\levelspace360\\levelindent0{\\leveltext\\leveltemplateid67698689\\'01\\u-3913 ?;}{\\levelnumbers;}\\f3\\chbrdr\\brdrnone\\brdrcf1 \\chshdng0\\chcfpat1\\chcbpat1\\fbias0 \\fi-360\\li5040\\jclisttab\\tx5040 }{\\listlevel\\levelnfc23"}]
[{"$f":"IF(tagflag!A176=1,IF(strflag!A176=1,SUBSTITUTE(IF(tagflag!B176=\"NOTAG\",rawrtf!A176,SUBSTITUTE(rawrtf!A176,\"TFPTAG\"&tagflag!D176,\"\")),\"TFPSTR\"&strflag!B176,strflag!D176),IF(tagflag!B176=\"NOTAG\",rawrtf!A176,SUBSTITUTE(rawrtf!A176,\"TFPTAG\"&tagflag!D176,\"\"))),\"\")","v":"\\levelnfcn23\\leveljc0\\leveljcn0\\levelfollow0\\levelstartat1\\levelspace360\\levelindent0{\\leveltext\\leveltemplateid67698691\\'01o;}{\\levelnumbers;}\\f2\\chbrdr\\brdrnone\\brdrcf1 \\chshdng0\\chcfpat1\\chcbpat1\\fbias0 \\fi-360\\li5760\\jclisttab\\tx5760 }{\\listlevel"}]
[{"$f":"IF(tagflag!A177=1,IF(strflag!A177=1,SUBSTITUTE(IF(tagflag!B177=\"NOTAG\",rawrtf!A177,SUBSTITUTE(rawrtf!A177,\"TFPTAG\"&tagflag!D177,\"\")),\"TFPSTR\"&strflag!B177,strflag!D177),IF(tagflag!B177=\"NOTAG\",rawrtf!A177,SUBSTITUTE(rawrtf!A177,\"TFPTAG\"&tagflag!D177,\"\"))),\"\")","v":"\\levelnfc23\\levelnfcn23\\leveljc0\\leveljcn0\\levelfollow0\\levelstartat1\\levelspace360\\levelindent0{\\leveltext\\leveltemplateid67698693\\'01\\u-3929 ?;}{\\levelnumbers;}\\f14\\chbrdr\\brdrnone\\brdrcf1 \\chshdng0\\chcfpat1\\chcbpat1\\fbias0 \\fi-360\\li6480"}]
[{"$f":"IF(tagflag!A178=1,IF(strflag!A178=1,SUBSTITUTE(IF(tagflag!B178=\"NOTAG\",rawrtf!A178,SUBSTITUTE(rawrtf!A178,\"TFPTAG\"&tagflag!D178,\"\")),\"TFPSTR\"&strflag!B178,strflag!D178),IF(tagflag!B178=\"NOTAG\",rawrtf!A178,SUBSTITUTE(rawrtf!A178,\"TFPTAG\"&tagflag!D178,\"\"))),\"\")","v":"\\jclisttab\\tx6480 }{\\listname ;}\\listid1778015599}{\\list\\listtemplateid157288230\\listhybrid{\\listlevel\\levelnfc23\\levelnfcn23\\leveljc0\\leveljcn0\\levelfollow0\\levelstartat1\\levelspace360\\levelindent0{\\leveltext\\leveltemplateid67698689"}]
[{"$f":"IF(tagflag!A179=1,IF(strflag!A179=1,SUBSTITUTE(IF(tagflag!B179=\"NOTAG\",rawrtf!A179,SUBSTITUTE(rawrtf!A179,\"TFPTAG\"&tagflag!D179,\"\")),\"TFPSTR\"&strflag!B179,strflag!D179),IF(tagflag!B179=\"NOTAG\",rawrtf!A179,SUBSTITUTE(rawrtf!A179,\"TFPTAG\"&tagflag!D179,\"\"))),\"\")","v":"\\'01\\u-3913 ?;}{\\levelnumbers;}\\f3\\chbrdr\\brdrnone\\brdrcf1 \\chshdng0\\chcfpat1\\chcbpat1\\fbias0 \\fi-360\\li720\\jclisttab\\tx720 }{\\listlevel\\levelnfc23\\levelnfcn23\\leveljc0\\leveljcn0\\levelfollow0\\levelstartat1\\levelspace360\\levelindent0{\\leveltext"}]
[{"$f":"IF(tagflag!A180=1,IF(strflag!A180=1,SUBSTITUTE(IF(tagflag!B180=\"NOTAG\",rawrtf!A180,SUBSTITUTE(rawrtf!A180,\"TFPTAG\"&tagflag!D180,\"\")),\"TFPSTR\"&strflag!B180,strflag!D180),IF(tagflag!B180=\"NOTAG\",rawrtf!A180,SUBSTITUTE(rawrtf!A180,\"TFPTAG\"&tagflag!D180,\"\"))),\"\")","v":"\\leveltemplateid67698691\\'01o;}{\\levelnumbers;}\\f2\\chbrdr\\brdrnone\\brdrcf1 \\chshdng0\\chcfpat1\\chcbpat1\\fbias0 \\fi-360\\li1440\\jclisttab\\tx1440 }{\\listlevel\\levelnfc23\\levelnfcn23\\leveljc0\\leveljcn0\\levelfollow0\\levelstartat1\\levelspace360\\levelindent0"}]
[{"$f":"IF(tagflag!A181=1,IF(strflag!A181=1,SUBSTITUTE(IF(tagflag!B181=\"NOTAG\",rawrtf!A181,SUBSTITUTE(rawrtf!A181,\"TFPTAG\"&tagflag!D181,\"\")),\"TFPSTR\"&strflag!B181,strflag!D181),IF(tagflag!B181=\"NOTAG\",rawrtf!A181,SUBSTITUTE(rawrtf!A181,\"TFPTAG\"&tagflag!D181,\"\"))),\"\")","v":"{\\leveltext\\leveltemplateid67698693\\'01\\u-3929 ?;}{\\levelnumbers;}\\f14\\chbrdr\\brdrnone\\brdrcf1 \\chshdng0\\chcfpat1\\chcbpat1\\fbias0 \\fi-360\\li2160\\jclisttab\\tx2160 }{\\listlevel\\levelnfc23\\levelnfcn23\\leveljc0\\leveljcn0\\levelfollow0\\levelstartat1"}]
[{"$f":"IF(tagflag!A182=1,IF(strflag!A182=1,SUBSTITUTE(IF(tagflag!B182=\"NOTAG\",rawrtf!A182,SUBSTITUTE(rawrtf!A182,\"TFPTAG\"&tagflag!D182,\"\")),\"TFPSTR\"&strflag!B182,strflag!D182),IF(tagflag!B182=\"NOTAG\",rawrtf!A182,SUBSTITUTE(rawrtf!A182,\"TFPTAG\"&tagflag!D182,\"\"))),\"\")","v":"\\levelspace360\\levelindent0{\\leveltext\\leveltemplateid67698689\\'01\\u-3913 ?;}{\\levelnumbers;}\\f3\\chbrdr\\brdrnone\\brdrcf1 \\chshdng0\\chcfpat1\\chcbpat1\\fbias0 \\fi-360\\li2880\\jclisttab\\tx2880 }{\\listlevel\\levelnfc23\\levelnfcn23\\leveljc0\\leveljcn0\\levelfollow0"}]
[{"$f":"IF(tagflag!A183=1,IF(strflag!A183=1,SUBSTITUTE(IF(tagflag!B183=\"NOTAG\",rawrtf!A183,SUBSTITUTE(rawrtf!A183,\"TFPTAG\"&tagflag!D183,\"\")),\"TFPSTR\"&strflag!B183,strflag!D183),IF(tagflag!B183=\"NOTAG\",rawrtf!A183,SUBSTITUTE(rawrtf!A183,\"TFPTAG\"&tagflag!D183,\"\"))),\"\")","v":"\\levelstartat1\\levelspace360\\levelindent0{\\leveltext\\leveltemplateid67698691\\'01o;}{\\levelnumbers;}\\f2\\chbrdr\\brdrnone\\brdrcf1 \\chshdng0\\chcfpat1\\chcbpat1\\fbias0 \\fi-360\\li3600\\jclisttab\\tx3600 }{\\listlevel\\levelnfc23\\levelnfcn23\\leveljc0\\leveljcn0"}]
[{"$f":"IF(tagflag!A184=1,IF(strflag!A184=1,SUBSTITUTE(IF(tagflag!B184=\"NOTAG\",rawrtf!A184,SUBSTITUTE(rawrtf!A184,\"TFPTAG\"&tagflag!D184,\"\")),\"TFPSTR\"&strflag!B184,strflag!D184),IF(tagflag!B184=\"NOTAG\",rawrtf!A184,SUBSTITUTE(rawrtf!A184,\"TFPTAG\"&tagflag!D184,\"\"))),\"\")","v":"\\levelfollow0\\levelstartat1\\levelspace360\\levelindent0{\\leveltext\\leveltemplateid67698693\\'01\\u-3929 ?;}{\\levelnumbers;}\\f14\\chbrdr\\brdrnone\\brdrcf1 \\chshdng0\\chcfpat1\\chcbpat1\\fbias0 \\fi-360\\li4320\\jclisttab\\tx4320 }{\\listlevel\\levelnfc23\\levelnfcn23"}]
[{"$f":"IF(tagflag!A185=1,IF(strflag!A185=1,SUBSTITUTE(IF(tagflag!B185=\"NOTAG\",rawrtf!A185,SUBSTITUTE(rawrtf!A185,\"TFPTAG\"&tagflag!D185,\"\")),\"TFPSTR\"&strflag!B185,strflag!D185),IF(tagflag!B185=\"NOTAG\",rawrtf!A185,SUBSTITUTE(rawrtf!A185,\"TFPTAG\"&tagflag!D185,\"\"))),\"\")","v":"\\leveljc0\\leveljcn0\\levelfollow0\\levelstartat1\\levelspace360\\levelindent0{\\leveltext\\leveltemplateid67698689\\'01\\u-3913 ?;}{\\levelnumbers;}\\f3\\chbrdr\\brdrnone\\brdrcf1 \\chshdng0\\chcfpat1\\chcbpat1\\fbias0 \\fi-360\\li5040\\jclisttab\\tx5040 }{\\listlevel"}]
[{"$f":"IF(tagflag!A186=1,IF(strflag!A186=1,SUBSTITUTE(IF(tagflag!B186=\"NOTAG\",rawrtf!A186,SUBSTITUTE(rawrtf!A186,\"TFPTAG\"&tagflag!D186,\"\")),\"TFPSTR\"&strflag!B186,strflag!D186),IF(tagflag!B186=\"NOTAG\",rawrtf!A186,SUBSTITUTE(rawrtf!A186,\"TFPTAG\"&tagflag!D186,\"\"))),\"\")","v":"\\levelnfc23\\levelnfcn23\\leveljc0\\leveljcn0\\levelfollow0\\levelstartat1\\levelspace360\\levelindent0{\\leveltext\\leveltemplateid67698691\\'01o;}{\\levelnumbers;}\\f2\\chbrdr\\brdrnone\\brdrcf1 \\chshdng0\\chcfpat1\\chcbpat1\\fbias0 \\fi-360\\li5760\\jclisttab\\tx5760 }"}]
[{"$f":"IF(tagflag!A187=1,IF(strflag!A187=1,SUBSTITUTE(IF(tagflag!B187=\"NOTAG\",rawrtf!A187,SUBSTITUTE(rawrtf!A187,\"TFPTAG\"&tagflag!D187,\"\")),\"TFPSTR\"&strflag!B187,strflag!D187),IF(tagflag!B187=\"NOTAG\",rawrtf!A187,SUBSTITUTE(rawrtf!A187,\"TFPTAG\"&tagflag!D187,\"\"))),\"\")","v":"{\\listlevel\\levelnfc23\\levelnfcn23\\leveljc0\\leveljcn0\\levelfollow0\\levelstartat1\\levelspace360\\levelindent0{\\leveltext\\leveltemplateid67698693\\'01\\u-3929 ?;}{\\levelnumbers;}\\f14\\chbrdr\\brdrnone\\brdrcf1 \\chshdng0\\chcfpat1\\chcbpat1\\fbias0 \\fi-360\\li6480"}]
[{"$f":"IF(tagflag!A188=1,IF(strflag!A188=1,SUBSTITUTE(IF(tagflag!B188=\"NOTAG\",rawrtf!A188,SUBSTITUTE(rawrtf!A188,\"TFPTAG\"&tagflag!D188,\"\")),\"TFPSTR\"&strflag!B188,strflag!D188),IF(tagflag!B188=\"NOTAG\",rawrtf!A188,SUBSTITUTE(rawrtf!A188,\"TFPTAG\"&tagflag!D188,\"\"))),\"\")","v":"\\jclisttab\\tx6480 }{\\listname ;}\\listid1785728884}{\\list\\listtemplateid-18844800\\listhybrid{\\listlevel\\levelnfc23\\levelnfcn23\\leveljc0\\leveljcn0\\levelfollow0\\levelstartat1\\levelspace360\\levelindent0{\\leveltext\\leveltemplateid67698689"}]
[{"$f":"IF(tagflag!A189=1,IF(strflag!A189=1,SUBSTITUTE(IF(tagflag!B189=\"NOTAG\",rawrtf!A189,SUBSTITUTE(rawrtf!A189,\"TFPTAG\"&tagflag!D189,\"\")),\"TFPSTR\"&strflag!B189,strflag!D189),IF(tagflag!B189=\"NOTAG\",rawrtf!A189,SUBSTITUTE(rawrtf!A189,\"TFPTAG\"&tagflag!D189,\"\"))),\"\")","v":"\\'01\\u-3913 ?;}{\\levelnumbers;}\\f3\\chbrdr\\brdrnone\\brdrcf1 \\chshdng0\\chcfpat1\\chcbpat1\\fbias0 \\fi-360\\li720\\jclisttab\\tx720 }{\\listlevel\\levelnfc23\\levelnfcn23\\leveljc0\\leveljcn0\\levelfollow0\\levelstartat1\\levelspace360\\levelindent0{\\leveltext"}]
[{"$f":"IF(tagflag!A190=1,IF(strflag!A190=1,SUBSTITUTE(IF(tagflag!B190=\"NOTAG\",rawrtf!A190,SUBSTITUTE(rawrtf!A190,\"TFPTAG\"&tagflag!D190,\"\")),\"TFPSTR\"&strflag!B190,strflag!D190),IF(tagflag!B190=\"NOTAG\",rawrtf!A190,SUBSTITUTE(rawrtf!A190,\"TFPTAG\"&tagflag!D190,\"\"))),\"\")","v":"\\leveltemplateid67698691\\'01o;}{\\levelnumbers;}\\f2\\chbrdr\\brdrnone\\brdrcf1 \\chshdng0\\chcfpat1\\chcbpat1\\fbias0 \\fi-360\\li1440\\jclisttab\\tx1440 }{\\listlevel\\levelnfc23\\levelnfcn23\\leveljc0\\leveljcn0\\levelfollow0\\levelstartat1\\levelspace360\\levelindent0"}]
[{"$f":"IF(tagflag!A191=1,IF(strflag!A191=1,SUBSTITUTE(IF(tagflag!B191=\"NOTAG\",rawrtf!A191,SUBSTITUTE(rawrtf!A191,\"TFPTAG\"&tagflag!D191,\"\")),\"TFPSTR\"&strflag!B191,strflag!D191),IF(tagflag!B191=\"NOTAG\",rawrtf!A191,SUBSTITUTE(rawrtf!A191,\"TFPTAG\"&tagflag!D191,\"\"))),\"\")","v":"{\\leveltext\\leveltemplateid67698693\\'01\\u-3929 ?;}{\\levelnumbers;}\\f14\\chbrdr\\brdrnone\\brdrcf1 \\chshdng0\\chcfpat1\\chcbpat1\\fbias0 \\fi-360\\li2160\\jclisttab\\tx2160 }{\\listlevel\\levelnfc23\\levelnfcn23\\leveljc0\\leveljcn0\\levelfollow0\\levelstartat1"}]
[{"$f":"IF(tagflag!A192=1,IF(strflag!A192=1,SUBSTITUTE(IF(tagflag!B192=\"NOTAG\",rawrtf!A192,SUBSTITUTE(rawrtf!A192,\"TFPTAG\"&tagflag!D192,\"\")),\"TFPSTR\"&strflag!B192,strflag!D192),IF(tagflag!B192=\"NOTAG\",rawrtf!A192,SUBSTITUTE(rawrtf!A192,\"TFPTAG\"&tagflag!D192,\"\"))),\"\")","v":"\\levelspace360\\levelindent0{\\leveltext\\leveltemplateid67698689\\'01\\u-3913 ?;}{\\levelnumbers;}\\f3\\chbrdr\\brdrnone\\brdrcf1 \\chshdng0\\chcfpat1\\chcbpat1\\fbias0 \\fi-360\\li2880\\jclisttab\\tx2880 }{\\listlevel\\levelnfc23\\levelnfcn23\\leveljc0\\leveljcn0\\levelfollow0"}]
[{"$f":"IF(tagflag!A193=1,IF(strflag!A193=1,SUBSTITUTE(IF(tagflag!B193=\"NOTAG\",rawrtf!A193,SUBSTITUTE(rawrtf!A193,\"TFPTAG\"&tagflag!D193,\"\")),\"TFPSTR\"&strflag!B193,strflag!D193),IF(tagflag!B193=\"NOTAG\",rawrtf!A193,SUBSTITUTE(rawrtf!A193,\"TFPTAG\"&tagflag!D193,\"\"))),\"\")","v":"\\levelstartat1\\levelspace360\\levelindent0{\\leveltext\\leveltemplateid67698691\\'01o;}{\\levelnumbers;}\\f2\\chbrdr\\brdrnone\\brdrcf1 \\chshdng0\\chcfpat1\\chcbpat1\\fbias0 \\fi-360\\li3600\\jclisttab\\tx3600 }{\\listlevel\\levelnfc23\\levelnfcn23\\leveljc0\\leveljcn0"}]
[{"$f":"IF(tagflag!A194=1,IF(strflag!A194=1,SUBSTITUTE(IF(tagflag!B194=\"NOTAG\",rawrtf!A194,SUBSTITUTE(rawrtf!A194,\"TFPTAG\"&tagflag!D194,\"\")),\"TFPSTR\"&strflag!B194,strflag!D194),IF(tagflag!B194=\"NOTAG\",rawrtf!A194,SUBSTITUTE(rawrtf!A194,\"TFPTAG\"&tagflag!D194,\"\"))),\"\")","v":"\\levelfollow0\\levelstartat1\\levelspace360\\levelindent0{\\leveltext\\leveltemplateid67698693\\'01\\u-3929 ?;}{\\levelnumbers;}\\f14\\chbrdr\\brdrnone\\brdrcf1 \\chshdng0\\chcfpat1\\chcbpat1\\fbias0 \\fi-360\\li4320\\jclisttab\\tx4320 }{\\listlevel\\levelnfc23\\levelnfcn23"}]
[{"$f":"IF(tagflag!A195=1,IF(strflag!A195=1,SUBSTITUTE(IF(tagflag!B195=\"NOTAG\",rawrtf!A195,SUBSTITUTE(rawrtf!A195,\"TFPTAG\"&tagflag!D195,\"\")),\"TFPSTR\"&strflag!B195,strflag!D195),IF(tagflag!B195=\"NOTAG\",rawrtf!A195,SUBSTITUTE(rawrtf!A195,\"TFPTAG\"&tagflag!D195,\"\"))),\"\")","v":"\\leveljc0\\leveljcn0\\levelfollow0\\levelstartat1\\levelspace360\\levelindent0{\\leveltext\\leveltemplateid67698689\\'01\\u-3913 ?;}{\\levelnumbers;}\\f3\\chbrdr\\brdrnone\\brdrcf1 \\chshdng0\\chcfpat1\\chcbpat1\\fbias0 \\fi-360\\li5040\\jclisttab\\tx5040 }{\\listlevel"}]
[{"$f":"IF(tagflag!A196=1,IF(strflag!A196=1,SUBSTITUTE(IF(tagflag!B196=\"NOTAG\",rawrtf!A196,SUBSTITUTE(rawrtf!A196,\"TFPTAG\"&tagflag!D196,\"\")),\"TFPSTR\"&strflag!B196,strflag!D196),IF(tagflag!B196=\"NOTAG\",rawrtf!A196,SUBSTITUTE(rawrtf!A196,\"TFPTAG\"&tagflag!D196,\"\"))),\"\")","v":"\\levelnfc23\\levelnfcn23\\leveljc0\\leveljcn0\\levelfollow0\\levelstartat1\\levelspace360\\levelindent0{\\leveltext\\leveltemplateid67698691\\'01o;}{\\levelnumbers;}\\f2\\chbrdr\\brdrnone\\brdrcf1 \\chshdng0\\chcfpat1\\chcbpat1\\fbias0 \\fi-360\\li5760\\jclisttab\\tx5760 }"}]
[{"$f":"IF(tagflag!A197=1,IF(strflag!A197=1,SUBSTITUTE(IF(tagflag!B197=\"NOTAG\",rawrtf!A197,SUBSTITUTE(rawrtf!A197,\"TFPTAG\"&tagflag!D197,\"\")),\"TFPSTR\"&strflag!B197,strflag!D197),IF(tagflag!B197=\"NOTAG\",rawrtf!A197,SUBSTITUTE(rawrtf!A197,\"TFPTAG\"&tagflag!D197,\"\"))),\"\")","v":"{\\listlevel\\levelnfc23\\levelnfcn23\\leveljc0\\leveljcn0\\levelfollow0\\levelstartat1\\levelspace360\\levelindent0{\\leveltext\\leveltemplateid67698693\\'01\\u-3929 ?;}{\\levelnumbers;}\\f14\\chbrdr\\brdrnone\\brdrcf1 \\chshdng0\\chcfpat1\\chcbpat1\\fbias0 \\fi-360\\li6480"}]
[{"$f":"IF(tagflag!A198=1,IF(strflag!A198=1,SUBSTITUTE(IF(tagflag!B198=\"NOTAG\",rawrtf!A198,SUBSTITUTE(rawrtf!A198,\"TFPTAG\"&tagflag!D198,\"\")),\"TFPSTR\"&strflag!B198,strflag!D198),IF(tagflag!B198=\"NOTAG\",rawrtf!A198,SUBSTITUTE(rawrtf!A198,\"TFPTAG\"&tagflag!D198,\"\"))),\"\")","v":"\\jclisttab\\tx6480 }{\\listname ;}\\listid1927304697}}{\\*\\listoverridetable{\\listoverride\\listid1195775696\\listoverridecount0\\ls1}{\\listoverride\\listid1120412735\\listoverridecount0\\ls2}{\\listoverride\\listid351958852\\listoverridecount0\\ls3}"}]
[{"$f":"IF(tagflag!A199=1,IF(strflag!A199=1,SUBSTITUTE(IF(tagflag!B199=\"NOTAG\",rawrtf!A199,SUBSTITUTE(rawrtf!A199,\"TFPTAG\"&tagflag!D199,\"\")),\"TFPSTR\"&strflag!B199,strflag!D199),IF(tagflag!B199=\"NOTAG\",rawrtf!A199,SUBSTITUTE(rawrtf!A199,\"TFPTAG\"&tagflag!D199,\"\"))),\"\")","v":"{\\listoverride\\listid1927304697\\listoverridecount0\\ls4}{\\listoverride\\listid874660257\\listoverridecount0\\ls5}{\\listoverride\\listid512492878\\listoverridecount0\\ls6}{\\listoverride\\listid975987307\\listoverridecount0\\ls7}{\\listoverride\\listid1710110410"}]
[{"$f":"IF(tagflag!A200=1,IF(strflag!A200=1,SUBSTITUTE(IF(tagflag!B200=\"NOTAG\",rawrtf!A200,SUBSTITUTE(rawrtf!A200,\"TFPTAG\"&tagflag!D200,\"\")),\"TFPSTR\"&strflag!B200,strflag!D200),IF(tagflag!B200=\"NOTAG\",rawrtf!A200,SUBSTITUTE(rawrtf!A200,\"TFPTAG\"&tagflag!D200,\"\"))),\"\")","v":"\\listoverridecount0\\ls8}{\\listoverride\\listid1520660540\\listoverridecount0\\ls9}{\\listoverride\\listid1785728884\\listoverridecount0\\ls10}{\\listoverride\\listid1455707875\\listoverridecount0\\ls11}{\\listoverride\\listid753169515\\listoverridecount0\\ls12}"}]
[{"$f":"IF(tagflag!A201=1,IF(strflag!A201=1,SUBSTITUTE(IF(tagflag!B201=\"NOTAG\",rawrtf!A201,SUBSTITUTE(rawrtf!A201,\"TFPTAG\"&tagflag!D201,\"\")),\"TFPSTR\"&strflag!B201,strflag!D201),IF(tagflag!B201=\"NOTAG\",rawrtf!A201,SUBSTITUTE(rawrtf!A201,\"TFPTAG\"&tagflag!D201,\"\"))),\"\")","v":"{\\listoverride\\listid1504471328\\listoverridecount0\\ls13}{\\listoverride\\listid839931700\\listoverridecount0\\ls14}{\\listoverride\\listid1589655192\\listoverridecount0\\ls15}{\\listoverride\\listid1206794323\\listoverridecount0\\ls16}{\\listoverride\\listid1509980687"}]
[{"$f":"IF(tagflag!A202=1,IF(strflag!A202=1,SUBSTITUTE(IF(tagflag!B202=\"NOTAG\",rawrtf!A202,SUBSTITUTE(rawrtf!A202,\"TFPTAG\"&tagflag!D202,\"\")),\"TFPSTR\"&strflag!B202,strflag!D202),IF(tagflag!B202=\"NOTAG\",rawrtf!A202,SUBSTITUTE(rawrtf!A202,\"TFPTAG\"&tagflag!D202,\"\"))),\"\")","v":"\\listoverridecount0\\ls17}{\\listoverride\\listid1778015599\\listoverridecount0\\ls18}}{\\info{\\title Totemic Foundation Plan}{\\author TFP v1.0 - Copyright Quocom Ltd 2006}{\\operator Quocom Ltd}{\\creatim\\yr2006\\mo10\\dy1\\hr00\\min00}"}]
[{"$f":"IF(tagflag!A203=1,IF(strflag!A203=1,SUBSTITUTE(IF(tagflag!B203=\"NOTAG\",rawrtf!A203,SUBSTITUTE(rawrtf!A203,\"TFPTAG\"&tagflag!D203,\"\")),\"TFPSTR\"&strflag!B203,strflag!D203),IF(tagflag!B203=\"NOTAG\",rawrtf!A203,SUBSTITUTE(rawrtf!A203,\"TFPTAG\"&tagflag!D203,\"\"))),\"\")","v":"{\\revtim\\yr2006\\mo10\\dy1\\hr00\\min00}{\\version1}{\\edmins1}{\\nofpages1}{\\nofwords100}{\\nofchars1000}{\\*\\company Quocom Ltd}{\\nofcharsws0}{\\vern8269}}\\paperw11906\\paperh16838 "}]
[{"$f":"IF(tagflag!A204=1,IF(strflag!A204=1,SUBSTITUTE(IF(tagflag!B204=\"NOTAG\",rawrtf!A204,SUBSTITUTE(rawrtf!A204,\"TFPTAG\"&tagflag!D204,\"\")),\"TFPSTR\"&strflag!B204,strflag!D204),IF(tagflag!B204=\"NOTAG\",rawrtf!A204,SUBSTITUTE(rawrtf!A204,\"TFPTAG\"&tagflag!D204,\"\"))),\"\")","v":"\\widowctrl\\ftnbj\\aenddoc\\noxlattoyen\\expshrtn\\noultrlspc\\dntblnsbdb\\nospaceforul\\hyphcaps0\\formshade\\horzdoc\\dgmargin\\dghspace180\\dgvspace180\\dghorigin1800\\dgvorigin1440\\dghshow1\\dgvshow1"}]
[{"$f":"IF(tagflag!A205=1,IF(strflag!A205=1,SUBSTITUTE(IF(tagflag!B205=\"NOTAG\",rawrtf!A205,SUBSTITUTE(rawrtf!A205,\"TFPTAG\"&tagflag!D205,\"\")),\"TFPSTR\"&strflag!B205,strflag!D205),IF(tagflag!B205=\"NOTAG\",rawrtf!A205,SUBSTITUTE(rawrtf!A205,\"TFPTAG\"&tagflag!D205,\"\"))),\"\")","v":"\\jexpand\\viewkind1\\viewscale117\\viewzk2\\pgbrdrhead\\pgbrdrfoot\\splytwnine\\ftnlytwnine\\htmautsp\\nolnhtadjtbl\\useltbaln\\alntblind\\lytcalctblwd\\lyttblrtgr\\lnbrkrule \\fet0\\sectd \\linex0\\headery708\\footery708\\colsx708\\endnhere\\sectlinegrid360\\sectdefaultcl "}]
[{"$f":"IF(tagflag!A206=1,IF(strflag!A206=1,SUBSTITUTE(IF(tagflag!B206=\"NOTAG\",rawrtf!A206,SUBSTITUTE(rawrtf!A206,\"TFPTAG\"&tagflag!D206,\"\")),\"TFPSTR\"&strflag!B206,strflag!D206),IF(tagflag!B206=\"NOTAG\",rawrtf!A206,SUBSTITUTE(rawrtf!A206,\"TFPTAG\"&tagflag!D206,\"\"))),\"\")","v":"{\\*\\pnseclvl1\\pnucrm\\pnstart1\\pnindent720\\pnhang{\\pntxta .}}{\\*\\pnseclvl2\\pnucltr\\pnstart1\\pnindent720\\pnhang{\\pntxta .}}{\\*\\pnseclvl3\\pndec\\pnstart1\\pnindent720\\pnhang{\\pntxta .}}{\\*\\pnseclvl4\\pnlcltr\\pnstart1\\pnindent720\\pnhang{\\pntxta )}}{\\*\\pnseclvl5"}]
[{"$f":"IF(tagflag!A207=1,IF(strflag!A207=1,SUBSTITUTE(IF(tagflag!B207=\"NOTAG\",rawrtf!A207,SUBSTITUTE(rawrtf!A207,\"TFPTAG\"&tagflag!D207,\"\")),\"TFPSTR\"&strflag!B207,strflag!D207),IF(tagflag!B207=\"NOTAG\",rawrtf!A207,SUBSTITUTE(rawrtf!A207,\"TFPTAG\"&tagflag!D207,\"\"))),\"\")","v":"\\pndec\\pnstart1\\pnindent720\\pnhang{\\pntxtb (}{\\pntxta )}}{\\*\\pnseclvl6\\pnlcltr\\pnstart1\\pnindent720\\pnhang{\\pntxtb (}{\\pntxta )}}{\\*\\pnseclvl7\\pnlcrm\\pnstart1\\pnindent720\\pnhang{\\pntxtb (}{\\pntxta )}}{\\*\\pnseclvl8\\pnlcltr\\pnstart1\\pnindent720\\pnhang"}]
[{"$f":"IF(tagflag!A208=1,IF(strflag!A208=1,SUBSTITUTE(IF(tagflag!B208=\"NOTAG\",rawrtf!A208,SUBSTITUTE(rawrtf!A208,\"TFPTAG\"&tagflag!D208,\"\")),\"TFPSTR\"&strflag!B208,strflag!D208),IF(tagflag!B208=\"NOTAG\",rawrtf!A208,SUBSTITUTE(rawrtf!A208,\"TFPTAG\"&tagflag!D208,\"\"))),\"\")","v":"{\\pntxtb (}{\\pntxta )}}{\\*\\pnseclvl9\\pnlcrm\\pnstart1\\pnindent720\\pnhang{\\pntxtb (}{\\pntxta )}}\\pard\\plain \\ql \\li360\\ri0\\sa240\\widctlpar\\aspalpha\\aspnum\\faauto\\adjustright\\rin0\\lin360\\itap0 \\fs24\\lang2057\\langfe1033\\cgrid\\langnp2057\\langfenp1033 {\\f28"}]
[{"$f":"IF(tagflag!A209=1,IF(strflag!A209=1,SUBSTITUTE(IF(tagflag!B209=\"NOTAG\",rawrtf!A209,SUBSTITUTE(rawrtf!A209,\"TFPTAG\"&tagflag!D209,\"\")),\"TFPSTR\"&strflag!B209,strflag!D209),IF(tagflag!B209=\"NOTAG\",rawrtf!A209,SUBSTITUTE(rawrtf!A209,\"TFPTAG\"&tagflag!D209,\"\"))),\"\")","v":"\\par "}]
[{"$f":"IF(tagflag!A210=1,IF(strflag!A210=1,SUBSTITUTE(IF(tagflag!B210=\"NOTAG\",rawrtf!A210,SUBSTITUTE(rawrtf!A210,\"TFPTAG\"&tagflag!D210,\"\")),\"TFPSTR\"&strflag!B210,strflag!D210),IF(tagflag!B210=\"NOTAG\",rawrtf!A210,SUBSTITUTE(rawrtf!A210,\"TFPTAG\"&tagflag!D210,\"\"))),\"\")","v":"\\par "}]
[{"$f":"IF(tagflag!A211=1,IF(strflag!A211=1,SUBSTITUTE(IF(tagflag!B211=\"NOTAG\",rawrtf!A211,SUBSTITUTE(rawrtf!A211,\"TFPTAG\"&tagflag!D211,\"\")),\"TFPSTR\"&strflag!B211,strflag!D211),IF(tagflag!B211=\"NOTAG\",rawrtf!A211,SUBSTITUTE(rawrtf!A211,\"TFPTAG\"&tagflag!D211,\"\"))),\"\")","v":"\\par "}]
[{"$f":"IF(tagflag!A212=1,IF(strflag!A212=1,SUBSTITUTE(IF(tagflag!B212=\"NOTAG\",rawrtf!A212,SUBSTITUTE(rawrtf!A212,\"TFPTAG\"&tagflag!D212,\"\")),\"TFPSTR\"&strflag!B212,strflag!D212),IF(tagflag!B212=\"NOTAG\",rawrtf!A212,SUBSTITUTE(rawrtf!A212,\"TFPTAG\"&tagflag!D212,\"\"))),\"\")","v":"\\par }\\pard \\ql \\li0\\ri0\\sa240\\widctlpar\\aspalpha\\aspnum\\faauto\\adjustright\\rin0\\lin0\\itap0 {\\f28 "}]
[{"$f":"IF(tagflag!A213=1,IF(strflag!A213=1,SUBSTITUTE(IF(tagflag!B213=\"NOTAG\",rawrtf!A213,SUBSTITUTE(rawrtf!A213,\"TFPTAG\"&tagflag!D213,\"\")),\"TFPSTR\"&strflag!B213,strflag!D213),IF(tagflag!B213=\"NOTAG\",rawrtf!A213,SUBSTITUTE(rawrtf!A213,\"TFPTAG\"&tagflag!D213,\"\"))),\"\")","v":"\\par }\\pard \\ql \\li360\\ri0\\sa240\\widctlpar\\aspalpha\\aspnum\\faauto\\adjustright\\rin0\\lin360\\itap0 {\\f28 "}]
[{"$f":"IF(tagflag!A214=1,IF(strflag!A214=1,SUBSTITUTE(IF(tagflag!B214=\"NOTAG\",rawrtf!A214,SUBSTITUTE(rawrtf!A214,\"TFPTAG\"&tagflag!D214,\"\")),\"TFPSTR\"&strflag!B214,strflag!D214),IF(tagflag!B214=\"NOTAG\",rawrtf!A214,SUBSTITUTE(rawrtf!A214,\"TFPTAG\"&tagflag!D214,\"\"))),\"\")","v":"\\par }\\pard \\ql \\li0\\ri0\\sa240\\widctlpar\\aspalpha\\aspnum\\faauto\\adjustright\\rin0\\lin0\\itap0 {\\f28 "}]
[{"$f":"IF(tagflag!A215=1,IF(strflag!A215=1,SUBSTITUTE(IF(tagflag!B215=\"NOTAG\",rawrtf!A215,SUBSTITUTE(rawrtf!A215,\"TFPTAG\"&tagflag!D215,\"\")),\"TFPSTR\"&strflag!B215,strflag!D215),IF(tagflag!B215=\"NOTAG\",rawrtf!A215,SUBSTITUTE(rawrtf!A215,\"TFPTAG\"&tagflag!D215,\"\"))),\"\")","v":"\\par }\\pard\\plain \\s1\\qc \\li0\\ri0\\sb240\\sa60\\keepn\\widctlpar\\aspalpha\\aspnum\\faauto\\outlinelevel0\\adjustright\\rin0\\lin0\\itap0 \\b\\f1\\fs32\\lang2057\\langfe1033\\kerning32\\cgrid\\langnp2057\\langfenp1033 {Missing Field - FirmNam-Ans1}{\\f28 "}]
[{"$f":"IF(tagflag!A216=1,IF(strflag!A216=1,SUBSTITUTE(IF(tagflag!B216=\"NOTAG\",rawrtf!A216,SUBSTITUTE(rawrtf!A216,\"TFPTAG\"&tagflag!D216,\"\")),\"TFPSTR\"&strflag!B216,strflag!D216),IF(tagflag!B216=\"NOTAG\",rawrtf!A216,SUBSTITUTE(rawrtf!A216,\"TFPTAG\"&tagflag!D216,\"\"))),\"\")","v":"\\par }{Marketing Plan"}]
[{"$f":"IF(tagflag!A217=1,IF(strflag!A217=1,SUBSTITUTE(IF(tagflag!B217=\"NOTAG\",rawrtf!A217,SUBSTITUTE(rawrtf!A217,\"TFPTAG\"&tagflag!D217,\"\")),\"TFPSTR\"&strflag!B217,strflag!D217),IF(tagflag!B217=\"NOTAG\",rawrtf!A217,SUBSTITUTE(rawrtf!A217,\"TFPTAG\"&tagflag!D217,\"\"))),\"\")","v":"\\par }\\pard\\plain \\ql \\li360\\ri0\\sa240\\widctlpar\\aspalpha\\aspnum\\faauto\\adjustright\\rin0\\lin360\\itap0 \\fs24\\lang2057\\langfe1033\\cgrid\\langnp2057\\langfenp1033 {\\f28 "}]
[{"$f":"IF(tagflag!A218=1,IF(strflag!A218=1,SUBSTITUTE(IF(tagflag!B218=\"NOTAG\",rawrtf!A218,SUBSTITUTE(rawrtf!A218,\"TFPTAG\"&tagflag!D218,\"\")),\"TFPSTR\"&strflag!B218,strflag!D218),IF(tagflag!B218=\"NOTAG\",rawrtf!A218,SUBSTITUTE(rawrtf!A218,\"TFPTAG\"&tagflag!D218,\"\"))),\"\")","v":"\\par }\\pard \\ql \\li0\\ri0\\sa240\\widctlpar\\aspalpha\\aspnum\\faauto\\adjustright\\rin0\\lin0\\itap0 {\\f28 "}]
[{"$f":"IF(tagflag!A219=1,IF(strflag!A219=1,SUBSTITUTE(IF(tagflag!B219=\"NOTAG\",rawrtf!A219,SUBSTITUTE(rawrtf!A219,\"TFPTAG\"&tagflag!D219,\"\")),\"TFPSTR\"&strflag!B219,strflag!D219),IF(tagflag!B219=\"NOTAG\",rawrtf!A219,SUBSTITUTE(rawrtf!A219,\"TFPTAG\"&tagflag!D219,\"\"))),\"\")","v":"\\par }\\pard \\ql \\li360\\ri0\\sa240\\widctlpar\\aspalpha\\aspnum\\faauto\\adjustright\\rin0\\lin360\\itap0 {\\f28 "}]
[{"$f":"IF(tagflag!A220=1,IF(strflag!A220=1,SUBSTITUTE(IF(tagflag!B220=\"NOTAG\",rawrtf!A220,SUBSTITUTE(rawrtf!A220,\"TFPTAG\"&tagflag!D220,\"\")),\"TFPSTR\"&strflag!B220,strflag!D220),IF(tagflag!B220=\"NOTAG\",rawrtf!A220,SUBSTITUTE(rawrtf!A220,\"TFPTAG\"&tagflag!D220,\"\"))),\"\")","v":"\\par "}]
[{"$f":"IF(tagflag!A221=1,IF(strflag!A221=1,SUBSTITUTE(IF(tagflag!B221=\"NOTAG\",rawrtf!A221,SUBSTITUTE(rawrtf!A221,\"TFPTAG\"&tagflag!D221,\"\")),\"TFPSTR\"&strflag!B221,strflag!D221),IF(tagflag!B221=\"NOTAG\",rawrtf!A221,SUBSTITUTE(rawrtf!A221,\"TFPTAG\"&tagflag!D221,\"\"))),\"\")","v":"\\par "}]
[{"$f":"IF(tagflag!A222=1,IF(strflag!A222=1,SUBSTITUTE(IF(tagflag!B222=\"NOTAG\",rawrtf!A222,SUBSTITUTE(rawrtf!A222,\"TFPTAG\"&tagflag!D222,\"\")),\"TFPSTR\"&strflag!B222,strflag!D222),IF(tagflag!B222=\"NOTAG\",rawrtf!A222,SUBSTITUTE(rawrtf!A222,\"TFPTAG\"&tagflag!D222,\"\"))),\"\")","v":"\\par }\\pard \\ql \\li0\\ri0\\sa240\\widctlpar\\aspalpha\\aspnum\\faauto\\adjustright\\rin0\\lin0\\itap0 {\\f28 "}]
[{"$f":"IF(tagflag!A223=1,IF(strflag!A223=1,SUBSTITUTE(IF(tagflag!B223=\"NOTAG\",rawrtf!A223,SUBSTITUTE(rawrtf!A223,\"TFPTAG\"&tagflag!D223,\"\")),\"TFPSTR\"&strflag!B223,strflag!D223),IF(tagflag!B223=\"NOTAG\",rawrtf!A223,SUBSTITUTE(rawrtf!A223,\"TFPTAG\"&tagflag!D223,\"\"))),\"\")","v":"\\par }\\pard \\ql \\li360\\ri0\\sa240\\widctlpar\\aspalpha\\aspnum\\faauto\\adjustright\\rin0\\lin360\\itap0 {\\f28 "}]
[{"$f":"IF(tagflag!A224=1,IF(strflag!A224=1,SUBSTITUTE(IF(tagflag!B224=\"NOTAG\",rawrtf!A224,SUBSTITUTE(rawrtf!A224,\"TFPTAG\"&tagflag!D224,\"\")),\"TFPSTR\"&strflag!B224,strflag!D224),IF(tagflag!B224=\"NOTAG\",rawrtf!A224,SUBSTITUTE(rawrtf!A224,\"TFPTAG\"&tagflag!D224,\"\"))),\"\")","v":"\\par "}]
[{"$f":"IF(tagflag!A225=1,IF(strflag!A225=1,SUBSTITUTE(IF(tagflag!B225=\"NOTAG\",rawrtf!A225,SUBSTITUTE(rawrtf!A225,\"TFPTAG\"&tagflag!D225,\"\")),\"TFPSTR\"&strflag!B225,strflag!D225),IF(tagflag!B225=\"NOTAG\",rawrtf!A225,SUBSTITUTE(rawrtf!A225,\"TFPTAG\"&tagflag!D225,\"\"))),\"\")","v":"\\par "}]
[{"$f":"IF(tagflag!A226=1,IF(strflag!A226=1,SUBSTITUTE(IF(tagflag!B226=\"NOTAG\",rawrtf!A226,SUBSTITUTE(rawrtf!A226,\"TFPTAG\"&tagflag!D226,\"\")),\"TFPSTR\"&strflag!B226,strflag!D226),IF(tagflag!B226=\"NOTAG\",rawrtf!A226,SUBSTITUTE(rawrtf!A226,\"TFPTAG\"&tagflag!D226,\"\"))),\"\")","v":"\\par "}]
[{"$f":"IF(tagflag!A227=1,IF(strflag!A227=1,SUBSTITUTE(IF(tagflag!B227=\"NOTAG\",rawrtf!A227,SUBSTITUTE(rawrtf!A227,\"TFPTAG\"&tagflag!D227,\"\")),\"TFPSTR\"&strflag!B227,strflag!D227),IF(tagflag!B227=\"NOTAG\",rawrtf!A227,SUBSTITUTE(rawrtf!A227,\"TFPTAG\"&tagflag!D227,\"\"))),\"\")","v":"\\par "}]
[{"$f":"IF(tagflag!A228=1,IF(strflag!A228=1,SUBSTITUTE(IF(tagflag!B228=\"NOTAG\",rawrtf!A228,SUBSTITUTE(rawrtf!A228,\"TFPTAG\"&tagflag!D228,\"\")),\"TFPSTR\"&strflag!B228,strflag!D228),IF(tagflag!B228=\"NOTAG\",rawrtf!A228,SUBSTITUTE(rawrtf!A228,\"TFPTAG\"&tagflag!D228,\"\"))),\"\")","v":"\\par "}]
[{"$f":"IF(tagflag!A229=1,IF(strflag!A229=1,SUBSTITUTE(IF(tagflag!B229=\"NOTAG\",rawrtf!A229,SUBSTITUTE(rawrtf!A229,\"TFPTAG\"&tagflag!D229,\"\")),\"TFPSTR\"&strflag!B229,strflag!D229),IF(tagflag!B229=\"NOTAG\",rawrtf!A229,SUBSTITUTE(rawrtf!A229,\"TFPTAG\"&tagflag!D229,\"\"))),\"\")","v":"\\par "}]
[{"$f":"IF(tagflag!A230=1,IF(strflag!A230=1,SUBSTITUTE(IF(tagflag!B230=\"NOTAG\",rawrtf!A230,SUBSTITUTE(rawrtf!A230,\"TFPTAG\"&tagflag!D230,\"\")),\"TFPSTR\"&strflag!B230,strflag!D230),IF(tagflag!B230=\"NOTAG\",rawrtf!A230,SUBSTITUTE(rawrtf!A230,\"TFPTAG\"&tagflag!D230,\"\"))),\"\")","v":"\\par "}]
[{"$f":"IF(tagflag!A231=1,IF(strflag!A231=1,SUBSTITUTE(IF(tagflag!B231=\"NOTAG\",rawrtf!A231,SUBSTITUTE(rawrtf!A231,\"TFPTAG\"&tagflag!D231,\"\")),\"TFPSTR\"&strflag!B231,strflag!D231),IF(tagflag!B231=\"NOTAG\",rawrtf!A231,SUBSTITUTE(rawrtf!A231,\"TFPTAG\"&tagflag!D231,\"\"))),\"\")","v":"\\par }\\trowd \\trgaph108\\trleft252\\trbrdrh\\brdrs\\brdrw10 \\trbrdrv\\brdrs\\brdrw10 \\trftsWidth1\\trautofit1\\trpaddl108\\trpaddr108\\trpaddfl3\\trpaddfr3 \\clvertalt\\clbrdrt\\brdrnone \\clbrdrl\\brdrnone \\clbrdrb\\brdrnone \\clbrdrr\\brdrnone "}]
[{"$f":"IF(tagflag!A232=1,IF(strflag!A232=1,SUBSTITUTE(IF(tagflag!B232=\"NOTAG\",rawrtf!A232,SUBSTITUTE(rawrtf!A232,\"TFPTAG\"&tagflag!D232,\"\")),\"TFPSTR\"&strflag!B232,strflag!D232),IF(tagflag!B232=\"NOTAG\",rawrtf!A232,SUBSTITUTE(rawrtf!A232,\"TFPTAG\"&tagflag!D232,\"\"))),\"\")","v":"\\cltxlrtb\\clftsWidth3\\clwWidth4261 \\cellx4358\\clvertalt\\clbrdrt\\brdrnone \\clbrdrl\\brdrnone \\clbrdrb\\brdrnone \\clbrdrr\\brdrnone \\cltxlrtb\\clftsWidth3\\clwWidth4261 \\cellx8414\\pard "}]
[{"$f":"IF(tagflag!A233=1,IF(strflag!A233=1,SUBSTITUTE(IF(tagflag!B233=\"NOTAG\",rawrtf!A233,SUBSTITUTE(rawrtf!A233,\"TFPTAG\"&tagflag!D233,\"\")),\"TFPSTR\"&strflag!B233,strflag!D233),IF(tagflag!B233=\"NOTAG\",rawrtf!A233,SUBSTITUTE(rawrtf!A233,\"TFPTAG\"&tagflag!D233,\"\"))),\"\")","v":"\\ql \\li360\\ri0\\widctlpar\\intbl\\aspalpha\\aspnum\\faauto\\adjustright\\rin0\\lin360 {\\f28 Missing Field - FirmNam-Ans1"}]
[{"$f":"IF(tagflag!A234=1,IF(strflag!A234=1,SUBSTITUTE(IF(tagflag!B234=\"NOTAG\",rawrtf!A234,SUBSTITUTE(rawrtf!A234,\"TFPTAG\"&tagflag!D234,\"\")),\"TFPSTR\"&strflag!B234,strflag!D234),IF(tagflag!B234=\"NOTAG\",rawrtf!A234,SUBSTITUTE(rawrtf!A234,\"TFPTAG\"&tagflag!D234,\"\"))),\"\")","v":"\\par Missing Field - FirmAdd-Ans1}{\\cell }\\pard \\qr \\li0\\ri0\\widctlpar\\intbl\\aspalpha\\aspnum\\faauto\\adjustright\\rin0\\lin0 {\\field{\\*\\fldinst { TIME \\\\@ \"dd MMMM yyyy\" }}{\\fldrslt {\\lang1024\\langfe1024\\noproof 12 October 2006}}}{\\cell }\\pard "}]
[{"$f":"IF(tagflag!A235=1,IF(strflag!A235=1,SUBSTITUTE(IF(tagflag!B235=\"NOTAG\",rawrtf!A235,SUBSTITUTE(rawrtf!A235,\"TFPTAG\"&tagflag!D235,\"\")),\"TFPSTR\"&strflag!B235,strflag!D235),IF(tagflag!B235=\"NOTAG\",rawrtf!A235,SUBSTITUTE(rawrtf!A235,\"TFPTAG\"&tagflag!D235,\"\"))),\"\")","v":"\\ql \\li0\\ri0\\widctlpar\\intbl\\aspalpha\\aspnum\\faauto\\adjustright\\rin0\\lin0 {\\f28 \\trowd \\trgaph108\\trleft252\\trbrdrh\\brdrs\\brdrw10 \\trbrdrv\\brdrs\\brdrw10 \\trftsWidth1\\trautofit1\\trpaddl108\\trpaddr108\\trpaddfl3\\trpaddfr3 \\clvertalt\\clbrdrt\\brdrnone \\clbrdrl"}]
[{"$f":"IF(tagflag!A236=1,IF(strflag!A236=1,SUBSTITUTE(IF(tagflag!B236=\"NOTAG\",rawrtf!A236,SUBSTITUTE(rawrtf!A236,\"TFPTAG\"&tagflag!D236,\"\")),\"TFPSTR\"&strflag!B236,strflag!D236),IF(tagflag!B236=\"NOTAG\",rawrtf!A236,SUBSTITUTE(rawrtf!A236,\"TFPTAG\"&tagflag!D236,\"\"))),\"\")","v":"\\brdrnone \\clbrdrb\\brdrnone \\clbrdrr\\brdrnone \\cltxlrtb\\clftsWidth3\\clwWidth4261 \\cellx4358\\clvertalt\\clbrdrt\\brdrnone \\clbrdrl\\brdrnone \\clbrdrb\\brdrnone \\clbrdrr\\brdrnone \\cltxlrtb\\clftsWidth3\\clwWidth4261 \\cellx8414\\row }\\pard\\plain "}]
[{"$f":"IF(tagflag!A237=1,IF(strflag!A237=1,SUBSTITUTE(IF(tagflag!B237=\"NOTAG\",rawrtf!A237,SUBSTITUTE(rawrtf!A237,\"TFPTAG\"&tagflag!D237,\"\")),\"TFPSTR\"&strflag!B237,strflag!D237),IF(tagflag!B237=\"NOTAG\",rawrtf!A237,SUBSTITUTE(rawrtf!A237,\"TFPTAG\"&tagflag!D237,\"\"))),\"\")","v":"\\s1\\ql \\li360\\ri0\\sb240\\sa60\\keepn\\widctlpar\\aspalpha\\aspnum\\faauto\\outlinelevel0\\adjustright\\rin0\\lin360\\itap0 \\b\\f1\\fs32\\lang2057\\langfe1033\\kerning32\\cgrid\\langnp2057\\langfenp1033 {\\f28 \\page Executive Summary"}]
[{"$f":"IF(tagflag!A238=1,IF(strflag!A238=1,SUBSTITUTE(IF(tagflag!B238=\"NOTAG\",rawrtf!A238,SUBSTITUTE(rawrtf!A238,\"TFPTAG\"&tagflag!D238,\"\")),\"TFPSTR\"&strflag!B238,strflag!D238),IF(tagflag!B238=\"NOTAG\",rawrtf!A238,SUBSTITUTE(rawrtf!A238,\"TFPTAG\"&tagflag!D238,\"\"))),\"\")","v":"\\par }\\pard\\plain \\ql \\li360\\ri0\\sa240\\widctlpar\\aspalpha\\aspnum\\faauto\\adjustright\\rin0\\lin360\\itap0 \\fs24\\lang2057\\langfe1033\\cgrid\\langnp2057\\langfenp1033 {\\f28 "}]
[{"$f":"IF(tagflag!A239=1,IF(strflag!A239=1,SUBSTITUTE(IF(tagflag!B239=\"NOTAG\",rawrtf!A239,SUBSTITUTE(rawrtf!A239,\"TFPTAG\"&tagflag!D239,\"\")),\"TFPSTR\"&strflag!B239,strflag!D239),IF(tagflag!B239=\"NOTAG\",rawrtf!A239,SUBSTITUTE(rawrtf!A239,\"TFPTAG\"&tagflag!D239,\"\"))),\"\")","v":"This is a marketing plan for Missing Field - FirmNam-Ans1.  It describes the strategy and budget required for sales and marketing over the coming year."}]
[{"$f":"IF(tagflag!A240=1,IF(strflag!A240=1,SUBSTITUTE(IF(tagflag!B240=\"NOTAG\",rawrtf!A240,SUBSTITUTE(rawrtf!A240,\"TFPTAG\"&tagflag!D240,\"\")),\"TFPSTR\"&strflag!B240,strflag!D240),IF(tagflag!B240=\"NOTAG\",rawrtf!A240,SUBSTITUTE(rawrtf!A240,\"TFPTAG\"&tagflag!D240,\"\"))),\"\")","v":"\\par The company\\rquote s marketing objective is: Missing Field - MktObj-Ans1.  To maximise the probability of achieving this requires an integrated plan making appropriate use of all the elements of the marketing mix."}]
[{"$f":"IF(tagflag!A241=1,IF(strflag!A241=1,SUBSTITUTE(IF(tagflag!B241=\"NOTAG\",rawrtf!A241,SUBSTITUTE(rawrtf!A241,\"TFPTAG\"&tagflag!D241,\"\")),\"TFPSTR\"&strflag!B241,strflag!D241),IF(tagflag!B241=\"NOTAG\",rawrtf!A241,SUBSTITUTE(rawrtf!A241,\"TFPTAG\"&tagflag!D241,\"\"))),\"\")","v":"\\par The plan has a budget of £0 and has the following principal programmes:"}]
[{"$f":"IF(tagflag!A242=1,IF(strflag!A242=1,SUBSTITUTE(IF(tagflag!B242=\"NOTAG\",rawrtf!A242,SUBSTITUTE(rawrtf!A242,\"TFPTAG\"&tagflag!D242,\"\")),\"TFPSTR\"&strflag!B242,strflag!D242),IF(tagflag!B242=\"NOTAG\",rawrtf!A242,SUBSTITUTE(rawrtf!A242,\"TFPTAG\"&tagflag!D242,\"\"))),\"\")","v":""}]
[{"$f":"IF(tagflag!A243=1,IF(strflag!A243=1,SUBSTITUTE(IF(tagflag!B243=\"NOTAG\",rawrtf!A243,SUBSTITUTE(rawrtf!A243,\"TFPTAG\"&tagflag!D243,\"\")),\"TFPSTR\"&strflag!B243,strflag!D243),IF(tagflag!B243=\"NOTAG\",rawrtf!A243,SUBSTITUTE(rawrtf!A243,\"TFPTAG\"&tagflag!D243,\"\"))),\"\")","v":""}]
[{"$f":"IF(tagflag!A244=1,IF(strflag!A244=1,SUBSTITUTE(IF(tagflag!B244=\"NOTAG\",rawrtf!A244,SUBSTITUTE(rawrtf!A244,\"TFPTAG\"&tagflag!D244,\"\")),\"TFPSTR\"&strflag!B244,strflag!D244),IF(tagflag!B244=\"NOTAG\",rawrtf!A244,SUBSTITUTE(rawrtf!A244,\"TFPTAG\"&tagflag!D244,\"\"))),\"\")","v":""}]
[{"$f":"IF(tagflag!A245=1,IF(strflag!A245=1,SUBSTITUTE(IF(tagflag!B245=\"NOTAG\",rawrtf!A245,SUBSTITUTE(rawrtf!A245,\"TFPTAG\"&tagflag!D245,\"\")),\"TFPSTR\"&strflag!B245,strflag!D245),IF(tagflag!B245=\"NOTAG\",rawrtf!A245,SUBSTITUTE(rawrtf!A245,\"TFPTAG\"&tagflag!D245,\"\"))),\"\")","v":""}]
[{"$f":"IF(tagflag!A246=1,IF(strflag!A246=1,SUBSTITUTE(IF(tagflag!B246=\"NOTAG\",rawrtf!A246,SUBSTITUTE(rawrtf!A246,\"TFPTAG\"&tagflag!D246,\"\")),\"TFPSTR\"&strflag!B246,strflag!D246),IF(tagflag!B246=\"NOTAG\",rawrtf!A246,SUBSTITUTE(rawrtf!A246,\"TFPTAG\"&tagflag!D246,\"\"))),\"\")","v":"\\par }\\pard\\plain \\s1\\ql \\li360\\ri0\\sb240\\sa60\\keepn\\widctlpar\\aspalpha\\aspnum\\faauto\\outlinelevel0\\adjustright\\rin0\\lin360\\itap0 \\b\\f1\\fs32\\lang2057\\langfe1033\\kerning32\\cgrid\\langnp2057\\langfenp1033 {\\f28 Market Situation"}]
[{"$f":"IF(tagflag!A247=1,IF(strflag!A247=1,SUBSTITUTE(IF(tagflag!B247=\"NOTAG\",rawrtf!A247,SUBSTITUTE(rawrtf!A247,\"TFPTAG\"&tagflag!D247,\"\")),\"TFPSTR\"&strflag!B247,strflag!D247),IF(tagflag!B247=\"NOTAG\",rawrtf!A247,SUBSTITUTE(rawrtf!A247,\"TFPTAG\"&tagflag!D247,\"\"))),\"\")","v":"\\par }\\pard\\plain \\s2\\ql \\li360\\ri0\\sb240\\sa60\\keepn\\widctlpar\\aspalpha\\aspnum\\faauto\\outlinelevel1\\adjustright\\rin0\\lin360\\itap0 \\b\\i\\f1\\fs28\\lang2057\\langfe1033\\cgrid\\langnp2057\\langfenp1033 {\\f28 Missing Field - FirmNam-Ans1"}]
[{"$f":"IF(tagflag!A248=1,IF(strflag!A248=1,SUBSTITUTE(IF(tagflag!B248=\"NOTAG\",rawrtf!A248,SUBSTITUTE(rawrtf!A248,\"TFPTAG\"&tagflag!D248,\"\")),\"TFPSTR\"&strflag!B248,strflag!D248),IF(tagflag!B248=\"NOTAG\",rawrtf!A248,SUBSTITUTE(rawrtf!A248,\"TFPTAG\"&tagflag!D248,\"\"))),\"\")","v":"\\par }\\pard\\plain \\ql \\li360\\ri0\\sa240\\widctlpar\\aspalpha\\aspnum\\faauto\\adjustright\\rin0\\lin360\\itap0 \\fs24\\lang2057\\langfe1033\\cgrid\\langnp2057\\langfenp1033 {\\f28 The company provides Missing Field - FirmProd-Ans1.  In the last year it had:"}]
[{"$f":"IF(tagflag!A249=1,IF(strflag!A249=1,SUBSTITUTE(IF(tagflag!B249=\"NOTAG\",rawrtf!A249,SUBSTITUTE(rawrtf!A249,\"TFPTAG\"&tagflag!D249,\"\")),\"TFPSTR\"&strflag!B249,strflag!D249),IF(tagflag!B249=\"NOTAG\",rawrtf!A249,SUBSTITUTE(rawrtf!A249,\"TFPTAG\"&tagflag!D249,\"\"))),\"\")","v":"\\par \\u9679\\'3f  a turnover of £0, from sales in this market"}]
[{"$f":"IF(tagflag!A250=1,IF(strflag!A250=1,SUBSTITUTE(IF(tagflag!B250=\"NOTAG\",rawrtf!A250,SUBSTITUTE(rawrtf!A250,\"TFPTAG\"&tagflag!D250,\"\")),\"TFPSTR\"&strflag!B250,strflag!D250),IF(tagflag!B250=\"NOTAG\",rawrtf!A250,SUBSTITUTE(rawrtf!A250,\"TFPTAG\"&tagflag!D250,\"\"))),\"\")","v":"\\par \\u9679\\'3f  0 customers"}]
[{"$f":"IF(tagflag!A251=1,IF(strflag!A251=1,SUBSTITUTE(IF(tagflag!B251=\"NOTAG\",rawrtf!A251,SUBSTITUTE(rawrtf!A251,\"TFPTAG\"&tagflag!D251,\"\")),\"TFPSTR\"&strflag!B251,strflag!D251),IF(tagflag!B251=\"NOTAG\",rawrtf!A251,SUBSTITUTE(rawrtf!A251,\"TFPTAG\"&tagflag!D251,\"\"))),\"\")","v":""}]
[{"$f":"IF(tagflag!A252=1,IF(strflag!A252=1,SUBSTITUTE(IF(tagflag!B252=\"NOTAG\",rawrtf!A252,SUBSTITUTE(rawrtf!A252,\"TFPTAG\"&tagflag!D252,\"\")),\"TFPSTR\"&strflag!B252,strflag!D252),IF(tagflag!B252=\"NOTAG\",rawrtf!A252,SUBSTITUTE(rawrtf!A252,\"TFPTAG\"&tagflag!D252,\"\"))),\"\")","v":"\\par \\u9679\\'3f  this covers 100% of the UK population"}]
[{"$f":"IF(tagflag!A253=1,IF(strflag!A253=1,SUBSTITUTE(IF(tagflag!B253=\"NOTAG\",rawrtf!A253,SUBSTITUTE(rawrtf!A253,\"TFPTAG\"&tagflag!D253,\"\")),\"TFPSTR\"&strflag!B253,strflag!D253),IF(tagflag!B253=\"NOTAG\",rawrtf!A253,SUBSTITUTE(rawrtf!A253,\"TFPTAG\"&tagflag!D253,\"\"))),\"\")","v":"\\par The total market comprises 0 individual customers and prospects"}]
[{"$f":"IF(tagflag!A254=1,IF(strflag!A254=1,SUBSTITUTE(IF(tagflag!B254=\"NOTAG\",rawrtf!A254,SUBSTITUTE(rawrtf!A254,\"TFPTAG\"&tagflag!D254,\"\")),\"TFPSTR\"&strflag!B254,strflag!D254),IF(tagflag!B254=\"NOTAG\",rawrtf!A254,SUBSTITUTE(rawrtf!A254,\"TFPTAG\"&tagflag!D254,\"\"))),\"\")","v":"\\par \\u9679\\'3f  in terms of sales, the company has a 0% share of the market"}]
[{"$f":"IF(tagflag!A255=1,IF(strflag!A255=1,SUBSTITUTE(IF(tagflag!B255=\"NOTAG\",rawrtf!A255,SUBSTITUTE(rawrtf!A255,\"TFPTAG\"&tagflag!D255,\"\")),\"TFPSTR\"&strflag!B255,strflag!D255),IF(tagflag!B255=\"NOTAG\",rawrtf!A255,SUBSTITUTE(rawrtf!A255,\"TFPTAG\"&tagflag!D255,\"\"))),\"\")","v":"\\par }\\pard\\plain \\s2\\ql \\li360\\ri0\\sb240\\sa60\\keepn\\widctlpar\\aspalpha\\aspnum\\faauto\\outlinelevel1\\adjustright\\rin0\\lin360\\itap0 \\b\\i\\f1\\fs28\\lang2057\\langfe1033\\cgrid\\langnp2057\\langfenp1033 {\\f28 Key Competitors"}]
[{"$f":"IF(tagflag!A256=1,IF(strflag!A256=1,SUBSTITUTE(IF(tagflag!B256=\"NOTAG\",rawrtf!A256,SUBSTITUTE(rawrtf!A256,\"TFPTAG\"&tagflag!D256,\"\")),\"TFPSTR\"&strflag!B256,strflag!D256),IF(tagflag!B256=\"NOTAG\",rawrtf!A256,SUBSTITUTE(rawrtf!A256,\"TFPTAG\"&tagflag!D256,\"\"))),\"\")","v":"\\par }\\pard\\plain \\ql \\li360\\ri0\\sa240\\widctlpar\\aspalpha\\aspnum\\faauto\\adjustright\\rin0\\lin360\\itap0 \\fs24\\lang2057\\langfe1033\\cgrid\\langnp2057\\langfenp1033 {\\f28 Missing Field - FirmNam-Ans1 has the following competitors:"}]
[{"$f":"IF(tagflag!A257=1,IF(strflag!A257=1,SUBSTITUTE(IF(tagflag!B257=\"NOTAG\",rawrtf!A257,SUBSTITUTE(rawrtf!A257,\"TFPTAG\"&tagflag!D257,\"\")),\"TFPSTR\"&strflag!B257,strflag!D257),IF(tagflag!B257=\"NOTAG\",rawrtf!A257,SUBSTITUTE(rawrtf!A257,\"TFPTAG\"&tagflag!D257,\"\"))),\"\")","v":""}]
[{"$f":"IF(tagflag!A258=1,IF(strflag!A258=1,SUBSTITUTE(IF(tagflag!B258=\"NOTAG\",rawrtf!A258,SUBSTITUTE(rawrtf!A258,\"TFPTAG\"&tagflag!D258,\"\")),\"TFPSTR\"&strflag!B258,strflag!D258),IF(tagflag!B258=\"NOTAG\",rawrtf!A258,SUBSTITUTE(rawrtf!A258,\"TFPTAG\"&tagflag!D258,\"\"))),\"\")","v":""}]
[{"$f":"IF(tagflag!A259=1,IF(strflag!A259=1,SUBSTITUTE(IF(tagflag!B259=\"NOTAG\",rawrtf!A259,SUBSTITUTE(rawrtf!A259,\"TFPTAG\"&tagflag!D259,\"\")),\"TFPSTR\"&strflag!B259,strflag!D259),IF(tagflag!B259=\"NOTAG\",rawrtf!A259,SUBSTITUTE(rawrtf!A259,\"TFPTAG\"&tagflag!D259,\"\"))),\"\")","v":""}]
[{"$f":"IF(tagflag!A260=1,IF(strflag!A260=1,SUBSTITUTE(IF(tagflag!B260=\"NOTAG\",rawrtf!A260,SUBSTITUTE(rawrtf!A260,\"TFPTAG\"&tagflag!D260,\"\")),\"TFPSTR\"&strflag!B260,strflag!D260),IF(tagflag!B260=\"NOTAG\",rawrtf!A260,SUBSTITUTE(rawrtf!A260,\"TFPTAG\"&tagflag!D260,\"\"))),\"\")","v":""}]
[{"$f":"IF(tagflag!A261=1,IF(strflag!A261=1,SUBSTITUTE(IF(tagflag!B261=\"NOTAG\",rawrtf!A261,SUBSTITUTE(rawrtf!A261,\"TFPTAG\"&tagflag!D261,\"\")),\"TFPSTR\"&strflag!B261,strflag!D261),IF(tagflag!B261=\"NOTAG\",rawrtf!A261,SUBSTITUTE(rawrtf!A261,\"TFPTAG\"&tagflag!D261,\"\"))),\"\")","v":""}]
[{"$f":"IF(tagflag!A262=1,IF(strflag!A262=1,SUBSTITUTE(IF(tagflag!B262=\"NOTAG\",rawrtf!A262,SUBSTITUTE(rawrtf!A262,\"TFPTAG\"&tagflag!D262,\"\")),\"TFPSTR\"&strflag!B262,strflag!D262),IF(tagflag!B262=\"NOTAG\",rawrtf!A262,SUBSTITUTE(rawrtf!A262,\"TFPTAG\"&tagflag!D262,\"\"))),\"\")","v":""}]
[{"$f":"IF(tagflag!A263=1,IF(strflag!A263=1,SUBSTITUTE(IF(tagflag!B263=\"NOTAG\",rawrtf!A263,SUBSTITUTE(rawrtf!A263,\"TFPTAG\"&tagflag!D263,\"\")),\"TFPSTR\"&strflag!B263,strflag!D263),IF(tagflag!B263=\"NOTAG\",rawrtf!A263,SUBSTITUTE(rawrtf!A263,\"TFPTAG\"&tagflag!D263,\"\"))),\"\")","v":""}]
[{"$f":"IF(tagflag!A264=1,IF(strflag!A264=1,SUBSTITUTE(IF(tagflag!B264=\"NOTAG\",rawrtf!A264,SUBSTITUTE(rawrtf!A264,\"TFPTAG\"&tagflag!D264,\"\")),\"TFPSTR\"&strflag!B264,strflag!D264),IF(tagflag!B264=\"NOTAG\",rawrtf!A264,SUBSTITUTE(rawrtf!A264,\"TFPTAG\"&tagflag!D264,\"\"))),\"\")","v":""}]
[{"$f":"IF(tagflag!A265=1,IF(strflag!A265=1,SUBSTITUTE(IF(tagflag!B265=\"NOTAG\",rawrtf!A265,SUBSTITUTE(rawrtf!A265,\"TFPTAG\"&tagflag!D265,\"\")),\"TFPSTR\"&strflag!B265,strflag!D265),IF(tagflag!B265=\"NOTAG\",rawrtf!A265,SUBSTITUTE(rawrtf!A265,\"TFPTAG\"&tagflag!D265,\"\"))),\"\")","v":""}]
[{"$f":"IF(tagflag!A266=1,IF(strflag!A266=1,SUBSTITUTE(IF(tagflag!B266=\"NOTAG\",rawrtf!A266,SUBSTITUTE(rawrtf!A266,\"TFPTAG\"&tagflag!D266,\"\")),\"TFPSTR\"&strflag!B266,strflag!D266),IF(tagflag!B266=\"NOTAG\",rawrtf!A266,SUBSTITUTE(rawrtf!A266,\"TFPTAG\"&tagflag!D266,\"\"))),\"\")","v":""}]
[{"$f":"IF(tagflag!A267=1,IF(strflag!A267=1,SUBSTITUTE(IF(tagflag!B267=\"NOTAG\",rawrtf!A267,SUBSTITUTE(rawrtf!A267,\"TFPTAG\"&tagflag!D267,\"\")),\"TFPSTR\"&strflag!B267,strflag!D267),IF(tagflag!B267=\"NOTAG\",rawrtf!A267,SUBSTITUTE(rawrtf!A267,\"TFPTAG\"&tagflag!D267,\"\"))),\"\")","v":""}]
[{"$f":"IF(tagflag!A268=1,IF(strflag!A268=1,SUBSTITUTE(IF(tagflag!B268=\"NOTAG\",rawrtf!A268,SUBSTITUTE(rawrtf!A268,\"TFPTAG\"&tagflag!D268,\"\")),\"TFPSTR\"&strflag!B268,strflag!D268),IF(tagflag!B268=\"NOTAG\",rawrtf!A268,SUBSTITUTE(rawrtf!A268,\"TFPTAG\"&tagflag!D268,\"\"))),\"\")","v":""}]
[{"$f":"IF(tagflag!A269=1,IF(strflag!A269=1,SUBSTITUTE(IF(tagflag!B269=\"NOTAG\",rawrtf!A269,SUBSTITUTE(rawrtf!A269,\"TFPTAG\"&tagflag!D269,\"\")),\"TFPSTR\"&strflag!B269,strflag!D269),IF(tagflag!B269=\"NOTAG\",rawrtf!A269,SUBSTITUTE(rawrtf!A269,\"TFPTAG\"&tagflag!D269,\"\"))),\"\")","v":""}]
[{"$f":"IF(tagflag!A270=1,IF(strflag!A270=1,SUBSTITUTE(IF(tagflag!B270=\"NOTAG\",rawrtf!A270,SUBSTITUTE(rawrtf!A270,\"TFPTAG\"&tagflag!D270,\"\")),\"TFPSTR\"&strflag!B270,strflag!D270),IF(tagflag!B270=\"NOTAG\",rawrtf!A270,SUBSTITUTE(rawrtf!A270,\"TFPTAG\"&tagflag!D270,\"\"))),\"\")","v":""}]
[{"$f":"IF(tagflag!A271=1,IF(strflag!A271=1,SUBSTITUTE(IF(tagflag!B271=\"NOTAG\",rawrtf!A271,SUBSTITUTE(rawrtf!A271,\"TFPTAG\"&tagflag!D271,\"\")),\"TFPSTR\"&strflag!B271,strflag!D271),IF(tagflag!B271=\"NOTAG\",rawrtf!A271,SUBSTITUTE(rawrtf!A271,\"TFPTAG\"&tagflag!D271,\"\"))),\"\")","v":""}]
[{"$f":"IF(tagflag!A272=1,IF(strflag!A272=1,SUBSTITUTE(IF(tagflag!B272=\"NOTAG\",rawrtf!A272,SUBSTITUTE(rawrtf!A272,\"TFPTAG\"&tagflag!D272,\"\")),\"TFPSTR\"&strflag!B272,strflag!D272),IF(tagflag!B272=\"NOTAG\",rawrtf!A272,SUBSTITUTE(rawrtf!A272,\"TFPTAG\"&tagflag!D272,\"\"))),\"\")","v":""}]
[{"$f":"IF(tagflag!A273=1,IF(strflag!A273=1,SUBSTITUTE(IF(tagflag!B273=\"NOTAG\",rawrtf!A273,SUBSTITUTE(rawrtf!A273,\"TFPTAG\"&tagflag!D273,\"\")),\"TFPSTR\"&strflag!B273,strflag!D273),IF(tagflag!B273=\"NOTAG\",rawrtf!A273,SUBSTITUTE(rawrtf!A273,\"TFPTAG\"&tagflag!D273,\"\"))),\"\")","v":""}]
[{"$f":"IF(tagflag!A274=1,IF(strflag!A274=1,SUBSTITUTE(IF(tagflag!B274=\"NOTAG\",rawrtf!A274,SUBSTITUTE(rawrtf!A274,\"TFPTAG\"&tagflag!D274,\"\")),\"TFPSTR\"&strflag!B274,strflag!D274),IF(tagflag!B274=\"NOTAG\",rawrtf!A274,SUBSTITUTE(rawrtf!A274,\"TFPTAG\"&tagflag!D274,\"\"))),\"\")","v":""}]
[{"$f":"IF(tagflag!A275=1,IF(strflag!A275=1,SUBSTITUTE(IF(tagflag!B275=\"NOTAG\",rawrtf!A275,SUBSTITUTE(rawrtf!A275,\"TFPTAG\"&tagflag!D275,\"\")),\"TFPSTR\"&strflag!B275,strflag!D275),IF(tagflag!B275=\"NOTAG\",rawrtf!A275,SUBSTITUTE(rawrtf!A275,\"TFPTAG\"&tagflag!D275,\"\"))),\"\")","v":"\\par }\\pard\\plain \\s1\\ql \\li360\\ri0\\sb240\\sa60\\keepn\\widctlpar\\aspalpha\\aspnum\\faauto\\outlinelevel0\\adjustright\\rin0\\lin360\\itap0 \\b\\f1\\fs32\\lang2057\\langfe1033\\kerning32\\cgrid\\langnp2057\\langfenp1033 {\\f28 Strategy"}]
[{"$f":"IF(tagflag!A276=1,IF(strflag!A276=1,SUBSTITUTE(IF(tagflag!B276=\"NOTAG\",rawrtf!A276,SUBSTITUTE(rawrtf!A276,\"TFPTAG\"&tagflag!D276,\"\")),\"TFPSTR\"&strflag!B276,strflag!D276),IF(tagflag!B276=\"NOTAG\",rawrtf!A276,SUBSTITUTE(rawrtf!A276,\"TFPTAG\"&tagflag!D276,\"\"))),\"\")","v":"\\par }\\pard\\plain \\s2\\ql \\li360\\ri0\\sb240\\sa60\\keepn\\widctlpar\\aspalpha\\aspnum\\faauto\\outlinelevel1\\adjustright\\rin0\\lin360\\itap0 \\b\\i\\f1\\fs28\\lang2057\\langfe1033\\cgrid\\langnp2057\\langfenp1033 {\\f28 Business Targets"}]
[{"$f":"IF(tagflag!A277=1,IF(strflag!A277=1,SUBSTITUTE(IF(tagflag!B277=\"NOTAG\",rawrtf!A277,SUBSTITUTE(rawrtf!A277,\"TFPTAG\"&tagflag!D277,\"\")),\"TFPSTR\"&strflag!B277,strflag!D277),IF(tagflag!B277=\"NOTAG\",rawrtf!A277,SUBSTITUTE(rawrtf!A277,\"TFPTAG\"&tagflag!D277,\"\"))),\"\")","v":"\\par }\\pard\\plain \\ql \\li360\\ri0\\sa240\\widctlpar\\aspalpha\\aspnum\\faauto\\adjustright\\rin0\\lin360\\itap0 \\fs24\\lang2057\\langfe1033\\cgrid\\langnp2057\\langfenp1033 {\\f28 The company\\rquote s current business objective is: Missing Field - BusObj-Ans1.  To achieve this th"}]
[{"$f":"IF(tagflag!A278=1,IF(strflag!A278=1,SUBSTITUTE(IF(tagflag!B278=\"NOTAG\",rawrtf!A278,SUBSTITUTE(rawrtf!A278,\"TFPTAG\"&tagflag!D278,\"\")),\"TFPSTR\"&strflag!B278,strflag!D278),IF(tagflag!B278=\"NOTAG\",rawrtf!A278,SUBSTITUTE(rawrtf!A278,\"TFPTAG\"&tagflag!D278,\"\"))),\"\")","v":"ere needs to be:"}]
[{"$f":"IF(tagflag!A279=1,IF(strflag!A279=1,SUBSTITUTE(IF(tagflag!B279=\"NOTAG\",rawrtf!A279,SUBSTITUTE(rawrtf!A279,\"TFPTAG\"&tagflag!D279,\"\")),\"TFPSTR\"&strflag!B279,strflag!D279),IF(tagflag!B279=\"NOTAG\",rawrtf!A279,SUBSTITUTE(rawrtf!A279,\"TFPTAG\"&tagflag!D279,\"\"))),\"\")","v":"\\par \\u9679\\'3f  a marketing objective of: Missing Field - MktObj-Ans1"}]
[{"$f":"IF(tagflag!A280=1,IF(strflag!A280=1,SUBSTITUTE(IF(tagflag!B280=\"NOTAG\",rawrtf!A280,SUBSTITUTE(rawrtf!A280,\"TFPTAG\"&tagflag!D280,\"\")),\"TFPSTR\"&strflag!B280,strflag!D280),IF(tagflag!B280=\"NOTAG\",rawrtf!A280,SUBSTITUTE(rawrtf!A280,\"TFPTAG\"&tagflag!D280,\"\"))),\"\")","v":"\\par \\u9679\\'3f  a turnover of £0 for the upcoming year"}]
[{"$f":"IF(tagflag!A281=1,IF(strflag!A281=1,SUBSTITUTE(IF(tagflag!B281=\"NOTAG\",rawrtf!A281,SUBSTITUTE(rawrtf!A281,\"TFPTAG\"&tagflag!D281,\"\")),\"TFPSTR\"&strflag!B281,strflag!D281),IF(tagflag!B281=\"NOTAG\",rawrtf!A281,SUBSTITUTE(rawrtf!A281,\"TFPTAG\"&tagflag!D281,\"\"))),\"\")","v":"\\par \\u9679\\'3f  0 new customers acquired"}]
[{"$f":"IF(tagflag!A282=1,IF(strflag!A282=1,SUBSTITUTE(IF(tagflag!B282=\"NOTAG\",rawrtf!A282,SUBSTITUTE(rawrtf!A282,\"TFPTAG\"&tagflag!D282,\"\")),\"TFPSTR\"&strflag!B282,strflag!D282),IF(tagflag!B282=\"NOTAG\",rawrtf!A282,SUBSTITUTE(rawrtf!A282,\"TFPTAG\"&tagflag!D282,\"\"))),\"\")","v":"\\par }\\pard\\plain \\s2\\ql \\li360\\ri0\\sb240\\sa60\\keepn\\widctlpar\\aspalpha\\aspnum\\faauto\\outlinelevel1\\adjustright\\rin0\\lin360\\itap0 \\b\\i\\f1\\fs28\\lang2057\\langfe1033\\cgrid\\langnp2057\\langfenp1033 {\\f28 Communication Objectives"}]
[{"$f":"IF(tagflag!A283=1,IF(strflag!A283=1,SUBSTITUTE(IF(tagflag!B283=\"NOTAG\",rawrtf!A283,SUBSTITUTE(rawrtf!A283,\"TFPTAG\"&tagflag!D283,\"\")),\"TFPSTR\"&strflag!B283,strflag!D283),IF(tagflag!B283=\"NOTAG\",rawrtf!A283,SUBSTITUTE(rawrtf!A283,\"TFPTAG\"&tagflag!D283,\"\"))),\"\")","v":"\\par }\\pard\\plain \\s3\\ql \\li360\\ri0\\sb240\\sa60\\keepn\\widctlpar\\aspalpha\\aspnum\\faauto\\outlinelevel2\\adjustright\\rin0\\lin360\\itap0 \\b\\f1\\fs26\\lang2057\\langfe1033\\cgrid\\langnp2057\\langfenp1033 {\\f28 Audience"}]
[{"$f":"IF(tagflag!A284=1,IF(strflag!A284=1,SUBSTITUTE(IF(tagflag!B284=\"NOTAG\",rawrtf!A284,SUBSTITUTE(rawrtf!A284,\"TFPTAG\"&tagflag!D284,\"\")),\"TFPSTR\"&strflag!B284,strflag!D284),IF(tagflag!B284=\"NOTAG\",rawrtf!A284,SUBSTITUTE(rawrtf!A284,\"TFPTAG\"&tagflag!D284,\"\"))),\"\")","v":"\\par }\\pard\\plain \\ql \\li360\\ri0\\sa240\\widctlpar\\aspalpha\\aspnum\\faauto\\adjustright\\rin0\\lin360\\itap0 \\fs24\\lang2057\\langfe1033\\cgrid\\langnp2057\\langfenp1033 {\\f28 The key target audience is Missing Field - TargAud-Ans1.  Segments of this audience will be addresse"}]
[{"$f":"IF(tagflag!A285=1,IF(strflag!A285=1,SUBSTITUTE(IF(tagflag!B285=\"NOTAG\",rawrtf!A285,SUBSTITUTE(rawrtf!A285,\"TFPTAG\"&tagflag!D285,\"\")),\"TFPSTR\"&strflag!B285,strflag!D285),IF(tagflag!B285=\"NOTAG\",rawrtf!A285,SUBSTITUTE(rawrtf!A285,\"TFPTAG\"&tagflag!D285,\"\"))),\"\")","v":"d through the specific activities of:"}]
[{"$f":"IF(tagflag!A286=1,IF(strflag!A286=1,SUBSTITUTE(IF(tagflag!B286=\"NOTAG\",rawrtf!A286,SUBSTITUTE(rawrtf!A286,\"TFPTAG\"&tagflag!D286,\"\")),\"TFPSTR\"&strflag!B286,strflag!D286),IF(tagflag!B286=\"NOTAG\",rawrtf!A286,SUBSTITUTE(rawrtf!A286,\"TFPTAG\"&tagflag!D286,\"\"))),\"\")","v":""}]
[{"$f":"IF(tagflag!A287=1,IF(strflag!A287=1,SUBSTITUTE(IF(tagflag!B287=\"NOTAG\",rawrtf!A287,SUBSTITUTE(rawrtf!A287,\"TFPTAG\"&tagflag!D287,\"\")),\"TFPSTR\"&strflag!B287,strflag!D287),IF(tagflag!B287=\"NOTAG\",rawrtf!A287,SUBSTITUTE(rawrtf!A287,\"TFPTAG\"&tagflag!D287,\"\"))),\"\")","v":""}]
[{"$f":"IF(tagflag!A288=1,IF(strflag!A288=1,SUBSTITUTE(IF(tagflag!B288=\"NOTAG\",rawrtf!A288,SUBSTITUTE(rawrtf!A288,\"TFPTAG\"&tagflag!D288,\"\")),\"TFPSTR\"&strflag!B288,strflag!D288),IF(tagflag!B288=\"NOTAG\",rawrtf!A288,SUBSTITUTE(rawrtf!A288,\"TFPTAG\"&tagflag!D288,\"\"))),\"\")","v":""}]
[{"$f":"IF(tagflag!A289=1,IF(strflag!A289=1,SUBSTITUTE(IF(tagflag!B289=\"NOTAG\",rawrtf!A289,SUBSTITUTE(rawrtf!A289,\"TFPTAG\"&tagflag!D289,\"\")),\"TFPSTR\"&strflag!B289,strflag!D289),IF(tagflag!B289=\"NOTAG\",rawrtf!A289,SUBSTITUTE(rawrtf!A289,\"TFPTAG\"&tagflag!D289,\"\"))),\"\")","v":""}]
[{"$f":"IF(tagflag!A290=1,IF(strflag!A290=1,SUBSTITUTE(IF(tagflag!B290=\"NOTAG\",rawrtf!A290,SUBSTITUTE(rawrtf!A290,\"TFPTAG\"&tagflag!D290,\"\")),\"TFPSTR\"&strflag!B290,strflag!D290),IF(tagflag!B290=\"NOTAG\",rawrtf!A290,SUBSTITUTE(rawrtf!A290,\"TFPTAG\"&tagflag!D290,\"\"))),\"\")","v":"\\par }\\pard\\plain \\s3\\ql \\li360\\ri0\\sb240\\sa60\\keepn\\widctlpar\\aspalpha\\aspnum\\faauto\\outlinelevel2\\adjustright\\rin0\\lin360\\itap0 \\b\\f1\\fs26\\lang2057\\langfe1033\\cgrid\\langnp2057\\langfenp1033 {\\f28 Message"}]
[{"$f":"IF(tagflag!A291=1,IF(strflag!A291=1,SUBSTITUTE(IF(tagflag!B291=\"NOTAG\",rawrtf!A291,SUBSTITUTE(rawrtf!A291,\"TFPTAG\"&tagflag!D291,\"\")),\"TFPSTR\"&strflag!B291,strflag!D291),IF(tagflag!B291=\"NOTAG\",rawrtf!A291,SUBSTITUTE(rawrtf!A291,\"TFPTAG\"&tagflag!D291,\"\"))),\"\")","v":"\\par }\\pard\\plain \\ql \\li360\\ri0\\sa240\\widctlpar\\aspalpha\\aspnum\\faauto\\adjustright\\rin0\\lin360\\itap0 \\fs24\\lang2057\\langfe1033\\cgrid\\langnp2057\\langfenp1033 {\\f28 "}]
[{"$f":"IF(tagflag!A292=1,IF(strflag!A292=1,SUBSTITUTE(IF(tagflag!B292=\"NOTAG\",rawrtf!A292,SUBSTITUTE(rawrtf!A292,\"TFPTAG\"&tagflag!D292,\"\")),\"TFPSTR\"&strflag!B292,strflag!D292),IF(tagflag!B292=\"NOTAG\",rawrtf!A292,SUBSTITUTE(rawrtf!A292,\"TFPTAG\"&tagflag!D292,\"\"))),\"\")","v":"The above programmes will be targeted at segments of the key target audience.  Each programme will have messages and a tone of voice relevant to the specific objectives."}]
[{"$f":"IF(tagflag!A293=1,IF(strflag!A293=1,SUBSTITUTE(IF(tagflag!B293=\"NOTAG\",rawrtf!A293,SUBSTITUTE(rawrtf!A293,\"TFPTAG\"&tagflag!D293,\"\")),\"TFPSTR\"&strflag!B293,strflag!D293),IF(tagflag!B293=\"NOTAG\",rawrtf!A293,SUBSTITUTE(rawrtf!A293,\"TFPTAG\"&tagflag!D293,\"\"))),\"\")","v":"\\par However, the basis for every programme will be the need to persuade every customer and prospect to buy from the company.  This will be done by communicating the single-minded proposition that the company has Missing Field - Prop-Ans1."}]
[{"$f":"IF(tagflag!A294=1,IF(strflag!A294=1,SUBSTITUTE(IF(tagflag!B294=\"NOTAG\",rawrtf!A294,SUBSTITUTE(rawrtf!A294,\"TFPTAG\"&tagflag!D294,\"\")),\"TFPSTR\"&strflag!B294,strflag!D294),IF(tagflag!B294=\"NOTAG\",rawrtf!A294,SUBSTITUTE(rawrtf!A294,\"TFPTAG\"&tagflag!D294,\"\"))),\"\")","v":"\\par Every communication of an example of the proposition will also provide substantiation for that claim.  The substantiation will be based upon the fact that people should choose to buy from the company because Missing Field - Subst-Ans1."}]
[{"$f":"IF(tagflag!A295=1,IF(strflag!A295=1,SUBSTITUTE(IF(tagflag!B295=\"NOTAG\",rawrtf!A295,SUBSTITUTE(rawrtf!A295,\"TFPTAG\"&tagflag!D295,\"\")),\"TFPSTR\"&strflag!B295,strflag!D295),IF(tagflag!B295=\"NOTAG\",rawrtf!A295,SUBSTITUTE(rawrtf!A295,\"TFPTAG\"&tagflag!D295,\"\"))),\"\")","v":"\\par }\\pard\\plain \\s1\\ql \\li360\\ri0\\sb240\\sa60\\keepn\\widctlpar\\aspalpha\\aspnum\\faauto\\outlinelevel0\\adjustright\\rin0\\lin360\\itap0 \\b\\f1\\fs32\\lang2057\\langfe1033\\kerning32\\cgrid\\langnp2057\\langfenp1033 {\\f28 Sales & Marketing Programmes"}]
[{"$f":"IF(tagflag!A296=1,IF(strflag!A296=1,SUBSTITUTE(IF(tagflag!B296=\"NOTAG\",rawrtf!A296,SUBSTITUTE(rawrtf!A296,\"TFPTAG\"&tagflag!D296,\"\")),\"TFPSTR\"&strflag!B296,strflag!D296),IF(tagflag!B296=\"NOTAG\",rawrtf!A296,SUBSTITUTE(rawrtf!A296,\"TFPTAG\"&tagflag!D296,\"\"))),\"\")","v":""}]
[{"$f":"IF(tagflag!A297=1,IF(strflag!A297=1,SUBSTITUTE(IF(tagflag!B297=\"NOTAG\",rawrtf!A297,SUBSTITUTE(rawrtf!A297,\"TFPTAG\"&tagflag!D297,\"\")),\"TFPSTR\"&strflag!B297,strflag!D297),IF(tagflag!B297=\"NOTAG\",rawrtf!A297,SUBSTITUTE(rawrtf!A297,\"TFPTAG\"&tagflag!D297,\"\"))),\"\")","v":"\\par }\\pard\\plain \\ql \\li360\\ri0\\sa240\\widctlpar\\aspalpha\\aspnum\\faauto\\adjustright\\rin0\\lin360\\itap0 \\fs24\\lang2057\\langfe1033\\cgrid\\langnp2057\\langfenp1033 {\\f28 The purpose of this programme will be to make maximal use of t"}]
[{"$f":"IF(tagflag!A298=1,IF(strflag!A298=1,SUBSTITUTE(IF(tagflag!B298=\"NOTAG\",rawrtf!A298,SUBSTITUTE(rawrtf!A298,\"TFPTAG\"&tagflag!D298,\"\")),\"TFPSTR\"&strflag!B298,strflag!D298),IF(tagflag!B298=\"NOTAG\",rawrtf!A298,SUBSTITUTE(rawrtf!A298,\"TFPTAG\"&tagflag!D298,\"\"))),\"\")","v":"he budget to influence purchase decisions made throughout the year.  This will be done by reaching a large proportion of customers and prospects with the key sales messages.  The programme will then channel them through the buying process, providing relev"}]
[{"$f":"IF(tagflag!A299=1,IF(strflag!A299=1,SUBSTITUTE(IF(tagflag!B299=\"NOTAG\",rawrtf!A299,SUBSTITUTE(rawrtf!A299,\"TFPTAG\"&tagflag!D299,\"\")),\"TFPSTR\"&strflag!B299,strflag!D299),IF(tagflag!B299=\"NOTAG\",rawrtf!A299,SUBSTITUTE(rawrtf!A299,\"TFPTAG\"&tagflag!D299,\"\"))),\"\")","v":"ant information on the way."}]
[{"$f":"IF(tagflag!A300=1,IF(strflag!A300=1,SUBSTITUTE(IF(tagflag!B300=\"NOTAG\",rawrtf!A300,SUBSTITUTE(rawrtf!A300,\"TFPTAG\"&tagflag!D300,\"\")),\"TFPSTR\"&strflag!B300,strflag!D300),IF(tagflag!B300=\"NOTAG\",rawrtf!A300,SUBSTITUTE(rawrtf!A300,\"TFPTAG\"&tagflag!D300,\"\"))),\"\")","v":""}]
[{"$f":"IF(tagflag!A301=1,IF(strflag!A301=1,SUBSTITUTE(IF(tagflag!B301=\"NOTAG\",rawrtf!A301,SUBSTITUTE(rawrtf!A301,\"TFPTAG\"&tagflag!D301,\"\")),\"TFPSTR\"&strflag!B301,strflag!D301),IF(tagflag!B301=\"NOTAG\",rawrtf!A301,SUBSTITUTE(rawrtf!A301,\"TFPTAG\"&tagflag!D301,\"\"))),\"\")","v":""}]
[{"$f":"IF(tagflag!A302=1,IF(strflag!A302=1,SUBSTITUTE(IF(tagflag!B302=\"NOTAG\",rawrtf!A302,SUBSTITUTE(rawrtf!A302,\"TFPTAG\"&tagflag!D302,\"\")),\"TFPSTR\"&strflag!B302,strflag!D302),IF(tagflag!B302=\"NOTAG\",rawrtf!A302,SUBSTITUTE(rawrtf!A302,\"TFPTAG\"&tagflag!D302,\"\"))),\"\")","v":""}]
[{"$f":"IF(tagflag!A303=1,IF(strflag!A303=1,SUBSTITUTE(IF(tagflag!B303=\"NOTAG\",rawrtf!A303,SUBSTITUTE(rawrtf!A303,\"TFPTAG\"&tagflag!D303,\"\")),\"TFPSTR\"&strflag!B303,strflag!D303),IF(tagflag!B303=\"NOTAG\",rawrtf!A303,SUBSTITUTE(rawrtf!A303,\"TFPTAG\"&tagflag!D303,\"\"))),\"\")","v":""}]
[{"$f":"IF(tagflag!A304=1,IF(strflag!A304=1,SUBSTITUTE(IF(tagflag!B304=\"NOTAG\",rawrtf!A304,SUBSTITUTE(rawrtf!A304,\"TFPTAG\"&tagflag!D304,\"\")),\"TFPSTR\"&strflag!B304,strflag!D304),IF(tagflag!B304=\"NOTAG\",rawrtf!A304,SUBSTITUTE(rawrtf!A304,\"TFPTAG\"&tagflag!D304,\"\"))),\"\")","v":""}]
[{"$f":"IF(tagflag!A305=1,IF(strflag!A305=1,SUBSTITUTE(IF(tagflag!B305=\"NOTAG\",rawrtf!A305,SUBSTITUTE(rawrtf!A305,\"TFPTAG\"&tagflag!D305,\"\")),\"TFPSTR\"&strflag!B305,strflag!D305),IF(tagflag!B305=\"NOTAG\",rawrtf!A305,SUBSTITUTE(rawrtf!A305,\"TFPTAG\"&tagflag!D305,\"\"))),\"\")","v":""}]
[{"$f":"IF(tagflag!A306=1,IF(strflag!A306=1,SUBSTITUTE(IF(tagflag!B306=\"NOTAG\",rawrtf!A306,SUBSTITUTE(rawrtf!A306,\"TFPTAG\"&tagflag!D306,\"\")),\"TFPSTR\"&strflag!B306,strflag!D306),IF(tagflag!B306=\"NOTAG\",rawrtf!A306,SUBSTITUTE(rawrtf!A306,\"TFPTAG\"&tagflag!D306,\"\"))),\"\")","v":""}]
[{"$f":"IF(tagflag!A307=1,IF(strflag!A307=1,SUBSTITUTE(IF(tagflag!B307=\"NOTAG\",rawrtf!A307,SUBSTITUTE(rawrtf!A307,\"TFPTAG\"&tagflag!D307,\"\")),\"TFPSTR\"&strflag!B307,strflag!D307),IF(tagflag!B307=\"NOTAG\",rawrtf!A307,SUBSTITUTE(rawrtf!A307,\"TFPTAG\"&tagflag!D307,\"\"))),\"\")","v":""}]
[{"$f":"IF(tagflag!A308=1,IF(strflag!A308=1,SUBSTITUTE(IF(tagflag!B308=\"NOTAG\",rawrtf!A308,SUBSTITUTE(rawrtf!A308,\"TFPTAG\"&tagflag!D308,\"\")),\"TFPSTR\"&strflag!B308,strflag!D308),IF(tagflag!B308=\"NOTAG\",rawrtf!A308,SUBSTITUTE(rawrtf!A308,\"TFPTAG\"&tagflag!D308,\"\"))),\"\")","v":""}]
[{"$f":"IF(tagflag!A309=1,IF(strflag!A309=1,SUBSTITUTE(IF(tagflag!B309=\"NOTAG\",rawrtf!A309,SUBSTITUTE(rawrtf!A309,\"TFPTAG\"&tagflag!D309,\"\")),\"TFPSTR\"&strflag!B309,strflag!D309),IF(tagflag!B309=\"NOTAG\",rawrtf!A309,SUBSTITUTE(rawrtf!A309,\"TFPTAG\"&tagflag!D309,\"\"))),\"\")","v":""}]
[{"$f":"IF(tagflag!A310=1,IF(strflag!A310=1,SUBSTITUTE(IF(tagflag!B310=\"NOTAG\",rawrtf!A310,SUBSTITUTE(rawrtf!A310,\"TFPTAG\"&tagflag!D310,\"\")),\"TFPSTR\"&strflag!B310,strflag!D310),IF(tagflag!B310=\"NOTAG\",rawrtf!A310,SUBSTITUTE(rawrtf!A310,\"TFPTAG\"&tagflag!D310,\"\"))),\"\")","v":""}]
[{"$f":"IF(tagflag!A311=1,IF(strflag!A311=1,SUBSTITUTE(IF(tagflag!B311=\"NOTAG\",rawrtf!A311,SUBSTITUTE(rawrtf!A311,\"TFPTAG\"&tagflag!D311,\"\")),\"TFPSTR\"&strflag!B311,strflag!D311),IF(tagflag!B311=\"NOTAG\",rawrtf!A311,SUBSTITUTE(rawrtf!A311,\"TFPTAG\"&tagflag!D311,\"\"))),\"\")","v":""}]
[{"$f":"IF(tagflag!A312=1,IF(strflag!A312=1,SUBSTITUTE(IF(tagflag!B312=\"NOTAG\",rawrtf!A312,SUBSTITUTE(rawrtf!A312,\"TFPTAG\"&tagflag!D312,\"\")),\"TFPSTR\"&strflag!B312,strflag!D312),IF(tagflag!B312=\"NOTAG\",rawrtf!A312,SUBSTITUTE(rawrtf!A312,\"TFPTAG\"&tagflag!D312,\"\"))),\"\")","v":""}]
[{"$f":"IF(tagflag!A313=1,IF(strflag!A313=1,SUBSTITUTE(IF(tagflag!B313=\"NOTAG\",rawrtf!A313,SUBSTITUTE(rawrtf!A313,\"TFPTAG\"&tagflag!D313,\"\")),\"TFPSTR\"&strflag!B313,strflag!D313),IF(tagflag!B313=\"NOTAG\",rawrtf!A313,SUBSTITUTE(rawrtf!A313,\"TFPTAG\"&tagflag!D313,\"\"))),\"\")","v":""}]
[{"$f":"IF(tagflag!A314=1,IF(strflag!A314=1,SUBSTITUTE(IF(tagflag!B314=\"NOTAG\",rawrtf!A314,SUBSTITUTE(rawrtf!A314,\"TFPTAG\"&tagflag!D314,\"\")),\"TFPSTR\"&strflag!B314,strflag!D314),IF(tagflag!B314=\"NOTAG\",rawrtf!A314,SUBSTITUTE(rawrtf!A314,\"TFPTAG\"&tagflag!D314,\"\"))),\"\")","v":""}]
[{"$f":"IF(tagflag!A315=1,IF(strflag!A315=1,SUBSTITUTE(IF(tagflag!B315=\"NOTAG\",rawrtf!A315,SUBSTITUTE(rawrtf!A315,\"TFPTAG\"&tagflag!D315,\"\")),\"TFPSTR\"&strflag!B315,strflag!D315),IF(tagflag!B315=\"NOTAG\",rawrtf!A315,SUBSTITUTE(rawrtf!A315,\"TFPTAG\"&tagflag!D315,\"\"))),\"\")","v":""}]
[{"$f":"IF(tagflag!A316=1,IF(strflag!A316=1,SUBSTITUTE(IF(tagflag!B316=\"NOTAG\",rawrtf!A316,SUBSTITUTE(rawrtf!A316,\"TFPTAG\"&tagflag!D316,\"\")),\"TFPSTR\"&strflag!B316,strflag!D316),IF(tagflag!B316=\"NOTAG\",rawrtf!A316,SUBSTITUTE(rawrtf!A316,\"TFPTAG\"&tagflag!D316,\"\"))),\"\")","v":""}]
[{"$f":"IF(tagflag!A317=1,IF(strflag!A317=1,SUBSTITUTE(IF(tagflag!B317=\"NOTAG\",rawrtf!A317,SUBSTITUTE(rawrtf!A317,\"TFPTAG\"&tagflag!D317,\"\")),\"TFPSTR\"&strflag!B317,strflag!D317),IF(tagflag!B317=\"NOTAG\",rawrtf!A317,SUBSTITUTE(rawrtf!A317,\"TFPTAG\"&tagflag!D317,\"\"))),\"\")","v":""}]
[{"$f":"IF(tagflag!A318=1,IF(strflag!A318=1,SUBSTITUTE(IF(tagflag!B318=\"NOTAG\",rawrtf!A318,SUBSTITUTE(rawrtf!A318,\"TFPTAG\"&tagflag!D318,\"\")),\"TFPSTR\"&strflag!B318,strflag!D318),IF(tagflag!B318=\"NOTAG\",rawrtf!A318,SUBSTITUTE(rawrtf!A318,\"TFPTAG\"&tagflag!D318,\"\"))),\"\")","v":""}]
[{"$f":"IF(tagflag!A319=1,IF(strflag!A319=1,SUBSTITUTE(IF(tagflag!B319=\"NOTAG\",rawrtf!A319,SUBSTITUTE(rawrtf!A319,\"TFPTAG\"&tagflag!D319,\"\")),\"TFPSTR\"&strflag!B319,strflag!D319),IF(tagflag!B319=\"NOTAG\",rawrtf!A319,SUBSTITUTE(rawrtf!A319,\"TFPTAG\"&tagflag!D319,\"\"))),\"\")","v":""}]
[{"$f":"IF(tagflag!A320=1,IF(strflag!A320=1,SUBSTITUTE(IF(tagflag!B320=\"NOTAG\",rawrtf!A320,SUBSTITUTE(rawrtf!A320,\"TFPTAG\"&tagflag!D320,\"\")),\"TFPSTR\"&strflag!B320,strflag!D320),IF(tagflag!B320=\"NOTAG\",rawrtf!A320,SUBSTITUTE(rawrtf!A320,\"TFPTAG\"&tagflag!D320,\"\"))),\"\")","v":""}]
[{"$f":"IF(tagflag!A321=1,IF(strflag!A321=1,SUBSTITUTE(IF(tagflag!B321=\"NOTAG\",rawrtf!A321,SUBSTITUTE(rawrtf!A321,\"TFPTAG\"&tagflag!D321,\"\")),\"TFPSTR\"&strflag!B321,strflag!D321),IF(tagflag!B321=\"NOTAG\",rawrtf!A321,SUBSTITUTE(rawrtf!A321,\"TFPTAG\"&tagflag!D321,\"\"))),\"\")","v":""}]
[{"$f":"IF(tagflag!A322=1,IF(strflag!A322=1,SUBSTITUTE(IF(tagflag!B322=\"NOTAG\",rawrtf!A322,SUBSTITUTE(rawrtf!A322,\"TFPTAG\"&tagflag!D322,\"\")),\"TFPSTR\"&strflag!B322,strflag!D322),IF(tagflag!B322=\"NOTAG\",rawrtf!A322,SUBSTITUTE(rawrtf!A322,\"TFPTAG\"&tagflag!D322,\"\"))),\"\")","v":""}]
[{"$f":"IF(tagflag!A323=1,IF(strflag!A323=1,SUBSTITUTE(IF(tagflag!B323=\"NOTAG\",rawrtf!A323,SUBSTITUTE(rawrtf!A323,\"TFPTAG\"&tagflag!D323,\"\")),\"TFPSTR\"&strflag!B323,strflag!D323),IF(tagflag!B323=\"NOTAG\",rawrtf!A323,SUBSTITUTE(rawrtf!A323,\"TFPTAG\"&tagflag!D323,\"\"))),\"\")","v":""}]
[{"$f":"IF(tagflag!A324=1,IF(strflag!A324=1,SUBSTITUTE(IF(tagflag!B324=\"NOTAG\",rawrtf!A324,SUBSTITUTE(rawrtf!A324,\"TFPTAG\"&tagflag!D324,\"\")),\"TFPSTR\"&strflag!B324,strflag!D324),IF(tagflag!B324=\"NOTAG\",rawrtf!A324,SUBSTITUTE(rawrtf!A324,\"TFPTAG\"&tagflag!D324,\"\"))),\"\")","v":""}]
[{"$f":"IF(tagflag!A325=1,IF(strflag!A325=1,SUBSTITUTE(IF(tagflag!B325=\"NOTAG\",rawrtf!A325,SUBSTITUTE(rawrtf!A325,\"TFPTAG\"&tagflag!D325,\"\")),\"TFPSTR\"&strflag!B325,strflag!D325),IF(tagflag!B325=\"NOTAG\",rawrtf!A325,SUBSTITUTE(rawrtf!A325,\"TFPTAG\"&tagflag!D325,\"\"))),\"\")","v":""}]
[{"$f":"IF(tagflag!A326=1,IF(strflag!A326=1,SUBSTITUTE(IF(tagflag!B326=\"NOTAG\",rawrtf!A326,SUBSTITUTE(rawrtf!A326,\"TFPTAG\"&tagflag!D326,\"\")),\"TFPSTR\"&strflag!B326,strflag!D326),IF(tagflag!B326=\"NOTAG\",rawrtf!A326,SUBSTITUTE(rawrtf!A326,\"TFPTAG\"&tagflag!D326,\"\"))),\"\")","v":""}]
[{"$f":"IF(tagflag!A327=1,IF(strflag!A327=1,SUBSTITUTE(IF(tagflag!B327=\"NOTAG\",rawrtf!A327,SUBSTITUTE(rawrtf!A327,\"TFPTAG\"&tagflag!D327,\"\")),\"TFPSTR\"&strflag!B327,strflag!D327),IF(tagflag!B327=\"NOTAG\",rawrtf!A327,SUBSTITUTE(rawrtf!A327,\"TFPTAG\"&tagflag!D327,\"\"))),\"\")","v":""}]
[{"$f":"IF(tagflag!A328=1,IF(strflag!A328=1,SUBSTITUTE(IF(tagflag!B328=\"NOTAG\",rawrtf!A328,SUBSTITUTE(rawrtf!A328,\"TFPTAG\"&tagflag!D328,\"\")),\"TFPSTR\"&strflag!B328,strflag!D328),IF(tagflag!B328=\"NOTAG\",rawrtf!A328,SUBSTITUTE(rawrtf!A328,\"TFPTAG\"&tagflag!D328,\"\"))),\"\")","v":""}]
[{"$f":"IF(tagflag!A329=1,IF(strflag!A329=1,SUBSTITUTE(IF(tagflag!B329=\"NOTAG\",rawrtf!A329,SUBSTITUTE(rawrtf!A329,\"TFPTAG\"&tagflag!D329,\"\")),\"TFPSTR\"&strflag!B329,strflag!D329),IF(tagflag!B329=\"NOTAG\",rawrtf!A329,SUBSTITUTE(rawrtf!A329,\"TFPTAG\"&tagflag!D329,\"\"))),\"\")","v":""}]
[{"$f":"IF(tagflag!A330=1,IF(strflag!A330=1,SUBSTITUTE(IF(tagflag!B330=\"NOTAG\",rawrtf!A330,SUBSTITUTE(rawrtf!A330,\"TFPTAG\"&tagflag!D330,\"\")),\"TFPSTR\"&strflag!B330,strflag!D330),IF(tagflag!B330=\"NOTAG\",rawrtf!A330,SUBSTITUTE(rawrtf!A330,\"TFPTAG\"&tagflag!D330,\"\"))),\"\")","v":""}]
[{"$f":"IF(tagflag!A331=1,IF(strflag!A331=1,SUBSTITUTE(IF(tagflag!B331=\"NOTAG\",rawrtf!A331,SUBSTITUTE(rawrtf!A331,\"TFPTAG\"&tagflag!D331,\"\")),\"TFPSTR\"&strflag!B331,strflag!D331),IF(tagflag!B331=\"NOTAG\",rawrtf!A331,SUBSTITUTE(rawrtf!A331,\"TFPTAG\"&tagflag!D331,\"\"))),\"\")","v":""}]
[{"$f":"IF(tagflag!A332=1,IF(strflag!A332=1,SUBSTITUTE(IF(tagflag!B332=\"NOTAG\",rawrtf!A332,SUBSTITUTE(rawrtf!A332,\"TFPTAG\"&tagflag!D332,\"\")),\"TFPSTR\"&strflag!B332,strflag!D332),IF(tagflag!B332=\"NOTAG\",rawrtf!A332,SUBSTITUTE(rawrtf!A332,\"TFPTAG\"&tagflag!D332,\"\"))),\"\")","v":""}]
[{"$f":"IF(tagflag!A333=1,IF(strflag!A333=1,SUBSTITUTE(IF(tagflag!B333=\"NOTAG\",rawrtf!A333,SUBSTITUTE(rawrtf!A333,\"TFPTAG\"&tagflag!D333,\"\")),\"TFPSTR\"&strflag!B333,strflag!D333),IF(tagflag!B333=\"NOTAG\",rawrtf!A333,SUBSTITUTE(rawrtf!A333,\"TFPTAG\"&tagflag!D333,\"\"))),\"\")","v":""}]
[{"$f":"IF(tagflag!A334=1,IF(strflag!A334=1,SUBSTITUTE(IF(tagflag!B334=\"NOTAG\",rawrtf!A334,SUBSTITUTE(rawrtf!A334,\"TFPTAG\"&tagflag!D334,\"\")),\"TFPSTR\"&strflag!B334,strflag!D334),IF(tagflag!B334=\"NOTAG\",rawrtf!A334,SUBSTITUTE(rawrtf!A334,\"TFPTAG\"&tagflag!D334,\"\"))),\"\")","v":""}]
[{"$f":"IF(tagflag!A335=1,IF(strflag!A335=1,SUBSTITUTE(IF(tagflag!B335=\"NOTAG\",rawrtf!A335,SUBSTITUTE(rawrtf!A335,\"TFPTAG\"&tagflag!D335,\"\")),\"TFPSTR\"&strflag!B335,strflag!D335),IF(tagflag!B335=\"NOTAG\",rawrtf!A335,SUBSTITUTE(rawrtf!A335,\"TFPTAG\"&tagflag!D335,\"\"))),\"\")","v":""}]
[{"$f":"IF(tagflag!A336=1,IF(strflag!A336=1,SUBSTITUTE(IF(tagflag!B336=\"NOTAG\",rawrtf!A336,SUBSTITUTE(rawrtf!A336,\"TFPTAG\"&tagflag!D336,\"\")),\"TFPSTR\"&strflag!B336,strflag!D336),IF(tagflag!B336=\"NOTAG\",rawrtf!A336,SUBSTITUTE(rawrtf!A336,\"TFPTAG\"&tagflag!D336,\"\"))),\"\")","v":""}]
[{"$f":"IF(tagflag!A337=1,IF(strflag!A337=1,SUBSTITUTE(IF(tagflag!B337=\"NOTAG\",rawrtf!A337,SUBSTITUTE(rawrtf!A337,\"TFPTAG\"&tagflag!D337,\"\")),\"TFPSTR\"&strflag!B337,strflag!D337),IF(tagflag!B337=\"NOTAG\",rawrtf!A337,SUBSTITUTE(rawrtf!A337,\"TFPTAG\"&tagflag!D337,\"\"))),\"\")","v":""}]
[{"$f":"IF(tagflag!A338=1,IF(strflag!A338=1,SUBSTITUTE(IF(tagflag!B338=\"NOTAG\",rawrtf!A338,SUBSTITUTE(rawrtf!A338,\"TFPTAG\"&tagflag!D338,\"\")),\"TFPSTR\"&strflag!B338,strflag!D338),IF(tagflag!B338=\"NOTAG\",rawrtf!A338,SUBSTITUTE(rawrtf!A338,\"TFPTAG\"&tagflag!D338,\"\"))),\"\")","v":""}]
[{"$f":"IF(tagflag!A339=1,IF(strflag!A339=1,SUBSTITUTE(IF(tagflag!B339=\"NOTAG\",rawrtf!A339,SUBSTITUTE(rawrtf!A339,\"TFPTAG\"&tagflag!D339,\"\")),\"TFPSTR\"&strflag!B339,strflag!D339),IF(tagflag!B339=\"NOTAG\",rawrtf!A339,SUBSTITUTE(rawrtf!A339,\"TFPTAG\"&tagflag!D339,\"\"))),\"\")","v":""}]
[{"$f":"IF(tagflag!A340=1,IF(strflag!A340=1,SUBSTITUTE(IF(tagflag!B340=\"NOTAG\",rawrtf!A340,SUBSTITUTE(rawrtf!A340,\"TFPTAG\"&tagflag!D340,\"\")),\"TFPSTR\"&strflag!B340,strflag!D340),IF(tagflag!B340=\"NOTAG\",rawrtf!A340,SUBSTITUTE(rawrtf!A340,\"TFPTAG\"&tagflag!D340,\"\"))),\"\")","v":""}]
[{"$f":"IF(tagflag!A341=1,IF(strflag!A341=1,SUBSTITUTE(IF(tagflag!B341=\"NOTAG\",rawrtf!A341,SUBSTITUTE(rawrtf!A341,\"TFPTAG\"&tagflag!D341,\"\")),\"TFPSTR\"&strflag!B341,strflag!D341),IF(tagflag!B341=\"NOTAG\",rawrtf!A341,SUBSTITUTE(rawrtf!A341,\"TFPTAG\"&tagflag!D341,\"\"))),\"\")","v":""}]
[{"$f":"IF(tagflag!A342=1,IF(strflag!A342=1,SUBSTITUTE(IF(tagflag!B342=\"NOTAG\",rawrtf!A342,SUBSTITUTE(rawrtf!A342,\"TFPTAG\"&tagflag!D342,\"\")),\"TFPSTR\"&strflag!B342,strflag!D342),IF(tagflag!B342=\"NOTAG\",rawrtf!A342,SUBSTITUTE(rawrtf!A342,\"TFPTAG\"&tagflag!D342,\"\"))),\"\")","v":""}]
[{"$f":"IF(tagflag!A343=1,IF(strflag!A343=1,SUBSTITUTE(IF(tagflag!B343=\"NOTAG\",rawrtf!A343,SUBSTITUTE(rawrtf!A343,\"TFPTAG\"&tagflag!D343,\"\")),\"TFPSTR\"&strflag!B343,strflag!D343),IF(tagflag!B343=\"NOTAG\",rawrtf!A343,SUBSTITUTE(rawrtf!A343,\"TFPTAG\"&tagflag!D343,\"\"))),\"\")","v":""}]
[{"$f":"IF(tagflag!A344=1,IF(strflag!A344=1,SUBSTITUTE(IF(tagflag!B344=\"NOTAG\",rawrtf!A344,SUBSTITUTE(rawrtf!A344,\"TFPTAG\"&tagflag!D344,\"\")),\"TFPSTR\"&strflag!B344,strflag!D344),IF(tagflag!B344=\"NOTAG\",rawrtf!A344,SUBSTITUTE(rawrtf!A344,\"TFPTAG\"&tagflag!D344,\"\"))),\"\")","v":""}]
[{"$f":"IF(tagflag!A345=1,IF(strflag!A345=1,SUBSTITUTE(IF(tagflag!B345=\"NOTAG\",rawrtf!A345,SUBSTITUTE(rawrtf!A345,\"TFPTAG\"&tagflag!D345,\"\")),\"TFPSTR\"&strflag!B345,strflag!D345),IF(tagflag!B345=\"NOTAG\",rawrtf!A345,SUBSTITUTE(rawrtf!A345,\"TFPTAG\"&tagflag!D345,\"\"))),\"\")","v":""}]
[{"$f":"IF(tagflag!A346=1,IF(strflag!A346=1,SUBSTITUTE(IF(tagflag!B346=\"NOTAG\",rawrtf!A346,SUBSTITUTE(rawrtf!A346,\"TFPTAG\"&tagflag!D346,\"\")),\"TFPSTR\"&strflag!B346,strflag!D346),IF(tagflag!B346=\"NOTAG\",rawrtf!A346,SUBSTITUTE(rawrtf!A346,\"TFPTAG\"&tagflag!D346,\"\"))),\"\")","v":""}]
[{"$f":"IF(tagflag!A347=1,IF(strflag!A347=1,SUBSTITUTE(IF(tagflag!B347=\"NOTAG\",rawrtf!A347,SUBSTITUTE(rawrtf!A347,\"TFPTAG\"&tagflag!D347,\"\")),\"TFPSTR\"&strflag!B347,strflag!D347),IF(tagflag!B347=\"NOTAG\",rawrtf!A347,SUBSTITUTE(rawrtf!A347,\"TFPTAG\"&tagflag!D347,\"\"))),\"\")","v":""}]
[{"$f":"IF(tagflag!A348=1,IF(strflag!A348=1,SUBSTITUTE(IF(tagflag!B348=\"NOTAG\",rawrtf!A348,SUBSTITUTE(rawrtf!A348,\"TFPTAG\"&tagflag!D348,\"\")),\"TFPSTR\"&strflag!B348,strflag!D348),IF(tagflag!B348=\"NOTAG\",rawrtf!A348,SUBSTITUTE(rawrtf!A348,\"TFPTAG\"&tagflag!D348,\"\"))),\"\")","v":""}]
[{"$f":"IF(tagflag!A349=1,IF(strflag!A349=1,SUBSTITUTE(IF(tagflag!B349=\"NOTAG\",rawrtf!A349,SUBSTITUTE(rawrtf!A349,\"TFPTAG\"&tagflag!D349,\"\")),\"TFPSTR\"&strflag!B349,strflag!D349),IF(tagflag!B349=\"NOTAG\",rawrtf!A349,SUBSTITUTE(rawrtf!A349,\"TFPTAG\"&tagflag!D349,\"\"))),\"\")","v":""}]
[{"$f":"IF(tagflag!A350=1,IF(strflag!A350=1,SUBSTITUTE(IF(tagflag!B350=\"NOTAG\",rawrtf!A350,SUBSTITUTE(rawrtf!A350,\"TFPTAG\"&tagflag!D350,\"\")),\"TFPSTR\"&strflag!B350,strflag!D350),IF(tagflag!B350=\"NOTAG\",rawrtf!A350,SUBSTITUTE(rawrtf!A350,\"TFPTAG\"&tagflag!D350,\"\"))),\"\")","v":""}]
[{"$f":"IF(tagflag!A351=1,IF(strflag!A351=1,SUBSTITUTE(IF(tagflag!B351=\"NOTAG\",rawrtf!A351,SUBSTITUTE(rawrtf!A351,\"TFPTAG\"&tagflag!D351,\"\")),\"TFPSTR\"&strflag!B351,strflag!D351),IF(tagflag!B351=\"NOTAG\",rawrtf!A351,SUBSTITUTE(rawrtf!A351,\"TFPTAG\"&tagflag!D351,\"\"))),\"\")","v":""}]
[{"$f":"IF(tagflag!A352=1,IF(strflag!A352=1,SUBSTITUTE(IF(tagflag!B352=\"NOTAG\",rawrtf!A352,SUBSTITUTE(rawrtf!A352,\"TFPTAG\"&tagflag!D352,\"\")),\"TFPSTR\"&strflag!B352,strflag!D352),IF(tagflag!B352=\"NOTAG\",rawrtf!A352,SUBSTITUTE(rawrtf!A352,\"TFPTAG\"&tagflag!D352,\"\"))),\"\")","v":""}]
[{"$f":"IF(tagflag!A353=1,IF(strflag!A353=1,SUBSTITUTE(IF(tagflag!B353=\"NOTAG\",rawrtf!A353,SUBSTITUTE(rawrtf!A353,\"TFPTAG\"&tagflag!D353,\"\")),\"TFPSTR\"&strflag!B353,strflag!D353),IF(tagflag!B353=\"NOTAG\",rawrtf!A353,SUBSTITUTE(rawrtf!A353,\"TFPTAG\"&tagflag!D353,\"\"))),\"\")","v":""}]
[{"$f":"IF(tagflag!A354=1,IF(strflag!A354=1,SUBSTITUTE(IF(tagflag!B354=\"NOTAG\",rawrtf!A354,SUBSTITUTE(rawrtf!A354,\"TFPTAG\"&tagflag!D354,\"\")),\"TFPSTR\"&strflag!B354,strflag!D354),IF(tagflag!B354=\"NOTAG\",rawrtf!A354,SUBSTITUTE(rawrtf!A354,\"TFPTAG\"&tagflag!D354,\"\"))),\"\")","v":""}]
[{"$f":"IF(tagflag!A355=1,IF(strflag!A355=1,SUBSTITUTE(IF(tagflag!B355=\"NOTAG\",rawrtf!A355,SUBSTITUTE(rawrtf!A355,\"TFPTAG\"&tagflag!D355,\"\")),\"TFPSTR\"&strflag!B355,strflag!D355),IF(tagflag!B355=\"NOTAG\",rawrtf!A355,SUBSTITUTE(rawrtf!A355,\"TFPTAG\"&tagflag!D355,\"\"))),\"\")","v":""}]
[{"$f":"IF(tagflag!A356=1,IF(strflag!A356=1,SUBSTITUTE(IF(tagflag!B356=\"NOTAG\",rawrtf!A356,SUBSTITUTE(rawrtf!A356,\"TFPTAG\"&tagflag!D356,\"\")),\"TFPSTR\"&strflag!B356,strflag!D356),IF(tagflag!B356=\"NOTAG\",rawrtf!A356,SUBSTITUTE(rawrtf!A356,\"TFPTAG\"&tagflag!D356,\"\"))),\"\")","v":""}]
[{"$f":"IF(tagflag!A357=1,IF(strflag!A357=1,SUBSTITUTE(IF(tagflag!B357=\"NOTAG\",rawrtf!A357,SUBSTITUTE(rawrtf!A357,\"TFPTAG\"&tagflag!D357,\"\")),\"TFPSTR\"&strflag!B357,strflag!D357),IF(tagflag!B357=\"NOTAG\",rawrtf!A357,SUBSTITUTE(rawrtf!A357,\"TFPTAG\"&tagflag!D357,\"\"))),\"\")","v":""}]
[{"$f":"IF(tagflag!A358=1,IF(strflag!A358=1,SUBSTITUTE(IF(tagflag!B358=\"NOTAG\",rawrtf!A358,SUBSTITUTE(rawrtf!A358,\"TFPTAG\"&tagflag!D358,\"\")),\"TFPSTR\"&strflag!B358,strflag!D358),IF(tagflag!B358=\"NOTAG\",rawrtf!A358,SUBSTITUTE(rawrtf!A358,\"TFPTAG\"&tagflag!D358,\"\"))),\"\")","v":""}]
[{"$f":"IF(tagflag!A359=1,IF(strflag!A359=1,SUBSTITUTE(IF(tagflag!B359=\"NOTAG\",rawrtf!A359,SUBSTITUTE(rawrtf!A359,\"TFPTAG\"&tagflag!D359,\"\")),\"TFPSTR\"&strflag!B359,strflag!D359),IF(tagflag!B359=\"NOTAG\",rawrtf!A359,SUBSTITUTE(rawrtf!A359,\"TFPTAG\"&tagflag!D359,\"\"))),\"\")","v":""}]
[{"$f":"IF(tagflag!A360=1,IF(strflag!A360=1,SUBSTITUTE(IF(tagflag!B360=\"NOTAG\",rawrtf!A360,SUBSTITUTE(rawrtf!A360,\"TFPTAG\"&tagflag!D360,\"\")),\"TFPSTR\"&strflag!B360,strflag!D360),IF(tagflag!B360=\"NOTAG\",rawrtf!A360,SUBSTITUTE(rawrtf!A360,\"TFPTAG\"&tagflag!D360,\"\"))),\"\")","v":""}]
[{"$f":"IF(tagflag!A361=1,IF(strflag!A361=1,SUBSTITUTE(IF(tagflag!B361=\"NOTAG\",rawrtf!A361,SUBSTITUTE(rawrtf!A361,\"TFPTAG\"&tagflag!D361,\"\")),\"TFPSTR\"&strflag!B361,strflag!D361),IF(tagflag!B361=\"NOTAG\",rawrtf!A361,SUBSTITUTE(rawrtf!A361,\"TFPTAG\"&tagflag!D361,\"\"))),\"\")","v":""}]
[{"$f":"IF(tagflag!A362=1,IF(strflag!A362=1,SUBSTITUTE(IF(tagflag!B362=\"NOTAG\",rawrtf!A362,SUBSTITUTE(rawrtf!A362,\"TFPTAG\"&tagflag!D362,\"\")),\"TFPSTR\"&strflag!B362,strflag!D362),IF(tagflag!B362=\"NOTAG\",rawrtf!A362,SUBSTITUTE(rawrtf!A362,\"TFPTAG\"&tagflag!D362,\"\"))),\"\")","v":""}]
[{"$f":"IF(tagflag!A363=1,IF(strflag!A363=1,SUBSTITUTE(IF(tagflag!B363=\"NOTAG\",rawrtf!A363,SUBSTITUTE(rawrtf!A363,\"TFPTAG\"&tagflag!D363,\"\")),\"TFPSTR\"&strflag!B363,strflag!D363),IF(tagflag!B363=\"NOTAG\",rawrtf!A363,SUBSTITUTE(rawrtf!A363,\"TFPTAG\"&tagflag!D363,\"\"))),\"\")","v":""}]
[{"$f":"IF(tagflag!A364=1,IF(strflag!A364=1,SUBSTITUTE(IF(tagflag!B364=\"NOTAG\",rawrtf!A364,SUBSTITUTE(rawrtf!A364,\"TFPTAG\"&tagflag!D364,\"\")),\"TFPSTR\"&strflag!B364,strflag!D364),IF(tagflag!B364=\"NOTAG\",rawrtf!A364,SUBSTITUTE(rawrtf!A364,\"TFPTAG\"&tagflag!D364,\"\"))),\"\")","v":""}]
[{"$f":"IF(tagflag!A365=1,IF(strflag!A365=1,SUBSTITUTE(IF(tagflag!B365=\"NOTAG\",rawrtf!A365,SUBSTITUTE(rawrtf!A365,\"TFPTAG\"&tagflag!D365,\"\")),\"TFPSTR\"&strflag!B365,strflag!D365),IF(tagflag!B365=\"NOTAG\",rawrtf!A365,SUBSTITUTE(rawrtf!A365,\"TFPTAG\"&tagflag!D365,\"\"))),\"\")","v":""}]
[{"$f":"IF(tagflag!A366=1,IF(strflag!A366=1,SUBSTITUTE(IF(tagflag!B366=\"NOTAG\",rawrtf!A366,SUBSTITUTE(rawrtf!A366,\"TFPTAG\"&tagflag!D366,\"\")),\"TFPSTR\"&strflag!B366,strflag!D366),IF(tagflag!B366=\"NOTAG\",rawrtf!A366,SUBSTITUTE(rawrtf!A366,\"TFPTAG\"&tagflag!D366,\"\"))),\"\")","v":""}]
[{"$f":"IF(tagflag!A367=1,IF(strflag!A367=1,SUBSTITUTE(IF(tagflag!B367=\"NOTAG\",rawrtf!A367,SUBSTITUTE(rawrtf!A367,\"TFPTAG\"&tagflag!D367,\"\")),\"TFPSTR\"&strflag!B367,strflag!D367),IF(tagflag!B367=\"NOTAG\",rawrtf!A367,SUBSTITUTE(rawrtf!A367,\"TFPTAG\"&tagflag!D367,\"\"))),\"\")","v":""}]
[{"$f":"IF(tagflag!A368=1,IF(strflag!A368=1,SUBSTITUTE(IF(tagflag!B368=\"NOTAG\",rawrtf!A368,SUBSTITUTE(rawrtf!A368,\"TFPTAG\"&tagflag!D368,\"\")),\"TFPSTR\"&strflag!B368,strflag!D368),IF(tagflag!B368=\"NOTAG\",rawrtf!A368,SUBSTITUTE(rawrtf!A368,\"TFPTAG\"&tagflag!D368,\"\"))),\"\")","v":""}]
[{"$f":"IF(tagflag!A369=1,IF(strflag!A369=1,SUBSTITUTE(IF(tagflag!B369=\"NOTAG\",rawrtf!A369,SUBSTITUTE(rawrtf!A369,\"TFPTAG\"&tagflag!D369,\"\")),\"TFPSTR\"&strflag!B369,strflag!D369),IF(tagflag!B369=\"NOTAG\",rawrtf!A369,SUBSTITUTE(rawrtf!A369,\"TFPTAG\"&tagflag!D369,\"\"))),\"\")","v":""}]
[{"$f":"IF(tagflag!A370=1,IF(strflag!A370=1,SUBSTITUTE(IF(tagflag!B370=\"NOTAG\",rawrtf!A370,SUBSTITUTE(rawrtf!A370,\"TFPTAG\"&tagflag!D370,\"\")),\"TFPSTR\"&strflag!B370,strflag!D370),IF(tagflag!B370=\"NOTAG\",rawrtf!A370,SUBSTITUTE(rawrtf!A370,\"TFPTAG\"&tagflag!D370,\"\"))),\"\")","v":""}]
[{"$f":"IF(tagflag!A371=1,IF(strflag!A371=1,SUBSTITUTE(IF(tagflag!B371=\"NOTAG\",rawrtf!A371,SUBSTITUTE(rawrtf!A371,\"TFPTAG\"&tagflag!D371,\"\")),\"TFPSTR\"&strflag!B371,strflag!D371),IF(tagflag!B371=\"NOTAG\",rawrtf!A371,SUBSTITUTE(rawrtf!A371,\"TFPTAG\"&tagflag!D371,\"\"))),\"\")","v":""}]
[{"$f":"IF(tagflag!A372=1,IF(strflag!A372=1,SUBSTITUTE(IF(tagflag!B372=\"NOTAG\",rawrtf!A372,SUBSTITUTE(rawrtf!A372,\"TFPTAG\"&tagflag!D372,\"\")),\"TFPSTR\"&strflag!B372,strflag!D372),IF(tagflag!B372=\"NOTAG\",rawrtf!A372,SUBSTITUTE(rawrtf!A372,\"TFPTAG\"&tagflag!D372,\"\"))),\"\")","v":""}]
[{"$f":"IF(tagflag!A373=1,IF(strflag!A373=1,SUBSTITUTE(IF(tagflag!B373=\"NOTAG\",rawrtf!A373,SUBSTITUTE(rawrtf!A373,\"TFPTAG\"&tagflag!D373,\"\")),\"TFPSTR\"&strflag!B373,strflag!D373),IF(tagflag!B373=\"NOTAG\",rawrtf!A373,SUBSTITUTE(rawrtf!A373,\"TFPTAG\"&tagflag!D373,\"\"))),\"\")","v":""}]
[{"$f":"IF(tagflag!A374=1,IF(strflag!A374=1,SUBSTITUTE(IF(tagflag!B374=\"NOTAG\",rawrtf!A374,SUBSTITUTE(rawrtf!A374,\"TFPTAG\"&tagflag!D374,\"\")),\"TFPSTR\"&strflag!B374,strflag!D374),IF(tagflag!B374=\"NOTAG\",rawrtf!A374,SUBSTITUTE(rawrtf!A374,\"TFPTAG\"&tagflag!D374,\"\"))),\"\")","v":""}]
[{"$f":"IF(tagflag!A375=1,IF(strflag!A375=1,SUBSTITUTE(IF(tagflag!B375=\"NOTAG\",rawrtf!A375,SUBSTITUTE(rawrtf!A375,\"TFPTAG\"&tagflag!D375,\"\")),\"TFPSTR\"&strflag!B375,strflag!D375),IF(tagflag!B375=\"NOTAG\",rawrtf!A375,SUBSTITUTE(rawrtf!A375,\"TFPTAG\"&tagflag!D375,\"\"))),\"\")","v":""}]
[{"$f":"IF(tagflag!A376=1,IF(strflag!A376=1,SUBSTITUTE(IF(tagflag!B376=\"NOTAG\",rawrtf!A376,SUBSTITUTE(rawrtf!A376,\"TFPTAG\"&tagflag!D376,\"\")),\"TFPSTR\"&strflag!B376,strflag!D376),IF(tagflag!B376=\"NOTAG\",rawrtf!A376,SUBSTITUTE(rawrtf!A376,\"TFPTAG\"&tagflag!D376,\"\"))),\"\")","v":""}]
[{"$f":"IF(tagflag!A377=1,IF(strflag!A377=1,SUBSTITUTE(IF(tagflag!B377=\"NOTAG\",rawrtf!A377,SUBSTITUTE(rawrtf!A377,\"TFPTAG\"&tagflag!D377,\"\")),\"TFPSTR\"&strflag!B377,strflag!D377),IF(tagflag!B377=\"NOTAG\",rawrtf!A377,SUBSTITUTE(rawrtf!A377,\"TFPTAG\"&tagflag!D377,\"\"))),\"\")","v":""}]
[{"$f":"IF(tagflag!A378=1,IF(strflag!A378=1,SUBSTITUTE(IF(tagflag!B378=\"NOTAG\",rawrtf!A378,SUBSTITUTE(rawrtf!A378,\"TFPTAG\"&tagflag!D378,\"\")),\"TFPSTR\"&strflag!B378,strflag!D378),IF(tagflag!B378=\"NOTAG\",rawrtf!A378,SUBSTITUTE(rawrtf!A378,\"TFPTAG\"&tagflag!D378,\"\"))),\"\")","v":""}]
[{"$f":"IF(tagflag!A379=1,IF(strflag!A379=1,SUBSTITUTE(IF(tagflag!B379=\"NOTAG\",rawrtf!A379,SUBSTITUTE(rawrtf!A379,\"TFPTAG\"&tagflag!D379,\"\")),\"TFPSTR\"&strflag!B379,strflag!D379),IF(tagflag!B379=\"NOTAG\",rawrtf!A379,SUBSTITUTE(rawrtf!A379,\"TFPTAG\"&tagflag!D379,\"\"))),\"\")","v":""}]
[{"$f":"IF(tagflag!A380=1,IF(strflag!A380=1,SUBSTITUTE(IF(tagflag!B380=\"NOTAG\",rawrtf!A380,SUBSTITUTE(rawrtf!A380,\"TFPTAG\"&tagflag!D380,\"\")),\"TFPSTR\"&strflag!B380,strflag!D380),IF(tagflag!B380=\"NOTAG\",rawrtf!A380,SUBSTITUTE(rawrtf!A380,\"TFPTAG\"&tagflag!D380,\"\"))),\"\")","v":""}]
[{"$f":"IF(tagflag!A381=1,IF(strflag!A381=1,SUBSTITUTE(IF(tagflag!B381=\"NOTAG\",rawrtf!A381,SUBSTITUTE(rawrtf!A381,\"TFPTAG\"&tagflag!D381,\"\")),\"TFPSTR\"&strflag!B381,strflag!D381),IF(tagflag!B381=\"NOTAG\",rawrtf!A381,SUBSTITUTE(rawrtf!A381,\"TFPTAG\"&tagflag!D381,\"\"))),\"\")","v":""}]
[{"$f":"IF(tagflag!A382=1,IF(strflag!A382=1,SUBSTITUTE(IF(tagflag!B382=\"NOTAG\",rawrtf!A382,SUBSTITUTE(rawrtf!A382,\"TFPTAG\"&tagflag!D382,\"\")),\"TFPSTR\"&strflag!B382,strflag!D382),IF(tagflag!B382=\"NOTAG\",rawrtf!A382,SUBSTITUTE(rawrtf!A382,\"TFPTAG\"&tagflag!D382,\"\"))),\"\")","v":""}]
[{"$f":"IF(tagflag!A383=1,IF(strflag!A383=1,SUBSTITUTE(IF(tagflag!B383=\"NOTAG\",rawrtf!A383,SUBSTITUTE(rawrtf!A383,\"TFPTAG\"&tagflag!D383,\"\")),\"TFPSTR\"&strflag!B383,strflag!D383),IF(tagflag!B383=\"NOTAG\",rawrtf!A383,SUBSTITUTE(rawrtf!A383,\"TFPTAG\"&tagflag!D383,\"\"))),\"\")","v":""}]
[{"$f":"IF(tagflag!A384=1,IF(strflag!A384=1,SUBSTITUTE(IF(tagflag!B384=\"NOTAG\",rawrtf!A384,SUBSTITUTE(rawrtf!A384,\"TFPTAG\"&tagflag!D384,\"\")),\"TFPSTR\"&strflag!B384,strflag!D384),IF(tagflag!B384=\"NOTAG\",rawrtf!A384,SUBSTITUTE(rawrtf!A384,\"TFPTAG\"&tagflag!D384,\"\"))),\"\")","v":""}]
[{"$f":"IF(tagflag!A385=1,IF(strflag!A385=1,SUBSTITUTE(IF(tagflag!B385=\"NOTAG\",rawrtf!A385,SUBSTITUTE(rawrtf!A385,\"TFPTAG\"&tagflag!D385,\"\")),\"TFPSTR\"&strflag!B385,strflag!D385),IF(tagflag!B385=\"NOTAG\",rawrtf!A385,SUBSTITUTE(rawrtf!A385,\"TFPTAG\"&tagflag!D385,\"\"))),\"\")","v":"\\par }\\pard\\plain \\ql \\li360\\ri0\\sa240\\widctlpar\\aspalpha\\aspnum\\faauto\\adjustright\\rin0\\lin360\\itap0 \\fs24\\lang2057\\langfe1033\\cgrid\\langnp2057\\langfenp1033 {\\f28 "}]
[{"$f":"IF(tagflag!A386=1,IF(strflag!A386=1,SUBSTITUTE(IF(tagflag!B386=\"NOTAG\",rawrtf!A386,SUBSTITUTE(rawrtf!A386,\"TFPTAG\"&tagflag!D386,\"\")),\"TFPSTR\"&strflag!B386,strflag!D386),IF(tagflag!B386=\"NOTAG\",rawrtf!A386,SUBSTITUTE(rawrtf!A386,\"TFPTAG\"&tagflag!D386,\"\"))),\"\")","v":""}]
[{"$f":"IF(tagflag!A387=1,IF(strflag!A387=1,SUBSTITUTE(IF(tagflag!B387=\"NOTAG\",rawrtf!A387,SUBSTITUTE(rawrtf!A387,\"TFPTAG\"&tagflag!D387,\"\")),\"TFPSTR\"&strflag!B387,strflag!D387),IF(tagflag!B387=\"NOTAG\",rawrtf!A387,SUBSTITUTE(rawrtf!A387,\"TFPTAG\"&tagflag!D387,\"\"))),\"\")","v":""}]
[{"$f":"IF(tagflag!A388=1,IF(strflag!A388=1,SUBSTITUTE(IF(tagflag!B388=\"NOTAG\",rawrtf!A388,SUBSTITUTE(rawrtf!A388,\"TFPTAG\"&tagflag!D388,\"\")),\"TFPSTR\"&strflag!B388,strflag!D388),IF(tagflag!B388=\"NOTAG\",rawrtf!A388,SUBSTITUTE(rawrtf!A388,\"TFPTAG\"&tagflag!D388,\"\"))),\"\")","v":""}]
[{"$f":"IF(tagflag!A389=1,IF(strflag!A389=1,SUBSTITUTE(IF(tagflag!B389=\"NOTAG\",rawrtf!A389,SUBSTITUTE(rawrtf!A389,\"TFPTAG\"&tagflag!D389,\"\")),\"TFPSTR\"&strflag!B389,strflag!D389),IF(tagflag!B389=\"NOTAG\",rawrtf!A389,SUBSTITUTE(rawrtf!A389,\"TFPTAG\"&tagflag!D389,\"\"))),\"\")","v":""}]
[{"$f":"IF(tagflag!A390=1,IF(strflag!A390=1,SUBSTITUTE(IF(tagflag!B390=\"NOTAG\",rawrtf!A390,SUBSTITUTE(rawrtf!A390,\"TFPTAG\"&tagflag!D390,\"\")),\"TFPSTR\"&strflag!B390,strflag!D390),IF(tagflag!B390=\"NOTAG\",rawrtf!A390,SUBSTITUTE(rawrtf!A390,\"TFPTAG\"&tagflag!D390,\"\"))),\"\")","v":""}]
[{"$f":"IF(tagflag!A391=1,IF(strflag!A391=1,SUBSTITUTE(IF(tagflag!B391=\"NOTAG\",rawrtf!A391,SUBSTITUTE(rawrtf!A391,\"TFPTAG\"&tagflag!D391,\"\")),\"TFPSTR\"&strflag!B391,strflag!D391),IF(tagflag!B391=\"NOTAG\",rawrtf!A391,SUBSTITUTE(rawrtf!A391,\"TFPTAG\"&tagflag!D391,\"\"))),\"\")","v":""}]
[{"$f":"IF(tagflag!A392=1,IF(strflag!A392=1,SUBSTITUTE(IF(tagflag!B392=\"NOTAG\",rawrtf!A392,SUBSTITUTE(rawrtf!A392,\"TFPTAG\"&tagflag!D392,\"\")),\"TFPSTR\"&strflag!B392,strflag!D392),IF(tagflag!B392=\"NOTAG\",rawrtf!A392,SUBSTITUTE(rawrtf!A392,\"TFPTAG\"&tagflag!D392,\"\"))),\"\")","v":""}]
[{"$f":"IF(tagflag!A393=1,IF(strflag!A393=1,SUBSTITUTE(IF(tagflag!B393=\"NOTAG\",rawrtf!A393,SUBSTITUTE(rawrtf!A393,\"TFPTAG\"&tagflag!D393,\"\")),\"TFPSTR\"&strflag!B393,strflag!D393),IF(tagflag!B393=\"NOTAG\",rawrtf!A393,SUBSTITUTE(rawrtf!A393,\"TFPTAG\"&tagflag!D393,\"\"))),\"\")","v":""}]
[{"$f":"IF(tagflag!A394=1,IF(strflag!A394=1,SUBSTITUTE(IF(tagflag!B394=\"NOTAG\",rawrtf!A394,SUBSTITUTE(rawrtf!A394,\"TFPTAG\"&tagflag!D394,\"\")),\"TFPSTR\"&strflag!B394,strflag!D394),IF(tagflag!B394=\"NOTAG\",rawrtf!A394,SUBSTITUTE(rawrtf!A394,\"TFPTAG\"&tagflag!D394,\"\"))),\"\")","v":""}]
[{"$f":"IF(tagflag!A395=1,IF(strflag!A395=1,SUBSTITUTE(IF(tagflag!B395=\"NOTAG\",rawrtf!A395,SUBSTITUTE(rawrtf!A395,\"TFPTAG\"&tagflag!D395,\"\")),\"TFPSTR\"&strflag!B395,strflag!D395),IF(tagflag!B395=\"NOTAG\",rawrtf!A395,SUBSTITUTE(rawrtf!A395,\"TFPTAG\"&tagflag!D395,\"\"))),\"\")","v":""}]
[{"$f":"IF(tagflag!A396=1,IF(strflag!A396=1,SUBSTITUTE(IF(tagflag!B396=\"NOTAG\",rawrtf!A396,SUBSTITUTE(rawrtf!A396,\"TFPTAG\"&tagflag!D396,\"\")),\"TFPSTR\"&strflag!B396,strflag!D396),IF(tagflag!B396=\"NOTAG\",rawrtf!A396,SUBSTITUTE(rawrtf!A396,\"TFPTAG\"&tagflag!D396,\"\"))),\"\")","v":""}]
[{"$f":"IF(tagflag!A397=1,IF(strflag!A397=1,SUBSTITUTE(IF(tagflag!B397=\"NOTAG\",rawrtf!A397,SUBSTITUTE(rawrtf!A397,\"TFPTAG\"&tagflag!D397,\"\")),\"TFPSTR\"&strflag!B397,strflag!D397),IF(tagflag!B397=\"NOTAG\",rawrtf!A397,SUBSTITUTE(rawrtf!A397,\"TFPTAG\"&tagflag!D397,\"\"))),\"\")","v":""}]
[{"$f":"IF(tagflag!A398=1,IF(strflag!A398=1,SUBSTITUTE(IF(tagflag!B398=\"NOTAG\",rawrtf!A398,SUBSTITUTE(rawrtf!A398,\"TFPTAG\"&tagflag!D398,\"\")),\"TFPSTR\"&strflag!B398,strflag!D398),IF(tagflag!B398=\"NOTAG\",rawrtf!A398,SUBSTITUTE(rawrtf!A398,\"TFPTAG\"&tagflag!D398,\"\"))),\"\")","v":""}]
[{"$f":"IF(tagflag!A399=1,IF(strflag!A399=1,SUBSTITUTE(IF(tagflag!B399=\"NOTAG\",rawrtf!A399,SUBSTITUTE(rawrtf!A399,\"TFPTAG\"&tagflag!D399,\"\")),\"TFPSTR\"&strflag!B399,strflag!D399),IF(tagflag!B399=\"NOTAG\",rawrtf!A399,SUBSTITUTE(rawrtf!A399,\"TFPTAG\"&tagflag!D399,\"\"))),\"\")","v":""}]
[{"$f":"IF(tagflag!A400=1,IF(strflag!A400=1,SUBSTITUTE(IF(tagflag!B400=\"NOTAG\",rawrtf!A400,SUBSTITUTE(rawrtf!A400,\"TFPTAG\"&tagflag!D400,\"\")),\"TFPSTR\"&strflag!B400,strflag!D400),IF(tagflag!B400=\"NOTAG\",rawrtf!A400,SUBSTITUTE(rawrtf!A400,\"TFPTAG\"&tagflag!D400,\"\"))),\"\")","v":""}]
[{"$f":"IF(tagflag!A401=1,IF(strflag!A401=1,SUBSTITUTE(IF(tagflag!B401=\"NOTAG\",rawrtf!A401,SUBSTITUTE(rawrtf!A401,\"TFPTAG\"&tagflag!D401,\"\")),\"TFPSTR\"&strflag!B401,strflag!D401),IF(tagflag!B401=\"NOTAG\",rawrtf!A401,SUBSTITUTE(rawrtf!A401,\"TFPTAG\"&tagflag!D401,\"\"))),\"\")","v":""}]
[{"$f":"IF(tagflag!A402=1,IF(strflag!A402=1,SUBSTITUTE(IF(tagflag!B402=\"NOTAG\",rawrtf!A402,SUBSTITUTE(rawrtf!A402,\"TFPTAG\"&tagflag!D402,\"\")),\"TFPSTR\"&strflag!B402,strflag!D402),IF(tagflag!B402=\"NOTAG\",rawrtf!A402,SUBSTITUTE(rawrtf!A402,\"TFPTAG\"&tagflag!D402,\"\"))),\"\")","v":""}]
[{"$f":"IF(tagflag!A403=1,IF(strflag!A403=1,SUBSTITUTE(IF(tagflag!B403=\"NOTAG\",rawrtf!A403,SUBSTITUTE(rawrtf!A403,\"TFPTAG\"&tagflag!D403,\"\")),\"TFPSTR\"&strflag!B403,strflag!D403),IF(tagflag!B403=\"NOTAG\",rawrtf!A403,SUBSTITUTE(rawrtf!A403,\"TFPTAG\"&tagflag!D403,\"\"))),\"\")","v":""}]
[{"$f":"IF(tagflag!A404=1,IF(strflag!A404=1,SUBSTITUTE(IF(tagflag!B404=\"NOTAG\",rawrtf!A404,SUBSTITUTE(rawrtf!A404,\"TFPTAG\"&tagflag!D404,\"\")),\"TFPSTR\"&strflag!B404,strflag!D404),IF(tagflag!B404=\"NOTAG\",rawrtf!A404,SUBSTITUTE(rawrtf!A404,\"TFPTAG\"&tagflag!D404,\"\"))),\"\")","v":""}]
[{"$f":"IF(tagflag!A405=1,IF(strflag!A405=1,SUBSTITUTE(IF(tagflag!B405=\"NOTAG\",rawrtf!A405,SUBSTITUTE(rawrtf!A405,\"TFPTAG\"&tagflag!D405,\"\")),\"TFPSTR\"&strflag!B405,strflag!D405),IF(tagflag!B405=\"NOTAG\",rawrtf!A405,SUBSTITUTE(rawrtf!A405,\"TFPTAG\"&tagflag!D405,\"\"))),\"\")","v":""}]
[{"$f":"IF(tagflag!A406=1,IF(strflag!A406=1,SUBSTITUTE(IF(tagflag!B406=\"NOTAG\",rawrtf!A406,SUBSTITUTE(rawrtf!A406,\"TFPTAG\"&tagflag!D406,\"\")),\"TFPSTR\"&strflag!B406,strflag!D406),IF(tagflag!B406=\"NOTAG\",rawrtf!A406,SUBSTITUTE(rawrtf!A406,\"TFPTAG\"&tagflag!D406,\"\"))),\"\")","v":""}]
[{"$f":"IF(tagflag!A407=1,IF(strflag!A407=1,SUBSTITUTE(IF(tagflag!B407=\"NOTAG\",rawrtf!A407,SUBSTITUTE(rawrtf!A407,\"TFPTAG\"&tagflag!D407,\"\")),\"TFPSTR\"&strflag!B407,strflag!D407),IF(tagflag!B407=\"NOTAG\",rawrtf!A407,SUBSTITUTE(rawrtf!A407,\"TFPTAG\"&tagflag!D407,\"\"))),\"\")","v":""}]
[{"$f":"IF(tagflag!A408=1,IF(strflag!A408=1,SUBSTITUTE(IF(tagflag!B408=\"NOTAG\",rawrtf!A408,SUBSTITUTE(rawrtf!A408,\"TFPTAG\"&tagflag!D408,\"\")),\"TFPSTR\"&strflag!B408,strflag!D408),IF(tagflag!B408=\"NOTAG\",rawrtf!A408,SUBSTITUTE(rawrtf!A408,\"TFPTAG\"&tagflag!D408,\"\"))),\"\")","v":""}]
[{"$f":"IF(tagflag!A409=1,IF(strflag!A409=1,SUBSTITUTE(IF(tagflag!B409=\"NOTAG\",rawrtf!A409,SUBSTITUTE(rawrtf!A409,\"TFPTAG\"&tagflag!D409,\"\")),\"TFPSTR\"&strflag!B409,strflag!D409),IF(tagflag!B409=\"NOTAG\",rawrtf!A409,SUBSTITUTE(rawrtf!A409,\"TFPTAG\"&tagflag!D409,\"\"))),\"\")","v":""}]
[{"$f":"IF(tagflag!A410=1,IF(strflag!A410=1,SUBSTITUTE(IF(tagflag!B410=\"NOTAG\",rawrtf!A410,SUBSTITUTE(rawrtf!A410,\"TFPTAG\"&tagflag!D410,\"\")),\"TFPSTR\"&strflag!B410,strflag!D410),IF(tagflag!B410=\"NOTAG\",rawrtf!A410,SUBSTITUTE(rawrtf!A410,\"TFPTAG\"&tagflag!D410,\"\"))),\"\")","v":""}]
[{"$f":"IF(tagflag!A411=1,IF(strflag!A411=1,SUBSTITUTE(IF(tagflag!B411=\"NOTAG\",rawrtf!A411,SUBSTITUTE(rawrtf!A411,\"TFPTAG\"&tagflag!D411,\"\")),\"TFPSTR\"&strflag!B411,strflag!D411),IF(tagflag!B411=\"NOTAG\",rawrtf!A411,SUBSTITUTE(rawrtf!A411,\"TFPTAG\"&tagflag!D411,\"\"))),\"\")","v":""}]
[{"$f":"IF(tagflag!A412=1,IF(strflag!A412=1,SUBSTITUTE(IF(tagflag!B412=\"NOTAG\",rawrtf!A412,SUBSTITUTE(rawrtf!A412,\"TFPTAG\"&tagflag!D412,\"\")),\"TFPSTR\"&strflag!B412,strflag!D412),IF(tagflag!B412=\"NOTAG\",rawrtf!A412,SUBSTITUTE(rawrtf!A412,\"TFPTAG\"&tagflag!D412,\"\"))),\"\")","v":""}]
[{"$f":"IF(tagflag!A413=1,IF(strflag!A413=1,SUBSTITUTE(IF(tagflag!B413=\"NOTAG\",rawrtf!A413,SUBSTITUTE(rawrtf!A413,\"TFPTAG\"&tagflag!D413,\"\")),\"TFPSTR\"&strflag!B413,strflag!D413),IF(tagflag!B413=\"NOTAG\",rawrtf!A413,SUBSTITUTE(rawrtf!A413,\"TFPTAG\"&tagflag!D413,\"\"))),\"\")","v":""}]
[{"$f":"IF(tagflag!A414=1,IF(strflag!A414=1,SUBSTITUTE(IF(tagflag!B414=\"NOTAG\",rawrtf!A414,SUBSTITUTE(rawrtf!A414,\"TFPTAG\"&tagflag!D414,\"\")),\"TFPSTR\"&strflag!B414,strflag!D414),IF(tagflag!B414=\"NOTAG\",rawrtf!A414,SUBSTITUTE(rawrtf!A414,\"TFPTAG\"&tagflag!D414,\"\"))),\"\")","v":""}]
[{"$f":"IF(tagflag!A415=1,IF(strflag!A415=1,SUBSTITUTE(IF(tagflag!B415=\"NOTAG\",rawrtf!A415,SUBSTITUTE(rawrtf!A415,\"TFPTAG\"&tagflag!D415,\"\")),\"TFPSTR\"&strflag!B415,strflag!D415),IF(tagflag!B415=\"NOTAG\",rawrtf!A415,SUBSTITUTE(rawrtf!A415,\"TFPTAG\"&tagflag!D415,\"\"))),\"\")","v":""}]
[{"$f":"IF(tagflag!A416=1,IF(strflag!A416=1,SUBSTITUTE(IF(tagflag!B416=\"NOTAG\",rawrtf!A416,SUBSTITUTE(rawrtf!A416,\"TFPTAG\"&tagflag!D416,\"\")),\"TFPSTR\"&strflag!B416,strflag!D416),IF(tagflag!B416=\"NOTAG\",rawrtf!A416,SUBSTITUTE(rawrtf!A416,\"TFPTAG\"&tagflag!D416,\"\"))),\"\")","v":""}]
[{"$f":"IF(tagflag!A417=1,IF(strflag!A417=1,SUBSTITUTE(IF(tagflag!B417=\"NOTAG\",rawrtf!A417,SUBSTITUTE(rawrtf!A417,\"TFPTAG\"&tagflag!D417,\"\")),\"TFPSTR\"&strflag!B417,strflag!D417),IF(tagflag!B417=\"NOTAG\",rawrtf!A417,SUBSTITUTE(rawrtf!A417,\"TFPTAG\"&tagflag!D417,\"\"))),\"\")","v":""}]
[{"$f":"IF(tagflag!A418=1,IF(strflag!A418=1,SUBSTITUTE(IF(tagflag!B418=\"NOTAG\",rawrtf!A418,SUBSTITUTE(rawrtf!A418,\"TFPTAG\"&tagflag!D418,\"\")),\"TFPSTR\"&strflag!B418,strflag!D418),IF(tagflag!B418=\"NOTAG\",rawrtf!A418,SUBSTITUTE(rawrtf!A418,\"TFPTAG\"&tagflag!D418,\"\"))),\"\")","v":""}]
[{"$f":"IF(tagflag!A419=1,IF(strflag!A419=1,SUBSTITUTE(IF(tagflag!B419=\"NOTAG\",rawrtf!A419,SUBSTITUTE(rawrtf!A419,\"TFPTAG\"&tagflag!D419,\"\")),\"TFPSTR\"&strflag!B419,strflag!D419),IF(tagflag!B419=\"NOTAG\",rawrtf!A419,SUBSTITUTE(rawrtf!A419,\"TFPTAG\"&tagflag!D419,\"\"))),\"\")","v":""}]
[{"$f":"IF(tagflag!A420=1,IF(strflag!A420=1,SUBSTITUTE(IF(tagflag!B420=\"NOTAG\",rawrtf!A420,SUBSTITUTE(rawrtf!A420,\"TFPTAG\"&tagflag!D420,\"\")),\"TFPSTR\"&strflag!B420,strflag!D420),IF(tagflag!B420=\"NOTAG\",rawrtf!A420,SUBSTITUTE(rawrtf!A420,\"TFPTAG\"&tagflag!D420,\"\"))),\"\")","v":""}]
[{"$f":"IF(tagflag!A421=1,IF(strflag!A421=1,SUBSTITUTE(IF(tagflag!B421=\"NOTAG\",rawrtf!A421,SUBSTITUTE(rawrtf!A421,\"TFPTAG\"&tagflag!D421,\"\")),\"TFPSTR\"&strflag!B421,strflag!D421),IF(tagflag!B421=\"NOTAG\",rawrtf!A421,SUBSTITUTE(rawrtf!A421,\"TFPTAG\"&tagflag!D421,\"\"))),\"\")","v":""}]
[{"$f":"IF(tagflag!A422=1,IF(strflag!A422=1,SUBSTITUTE(IF(tagflag!B422=\"NOTAG\",rawrtf!A422,SUBSTITUTE(rawrtf!A422,\"TFPTAG\"&tagflag!D422,\"\")),\"TFPSTR\"&strflag!B422,strflag!D422),IF(tagflag!B422=\"NOTAG\",rawrtf!A422,SUBSTITUTE(rawrtf!A422,\"TFPTAG\"&tagflag!D422,\"\"))),\"\")","v":""}]
[{"$f":"IF(tagflag!A423=1,IF(strflag!A423=1,SUBSTITUTE(IF(tagflag!B423=\"NOTAG\",rawrtf!A423,SUBSTITUTE(rawrtf!A423,\"TFPTAG\"&tagflag!D423,\"\")),\"TFPSTR\"&strflag!B423,strflag!D423),IF(tagflag!B423=\"NOTAG\",rawrtf!A423,SUBSTITUTE(rawrtf!A423,\"TFPTAG\"&tagflag!D423,\"\"))),\"\")","v":""}]
[{"$f":"IF(tagflag!A424=1,IF(strflag!A424=1,SUBSTITUTE(IF(tagflag!B424=\"NOTAG\",rawrtf!A424,SUBSTITUTE(rawrtf!A424,\"TFPTAG\"&tagflag!D424,\"\")),\"TFPSTR\"&strflag!B424,strflag!D424),IF(tagflag!B424=\"NOTAG\",rawrtf!A424,SUBSTITUTE(rawrtf!A424,\"TFPTAG\"&tagflag!D424,\"\"))),\"\")","v":""}]
[{"$f":"IF(tagflag!A425=1,IF(strflag!A425=1,SUBSTITUTE(IF(tagflag!B425=\"NOTAG\",rawrtf!A425,SUBSTITUTE(rawrtf!A425,\"TFPTAG\"&tagflag!D425,\"\")),\"TFPSTR\"&strflag!B425,strflag!D425),IF(tagflag!B425=\"NOTAG\",rawrtf!A425,SUBSTITUTE(rawrtf!A425,\"TFPTAG\"&tagflag!D425,\"\"))),\"\")","v":""}]
[{"$f":"IF(tagflag!A426=1,IF(strflag!A426=1,SUBSTITUTE(IF(tagflag!B426=\"NOTAG\",rawrtf!A426,SUBSTITUTE(rawrtf!A426,\"TFPTAG\"&tagflag!D426,\"\")),\"TFPSTR\"&strflag!B426,strflag!D426),IF(tagflag!B426=\"NOTAG\",rawrtf!A426,SUBSTITUTE(rawrtf!A426,\"TFPTAG\"&tagflag!D426,\"\"))),\"\")","v":""}]
[{"$f":"IF(tagflag!A427=1,IF(strflag!A427=1,SUBSTITUTE(IF(tagflag!B427=\"NOTAG\",rawrtf!A427,SUBSTITUTE(rawrtf!A427,\"TFPTAG\"&tagflag!D427,\"\")),\"TFPSTR\"&strflag!B427,strflag!D427),IF(tagflag!B427=\"NOTAG\",rawrtf!A427,SUBSTITUTE(rawrtf!A427,\"TFPTAG\"&tagflag!D427,\"\"))),\"\")","v":""}]
[{"$f":"IF(tagflag!A428=1,IF(strflag!A428=1,SUBSTITUTE(IF(tagflag!B428=\"NOTAG\",rawrtf!A428,SUBSTITUTE(rawrtf!A428,\"TFPTAG\"&tagflag!D428,\"\")),\"TFPSTR\"&strflag!B428,strflag!D428),IF(tagflag!B428=\"NOTAG\",rawrtf!A428,SUBSTITUTE(rawrtf!A428,\"TFPTAG\"&tagflag!D428,\"\"))),\"\")","v":""}]
[{"$f":"IF(tagflag!A429=1,IF(strflag!A429=1,SUBSTITUTE(IF(tagflag!B429=\"NOTAG\",rawrtf!A429,SUBSTITUTE(rawrtf!A429,\"TFPTAG\"&tagflag!D429,\"\")),\"TFPSTR\"&strflag!B429,strflag!D429),IF(tagflag!B429=\"NOTAG\",rawrtf!A429,SUBSTITUTE(rawrtf!A429,\"TFPTAG\"&tagflag!D429,\"\"))),\"\")","v":""}]
[{"$f":"IF(tagflag!A430=1,IF(strflag!A430=1,SUBSTITUTE(IF(tagflag!B430=\"NOTAG\",rawrtf!A430,SUBSTITUTE(rawrtf!A430,\"TFPTAG\"&tagflag!D430,\"\")),\"TFPSTR\"&strflag!B430,strflag!D430),IF(tagflag!B430=\"NOTAG\",rawrtf!A430,SUBSTITUTE(rawrtf!A430,\"TFPTAG\"&tagflag!D430,\"\"))),\"\")","v":""}]
[{"$f":"IF(tagflag!A431=1,IF(strflag!A431=1,SUBSTITUTE(IF(tagflag!B431=\"NOTAG\",rawrtf!A431,SUBSTITUTE(rawrtf!A431,\"TFPTAG\"&tagflag!D431,\"\")),\"TFPSTR\"&strflag!B431,strflag!D431),IF(tagflag!B431=\"NOTAG\",rawrtf!A431,SUBSTITUTE(rawrtf!A431,\"TFPTAG\"&tagflag!D431,\"\"))),\"\")","v":""}]
[{"$f":"IF(tagflag!A432=1,IF(strflag!A432=1,SUBSTITUTE(IF(tagflag!B432=\"NOTAG\",rawrtf!A432,SUBSTITUTE(rawrtf!A432,\"TFPTAG\"&tagflag!D432,\"\")),\"TFPSTR\"&strflag!B432,strflag!D432),IF(tagflag!B432=\"NOTAG\",rawrtf!A432,SUBSTITUTE(rawrtf!A432,\"TFPTAG\"&tagflag!D432,\"\"))),\"\")","v":""}]
[{"$f":"IF(tagflag!A433=1,IF(strflag!A433=1,SUBSTITUTE(IF(tagflag!B433=\"NOTAG\",rawrtf!A433,SUBSTITUTE(rawrtf!A433,\"TFPTAG\"&tagflag!D433,\"\")),\"TFPSTR\"&strflag!B433,strflag!D433),IF(tagflag!B433=\"NOTAG\",rawrtf!A433,SUBSTITUTE(rawrtf!A433,\"TFPTAG\"&tagflag!D433,\"\"))),\"\")","v":""}]
[{"$f":"IF(tagflag!A434=1,IF(strflag!A434=1,SUBSTITUTE(IF(tagflag!B434=\"NOTAG\",rawrtf!A434,SUBSTITUTE(rawrtf!A434,\"TFPTAG\"&tagflag!D434,\"\")),\"TFPSTR\"&strflag!B434,strflag!D434),IF(tagflag!B434=\"NOTAG\",rawrtf!A434,SUBSTITUTE(rawrtf!A434,\"TFPTAG\"&tagflag!D434,\"\"))),\"\")","v":""}]
[{"$f":"IF(tagflag!A435=1,IF(strflag!A435=1,SUBSTITUTE(IF(tagflag!B435=\"NOTAG\",rawrtf!A435,SUBSTITUTE(rawrtf!A435,\"TFPTAG\"&tagflag!D435,\"\")),\"TFPSTR\"&strflag!B435,strflag!D435),IF(tagflag!B435=\"NOTAG\",rawrtf!A435,SUBSTITUTE(rawrtf!A435,\"TFPTAG\"&tagflag!D435,\"\"))),\"\")","v":""}]
[{"$f":"IF(tagflag!A436=1,IF(strflag!A436=1,SUBSTITUTE(IF(tagflag!B436=\"NOTAG\",rawrtf!A436,SUBSTITUTE(rawrtf!A436,\"TFPTAG\"&tagflag!D436,\"\")),\"TFPSTR\"&strflag!B436,strflag!D436),IF(tagflag!B436=\"NOTAG\",rawrtf!A436,SUBSTITUTE(rawrtf!A436,\"TFPTAG\"&tagflag!D436,\"\"))),\"\")","v":""}]
[{"$f":"IF(tagflag!A437=1,IF(strflag!A437=1,SUBSTITUTE(IF(tagflag!B437=\"NOTAG\",rawrtf!A437,SUBSTITUTE(rawrtf!A437,\"TFPTAG\"&tagflag!D437,\"\")),\"TFPSTR\"&strflag!B437,strflag!D437),IF(tagflag!B437=\"NOTAG\",rawrtf!A437,SUBSTITUTE(rawrtf!A437,\"TFPTAG\"&tagflag!D437,\"\"))),\"\")","v":""}]
[{"$f":"IF(tagflag!A438=1,IF(strflag!A438=1,SUBSTITUTE(IF(tagflag!B438=\"NOTAG\",rawrtf!A438,SUBSTITUTE(rawrtf!A438,\"TFPTAG\"&tagflag!D438,\"\")),\"TFPSTR\"&strflag!B438,strflag!D438),IF(tagflag!B438=\"NOTAG\",rawrtf!A438,SUBSTITUTE(rawrtf!A438,\"TFPTAG\"&tagflag!D438,\"\"))),\"\")","v":""}]
[{"$f":"IF(tagflag!A439=1,IF(strflag!A439=1,SUBSTITUTE(IF(tagflag!B439=\"NOTAG\",rawrtf!A439,SUBSTITUTE(rawrtf!A439,\"TFPTAG\"&tagflag!D439,\"\")),\"TFPSTR\"&strflag!B439,strflag!D439),IF(tagflag!B439=\"NOTAG\",rawrtf!A439,SUBSTITUTE(rawrtf!A439,\"TFPTAG\"&tagflag!D439,\"\"))),\"\")","v":""}]
[{"$f":"IF(tagflag!A440=1,IF(strflag!A440=1,SUBSTITUTE(IF(tagflag!B440=\"NOTAG\",rawrtf!A440,SUBSTITUTE(rawrtf!A440,\"TFPTAG\"&tagflag!D440,\"\")),\"TFPSTR\"&strflag!B440,strflag!D440),IF(tagflag!B440=\"NOTAG\",rawrtf!A440,SUBSTITUTE(rawrtf!A440,\"TFPTAG\"&tagflag!D440,\"\"))),\"\")","v":""}]
[{"$f":"IF(tagflag!A441=1,IF(strflag!A441=1,SUBSTITUTE(IF(tagflag!B441=\"NOTAG\",rawrtf!A441,SUBSTITUTE(rawrtf!A441,\"TFPTAG\"&tagflag!D441,\"\")),\"TFPSTR\"&strflag!B441,strflag!D441),IF(tagflag!B441=\"NOTAG\",rawrtf!A441,SUBSTITUTE(rawrtf!A441,\"TFPTAG\"&tagflag!D441,\"\"))),\"\")","v":""}]
[{"$f":"IF(tagflag!A442=1,IF(strflag!A442=1,SUBSTITUTE(IF(tagflag!B442=\"NOTAG\",rawrtf!A442,SUBSTITUTE(rawrtf!A442,\"TFPTAG\"&tagflag!D442,\"\")),\"TFPSTR\"&strflag!B442,strflag!D442),IF(tagflag!B442=\"NOTAG\",rawrtf!A442,SUBSTITUTE(rawrtf!A442,\"TFPTAG\"&tagflag!D442,\"\"))),\"\")","v":""}]
[{"$f":"IF(tagflag!A443=1,IF(strflag!A443=1,SUBSTITUTE(IF(tagflag!B443=\"NOTAG\",rawrtf!A443,SUBSTITUTE(rawrtf!A443,\"TFPTAG\"&tagflag!D443,\"\")),\"TFPSTR\"&strflag!B443,strflag!D443),IF(tagflag!B443=\"NOTAG\",rawrtf!A443,SUBSTITUTE(rawrtf!A443,\"TFPTAG\"&tagflag!D443,\"\"))),\"\")","v":""}]
[{"$f":"IF(tagflag!A444=1,IF(strflag!A444=1,SUBSTITUTE(IF(tagflag!B444=\"NOTAG\",rawrtf!A444,SUBSTITUTE(rawrtf!A444,\"TFPTAG\"&tagflag!D444,\"\")),\"TFPSTR\"&strflag!B444,strflag!D444),IF(tagflag!B444=\"NOTAG\",rawrtf!A444,SUBSTITUTE(rawrtf!A444,\"TFPTAG\"&tagflag!D444,\"\"))),\"\")","v":""}]
[{"$f":"IF(tagflag!A445=1,IF(strflag!A445=1,SUBSTITUTE(IF(tagflag!B445=\"NOTAG\",rawrtf!A445,SUBSTITUTE(rawrtf!A445,\"TFPTAG\"&tagflag!D445,\"\")),\"TFPSTR\"&strflag!B445,strflag!D445),IF(tagflag!B445=\"NOTAG\",rawrtf!A445,SUBSTITUTE(rawrtf!A445,\"TFPTAG\"&tagflag!D445,\"\"))),\"\")","v":""}]
[{"$f":"IF(tagflag!A446=1,IF(strflag!A446=1,SUBSTITUTE(IF(tagflag!B446=\"NOTAG\",rawrtf!A446,SUBSTITUTE(rawrtf!A446,\"TFPTAG\"&tagflag!D446,\"\")),\"TFPSTR\"&strflag!B446,strflag!D446),IF(tagflag!B446=\"NOTAG\",rawrtf!A446,SUBSTITUTE(rawrtf!A446,\"TFPTAG\"&tagflag!D446,\"\"))),\"\")","v":""}]
[{"$f":"IF(tagflag!A447=1,IF(strflag!A447=1,SUBSTITUTE(IF(tagflag!B447=\"NOTAG\",rawrtf!A447,SUBSTITUTE(rawrtf!A447,\"TFPTAG\"&tagflag!D447,\"\")),\"TFPSTR\"&strflag!B447,strflag!D447),IF(tagflag!B447=\"NOTAG\",rawrtf!A447,SUBSTITUTE(rawrtf!A447,\"TFPTAG\"&tagflag!D447,\"\"))),\"\")","v":""}]
[{"$f":"IF(tagflag!A448=1,IF(strflag!A448=1,SUBSTITUTE(IF(tagflag!B448=\"NOTAG\",rawrtf!A448,SUBSTITUTE(rawrtf!A448,\"TFPTAG\"&tagflag!D448,\"\")),\"TFPSTR\"&strflag!B448,strflag!D448),IF(tagflag!B448=\"NOTAG\",rawrtf!A448,SUBSTITUTE(rawrtf!A448,\"TFPTAG\"&tagflag!D448,\"\"))),\"\")","v":""}]
[{"$f":"IF(tagflag!A449=1,IF(strflag!A449=1,SUBSTITUTE(IF(tagflag!B449=\"NOTAG\",rawrtf!A449,SUBSTITUTE(rawrtf!A449,\"TFPTAG\"&tagflag!D449,\"\")),\"TFPSTR\"&strflag!B449,strflag!D449),IF(tagflag!B449=\"NOTAG\",rawrtf!A449,SUBSTITUTE(rawrtf!A449,\"TFPTAG\"&tagflag!D449,\"\"))),\"\")","v":""}]
[{"$f":"IF(tagflag!A450=1,IF(strflag!A450=1,SUBSTITUTE(IF(tagflag!B450=\"NOTAG\",rawrtf!A450,SUBSTITUTE(rawrtf!A450,\"TFPTAG\"&tagflag!D450,\"\")),\"TFPSTR\"&strflag!B450,strflag!D450),IF(tagflag!B450=\"NOTAG\",rawrtf!A450,SUBSTITUTE(rawrtf!A450,\"TFPTAG\"&tagflag!D450,\"\"))),\"\")","v":""}]
[{"$f":"IF(tagflag!A451=1,IF(strflag!A451=1,SUBSTITUTE(IF(tagflag!B451=\"NOTAG\",rawrtf!A451,SUBSTITUTE(rawrtf!A451,\"TFPTAG\"&tagflag!D451,\"\")),\"TFPSTR\"&strflag!B451,strflag!D451),IF(tagflag!B451=\"NOTAG\",rawrtf!A451,SUBSTITUTE(rawrtf!A451,\"TFPTAG\"&tagflag!D451,\"\"))),\"\")","v":""}]
[{"$f":"IF(tagflag!A452=1,IF(strflag!A452=1,SUBSTITUTE(IF(tagflag!B452=\"NOTAG\",rawrtf!A452,SUBSTITUTE(rawrtf!A452,\"TFPTAG\"&tagflag!D452,\"\")),\"TFPSTR\"&strflag!B452,strflag!D452),IF(tagflag!B452=\"NOTAG\",rawrtf!A452,SUBSTITUTE(rawrtf!A452,\"TFPTAG\"&tagflag!D452,\"\"))),\"\")","v":""}]
[{"$f":"IF(tagflag!A453=1,IF(strflag!A453=1,SUBSTITUTE(IF(tagflag!B453=\"NOTAG\",rawrtf!A453,SUBSTITUTE(rawrtf!A453,\"TFPTAG\"&tagflag!D453,\"\")),\"TFPSTR\"&strflag!B453,strflag!D453),IF(tagflag!B453=\"NOTAG\",rawrtf!A453,SUBSTITUTE(rawrtf!A453,\"TFPTAG\"&tagflag!D453,\"\"))),\"\")","v":""}]
[{"$f":"IF(tagflag!A454=1,IF(strflag!A454=1,SUBSTITUTE(IF(tagflag!B454=\"NOTAG\",rawrtf!A454,SUBSTITUTE(rawrtf!A454,\"TFPTAG\"&tagflag!D454,\"\")),\"TFPSTR\"&strflag!B454,strflag!D454),IF(tagflag!B454=\"NOTAG\",rawrtf!A454,SUBSTITUTE(rawrtf!A454,\"TFPTAG\"&tagflag!D454,\"\"))),\"\")","v":""}]
[{"$f":"IF(tagflag!A455=1,IF(strflag!A455=1,SUBSTITUTE(IF(tagflag!B455=\"NOTAG\",rawrtf!A455,SUBSTITUTE(rawrtf!A455,\"TFPTAG\"&tagflag!D455,\"\")),\"TFPSTR\"&strflag!B455,strflag!D455),IF(tagflag!B455=\"NOTAG\",rawrtf!A455,SUBSTITUTE(rawrtf!A455,\"TFPTAG\"&tagflag!D455,\"\"))),\"\")","v":""}]
[{"$f":"IF(tagflag!A456=1,IF(strflag!A456=1,SUBSTITUTE(IF(tagflag!B456=\"NOTAG\",rawrtf!A456,SUBSTITUTE(rawrtf!A456,\"TFPTAG\"&tagflag!D456,\"\")),\"TFPSTR\"&strflag!B456,strflag!D456),IF(tagflag!B456=\"NOTAG\",rawrtf!A456,SUBSTITUTE(rawrtf!A456,\"TFPTAG\"&tagflag!D456,\"\"))),\"\")","v":""}]
[{"$f":"IF(tagflag!A457=1,IF(strflag!A457=1,SUBSTITUTE(IF(tagflag!B457=\"NOTAG\",rawrtf!A457,SUBSTITUTE(rawrtf!A457,\"TFPTAG\"&tagflag!D457,\"\")),\"TFPSTR\"&strflag!B457,strflag!D457),IF(tagflag!B457=\"NOTAG\",rawrtf!A457,SUBSTITUTE(rawrtf!A457,\"TFPTAG\"&tagflag!D457,\"\"))),\"\")","v":""}]
[{"$f":"IF(tagflag!A458=1,IF(strflag!A458=1,SUBSTITUTE(IF(tagflag!B458=\"NOTAG\",rawrtf!A458,SUBSTITUTE(rawrtf!A458,\"TFPTAG\"&tagflag!D458,\"\")),\"TFPSTR\"&strflag!B458,strflag!D458),IF(tagflag!B458=\"NOTAG\",rawrtf!A458,SUBSTITUTE(rawrtf!A458,\"TFPTAG\"&tagflag!D458,\"\"))),\"\")","v":""}]
[{"$f":"IF(tagflag!A459=1,IF(strflag!A459=1,SUBSTITUTE(IF(tagflag!B459=\"NOTAG\",rawrtf!A459,SUBSTITUTE(rawrtf!A459,\"TFPTAG\"&tagflag!D459,\"\")),\"TFPSTR\"&strflag!B459,strflag!D459),IF(tagflag!B459=\"NOTAG\",rawrtf!A459,SUBSTITUTE(rawrtf!A459,\"TFPTAG\"&tagflag!D459,\"\"))),\"\")","v":""}]
[{"$f":"IF(tagflag!A460=1,IF(strflag!A460=1,SUBSTITUTE(IF(tagflag!B460=\"NOTAG\",rawrtf!A460,SUBSTITUTE(rawrtf!A460,\"TFPTAG\"&tagflag!D460,\"\")),\"TFPSTR\"&strflag!B460,strflag!D460),IF(tagflag!B460=\"NOTAG\",rawrtf!A460,SUBSTITUTE(rawrtf!A460,\"TFPTAG\"&tagflag!D460,\"\"))),\"\")","v":""}]
[{"$f":"IF(tagflag!A461=1,IF(strflag!A461=1,SUBSTITUTE(IF(tagflag!B461=\"NOTAG\",rawrtf!A461,SUBSTITUTE(rawrtf!A461,\"TFPTAG\"&tagflag!D461,\"\")),\"TFPSTR\"&strflag!B461,strflag!D461),IF(tagflag!B461=\"NOTAG\",rawrtf!A461,SUBSTITUTE(rawrtf!A461,\"TFPTAG\"&tagflag!D461,\"\"))),\"\")","v":""}]
[{"$f":"IF(tagflag!A462=1,IF(strflag!A462=1,SUBSTITUTE(IF(tagflag!B462=\"NOTAG\",rawrtf!A462,SUBSTITUTE(rawrtf!A462,\"TFPTAG\"&tagflag!D462,\"\")),\"TFPSTR\"&strflag!B462,strflag!D462),IF(tagflag!B462=\"NOTAG\",rawrtf!A462,SUBSTITUTE(rawrtf!A462,\"TFPTAG\"&tagflag!D462,\"\"))),\"\")","v":""}]
[{"$f":"IF(tagflag!A463=1,IF(strflag!A463=1,SUBSTITUTE(IF(tagflag!B463=\"NOTAG\",rawrtf!A463,SUBSTITUTE(rawrtf!A463,\"TFPTAG\"&tagflag!D463,\"\")),\"TFPSTR\"&strflag!B463,strflag!D463),IF(tagflag!B463=\"NOTAG\",rawrtf!A463,SUBSTITUTE(rawrtf!A463,\"TFPTAG\"&tagflag!D463,\"\"))),\"\")","v":""}]
[{"$f":"IF(tagflag!A464=1,IF(strflag!A464=1,SUBSTITUTE(IF(tagflag!B464=\"NOTAG\",rawrtf!A464,SUBSTITUTE(rawrtf!A464,\"TFPTAG\"&tagflag!D464,\"\")),\"TFPSTR\"&strflag!B464,strflag!D464),IF(tagflag!B464=\"NOTAG\",rawrtf!A464,SUBSTITUTE(rawrtf!A464,\"TFPTAG\"&tagflag!D464,\"\"))),\"\")","v":""}]
[{"$f":"IF(tagflag!A465=1,IF(strflag!A465=1,SUBSTITUTE(IF(tagflag!B465=\"NOTAG\",rawrtf!A465,SUBSTITUTE(rawrtf!A465,\"TFPTAG\"&tagflag!D465,\"\")),\"TFPSTR\"&strflag!B465,strflag!D465),IF(tagflag!B465=\"NOTAG\",rawrtf!A465,SUBSTITUTE(rawrtf!A465,\"TFPTAG\"&tagflag!D465,\"\"))),\"\")","v":""}]
[{"$f":"IF(tagflag!A466=1,IF(strflag!A466=1,SUBSTITUTE(IF(tagflag!B466=\"NOTAG\",rawrtf!A466,SUBSTITUTE(rawrtf!A466,\"TFPTAG\"&tagflag!D466,\"\")),\"TFPSTR\"&strflag!B466,strflag!D466),IF(tagflag!B466=\"NOTAG\",rawrtf!A466,SUBSTITUTE(rawrtf!A466,\"TFPTAG\"&tagflag!D466,\"\"))),\"\")","v":""}]
[{"$f":"IF(tagflag!A467=1,IF(strflag!A467=1,SUBSTITUTE(IF(tagflag!B467=\"NOTAG\",rawrtf!A467,SUBSTITUTE(rawrtf!A467,\"TFPTAG\"&tagflag!D467,\"\")),\"TFPSTR\"&strflag!B467,strflag!D467),IF(tagflag!B467=\"NOTAG\",rawrtf!A467,SUBSTITUTE(rawrtf!A467,\"TFPTAG\"&tagflag!D467,\"\"))),\"\")","v":""}]
[{"$f":"IF(tagflag!A468=1,IF(strflag!A468=1,SUBSTITUTE(IF(tagflag!B468=\"NOTAG\",rawrtf!A468,SUBSTITUTE(rawrtf!A468,\"TFPTAG\"&tagflag!D468,\"\")),\"TFPSTR\"&strflag!B468,strflag!D468),IF(tagflag!B468=\"NOTAG\",rawrtf!A468,SUBSTITUTE(rawrtf!A468,\"TFPTAG\"&tagflag!D468,\"\"))),\"\")","v":""}]
[{"$f":"IF(tagflag!A469=1,IF(strflag!A469=1,SUBSTITUTE(IF(tagflag!B469=\"NOTAG\",rawrtf!A469,SUBSTITUTE(rawrtf!A469,\"TFPTAG\"&tagflag!D469,\"\")),\"TFPSTR\"&strflag!B469,strflag!D469),IF(tagflag!B469=\"NOTAG\",rawrtf!A469,SUBSTITUTE(rawrtf!A469,\"TFPTAG\"&tagflag!D469,\"\"))),\"\")","v":""}]
[{"$f":"IF(tagflag!A470=1,IF(strflag!A470=1,SUBSTITUTE(IF(tagflag!B470=\"NOTAG\",rawrtf!A470,SUBSTITUTE(rawrtf!A470,\"TFPTAG\"&tagflag!D470,\"\")),\"TFPSTR\"&strflag!B470,strflag!D470),IF(tagflag!B470=\"NOTAG\",rawrtf!A470,SUBSTITUTE(rawrtf!A470,\"TFPTAG\"&tagflag!D470,\"\"))),\"\")","v":""}]
[{"$f":"IF(tagflag!A471=1,IF(strflag!A471=1,SUBSTITUTE(IF(tagflag!B471=\"NOTAG\",rawrtf!A471,SUBSTITUTE(rawrtf!A471,\"TFPTAG\"&tagflag!D471,\"\")),\"TFPSTR\"&strflag!B471,strflag!D471),IF(tagflag!B471=\"NOTAG\",rawrtf!A471,SUBSTITUTE(rawrtf!A471,\"TFPTAG\"&tagflag!D471,\"\"))),\"\")","v":""}]
[{"$f":"IF(tagflag!A472=1,IF(strflag!A472=1,SUBSTITUTE(IF(tagflag!B472=\"NOTAG\",rawrtf!A472,SUBSTITUTE(rawrtf!A472,\"TFPTAG\"&tagflag!D472,\"\")),\"TFPSTR\"&strflag!B472,strflag!D472),IF(tagflag!B472=\"NOTAG\",rawrtf!A472,SUBSTITUTE(rawrtf!A472,\"TFPTAG\"&tagflag!D472,\"\"))),\"\")","v":""}]
[{"$f":"IF(tagflag!A473=1,IF(strflag!A473=1,SUBSTITUTE(IF(tagflag!B473=\"NOTAG\",rawrtf!A473,SUBSTITUTE(rawrtf!A473,\"TFPTAG\"&tagflag!D473,\"\")),\"TFPSTR\"&strflag!B473,strflag!D473),IF(tagflag!B473=\"NOTAG\",rawrtf!A473,SUBSTITUTE(rawrtf!A473,\"TFPTAG\"&tagflag!D473,\"\"))),\"\")","v":""}]
[{"$f":"IF(tagflag!A474=1,IF(strflag!A474=1,SUBSTITUTE(IF(tagflag!B474=\"NOTAG\",rawrtf!A474,SUBSTITUTE(rawrtf!A474,\"TFPTAG\"&tagflag!D474,\"\")),\"TFPSTR\"&strflag!B474,strflag!D474),IF(tagflag!B474=\"NOTAG\",rawrtf!A474,SUBSTITUTE(rawrtf!A474,\"TFPTAG\"&tagflag!D474,\"\"))),\"\")","v":""}]
[{"$f":"IF(tagflag!A475=1,IF(strflag!A475=1,SUBSTITUTE(IF(tagflag!B475=\"NOTAG\",rawrtf!A475,SUBSTITUTE(rawrtf!A475,\"TFPTAG\"&tagflag!D475,\"\")),\"TFPSTR\"&strflag!B475,strflag!D475),IF(tagflag!B475=\"NOTAG\",rawrtf!A475,SUBSTITUTE(rawrtf!A475,\"TFPTAG\"&tagflag!D475,\"\"))),\"\")","v":""}]
[{"$f":"IF(tagflag!A476=1,IF(strflag!A476=1,SUBSTITUTE(IF(tagflag!B476=\"NOTAG\",rawrtf!A476,SUBSTITUTE(rawrtf!A476,\"TFPTAG\"&tagflag!D476,\"\")),\"TFPSTR\"&strflag!B476,strflag!D476),IF(tagflag!B476=\"NOTAG\",rawrtf!A476,SUBSTITUTE(rawrtf!A476,\"TFPTAG\"&tagflag!D476,\"\"))),\"\")","v":""}]
[{"$f":"IF(tagflag!A477=1,IF(strflag!A477=1,SUBSTITUTE(IF(tagflag!B477=\"NOTAG\",rawrtf!A477,SUBSTITUTE(rawrtf!A477,\"TFPTAG\"&tagflag!D477,\"\")),\"TFPSTR\"&strflag!B477,strflag!D477),IF(tagflag!B477=\"NOTAG\",rawrtf!A477,SUBSTITUTE(rawrtf!A477,\"TFPTAG\"&tagflag!D477,\"\"))),\"\")","v":""}]
[{"$f":"IF(tagflag!A478=1,IF(strflag!A478=1,SUBSTITUTE(IF(tagflag!B478=\"NOTAG\",rawrtf!A478,SUBSTITUTE(rawrtf!A478,\"TFPTAG\"&tagflag!D478,\"\")),\"TFPSTR\"&strflag!B478,strflag!D478),IF(tagflag!B478=\"NOTAG\",rawrtf!A478,SUBSTITUTE(rawrtf!A478,\"TFPTAG\"&tagflag!D478,\"\"))),\"\")","v":""}]
[{"$f":"IF(tagflag!A479=1,IF(strflag!A479=1,SUBSTITUTE(IF(tagflag!B479=\"NOTAG\",rawrtf!A479,SUBSTITUTE(rawrtf!A479,\"TFPTAG\"&tagflag!D479,\"\")),\"TFPSTR\"&strflag!B479,strflag!D479),IF(tagflag!B479=\"NOTAG\",rawrtf!A479,SUBSTITUTE(rawrtf!A479,\"TFPTAG\"&tagflag!D479,\"\"))),\"\")","v":""}]
[{"$f":"IF(tagflag!A480=1,IF(strflag!A480=1,SUBSTITUTE(IF(tagflag!B480=\"NOTAG\",rawrtf!A480,SUBSTITUTE(rawrtf!A480,\"TFPTAG\"&tagflag!D480,\"\")),\"TFPSTR\"&strflag!B480,strflag!D480),IF(tagflag!B480=\"NOTAG\",rawrtf!A480,SUBSTITUTE(rawrtf!A480,\"TFPTAG\"&tagflag!D480,\"\"))),\"\")","v":""}]
[{"$f":"IF(tagflag!A481=1,IF(strflag!A481=1,SUBSTITUTE(IF(tagflag!B481=\"NOTAG\",rawrtf!A481,SUBSTITUTE(rawrtf!A481,\"TFPTAG\"&tagflag!D481,\"\")),\"TFPSTR\"&strflag!B481,strflag!D481),IF(tagflag!B481=\"NOTAG\",rawrtf!A481,SUBSTITUTE(rawrtf!A481,\"TFPTAG\"&tagflag!D481,\"\"))),\"\")","v":""}]
[{"$f":"IF(tagflag!A482=1,IF(strflag!A482=1,SUBSTITUTE(IF(tagflag!B482=\"NOTAG\",rawrtf!A482,SUBSTITUTE(rawrtf!A482,\"TFPTAG\"&tagflag!D482,\"\")),\"TFPSTR\"&strflag!B482,strflag!D482),IF(tagflag!B482=\"NOTAG\",rawrtf!A482,SUBSTITUTE(rawrtf!A482,\"TFPTAG\"&tagflag!D482,\"\"))),\"\")","v":""}]
[{"$f":"IF(tagflag!A483=1,IF(strflag!A483=1,SUBSTITUTE(IF(tagflag!B483=\"NOTAG\",rawrtf!A483,SUBSTITUTE(rawrtf!A483,\"TFPTAG\"&tagflag!D483,\"\")),\"TFPSTR\"&strflag!B483,strflag!D483),IF(tagflag!B483=\"NOTAG\",rawrtf!A483,SUBSTITUTE(rawrtf!A483,\"TFPTAG\"&tagflag!D483,\"\"))),\"\")","v":""}]
[{"$f":"IF(tagflag!A484=1,IF(strflag!A484=1,SUBSTITUTE(IF(tagflag!B484=\"NOTAG\",rawrtf!A484,SUBSTITUTE(rawrtf!A484,\"TFPTAG\"&tagflag!D484,\"\")),\"TFPSTR\"&strflag!B484,strflag!D484),IF(tagflag!B484=\"NOTAG\",rawrtf!A484,SUBSTITUTE(rawrtf!A484,\"TFPTAG\"&tagflag!D484,\"\"))),\"\")","v":""}]
[{"$f":"IF(tagflag!A485=1,IF(strflag!A485=1,SUBSTITUTE(IF(tagflag!B485=\"NOTAG\",rawrtf!A485,SUBSTITUTE(rawrtf!A485,\"TFPTAG\"&tagflag!D485,\"\")),\"TFPSTR\"&strflag!B485,strflag!D485),IF(tagflag!B485=\"NOTAG\",rawrtf!A485,SUBSTITUTE(rawrtf!A485,\"TFPTAG\"&tagflag!D485,\"\"))),\"\")","v":""}]
[{"$f":"IF(tagflag!A486=1,IF(strflag!A486=1,SUBSTITUTE(IF(tagflag!B486=\"NOTAG\",rawrtf!A486,SUBSTITUTE(rawrtf!A486,\"TFPTAG\"&tagflag!D486,\"\")),\"TFPSTR\"&strflag!B486,strflag!D486),IF(tagflag!B486=\"NOTAG\",rawrtf!A486,SUBSTITUTE(rawrtf!A486,\"TFPTAG\"&tagflag!D486,\"\"))),\"\")","v":""}]
[{"$f":"IF(tagflag!A487=1,IF(strflag!A487=1,SUBSTITUTE(IF(tagflag!B487=\"NOTAG\",rawrtf!A487,SUBSTITUTE(rawrtf!A487,\"TFPTAG\"&tagflag!D487,\"\")),\"TFPSTR\"&strflag!B487,strflag!D487),IF(tagflag!B487=\"NOTAG\",rawrtf!A487,SUBSTITUTE(rawrtf!A487,\"TFPTAG\"&tagflag!D487,\"\"))),\"\")","v":""}]
[{"$f":"IF(tagflag!A488=1,IF(strflag!A488=1,SUBSTITUTE(IF(tagflag!B488=\"NOTAG\",rawrtf!A488,SUBSTITUTE(rawrtf!A488,\"TFPTAG\"&tagflag!D488,\"\")),\"TFPSTR\"&strflag!B488,strflag!D488),IF(tagflag!B488=\"NOTAG\",rawrtf!A488,SUBSTITUTE(rawrtf!A488,\"TFPTAG\"&tagflag!D488,\"\"))),\"\")","v":""}]
[{"$f":"IF(tagflag!A489=1,IF(strflag!A489=1,SUBSTITUTE(IF(tagflag!B489=\"NOTAG\",rawrtf!A489,SUBSTITUTE(rawrtf!A489,\"TFPTAG\"&tagflag!D489,\"\")),\"TFPSTR\"&strflag!B489,strflag!D489),IF(tagflag!B489=\"NOTAG\",rawrtf!A489,SUBSTITUTE(rawrtf!A489,\"TFPTAG\"&tagflag!D489,\"\"))),\"\")","v":""}]
[{"$f":"IF(tagflag!A490=1,IF(strflag!A490=1,SUBSTITUTE(IF(tagflag!B490=\"NOTAG\",rawrtf!A490,SUBSTITUTE(rawrtf!A490,\"TFPTAG\"&tagflag!D490,\"\")),\"TFPSTR\"&strflag!B490,strflag!D490),IF(tagflag!B490=\"NOTAG\",rawrtf!A490,SUBSTITUTE(rawrtf!A490,\"TFPTAG\"&tagflag!D490,\"\"))),\"\")","v":""}]
[{"$f":"IF(tagflag!A491=1,IF(strflag!A491=1,SUBSTITUTE(IF(tagflag!B491=\"NOTAG\",rawrtf!A491,SUBSTITUTE(rawrtf!A491,\"TFPTAG\"&tagflag!D491,\"\")),\"TFPSTR\"&strflag!B491,strflag!D491),IF(tagflag!B491=\"NOTAG\",rawrtf!A491,SUBSTITUTE(rawrtf!A491,\"TFPTAG\"&tagflag!D491,\"\"))),\"\")","v":""}]
[{"$f":"IF(tagflag!A492=1,IF(strflag!A492=1,SUBSTITUTE(IF(tagflag!B492=\"NOTAG\",rawrtf!A492,SUBSTITUTE(rawrtf!A492,\"TFPTAG\"&tagflag!D492,\"\")),\"TFPSTR\"&strflag!B492,strflag!D492),IF(tagflag!B492=\"NOTAG\",rawrtf!A492,SUBSTITUTE(rawrtf!A492,\"TFPTAG\"&tagflag!D492,\"\"))),\"\")","v":" leverage the existing relationships with customers, by cost effectively selling to them at key points during the year:"}]
[{"$f":"IF(tagflag!A493=1,IF(strflag!A493=1,SUBSTITUTE(IF(tagflag!B493=\"NOTAG\",rawrtf!A493,SUBSTITUTE(rawrtf!A493,\"TFPTAG\"&tagflag!D493,\"\")),\"TFPSTR\"&strflag!B493,strflag!D493),IF(tagflag!B493=\"NOTAG\",rawrtf!A493,SUBSTITUTE(rawrtf!A493,\"TFPTAG\"&tagflag!D493,\"\"))),\"\")","v":""}]
[{"$f":"IF(tagflag!A494=1,IF(strflag!A494=1,SUBSTITUTE(IF(tagflag!B494=\"NOTAG\",rawrtf!A494,SUBSTITUTE(rawrtf!A494,\"TFPTAG\"&tagflag!D494,\"\")),\"TFPSTR\"&strflag!B494,strflag!D494),IF(tagflag!B494=\"NOTAG\",rawrtf!A494,SUBSTITUTE(rawrtf!A494,\"TFPTAG\"&tagflag!D494,\"\"))),\"\")","v":""}]
[{"$f":"IF(tagflag!A495=1,IF(strflag!A495=1,SUBSTITUTE(IF(tagflag!B495=\"NOTAG\",rawrtf!A495,SUBSTITUTE(rawrtf!A495,\"TFPTAG\"&tagflag!D495,\"\")),\"TFPSTR\"&strflag!B495,strflag!D495),IF(tagflag!B495=\"NOTAG\",rawrtf!A495,SUBSTITUTE(rawrtf!A495,\"TFPTAG\"&tagflag!D495,\"\"))),\"\")","v":""}]
[{"$f":"IF(tagflag!A496=1,IF(strflag!A496=1,SUBSTITUTE(IF(tagflag!B496=\"NOTAG\",rawrtf!A496,SUBSTITUTE(rawrtf!A496,\"TFPTAG\"&tagflag!D496,\"\")),\"TFPSTR\"&strflag!B496,strflag!D496),IF(tagflag!B496=\"NOTAG\",rawrtf!A496,SUBSTITUTE(rawrtf!A496,\"TFPTAG\"&tagflag!D496,\"\"))),\"\")","v":""}]
[{"$f":"IF(tagflag!A497=1,IF(strflag!A497=1,SUBSTITUTE(IF(tagflag!B497=\"NOTAG\",rawrtf!A497,SUBSTITUTE(rawrtf!A497,\"TFPTAG\"&tagflag!D497,\"\")),\"TFPSTR\"&strflag!B497,strflag!D497),IF(tagflag!B497=\"NOTAG\",rawrtf!A497,SUBSTITUTE(rawrtf!A497,\"TFPTAG\"&tagflag!D497,\"\"))),\"\")","v":""}]
[{"$f":"IF(tagflag!A498=1,IF(strflag!A498=1,SUBSTITUTE(IF(tagflag!B498=\"NOTAG\",rawrtf!A498,SUBSTITUTE(rawrtf!A498,\"TFPTAG\"&tagflag!D498,\"\")),\"TFPSTR\"&strflag!B498,strflag!D498),IF(tagflag!B498=\"NOTAG\",rawrtf!A498,SUBSTITUTE(rawrtf!A498,\"TFPTAG\"&tagflag!D498,\"\"))),\"\")","v":""}]
[{"$f":"IF(tagflag!A499=1,IF(strflag!A499=1,SUBSTITUTE(IF(tagflag!B499=\"NOTAG\",rawrtf!A499,SUBSTITUTE(rawrtf!A499,\"TFPTAG\"&tagflag!D499,\"\")),\"TFPSTR\"&strflag!B499,strflag!D499),IF(tagflag!B499=\"NOTAG\",rawrtf!A499,SUBSTITUTE(rawrtf!A499,\"TFPTAG\"&tagflag!D499,\"\"))),\"\")","v":""}]
[{"$f":"IF(tagflag!A500=1,IF(strflag!A500=1,SUBSTITUTE(IF(tagflag!B500=\"NOTAG\",rawrtf!A500,SUBSTITUTE(rawrtf!A500,\"TFPTAG\"&tagflag!D500,\"\")),\"TFPSTR\"&strflag!B500,strflag!D500),IF(tagflag!B500=\"NOTAG\",rawrtf!A500,SUBSTITUTE(rawrtf!A500,\"TFPTAG\"&tagflag!D500,\"\"))),\"\")","v":""}]
[{"$f":"IF(tagflag!A501=1,IF(strflag!A501=1,SUBSTITUTE(IF(tagflag!B501=\"NOTAG\",rawrtf!A501,SUBSTITUTE(rawrtf!A501,\"TFPTAG\"&tagflag!D501,\"\")),\"TFPSTR\"&strflag!B501,strflag!D501),IF(tagflag!B501=\"NOTAG\",rawrtf!A501,SUBSTITUTE(rawrtf!A501,\"TFPTAG\"&tagflag!D501,\"\"))),\"\")","v":""}]
[{"$f":"IF(tagflag!A502=1,IF(strflag!A502=1,SUBSTITUTE(IF(tagflag!B502=\"NOTAG\",rawrtf!A502,SUBSTITUTE(rawrtf!A502,\"TFPTAG\"&tagflag!D502,\"\")),\"TFPSTR\"&strflag!B502,strflag!D502),IF(tagflag!B502=\"NOTAG\",rawrtf!A502,SUBSTITUTE(rawrtf!A502,\"TFPTAG\"&tagflag!D502,\"\"))),\"\")","v":""}]
[{"$f":"IF(tagflag!A503=1,IF(strflag!A503=1,SUBSTITUTE(IF(tagflag!B503=\"NOTAG\",rawrtf!A503,SUBSTITUTE(rawrtf!A503,\"TFPTAG\"&tagflag!D503,\"\")),\"TFPSTR\"&strflag!B503,strflag!D503),IF(tagflag!B503=\"NOTAG\",rawrtf!A503,SUBSTITUTE(rawrtf!A503,\"TFPTAG\"&tagflag!D503,\"\"))),\"\")","v":""}]
[{"$f":"IF(tagflag!A504=1,IF(strflag!A504=1,SUBSTITUTE(IF(tagflag!B504=\"NOTAG\",rawrtf!A504,SUBSTITUTE(rawrtf!A504,\"TFPTAG\"&tagflag!D504,\"\")),\"TFPSTR\"&strflag!B504,strflag!D504),IF(tagflag!B504=\"NOTAG\",rawrtf!A504,SUBSTITUTE(rawrtf!A504,\"TFPTAG\"&tagflag!D504,\"\"))),\"\")","v":""}]
[{"$f":"IF(tagflag!A505=1,IF(strflag!A505=1,SUBSTITUTE(IF(tagflag!B505=\"NOTAG\",rawrtf!A505,SUBSTITUTE(rawrtf!A505,\"TFPTAG\"&tagflag!D505,\"\")),\"TFPSTR\"&strflag!B505,strflag!D505),IF(tagflag!B505=\"NOTAG\",rawrtf!A505,SUBSTITUTE(rawrtf!A505,\"TFPTAG\"&tagflag!D505,\"\"))),\"\")","v":""}]
[{"$f":"IF(tagflag!A506=1,IF(strflag!A506=1,SUBSTITUTE(IF(tagflag!B506=\"NOTAG\",rawrtf!A506,SUBSTITUTE(rawrtf!A506,\"TFPTAG\"&tagflag!D506,\"\")),\"TFPSTR\"&strflag!B506,strflag!D506),IF(tagflag!B506=\"NOTAG\",rawrtf!A506,SUBSTITUTE(rawrtf!A506,\"TFPTAG\"&tagflag!D506,\"\"))),\"\")","v":""}]
[{"$f":"IF(tagflag!A507=1,IF(strflag!A507=1,SUBSTITUTE(IF(tagflag!B507=\"NOTAG\",rawrtf!A507,SUBSTITUTE(rawrtf!A507,\"TFPTAG\"&tagflag!D507,\"\")),\"TFPSTR\"&strflag!B507,strflag!D507),IF(tagflag!B507=\"NOTAG\",rawrtf!A507,SUBSTITUTE(rawrtf!A507,\"TFPTAG\"&tagflag!D507,\"\"))),\"\")","v":""}]
[{"$f":"IF(tagflag!A508=1,IF(strflag!A508=1,SUBSTITUTE(IF(tagflag!B508=\"NOTAG\",rawrtf!A508,SUBSTITUTE(rawrtf!A508,\"TFPTAG\"&tagflag!D508,\"\")),\"TFPSTR\"&strflag!B508,strflag!D508),IF(tagflag!B508=\"NOTAG\",rawrtf!A508,SUBSTITUTE(rawrtf!A508,\"TFPTAG\"&tagflag!D508,\"\"))),\"\")","v":""}]
[{"$f":"IF(tagflag!A509=1,IF(strflag!A509=1,SUBSTITUTE(IF(tagflag!B509=\"NOTAG\",rawrtf!A509,SUBSTITUTE(rawrtf!A509,\"TFPTAG\"&tagflag!D509,\"\")),\"TFPSTR\"&strflag!B509,strflag!D509),IF(tagflag!B509=\"NOTAG\",rawrtf!A509,SUBSTITUTE(rawrtf!A509,\"TFPTAG\"&tagflag!D509,\"\"))),\"\")","v":""}]
[{"$f":"IF(tagflag!A510=1,IF(strflag!A510=1,SUBSTITUTE(IF(tagflag!B510=\"NOTAG\",rawrtf!A510,SUBSTITUTE(rawrtf!A510,\"TFPTAG\"&tagflag!D510,\"\")),\"TFPSTR\"&strflag!B510,strflag!D510),IF(tagflag!B510=\"NOTAG\",rawrtf!A510,SUBSTITUTE(rawrtf!A510,\"TFPTAG\"&tagflag!D510,\"\"))),\"\")","v":""}]
[{"$f":"IF(tagflag!A511=1,IF(strflag!A511=1,SUBSTITUTE(IF(tagflag!B511=\"NOTAG\",rawrtf!A511,SUBSTITUTE(rawrtf!A511,\"TFPTAG\"&tagflag!D511,\"\")),\"TFPSTR\"&strflag!B511,strflag!D511),IF(tagflag!B511=\"NOTAG\",rawrtf!A511,SUBSTITUTE(rawrtf!A511,\"TFPTAG\"&tagflag!D511,\"\"))),\"\")","v":""}]
[{"$f":"IF(tagflag!A512=1,IF(strflag!A512=1,SUBSTITUTE(IF(tagflag!B512=\"NOTAG\",rawrtf!A512,SUBSTITUTE(rawrtf!A512,\"TFPTAG\"&tagflag!D512,\"\")),\"TFPSTR\"&strflag!B512,strflag!D512),IF(tagflag!B512=\"NOTAG\",rawrtf!A512,SUBSTITUTE(rawrtf!A512,\"TFPTAG\"&tagflag!D512,\"\"))),\"\")","v":""}]
[{"$f":"IF(tagflag!A513=1,IF(strflag!A513=1,SUBSTITUTE(IF(tagflag!B513=\"NOTAG\",rawrtf!A513,SUBSTITUTE(rawrtf!A513,\"TFPTAG\"&tagflag!D513,\"\")),\"TFPSTR\"&strflag!B513,strflag!D513),IF(tagflag!B513=\"NOTAG\",rawrtf!A513,SUBSTITUTE(rawrtf!A513,\"TFPTAG\"&tagflag!D513,\"\"))),\"\")","v":""}]
[{"$f":"IF(tagflag!A514=1,IF(strflag!A514=1,SUBSTITUTE(IF(tagflag!B514=\"NOTAG\",rawrtf!A514,SUBSTITUTE(rawrtf!A514,\"TFPTAG\"&tagflag!D514,\"\")),\"TFPSTR\"&strflag!B514,strflag!D514),IF(tagflag!B514=\"NOTAG\",rawrtf!A514,SUBSTITUTE(rawrtf!A514,\"TFPTAG\"&tagflag!D514,\"\"))),\"\")","v":""}]
[{"$f":"IF(tagflag!A515=1,IF(strflag!A515=1,SUBSTITUTE(IF(tagflag!B515=\"NOTAG\",rawrtf!A515,SUBSTITUTE(rawrtf!A515,\"TFPTAG\"&tagflag!D515,\"\")),\"TFPSTR\"&strflag!B515,strflag!D515),IF(tagflag!B515=\"NOTAG\",rawrtf!A515,SUBSTITUTE(rawrtf!A515,\"TFPTAG\"&tagflag!D515,\"\"))),\"\")","v":""}]
[{"$f":"IF(tagflag!A516=1,IF(strflag!A516=1,SUBSTITUTE(IF(tagflag!B516=\"NOTAG\",rawrtf!A516,SUBSTITUTE(rawrtf!A516,\"TFPTAG\"&tagflag!D516,\"\")),\"TFPSTR\"&strflag!B516,strflag!D516),IF(tagflag!B516=\"NOTAG\",rawrtf!A516,SUBSTITUTE(rawrtf!A516,\"TFPTAG\"&tagflag!D516,\"\"))),\"\")","v":""}]
[{"$f":"IF(tagflag!A517=1,IF(strflag!A517=1,SUBSTITUTE(IF(tagflag!B517=\"NOTAG\",rawrtf!A517,SUBSTITUTE(rawrtf!A517,\"TFPTAG\"&tagflag!D517,\"\")),\"TFPSTR\"&strflag!B517,strflag!D517),IF(tagflag!B517=\"NOTAG\",rawrtf!A517,SUBSTITUTE(rawrtf!A517,\"TFPTAG\"&tagflag!D517,\"\"))),\"\")","v":""}]
[{"$f":"IF(tagflag!A518=1,IF(strflag!A518=1,SUBSTITUTE(IF(tagflag!B518=\"NOTAG\",rawrtf!A518,SUBSTITUTE(rawrtf!A518,\"TFPTAG\"&tagflag!D518,\"\")),\"TFPSTR\"&strflag!B518,strflag!D518),IF(tagflag!B518=\"NOTAG\",rawrtf!A518,SUBSTITUTE(rawrtf!A518,\"TFPTAG\"&tagflag!D518,\"\"))),\"\")","v":""}]
[{"$f":"IF(tagflag!A519=1,IF(strflag!A519=1,SUBSTITUTE(IF(tagflag!B519=\"NOTAG\",rawrtf!A519,SUBSTITUTE(rawrtf!A519,\"TFPTAG\"&tagflag!D519,\"\")),\"TFPSTR\"&strflag!B519,strflag!D519),IF(tagflag!B519=\"NOTAG\",rawrtf!A519,SUBSTITUTE(rawrtf!A519,\"TFPTAG\"&tagflag!D519,\"\"))),\"\")","v":""}]
[{"$f":"IF(tagflag!A520=1,IF(strflag!A520=1,SUBSTITUTE(IF(tagflag!B520=\"NOTAG\",rawrtf!A520,SUBSTITUTE(rawrtf!A520,\"TFPTAG\"&tagflag!D520,\"\")),\"TFPSTR\"&strflag!B520,strflag!D520),IF(tagflag!B520=\"NOTAG\",rawrtf!A520,SUBSTITUTE(rawrtf!A520,\"TFPTAG\"&tagflag!D520,\"\"))),\"\")","v":""}]
[{"$f":"IF(tagflag!A521=1,IF(strflag!A521=1,SUBSTITUTE(IF(tagflag!B521=\"NOTAG\",rawrtf!A521,SUBSTITUTE(rawrtf!A521,\"TFPTAG\"&tagflag!D521,\"\")),\"TFPSTR\"&strflag!B521,strflag!D521),IF(tagflag!B521=\"NOTAG\",rawrtf!A521,SUBSTITUTE(rawrtf!A521,\"TFPTAG\"&tagflag!D521,\"\"))),\"\")","v":""}]
[{"$f":"IF(tagflag!A522=1,IF(strflag!A522=1,SUBSTITUTE(IF(tagflag!B522=\"NOTAG\",rawrtf!A522,SUBSTITUTE(rawrtf!A522,\"TFPTAG\"&tagflag!D522,\"\")),\"TFPSTR\"&strflag!B522,strflag!D522),IF(tagflag!B522=\"NOTAG\",rawrtf!A522,SUBSTITUTE(rawrtf!A522,\"TFPTAG\"&tagflag!D522,\"\"))),\"\")","v":""}]
[{"$f":"IF(tagflag!A523=1,IF(strflag!A523=1,SUBSTITUTE(IF(tagflag!B523=\"NOTAG\",rawrtf!A523,SUBSTITUTE(rawrtf!A523,\"TFPTAG\"&tagflag!D523,\"\")),\"TFPSTR\"&strflag!B523,strflag!D523),IF(tagflag!B523=\"NOTAG\",rawrtf!A523,SUBSTITUTE(rawrtf!A523,\"TFPTAG\"&tagflag!D523,\"\"))),\"\")","v":""}]
[{"$f":"IF(tagflag!A524=1,IF(strflag!A524=1,SUBSTITUTE(IF(tagflag!B524=\"NOTAG\",rawrtf!A524,SUBSTITUTE(rawrtf!A524,\"TFPTAG\"&tagflag!D524,\"\")),\"TFPSTR\"&strflag!B524,strflag!D524),IF(tagflag!B524=\"NOTAG\",rawrtf!A524,SUBSTITUTE(rawrtf!A524,\"TFPTAG\"&tagflag!D524,\"\"))),\"\")","v":""}]
[{"$f":"IF(tagflag!A525=1,IF(strflag!A525=1,SUBSTITUTE(IF(tagflag!B525=\"NOTAG\",rawrtf!A525,SUBSTITUTE(rawrtf!A525,\"TFPTAG\"&tagflag!D525,\"\")),\"TFPSTR\"&strflag!B525,strflag!D525),IF(tagflag!B525=\"NOTAG\",rawrtf!A525,SUBSTITUTE(rawrtf!A525,\"TFPTAG\"&tagflag!D525,\"\"))),\"\")","v":""}]
[{"$f":"IF(tagflag!A526=1,IF(strflag!A526=1,SUBSTITUTE(IF(tagflag!B526=\"NOTAG\",rawrtf!A526,SUBSTITUTE(rawrtf!A526,\"TFPTAG\"&tagflag!D526,\"\")),\"TFPSTR\"&strflag!B526,strflag!D526),IF(tagflag!B526=\"NOTAG\",rawrtf!A526,SUBSTITUTE(rawrtf!A526,\"TFPTAG\"&tagflag!D526,\"\"))),\"\")","v":""}]
[{"$f":"IF(tagflag!A527=1,IF(strflag!A527=1,SUBSTITUTE(IF(tagflag!B527=\"NOTAG\",rawrtf!A527,SUBSTITUTE(rawrtf!A527,\"TFPTAG\"&tagflag!D527,\"\")),\"TFPSTR\"&strflag!B527,strflag!D527),IF(tagflag!B527=\"NOTAG\",rawrtf!A527,SUBSTITUTE(rawrtf!A527,\"TFPTAG\"&tagflag!D527,\"\"))),\"\")","v":""}]
[{"$f":"IF(tagflag!A528=1,IF(strflag!A528=1,SUBSTITUTE(IF(tagflag!B528=\"NOTAG\",rawrtf!A528,SUBSTITUTE(rawrtf!A528,\"TFPTAG\"&tagflag!D528,\"\")),\"TFPSTR\"&strflag!B528,strflag!D528),IF(tagflag!B528=\"NOTAG\",rawrtf!A528,SUBSTITUTE(rawrtf!A528,\"TFPTAG\"&tagflag!D528,\"\"))),\"\")","v":""}]
[{"$f":"IF(tagflag!A529=1,IF(strflag!A529=1,SUBSTITUTE(IF(tagflag!B529=\"NOTAG\",rawrtf!A529,SUBSTITUTE(rawrtf!A529,\"TFPTAG\"&tagflag!D529,\"\")),\"TFPSTR\"&strflag!B529,strflag!D529),IF(tagflag!B529=\"NOTAG\",rawrtf!A529,SUBSTITUTE(rawrtf!A529,\"TFPTAG\"&tagflag!D529,\"\"))),\"\")","v":""}]
[{"$f":"IF(tagflag!A530=1,IF(strflag!A530=1,SUBSTITUTE(IF(tagflag!B530=\"NOTAG\",rawrtf!A530,SUBSTITUTE(rawrtf!A530,\"TFPTAG\"&tagflag!D530,\"\")),\"TFPSTR\"&strflag!B530,strflag!D530),IF(tagflag!B530=\"NOTAG\",rawrtf!A530,SUBSTITUTE(rawrtf!A530,\"TFPTAG\"&tagflag!D530,\"\"))),\"\")","v":""}]
[{"$f":"IF(tagflag!A531=1,IF(strflag!A531=1,SUBSTITUTE(IF(tagflag!B531=\"NOTAG\",rawrtf!A531,SUBSTITUTE(rawrtf!A531,\"TFPTAG\"&tagflag!D531,\"\")),\"TFPSTR\"&strflag!B531,strflag!D531),IF(tagflag!B531=\"NOTAG\",rawrtf!A531,SUBSTITUTE(rawrtf!A531,\"TFPTAG\"&tagflag!D531,\"\"))),\"\")","v":""}]
[{"$f":"IF(tagflag!A532=1,IF(strflag!A532=1,SUBSTITUTE(IF(tagflag!B532=\"NOTAG\",rawrtf!A532,SUBSTITUTE(rawrtf!A532,\"TFPTAG\"&tagflag!D532,\"\")),\"TFPSTR\"&strflag!B532,strflag!D532),IF(tagflag!B532=\"NOTAG\",rawrtf!A532,SUBSTITUTE(rawrtf!A532,\"TFPTAG\"&tagflag!D532,\"\"))),\"\")","v":""}]
[{"$f":"IF(tagflag!A533=1,IF(strflag!A533=1,SUBSTITUTE(IF(tagflag!B533=\"NOTAG\",rawrtf!A533,SUBSTITUTE(rawrtf!A533,\"TFPTAG\"&tagflag!D533,\"\")),\"TFPSTR\"&strflag!B533,strflag!D533),IF(tagflag!B533=\"NOTAG\",rawrtf!A533,SUBSTITUTE(rawrtf!A533,\"TFPTAG\"&tagflag!D533,\"\"))),\"\")","v":""}]
[{"$f":"IF(tagflag!A534=1,IF(strflag!A534=1,SUBSTITUTE(IF(tagflag!B534=\"NOTAG\",rawrtf!A534,SUBSTITUTE(rawrtf!A534,\"TFPTAG\"&tagflag!D534,\"\")),\"TFPSTR\"&strflag!B534,strflag!D534),IF(tagflag!B534=\"NOTAG\",rawrtf!A534,SUBSTITUTE(rawrtf!A534,\"TFPTAG\"&tagflag!D534,\"\"))),\"\")","v":""}]
[{"$f":"IF(tagflag!A535=1,IF(strflag!A535=1,SUBSTITUTE(IF(tagflag!B535=\"NOTAG\",rawrtf!A535,SUBSTITUTE(rawrtf!A535,\"TFPTAG\"&tagflag!D535,\"\")),\"TFPSTR\"&strflag!B535,strflag!D535),IF(tagflag!B535=\"NOTAG\",rawrtf!A535,SUBSTITUTE(rawrtf!A535,\"TFPTAG\"&tagflag!D535,\"\"))),\"\")","v":""}]
[{"$f":"IF(tagflag!A536=1,IF(strflag!A536=1,SUBSTITUTE(IF(tagflag!B536=\"NOTAG\",rawrtf!A536,SUBSTITUTE(rawrtf!A536,\"TFPTAG\"&tagflag!D536,\"\")),\"TFPSTR\"&strflag!B536,strflag!D536),IF(tagflag!B536=\"NOTAG\",rawrtf!A536,SUBSTITUTE(rawrtf!A536,\"TFPTAG\"&tagflag!D536,\"\"))),\"\")","v":""}]
[{"$f":"IF(tagflag!A537=1,IF(strflag!A537=1,SUBSTITUTE(IF(tagflag!B537=\"NOTAG\",rawrtf!A537,SUBSTITUTE(rawrtf!A537,\"TFPTAG\"&tagflag!D537,\"\")),\"TFPSTR\"&strflag!B537,strflag!D537),IF(tagflag!B537=\"NOTAG\",rawrtf!A537,SUBSTITUTE(rawrtf!A537,\"TFPTAG\"&tagflag!D537,\"\"))),\"\")","v":""}]
[{"$f":"IF(tagflag!A538=1,IF(strflag!A538=1,SUBSTITUTE(IF(tagflag!B538=\"NOTAG\",rawrtf!A538,SUBSTITUTE(rawrtf!A538,\"TFPTAG\"&tagflag!D538,\"\")),\"TFPSTR\"&strflag!B538,strflag!D538),IF(tagflag!B538=\"NOTAG\",rawrtf!A538,SUBSTITUTE(rawrtf!A538,\"TFPTAG\"&tagflag!D538,\"\"))),\"\")","v":""}]
[{"$f":"IF(tagflag!A539=1,IF(strflag!A539=1,SUBSTITUTE(IF(tagflag!B539=\"NOTAG\",rawrtf!A539,SUBSTITUTE(rawrtf!A539,\"TFPTAG\"&tagflag!D539,\"\")),\"TFPSTR\"&strflag!B539,strflag!D539),IF(tagflag!B539=\"NOTAG\",rawrtf!A539,SUBSTITUTE(rawrtf!A539,\"TFPTAG\"&tagflag!D539,\"\"))),\"\")","v":""}]
[{"$f":"IF(tagflag!A540=1,IF(strflag!A540=1,SUBSTITUTE(IF(tagflag!B540=\"NOTAG\",rawrtf!A540,SUBSTITUTE(rawrtf!A540,\"TFPTAG\"&tagflag!D540,\"\")),\"TFPSTR\"&strflag!B540,strflag!D540),IF(tagflag!B540=\"NOTAG\",rawrtf!A540,SUBSTITUTE(rawrtf!A540,\"TFPTAG\"&tagflag!D540,\"\"))),\"\")","v":""}]
[{"$f":"IF(tagflag!A541=1,IF(strflag!A541=1,SUBSTITUTE(IF(tagflag!B541=\"NOTAG\",rawrtf!A541,SUBSTITUTE(rawrtf!A541,\"TFPTAG\"&tagflag!D541,\"\")),\"TFPSTR\"&strflag!B541,strflag!D541),IF(tagflag!B541=\"NOTAG\",rawrtf!A541,SUBSTITUTE(rawrtf!A541,\"TFPTAG\"&tagflag!D541,\"\"))),\"\")","v":""}]
[{"$f":"IF(tagflag!A542=1,IF(strflag!A542=1,SUBSTITUTE(IF(tagflag!B542=\"NOTAG\",rawrtf!A542,SUBSTITUTE(rawrtf!A542,\"TFPTAG\"&tagflag!D542,\"\")),\"TFPSTR\"&strflag!B542,strflag!D542),IF(tagflag!B542=\"NOTAG\",rawrtf!A542,SUBSTITUTE(rawrtf!A542,\"TFPTAG\"&tagflag!D542,\"\"))),\"\")","v":""}]
[{"$f":"IF(tagflag!A543=1,IF(strflag!A543=1,SUBSTITUTE(IF(tagflag!B543=\"NOTAG\",rawrtf!A543,SUBSTITUTE(rawrtf!A543,\"TFPTAG\"&tagflag!D543,\"\")),\"TFPSTR\"&strflag!B543,strflag!D543),IF(tagflag!B543=\"NOTAG\",rawrtf!A543,SUBSTITUTE(rawrtf!A543,\"TFPTAG\"&tagflag!D543,\"\"))),\"\")","v":""}]
[{"$f":"IF(tagflag!A544=1,IF(strflag!A544=1,SUBSTITUTE(IF(tagflag!B544=\"NOTAG\",rawrtf!A544,SUBSTITUTE(rawrtf!A544,\"TFPTAG\"&tagflag!D544,\"\")),\"TFPSTR\"&strflag!B544,strflag!D544),IF(tagflag!B544=\"NOTAG\",rawrtf!A544,SUBSTITUTE(rawrtf!A544,\"TFPTAG\"&tagflag!D544,\"\"))),\"\")","v":""}]
[{"$f":"IF(tagflag!A545=1,IF(strflag!A545=1,SUBSTITUTE(IF(tagflag!B545=\"NOTAG\",rawrtf!A545,SUBSTITUTE(rawrtf!A545,\"TFPTAG\"&tagflag!D545,\"\")),\"TFPSTR\"&strflag!B545,strflag!D545),IF(tagflag!B545=\"NOTAG\",rawrtf!A545,SUBSTITUTE(rawrtf!A545,\"TFPTAG\"&tagflag!D545,\"\"))),\"\")","v":""}]
[{"$f":"IF(tagflag!A546=1,IF(strflag!A546=1,SUBSTITUTE(IF(tagflag!B546=\"NOTAG\",rawrtf!A546,SUBSTITUTE(rawrtf!A546,\"TFPTAG\"&tagflag!D546,\"\")),\"TFPSTR\"&strflag!B546,strflag!D546),IF(tagflag!B546=\"NOTAG\",rawrtf!A546,SUBSTITUTE(rawrtf!A546,\"TFPTAG\"&tagflag!D546,\"\"))),\"\")","v":""}]
[{"$f":"IF(tagflag!A547=1,IF(strflag!A547=1,SUBSTITUTE(IF(tagflag!B547=\"NOTAG\",rawrtf!A547,SUBSTITUTE(rawrtf!A547,\"TFPTAG\"&tagflag!D547,\"\")),\"TFPSTR\"&strflag!B547,strflag!D547),IF(tagflag!B547=\"NOTAG\",rawrtf!A547,SUBSTITUTE(rawrtf!A547,\"TFPTAG\"&tagflag!D547,\"\"))),\"\")","v":""}]
[{"$f":"IF(tagflag!A548=1,IF(strflag!A548=1,SUBSTITUTE(IF(tagflag!B548=\"NOTAG\",rawrtf!A548,SUBSTITUTE(rawrtf!A548,\"TFPTAG\"&tagflag!D548,\"\")),\"TFPSTR\"&strflag!B548,strflag!D548),IF(tagflag!B548=\"NOTAG\",rawrtf!A548,SUBSTITUTE(rawrtf!A548,\"TFPTAG\"&tagflag!D548,\"\"))),\"\")","v":""}]
[{"$f":"IF(tagflag!A549=1,IF(strflag!A549=1,SUBSTITUTE(IF(tagflag!B549=\"NOTAG\",rawrtf!A549,SUBSTITUTE(rawrtf!A549,\"TFPTAG\"&tagflag!D549,\"\")),\"TFPSTR\"&strflag!B549,strflag!D549),IF(tagflag!B549=\"NOTAG\",rawrtf!A549,SUBSTITUTE(rawrtf!A549,\"TFPTAG\"&tagflag!D549,\"\"))),\"\")","v":""}]
[{"$f":"IF(tagflag!A550=1,IF(strflag!A550=1,SUBSTITUTE(IF(tagflag!B550=\"NOTAG\",rawrtf!A550,SUBSTITUTE(rawrtf!A550,\"TFPTAG\"&tagflag!D550,\"\")),\"TFPSTR\"&strflag!B550,strflag!D550),IF(tagflag!B550=\"NOTAG\",rawrtf!A550,SUBSTITUTE(rawrtf!A550,\"TFPTAG\"&tagflag!D550,\"\"))),\"\")","v":""}]
[{"$f":"IF(tagflag!A551=1,IF(strflag!A551=1,SUBSTITUTE(IF(tagflag!B551=\"NOTAG\",rawrtf!A551,SUBSTITUTE(rawrtf!A551,\"TFPTAG\"&tagflag!D551,\"\")),\"TFPSTR\"&strflag!B551,strflag!D551),IF(tagflag!B551=\"NOTAG\",rawrtf!A551,SUBSTITUTE(rawrtf!A551,\"TFPTAG\"&tagflag!D551,\"\"))),\"\")","v":""}]
[{"$f":"IF(tagflag!A552=1,IF(strflag!A552=1,SUBSTITUTE(IF(tagflag!B552=\"NOTAG\",rawrtf!A552,SUBSTITUTE(rawrtf!A552,\"TFPTAG\"&tagflag!D552,\"\")),\"TFPSTR\"&strflag!B552,strflag!D552),IF(tagflag!B552=\"NOTAG\",rawrtf!A552,SUBSTITUTE(rawrtf!A552,\"TFPTAG\"&tagflag!D552,\"\"))),\"\")","v":""}]
[{"$f":"IF(tagflag!A553=1,IF(strflag!A553=1,SUBSTITUTE(IF(tagflag!B553=\"NOTAG\",rawrtf!A553,SUBSTITUTE(rawrtf!A553,\"TFPTAG\"&tagflag!D553,\"\")),\"TFPSTR\"&strflag!B553,strflag!D553),IF(tagflag!B553=\"NOTAG\",rawrtf!A553,SUBSTITUTE(rawrtf!A553,\"TFPTAG\"&tagflag!D553,\"\"))),\"\")","v":""}]
[{"$f":"IF(tagflag!A554=1,IF(strflag!A554=1,SUBSTITUTE(IF(tagflag!B554=\"NOTAG\",rawrtf!A554,SUBSTITUTE(rawrtf!A554,\"TFPTAG\"&tagflag!D554,\"\")),\"TFPSTR\"&strflag!B554,strflag!D554),IF(tagflag!B554=\"NOTAG\",rawrtf!A554,SUBSTITUTE(rawrtf!A554,\"TFPTAG\"&tagflag!D554,\"\"))),\"\")","v":""}]
[{"$f":"IF(tagflag!A555=1,IF(strflag!A555=1,SUBSTITUTE(IF(tagflag!B555=\"NOTAG\",rawrtf!A555,SUBSTITUTE(rawrtf!A555,\"TFPTAG\"&tagflag!D555,\"\")),\"TFPSTR\"&strflag!B555,strflag!D555),IF(tagflag!B555=\"NOTAG\",rawrtf!A555,SUBSTITUTE(rawrtf!A555,\"TFPTAG\"&tagflag!D555,\"\"))),\"\")","v":""}]
[{"$f":"IF(tagflag!A556=1,IF(strflag!A556=1,SUBSTITUTE(IF(tagflag!B556=\"NOTAG\",rawrtf!A556,SUBSTITUTE(rawrtf!A556,\"TFPTAG\"&tagflag!D556,\"\")),\"TFPSTR\"&strflag!B556,strflag!D556),IF(tagflag!B556=\"NOTAG\",rawrtf!A556,SUBSTITUTE(rawrtf!A556,\"TFPTAG\"&tagflag!D556,\"\"))),\"\")","v":""}]
[{"$f":"IF(tagflag!A557=1,IF(strflag!A557=1,SUBSTITUTE(IF(tagflag!B557=\"NOTAG\",rawrtf!A557,SUBSTITUTE(rawrtf!A557,\"TFPTAG\"&tagflag!D557,\"\")),\"TFPSTR\"&strflag!B557,strflag!D557),IF(tagflag!B557=\"NOTAG\",rawrtf!A557,SUBSTITUTE(rawrtf!A557,\"TFPTAG\"&tagflag!D557,\"\"))),\"\")","v":""}]
[{"$f":"IF(tagflag!A558=1,IF(strflag!A558=1,SUBSTITUTE(IF(tagflag!B558=\"NOTAG\",rawrtf!A558,SUBSTITUTE(rawrtf!A558,\"TFPTAG\"&tagflag!D558,\"\")),\"TFPSTR\"&strflag!B558,strflag!D558),IF(tagflag!B558=\"NOTAG\",rawrtf!A558,SUBSTITUTE(rawrtf!A558,\"TFPTAG\"&tagflag!D558,\"\"))),\"\")","v":""}]
[{"$f":"IF(tagflag!A559=1,IF(strflag!A559=1,SUBSTITUTE(IF(tagflag!B559=\"NOTAG\",rawrtf!A559,SUBSTITUTE(rawrtf!A559,\"TFPTAG\"&tagflag!D559,\"\")),\"TFPSTR\"&strflag!B559,strflag!D559),IF(tagflag!B559=\"NOTAG\",rawrtf!A559,SUBSTITUTE(rawrtf!A559,\"TFPTAG\"&tagflag!D559,\"\"))),\"\")","v":""}]
[{"$f":"IF(tagflag!A560=1,IF(strflag!A560=1,SUBSTITUTE(IF(tagflag!B560=\"NOTAG\",rawrtf!A560,SUBSTITUTE(rawrtf!A560,\"TFPTAG\"&tagflag!D560,\"\")),\"TFPSTR\"&strflag!B560,strflag!D560),IF(tagflag!B560=\"NOTAG\",rawrtf!A560,SUBSTITUTE(rawrtf!A560,\"TFPTAG\"&tagflag!D560,\"\"))),\"\")","v":""}]
[{"$f":"IF(tagflag!A561=1,IF(strflag!A561=1,SUBSTITUTE(IF(tagflag!B561=\"NOTAG\",rawrtf!A561,SUBSTITUTE(rawrtf!A561,\"TFPTAG\"&tagflag!D561,\"\")),\"TFPSTR\"&strflag!B561,strflag!D561),IF(tagflag!B561=\"NOTAG\",rawrtf!A561,SUBSTITUTE(rawrtf!A561,\"TFPTAG\"&tagflag!D561,\"\"))),\"\")","v":""}]
[{"$f":"IF(tagflag!A562=1,IF(strflag!A562=1,SUBSTITUTE(IF(tagflag!B562=\"NOTAG\",rawrtf!A562,SUBSTITUTE(rawrtf!A562,\"TFPTAG\"&tagflag!D562,\"\")),\"TFPSTR\"&strflag!B562,strflag!D562),IF(tagflag!B562=\"NOTAG\",rawrtf!A562,SUBSTITUTE(rawrtf!A562,\"TFPTAG\"&tagflag!D562,\"\"))),\"\")","v":""}]
[{"$f":"IF(tagflag!A563=1,IF(strflag!A563=1,SUBSTITUTE(IF(tagflag!B563=\"NOTAG\",rawrtf!A563,SUBSTITUTE(rawrtf!A563,\"TFPTAG\"&tagflag!D563,\"\")),\"TFPSTR\"&strflag!B563,strflag!D563),IF(tagflag!B563=\"NOTAG\",rawrtf!A563,SUBSTITUTE(rawrtf!A563,\"TFPTAG\"&tagflag!D563,\"\"))),\"\")","v":""}]
[{"$f":"IF(tagflag!A564=1,IF(strflag!A564=1,SUBSTITUTE(IF(tagflag!B564=\"NOTAG\",rawrtf!A564,SUBSTITUTE(rawrtf!A564,\"TFPTAG\"&tagflag!D564,\"\")),\"TFPSTR\"&strflag!B564,strflag!D564),IF(tagflag!B564=\"NOTAG\",rawrtf!A564,SUBSTITUTE(rawrtf!A564,\"TFPTAG\"&tagflag!D564,\"\"))),\"\")","v":""}]
[{"$f":"IF(tagflag!A565=1,IF(strflag!A565=1,SUBSTITUTE(IF(tagflag!B565=\"NOTAG\",rawrtf!A565,SUBSTITUTE(rawrtf!A565,\"TFPTAG\"&tagflag!D565,\"\")),\"TFPSTR\"&strflag!B565,strflag!D565),IF(tagflag!B565=\"NOTAG\",rawrtf!A565,SUBSTITUTE(rawrtf!A565,\"TFPTAG\"&tagflag!D565,\"\"))),\"\")","v":""}]
[{"$f":"IF(tagflag!A566=1,IF(strflag!A566=1,SUBSTITUTE(IF(tagflag!B566=\"NOTAG\",rawrtf!A566,SUBSTITUTE(rawrtf!A566,\"TFPTAG\"&tagflag!D566,\"\")),\"TFPSTR\"&strflag!B566,strflag!D566),IF(tagflag!B566=\"NOTAG\",rawrtf!A566,SUBSTITUTE(rawrtf!A566,\"TFPTAG\"&tagflag!D566,\"\"))),\"\")","v":""}]
[{"$f":"IF(tagflag!A567=1,IF(strflag!A567=1,SUBSTITUTE(IF(tagflag!B567=\"NOTAG\",rawrtf!A567,SUBSTITUTE(rawrtf!A567,\"TFPTAG\"&tagflag!D567,\"\")),\"TFPSTR\"&strflag!B567,strflag!D567),IF(tagflag!B567=\"NOTAG\",rawrtf!A567,SUBSTITUTE(rawrtf!A567,\"TFPTAG\"&tagflag!D567,\"\"))),\"\")","v":""}]
[{"$f":"IF(tagflag!A568=1,IF(strflag!A568=1,SUBSTITUTE(IF(tagflag!B568=\"NOTAG\",rawrtf!A568,SUBSTITUTE(rawrtf!A568,\"TFPTAG\"&tagflag!D568,\"\")),\"TFPSTR\"&strflag!B568,strflag!D568),IF(tagflag!B568=\"NOTAG\",rawrtf!A568,SUBSTITUTE(rawrtf!A568,\"TFPTAG\"&tagflag!D568,\"\"))),\"\")","v":""}]
[{"$f":"IF(tagflag!A569=1,IF(strflag!A569=1,SUBSTITUTE(IF(tagflag!B569=\"NOTAG\",rawrtf!A569,SUBSTITUTE(rawrtf!A569,\"TFPTAG\"&tagflag!D569,\"\")),\"TFPSTR\"&strflag!B569,strflag!D569),IF(tagflag!B569=\"NOTAG\",rawrtf!A569,SUBSTITUTE(rawrtf!A569,\"TFPTAG\"&tagflag!D569,\"\"))),\"\")","v":""}]
[{"$f":"IF(tagflag!A570=1,IF(strflag!A570=1,SUBSTITUTE(IF(tagflag!B570=\"NOTAG\",rawrtf!A570,SUBSTITUTE(rawrtf!A570,\"TFPTAG\"&tagflag!D570,\"\")),\"TFPSTR\"&strflag!B570,strflag!D570),IF(tagflag!B570=\"NOTAG\",rawrtf!A570,SUBSTITUTE(rawrtf!A570,\"TFPTAG\"&tagflag!D570,\"\"))),\"\")","v":""}]
[{"$f":"IF(tagflag!A571=1,IF(strflag!A571=1,SUBSTITUTE(IF(tagflag!B571=\"NOTAG\",rawrtf!A571,SUBSTITUTE(rawrtf!A571,\"TFPTAG\"&tagflag!D571,\"\")),\"TFPSTR\"&strflag!B571,strflag!D571),IF(tagflag!B571=\"NOTAG\",rawrtf!A571,SUBSTITUTE(rawrtf!A571,\"TFPTAG\"&tagflag!D571,\"\"))),\"\")","v":""}]
[{"$f":"IF(tagflag!A572=1,IF(strflag!A572=1,SUBSTITUTE(IF(tagflag!B572=\"NOTAG\",rawrtf!A572,SUBSTITUTE(rawrtf!A572,\"TFPTAG\"&tagflag!D572,\"\")),\"TFPSTR\"&strflag!B572,strflag!D572),IF(tagflag!B572=\"NOTAG\",rawrtf!A572,SUBSTITUTE(rawrtf!A572,\"TFPTAG\"&tagflag!D572,\"\"))),\"\")","v":""}]
[{"$f":"IF(tagflag!A573=1,IF(strflag!A573=1,SUBSTITUTE(IF(tagflag!B573=\"NOTAG\",rawrtf!A573,SUBSTITUTE(rawrtf!A573,\"TFPTAG\"&tagflag!D573,\"\")),\"TFPSTR\"&strflag!B573,strflag!D573),IF(tagflag!B573=\"NOTAG\",rawrtf!A573,SUBSTITUTE(rawrtf!A573,\"TFPTAG\"&tagflag!D573,\"\"))),\"\")","v":""}]
[{"$f":"IF(tagflag!A574=1,IF(strflag!A574=1,SUBSTITUTE(IF(tagflag!B574=\"NOTAG\",rawrtf!A574,SUBSTITUTE(rawrtf!A574,\"TFPTAG\"&tagflag!D574,\"\")),\"TFPSTR\"&strflag!B574,strflag!D574),IF(tagflag!B574=\"NOTAG\",rawrtf!A574,SUBSTITUTE(rawrtf!A574,\"TFPTAG\"&tagflag!D574,\"\"))),\"\")","v":""}]
[{"$f":"IF(tagflag!A575=1,IF(strflag!A575=1,SUBSTITUTE(IF(tagflag!B575=\"NOTAG\",rawrtf!A575,SUBSTITUTE(rawrtf!A575,\"TFPTAG\"&tagflag!D575,\"\")),\"TFPSTR\"&strflag!B575,strflag!D575),IF(tagflag!B575=\"NOTAG\",rawrtf!A575,SUBSTITUTE(rawrtf!A575,\"TFPTAG\"&tagflag!D575,\"\"))),\"\")","v":""}]
[{"$f":"IF(tagflag!A576=1,IF(strflag!A576=1,SUBSTITUTE(IF(tagflag!B576=\"NOTAG\",rawrtf!A576,SUBSTITUTE(rawrtf!A576,\"TFPTAG\"&tagflag!D576,\"\")),\"TFPSTR\"&strflag!B576,strflag!D576),IF(tagflag!B576=\"NOTAG\",rawrtf!A576,SUBSTITUTE(rawrtf!A576,\"TFPTAG\"&tagflag!D576,\"\"))),\"\")","v":""}]
[{"$f":"IF(tagflag!A577=1,IF(strflag!A577=1,SUBSTITUTE(IF(tagflag!B577=\"NOTAG\",rawrtf!A577,SUBSTITUTE(rawrtf!A577,\"TFPTAG\"&tagflag!D577,\"\")),\"TFPSTR\"&strflag!B577,strflag!D577),IF(tagflag!B577=\"NOTAG\",rawrtf!A577,SUBSTITUTE(rawrtf!A577,\"TFPTAG\"&tagflag!D577,\"\"))),\"\")","v":""}]
[{"$f":"IF(tagflag!A578=1,IF(strflag!A578=1,SUBSTITUTE(IF(tagflag!B578=\"NOTAG\",rawrtf!A578,SUBSTITUTE(rawrtf!A578,\"TFPTAG\"&tagflag!D578,\"\")),\"TFPSTR\"&strflag!B578,strflag!D578),IF(tagflag!B578=\"NOTAG\",rawrtf!A578,SUBSTITUTE(rawrtf!A578,\"TFPTAG\"&tagflag!D578,\"\"))),\"\")","v":""}]
[{"$f":"IF(tagflag!A579=1,IF(strflag!A579=1,SUBSTITUTE(IF(tagflag!B579=\"NOTAG\",rawrtf!A579,SUBSTITUTE(rawrtf!A579,\"TFPTAG\"&tagflag!D579,\"\")),\"TFPSTR\"&strflag!B579,strflag!D579),IF(tagflag!B579=\"NOTAG\",rawrtf!A579,SUBSTITUTE(rawrtf!A579,\"TFPTAG\"&tagflag!D579,\"\"))),\"\")","v":""}]
[{"$f":"IF(tagflag!A580=1,IF(strflag!A580=1,SUBSTITUTE(IF(tagflag!B580=\"NOTAG\",rawrtf!A580,SUBSTITUTE(rawrtf!A580,\"TFPTAG\"&tagflag!D580,\"\")),\"TFPSTR\"&strflag!B580,strflag!D580),IF(tagflag!B580=\"NOTAG\",rawrtf!A580,SUBSTITUTE(rawrtf!A580,\"TFPTAG\"&tagflag!D580,\"\"))),\"\")","v":""}]
[{"$f":"IF(tagflag!A581=1,IF(strflag!A581=1,SUBSTITUTE(IF(tagflag!B581=\"NOTAG\",rawrtf!A581,SUBSTITUTE(rawrtf!A581,\"TFPTAG\"&tagflag!D581,\"\")),\"TFPSTR\"&strflag!B581,strflag!D581),IF(tagflag!B581=\"NOTAG\",rawrtf!A581,SUBSTITUTE(rawrtf!A581,\"TFPTAG\"&tagflag!D581,\"\"))),\"\")","v":""}]
[{"$f":"IF(tagflag!A582=1,IF(strflag!A582=1,SUBSTITUTE(IF(tagflag!B582=\"NOTAG\",rawrtf!A582,SUBSTITUTE(rawrtf!A582,\"TFPTAG\"&tagflag!D582,\"\")),\"TFPSTR\"&strflag!B582,strflag!D582),IF(tagflag!B582=\"NOTAG\",rawrtf!A582,SUBSTITUTE(rawrtf!A582,\"TFPTAG\"&tagflag!D582,\"\"))),\"\")","v":""}]
[{"$f":"IF(tagflag!A583=1,IF(strflag!A583=1,SUBSTITUTE(IF(tagflag!B583=\"NOTAG\",rawrtf!A583,SUBSTITUTE(rawrtf!A583,\"TFPTAG\"&tagflag!D583,\"\")),\"TFPSTR\"&strflag!B583,strflag!D583),IF(tagflag!B583=\"NOTAG\",rawrtf!A583,SUBSTITUTE(rawrtf!A583,\"TFPTAG\"&tagflag!D583,\"\"))),\"\")","v":""}]
[{"$f":"IF(tagflag!A584=1,IF(strflag!A584=1,SUBSTITUTE(IF(tagflag!B584=\"NOTAG\",rawrtf!A584,SUBSTITUTE(rawrtf!A584,\"TFPTAG\"&tagflag!D584,\"\")),\"TFPSTR\"&strflag!B584,strflag!D584),IF(tagflag!B584=\"NOTAG\",rawrtf!A584,SUBSTITUTE(rawrtf!A584,\"TFPTAG\"&tagflag!D584,\"\"))),\"\")","v":""}]
[{"$f":"IF(tagflag!A585=1,IF(strflag!A585=1,SUBSTITUTE(IF(tagflag!B585=\"NOTAG\",rawrtf!A585,SUBSTITUTE(rawrtf!A585,\"TFPTAG\"&tagflag!D585,\"\")),\"TFPSTR\"&strflag!B585,strflag!D585),IF(tagflag!B585=\"NOTAG\",rawrtf!A585,SUBSTITUTE(rawrtf!A585,\"TFPTAG\"&tagflag!D585,\"\"))),\"\")","v":""}]
[{"$f":"IF(tagflag!A586=1,IF(strflag!A586=1,SUBSTITUTE(IF(tagflag!B586=\"NOTAG\",rawrtf!A586,SUBSTITUTE(rawrtf!A586,\"TFPTAG\"&tagflag!D586,\"\")),\"TFPSTR\"&strflag!B586,strflag!D586),IF(tagflag!B586=\"NOTAG\",rawrtf!A586,SUBSTITUTE(rawrtf!A586,\"TFPTAG\"&tagflag!D586,\"\"))),\"\")","v":""}]
[{"$f":"IF(tagflag!A587=1,IF(strflag!A587=1,SUBSTITUTE(IF(tagflag!B587=\"NOTAG\",rawrtf!A587,SUBSTITUTE(rawrtf!A587,\"TFPTAG\"&tagflag!D587,\"\")),\"TFPSTR\"&strflag!B587,strflag!D587),IF(tagflag!B587=\"NOTAG\",rawrtf!A587,SUBSTITUTE(rawrtf!A587,\"TFPTAG\"&tagflag!D587,\"\"))),\"\")","v":""}]
[{"$f":"IF(tagflag!A588=1,IF(strflag!A588=1,SUBSTITUTE(IF(tagflag!B588=\"NOTAG\",rawrtf!A588,SUBSTITUTE(rawrtf!A588,\"TFPTAG\"&tagflag!D588,\"\")),\"TFPSTR\"&strflag!B588,strflag!D588),IF(tagflag!B588=\"NOTAG\",rawrtf!A588,SUBSTITUTE(rawrtf!A588,\"TFPTAG\"&tagflag!D588,\"\"))),\"\")","v":""}]
[{"$f":"IF(tagflag!A589=1,IF(strflag!A589=1,SUBSTITUTE(IF(tagflag!B589=\"NOTAG\",rawrtf!A589,SUBSTITUTE(rawrtf!A589,\"TFPTAG\"&tagflag!D589,\"\")),\"TFPSTR\"&strflag!B589,strflag!D589),IF(tagflag!B589=\"NOTAG\",rawrtf!A589,SUBSTITUTE(rawrtf!A589,\"TFPTAG\"&tagflag!D589,\"\"))),\"\")","v":""}]
[{"$f":"IF(tagflag!A590=1,IF(strflag!A590=1,SUBSTITUTE(IF(tagflag!B590=\"NOTAG\",rawrtf!A590,SUBSTITUTE(rawrtf!A590,\"TFPTAG\"&tagflag!D590,\"\")),\"TFPSTR\"&strflag!B590,strflag!D590),IF(tagflag!B590=\"NOTAG\",rawrtf!A590,SUBSTITUTE(rawrtf!A590,\"TFPTAG\"&tagflag!D590,\"\"))),\"\")","v":""}]
[{"$f":"IF(tagflag!A591=1,IF(strflag!A591=1,SUBSTITUTE(IF(tagflag!B591=\"NOTAG\",rawrtf!A591,SUBSTITUTE(rawrtf!A591,\"TFPTAG\"&tagflag!D591,\"\")),\"TFPSTR\"&strflag!B591,strflag!D591),IF(tagflag!B591=\"NOTAG\",rawrtf!A591,SUBSTITUTE(rawrtf!A591,\"TFPTAG\"&tagflag!D591,\"\"))),\"\")","v":""}]
[{"$f":"IF(tagflag!A592=1,IF(strflag!A592=1,SUBSTITUTE(IF(tagflag!B592=\"NOTAG\",rawrtf!A592,SUBSTITUTE(rawrtf!A592,\"TFPTAG\"&tagflag!D592,\"\")),\"TFPSTR\"&strflag!B592,strflag!D592),IF(tagflag!B592=\"NOTAG\",rawrtf!A592,SUBSTITUTE(rawrtf!A592,\"TFPTAG\"&tagflag!D592,\"\"))),\"\")","v":""}]
[{"$f":"IF(tagflag!A593=1,IF(strflag!A593=1,SUBSTITUTE(IF(tagflag!B593=\"NOTAG\",rawrtf!A593,SUBSTITUTE(rawrtf!A593,\"TFPTAG\"&tagflag!D593,\"\")),\"TFPSTR\"&strflag!B593,strflag!D593),IF(tagflag!B593=\"NOTAG\",rawrtf!A593,SUBSTITUTE(rawrtf!A593,\"TFPTAG\"&tagflag!D593,\"\"))),\"\")","v":""}]
[{"$f":"IF(tagflag!A594=1,IF(strflag!A594=1,SUBSTITUTE(IF(tagflag!B594=\"NOTAG\",rawrtf!A594,SUBSTITUTE(rawrtf!A594,\"TFPTAG\"&tagflag!D594,\"\")),\"TFPSTR\"&strflag!B594,strflag!D594),IF(tagflag!B594=\"NOTAG\",rawrtf!A594,SUBSTITUTE(rawrtf!A594,\"TFPTAG\"&tagflag!D594,\"\"))),\"\")","v":""}]
[{"$f":"IF(tagflag!A595=1,IF(strflag!A595=1,SUBSTITUTE(IF(tagflag!B595=\"NOTAG\",rawrtf!A595,SUBSTITUTE(rawrtf!A595,\"TFPTAG\"&tagflag!D595,\"\")),\"TFPSTR\"&strflag!B595,strflag!D595),IF(tagflag!B595=\"NOTAG\",rawrtf!A595,SUBSTITUTE(rawrtf!A595,\"TFPTAG\"&tagflag!D595,\"\"))),\"\")","v":""}]
[{"$f":"IF(tagflag!A596=1,IF(strflag!A596=1,SUBSTITUTE(IF(tagflag!B596=\"NOTAG\",rawrtf!A596,SUBSTITUTE(rawrtf!A596,\"TFPTAG\"&tagflag!D596,\"\")),\"TFPSTR\"&strflag!B596,strflag!D596),IF(tagflag!B596=\"NOTAG\",rawrtf!A596,SUBSTITUTE(rawrtf!A596,\"TFPTAG\"&tagflag!D596,\"\"))),\"\")","v":""}]
[{"$f":"IF(tagflag!A597=1,IF(strflag!A597=1,SUBSTITUTE(IF(tagflag!B597=\"NOTAG\",rawrtf!A597,SUBSTITUTE(rawrtf!A597,\"TFPTAG\"&tagflag!D597,\"\")),\"TFPSTR\"&strflag!B597,strflag!D597),IF(tagflag!B597=\"NOTAG\",rawrtf!A597,SUBSTITUTE(rawrtf!A597,\"TFPTAG\"&tagflag!D597,\"\"))),\"\")","v":" to ensure they are future customers, represents an efficient use of the marketing budget.  Database driven communications enable relevant messages to be targeted at key customer segments."}]
[{"$f":"IF(tagflag!A598=1,IF(strflag!A598=1,SUBSTITUTE(IF(tagflag!B598=\"NOTAG\",rawrtf!A598,SUBSTITUTE(rawrtf!A598,\"TFPTAG\"&tagflag!D598,\"\")),\"TFPSTR\"&strflag!B598,strflag!D598),IF(tagflag!B598=\"NOTAG\",rawrtf!A598,SUBSTITUTE(rawrtf!A598,\"TFPTAG\"&tagflag!D598,\"\"))),\"\")","v":""}]
[{"$f":"IF(tagflag!A599=1,IF(strflag!A599=1,SUBSTITUTE(IF(tagflag!B599=\"NOTAG\",rawrtf!A599,SUBSTITUTE(rawrtf!A599,\"TFPTAG\"&tagflag!D599,\"\")),\"TFPSTR\"&strflag!B599,strflag!D599),IF(tagflag!B599=\"NOTAG\",rawrtf!A599,SUBSTITUTE(rawrtf!A599,\"TFPTAG\"&tagflag!D599,\"\"))),\"\")","v":""}]
[{"$f":"IF(tagflag!A600=1,IF(strflag!A600=1,SUBSTITUTE(IF(tagflag!B600=\"NOTAG\",rawrtf!A600,SUBSTITUTE(rawrtf!A600,\"TFPTAG\"&tagflag!D600,\"\")),\"TFPSTR\"&strflag!B600,strflag!D600),IF(tagflag!B600=\"NOTAG\",rawrtf!A600,SUBSTITUTE(rawrtf!A600,\"TFPTAG\"&tagflag!D600,\"\"))),\"\")","v":""}]
[{"$f":"IF(tagflag!A601=1,IF(strflag!A601=1,SUBSTITUTE(IF(tagflag!B601=\"NOTAG\",rawrtf!A601,SUBSTITUTE(rawrtf!A601,\"TFPTAG\"&tagflag!D601,\"\")),\"TFPSTR\"&strflag!B601,strflag!D601),IF(tagflag!B601=\"NOTAG\",rawrtf!A601,SUBSTITUTE(rawrtf!A601,\"TFPTAG\"&tagflag!D601,\"\"))),\"\")","v":""}]
[{"$f":"IF(tagflag!A602=1,IF(strflag!A602=1,SUBSTITUTE(IF(tagflag!B602=\"NOTAG\",rawrtf!A602,SUBSTITUTE(rawrtf!A602,\"TFPTAG\"&tagflag!D602,\"\")),\"TFPSTR\"&strflag!B602,strflag!D602),IF(tagflag!B602=\"NOTAG\",rawrtf!A602,SUBSTITUTE(rawrtf!A602,\"TFPTAG\"&tagflag!D602,\"\"))),\"\")","v":""}]
[{"$f":"IF(tagflag!A603=1,IF(strflag!A603=1,SUBSTITUTE(IF(tagflag!B603=\"NOTAG\",rawrtf!A603,SUBSTITUTE(rawrtf!A603,\"TFPTAG\"&tagflag!D603,\"\")),\"TFPSTR\"&strflag!B603,strflag!D603),IF(tagflag!B603=\"NOTAG\",rawrtf!A603,SUBSTITUTE(rawrtf!A603,\"TFPTAG\"&tagflag!D603,\"\"))),\"\")","v":""}]
[{"$f":"IF(tagflag!A604=1,IF(strflag!A604=1,SUBSTITUTE(IF(tagflag!B604=\"NOTAG\",rawrtf!A604,SUBSTITUTE(rawrtf!A604,\"TFPTAG\"&tagflag!D604,\"\")),\"TFPSTR\"&strflag!B604,strflag!D604),IF(tagflag!B604=\"NOTAG\",rawrtf!A604,SUBSTITUTE(rawrtf!A604,\"TFPTAG\"&tagflag!D604,\"\"))),\"\")","v":""}]
[{"$f":"IF(tagflag!A605=1,IF(strflag!A605=1,SUBSTITUTE(IF(tagflag!B605=\"NOTAG\",rawrtf!A605,SUBSTITUTE(rawrtf!A605,\"TFPTAG\"&tagflag!D605,\"\")),\"TFPSTR\"&strflag!B605,strflag!D605),IF(tagflag!B605=\"NOTAG\",rawrtf!A605,SUBSTITUTE(rawrtf!A605,\"TFPTAG\"&tagflag!D605,\"\"))),\"\")","v":""}]
[{"$f":"IF(tagflag!A606=1,IF(strflag!A606=1,SUBSTITUTE(IF(tagflag!B606=\"NOTAG\",rawrtf!A606,SUBSTITUTE(rawrtf!A606,\"TFPTAG\"&tagflag!D606,\"\")),\"TFPSTR\"&strflag!B606,strflag!D606),IF(tagflag!B606=\"NOTAG\",rawrtf!A606,SUBSTITUTE(rawrtf!A606,\"TFPTAG\"&tagflag!D606,\"\"))),\"\")","v":""}]
[{"$f":"IF(tagflag!A607=1,IF(strflag!A607=1,SUBSTITUTE(IF(tagflag!B607=\"NOTAG\",rawrtf!A607,SUBSTITUTE(rawrtf!A607,\"TFPTAG\"&tagflag!D607,\"\")),\"TFPSTR\"&strflag!B607,strflag!D607),IF(tagflag!B607=\"NOTAG\",rawrtf!A607,SUBSTITUTE(rawrtf!A607,\"TFPTAG\"&tagflag!D607,\"\"))),\"\")","v":""}]
[{"$f":"IF(tagflag!A608=1,IF(strflag!A608=1,SUBSTITUTE(IF(tagflag!B608=\"NOTAG\",rawrtf!A608,SUBSTITUTE(rawrtf!A608,\"TFPTAG\"&tagflag!D608,\"\")),\"TFPSTR\"&strflag!B608,strflag!D608),IF(tagflag!B608=\"NOTAG\",rawrtf!A608,SUBSTITUTE(rawrtf!A608,\"TFPTAG\"&tagflag!D608,\"\"))),\"\")","v":""}]
[{"$f":"IF(tagflag!A609=1,IF(strflag!A609=1,SUBSTITUTE(IF(tagflag!B609=\"NOTAG\",rawrtf!A609,SUBSTITUTE(rawrtf!A609,\"TFPTAG\"&tagflag!D609,\"\")),\"TFPSTR\"&strflag!B609,strflag!D609),IF(tagflag!B609=\"NOTAG\",rawrtf!A609,SUBSTITUTE(rawrtf!A609,\"TFPTAG\"&tagflag!D609,\"\"))),\"\")","v":""}]
[{"$f":"IF(tagflag!A610=1,IF(strflag!A610=1,SUBSTITUTE(IF(tagflag!B610=\"NOTAG\",rawrtf!A610,SUBSTITUTE(rawrtf!A610,\"TFPTAG\"&tagflag!D610,\"\")),\"TFPSTR\"&strflag!B610,strflag!D610),IF(tagflag!B610=\"NOTAG\",rawrtf!A610,SUBSTITUTE(rawrtf!A610,\"TFPTAG\"&tagflag!D610,\"\"))),\"\")","v":""}]
[{"$f":"IF(tagflag!A611=1,IF(strflag!A611=1,SUBSTITUTE(IF(tagflag!B611=\"NOTAG\",rawrtf!A611,SUBSTITUTE(rawrtf!A611,\"TFPTAG\"&tagflag!D611,\"\")),\"TFPSTR\"&strflag!B611,strflag!D611),IF(tagflag!B611=\"NOTAG\",rawrtf!A611,SUBSTITUTE(rawrtf!A611,\"TFPTAG\"&tagflag!D611,\"\"))),\"\")","v":""}]
[{"$f":"IF(tagflag!A612=1,IF(strflag!A612=1,SUBSTITUTE(IF(tagflag!B612=\"NOTAG\",rawrtf!A612,SUBSTITUTE(rawrtf!A612,\"TFPTAG\"&tagflag!D612,\"\")),\"TFPSTR\"&strflag!B612,strflag!D612),IF(tagflag!B612=\"NOTAG\",rawrtf!A612,SUBSTITUTE(rawrtf!A612,\"TFPTAG\"&tagflag!D612,\"\"))),\"\")","v":""}]
[{"$f":"IF(tagflag!A613=1,IF(strflag!A613=1,SUBSTITUTE(IF(tagflag!B613=\"NOTAG\",rawrtf!A613,SUBSTITUTE(rawrtf!A613,\"TFPTAG\"&tagflag!D613,\"\")),\"TFPSTR\"&strflag!B613,strflag!D613),IF(tagflag!B613=\"NOTAG\",rawrtf!A613,SUBSTITUTE(rawrtf!A613,\"TFPTAG\"&tagflag!D613,\"\"))),\"\")","v":""}]
[{"$f":"IF(tagflag!A614=1,IF(strflag!A614=1,SUBSTITUTE(IF(tagflag!B614=\"NOTAG\",rawrtf!A614,SUBSTITUTE(rawrtf!A614,\"TFPTAG\"&tagflag!D614,\"\")),\"TFPSTR\"&strflag!B614,strflag!D614),IF(tagflag!B614=\"NOTAG\",rawrtf!A614,SUBSTITUTE(rawrtf!A614,\"TFPTAG\"&tagflag!D614,\"\"))),\"\")","v":""}]
[{"$f":"IF(tagflag!A615=1,IF(strflag!A615=1,SUBSTITUTE(IF(tagflag!B615=\"NOTAG\",rawrtf!A615,SUBSTITUTE(rawrtf!A615,\"TFPTAG\"&tagflag!D615,\"\")),\"TFPSTR\"&strflag!B615,strflag!D615),IF(tagflag!B615=\"NOTAG\",rawrtf!A615,SUBSTITUTE(rawrtf!A615,\"TFPTAG\"&tagflag!D615,\"\"))),\"\")","v":""}]
[{"$f":"IF(tagflag!A616=1,IF(strflag!A616=1,SUBSTITUTE(IF(tagflag!B616=\"NOTAG\",rawrtf!A616,SUBSTITUTE(rawrtf!A616,\"TFPTAG\"&tagflag!D616,\"\")),\"TFPSTR\"&strflag!B616,strflag!D616),IF(tagflag!B616=\"NOTAG\",rawrtf!A616,SUBSTITUTE(rawrtf!A616,\"TFPTAG\"&tagflag!D616,\"\"))),\"\")","v":""}]
[{"$f":"IF(tagflag!A617=1,IF(strflag!A617=1,SUBSTITUTE(IF(tagflag!B617=\"NOTAG\",rawrtf!A617,SUBSTITUTE(rawrtf!A617,\"TFPTAG\"&tagflag!D617,\"\")),\"TFPSTR\"&strflag!B617,strflag!D617),IF(tagflag!B617=\"NOTAG\",rawrtf!A617,SUBSTITUTE(rawrtf!A617,\"TFPTAG\"&tagflag!D617,\"\"))),\"\")","v":""}]
[{"$f":"IF(tagflag!A618=1,IF(strflag!A618=1,SUBSTITUTE(IF(tagflag!B618=\"NOTAG\",rawrtf!A618,SUBSTITUTE(rawrtf!A618,\"TFPTAG\"&tagflag!D618,\"\")),\"TFPSTR\"&strflag!B618,strflag!D618),IF(tagflag!B618=\"NOTAG\",rawrtf!A618,SUBSTITUTE(rawrtf!A618,\"TFPTAG\"&tagflag!D618,\"\"))),\"\")","v":""}]
[{"$f":"IF(tagflag!A619=1,IF(strflag!A619=1,SUBSTITUTE(IF(tagflag!B619=\"NOTAG\",rawrtf!A619,SUBSTITUTE(rawrtf!A619,\"TFPTAG\"&tagflag!D619,\"\")),\"TFPSTR\"&strflag!B619,strflag!D619),IF(tagflag!B619=\"NOTAG\",rawrtf!A619,SUBSTITUTE(rawrtf!A619,\"TFPTAG\"&tagflag!D619,\"\"))),\"\")","v":""}]
[{"$f":"IF(tagflag!A620=1,IF(strflag!A620=1,SUBSTITUTE(IF(tagflag!B620=\"NOTAG\",rawrtf!A620,SUBSTITUTE(rawrtf!A620,\"TFPTAG\"&tagflag!D620,\"\")),\"TFPSTR\"&strflag!B620,strflag!D620),IF(tagflag!B620=\"NOTAG\",rawrtf!A620,SUBSTITUTE(rawrtf!A620,\"TFPTAG\"&tagflag!D620,\"\"))),\"\")","v":""}]
[{"$f":"IF(tagflag!A621=1,IF(strflag!A621=1,SUBSTITUTE(IF(tagflag!B621=\"NOTAG\",rawrtf!A621,SUBSTITUTE(rawrtf!A621,\"TFPTAG\"&tagflag!D621,\"\")),\"TFPSTR\"&strflag!B621,strflag!D621),IF(tagflag!B621=\"NOTAG\",rawrtf!A621,SUBSTITUTE(rawrtf!A621,\"TFPTAG\"&tagflag!D621,\"\"))),\"\")","v":""}]
[{"$f":"IF(tagflag!A622=1,IF(strflag!A622=1,SUBSTITUTE(IF(tagflag!B622=\"NOTAG\",rawrtf!A622,SUBSTITUTE(rawrtf!A622,\"TFPTAG\"&tagflag!D622,\"\")),\"TFPSTR\"&strflag!B622,strflag!D622),IF(tagflag!B622=\"NOTAG\",rawrtf!A622,SUBSTITUTE(rawrtf!A622,\"TFPTAG\"&tagflag!D622,\"\"))),\"\")","v":""}]
[{"$f":"IF(tagflag!A623=1,IF(strflag!A623=1,SUBSTITUTE(IF(tagflag!B623=\"NOTAG\",rawrtf!A623,SUBSTITUTE(rawrtf!A623,\"TFPTAG\"&tagflag!D623,\"\")),\"TFPSTR\"&strflag!B623,strflag!D623),IF(tagflag!B623=\"NOTAG\",rawrtf!A623,SUBSTITUTE(rawrtf!A623,\"TFPTAG\"&tagflag!D623,\"\"))),\"\")","v":""}]
[{"$f":"IF(tagflag!A624=1,IF(strflag!A624=1,SUBSTITUTE(IF(tagflag!B624=\"NOTAG\",rawrtf!A624,SUBSTITUTE(rawrtf!A624,\"TFPTAG\"&tagflag!D624,\"\")),\"TFPSTR\"&strflag!B624,strflag!D624),IF(tagflag!B624=\"NOTAG\",rawrtf!A624,SUBSTITUTE(rawrtf!A624,\"TFPTAG\"&tagflag!D624,\"\"))),\"\")","v":""}]
[{"$f":"IF(tagflag!A625=1,IF(strflag!A625=1,SUBSTITUTE(IF(tagflag!B625=\"NOTAG\",rawrtf!A625,SUBSTITUTE(rawrtf!A625,\"TFPTAG\"&tagflag!D625,\"\")),\"TFPSTR\"&strflag!B625,strflag!D625),IF(tagflag!B625=\"NOTAG\",rawrtf!A625,SUBSTITUTE(rawrtf!A625,\"TFPTAG\"&tagflag!D625,\"\"))),\"\")","v":""}]
[{"$f":"IF(tagflag!A626=1,IF(strflag!A626=1,SUBSTITUTE(IF(tagflag!B626=\"NOTAG\",rawrtf!A626,SUBSTITUTE(rawrtf!A626,\"TFPTAG\"&tagflag!D626,\"\")),\"TFPSTR\"&strflag!B626,strflag!D626),IF(tagflag!B626=\"NOTAG\",rawrtf!A626,SUBSTITUTE(rawrtf!A626,\"TFPTAG\"&tagflag!D626,\"\"))),\"\")","v":""}]
[{"$f":"IF(tagflag!A627=1,IF(strflag!A627=1,SUBSTITUTE(IF(tagflag!B627=\"NOTAG\",rawrtf!A627,SUBSTITUTE(rawrtf!A627,\"TFPTAG\"&tagflag!D627,\"\")),\"TFPSTR\"&strflag!B627,strflag!D627),IF(tagflag!B627=\"NOTAG\",rawrtf!A627,SUBSTITUTE(rawrtf!A627,\"TFPTAG\"&tagflag!D627,\"\"))),\"\")","v":""}]
[{"$f":"IF(tagflag!A628=1,IF(strflag!A628=1,SUBSTITUTE(IF(tagflag!B628=\"NOTAG\",rawrtf!A628,SUBSTITUTE(rawrtf!A628,\"TFPTAG\"&tagflag!D628,\"\")),\"TFPSTR\"&strflag!B628,strflag!D628),IF(tagflag!B628=\"NOTAG\",rawrtf!A628,SUBSTITUTE(rawrtf!A628,\"TFPTAG\"&tagflag!D628,\"\"))),\"\")","v":""}]
[{"$f":"IF(tagflag!A629=1,IF(strflag!A629=1,SUBSTITUTE(IF(tagflag!B629=\"NOTAG\",rawrtf!A629,SUBSTITUTE(rawrtf!A629,\"TFPTAG\"&tagflag!D629,\"\")),\"TFPSTR\"&strflag!B629,strflag!D629),IF(tagflag!B629=\"NOTAG\",rawrtf!A629,SUBSTITUTE(rawrtf!A629,\"TFPTAG\"&tagflag!D629,\"\"))),\"\")","v":""}]
[{"$f":"IF(tagflag!A630=1,IF(strflag!A630=1,SUBSTITUTE(IF(tagflag!B630=\"NOTAG\",rawrtf!A630,SUBSTITUTE(rawrtf!A630,\"TFPTAG\"&tagflag!D630,\"\")),\"TFPSTR\"&strflag!B630,strflag!D630),IF(tagflag!B630=\"NOTAG\",rawrtf!A630,SUBSTITUTE(rawrtf!A630,\"TFPTAG\"&tagflag!D630,\"\"))),\"\")","v":""}]
[{"$f":"IF(tagflag!A631=1,IF(strflag!A631=1,SUBSTITUTE(IF(tagflag!B631=\"NOTAG\",rawrtf!A631,SUBSTITUTE(rawrtf!A631,\"TFPTAG\"&tagflag!D631,\"\")),\"TFPSTR\"&strflag!B631,strflag!D631),IF(tagflag!B631=\"NOTAG\",rawrtf!A631,SUBSTITUTE(rawrtf!A631,\"TFPTAG\"&tagflag!D631,\"\"))),\"\")","v":""}]
[{"$f":"IF(tagflag!A632=1,IF(strflag!A632=1,SUBSTITUTE(IF(tagflag!B632=\"NOTAG\",rawrtf!A632,SUBSTITUTE(rawrtf!A632,\"TFPTAG\"&tagflag!D632,\"\")),\"TFPSTR\"&strflag!B632,strflag!D632),IF(tagflag!B632=\"NOTAG\",rawrtf!A632,SUBSTITUTE(rawrtf!A632,\"TFPTAG\"&tagflag!D632,\"\"))),\"\")","v":""}]
[{"$f":"IF(tagflag!A633=1,IF(strflag!A633=1,SUBSTITUTE(IF(tagflag!B633=\"NOTAG\",rawrtf!A633,SUBSTITUTE(rawrtf!A633,\"TFPTAG\"&tagflag!D633,\"\")),\"TFPSTR\"&strflag!B633,strflag!D633),IF(tagflag!B633=\"NOTAG\",rawrtf!A633,SUBSTITUTE(rawrtf!A633,\"TFPTAG\"&tagflag!D633,\"\"))),\"\")","v":""}]
[{"$f":"IF(tagflag!A634=1,IF(strflag!A634=1,SUBSTITUTE(IF(tagflag!B634=\"NOTAG\",rawrtf!A634,SUBSTITUTE(rawrtf!A634,\"TFPTAG\"&tagflag!D634,\"\")),\"TFPSTR\"&strflag!B634,strflag!D634),IF(tagflag!B634=\"NOTAG\",rawrtf!A634,SUBSTITUTE(rawrtf!A634,\"TFPTAG\"&tagflag!D634,\"\"))),\"\")","v":""}]
[{"$f":"IF(tagflag!A635=1,IF(strflag!A635=1,SUBSTITUTE(IF(tagflag!B635=\"NOTAG\",rawrtf!A635,SUBSTITUTE(rawrtf!A635,\"TFPTAG\"&tagflag!D635,\"\")),\"TFPSTR\"&strflag!B635,strflag!D635),IF(tagflag!B635=\"NOTAG\",rawrtf!A635,SUBSTITUTE(rawrtf!A635,\"TFPTAG\"&tagflag!D635,\"\"))),\"\")","v":""}]
[{"$f":"IF(tagflag!A636=1,IF(strflag!A636=1,SUBSTITUTE(IF(tagflag!B636=\"NOTAG\",rawrtf!A636,SUBSTITUTE(rawrtf!A636,\"TFPTAG\"&tagflag!D636,\"\")),\"TFPSTR\"&strflag!B636,strflag!D636),IF(tagflag!B636=\"NOTAG\",rawrtf!A636,SUBSTITUTE(rawrtf!A636,\"TFPTAG\"&tagflag!D636,\"\"))),\"\")","v":""}]
[{"$f":"IF(tagflag!A637=1,IF(strflag!A637=1,SUBSTITUTE(IF(tagflag!B637=\"NOTAG\",rawrtf!A637,SUBSTITUTE(rawrtf!A637,\"TFPTAG\"&tagflag!D637,\"\")),\"TFPSTR\"&strflag!B637,strflag!D637),IF(tagflag!B637=\"NOTAG\",rawrtf!A637,SUBSTITUTE(rawrtf!A637,\"TFPTAG\"&tagflag!D637,\"\"))),\"\")","v":""}]
[{"$f":"IF(tagflag!A638=1,IF(strflag!A638=1,SUBSTITUTE(IF(tagflag!B638=\"NOTAG\",rawrtf!A638,SUBSTITUTE(rawrtf!A638,\"TFPTAG\"&tagflag!D638,\"\")),\"TFPSTR\"&strflag!B638,strflag!D638),IF(tagflag!B638=\"NOTAG\",rawrtf!A638,SUBSTITUTE(rawrtf!A638,\"TFPTAG\"&tagflag!D638,\"\"))),\"\")","v":""}]
[{"$f":"IF(tagflag!A639=1,IF(strflag!A639=1,SUBSTITUTE(IF(tagflag!B639=\"NOTAG\",rawrtf!A639,SUBSTITUTE(rawrtf!A639,\"TFPTAG\"&tagflag!D639,\"\")),\"TFPSTR\"&strflag!B639,strflag!D639),IF(tagflag!B639=\"NOTAG\",rawrtf!A639,SUBSTITUTE(rawrtf!A639,\"TFPTAG\"&tagflag!D639,\"\"))),\"\")","v":""}]
[{"$f":"IF(tagflag!A640=1,IF(strflag!A640=1,SUBSTITUTE(IF(tagflag!B640=\"NOTAG\",rawrtf!A640,SUBSTITUTE(rawrtf!A640,\"TFPTAG\"&tagflag!D640,\"\")),\"TFPSTR\"&strflag!B640,strflag!D640),IF(tagflag!B640=\"NOTAG\",rawrtf!A640,SUBSTITUTE(rawrtf!A640,\"TFPTAG\"&tagflag!D640,\"\"))),\"\")","v":""}]
[{"$f":"IF(tagflag!A641=1,IF(strflag!A641=1,SUBSTITUTE(IF(tagflag!B641=\"NOTAG\",rawrtf!A641,SUBSTITUTE(rawrtf!A641,\"TFPTAG\"&tagflag!D641,\"\")),\"TFPSTR\"&strflag!B641,strflag!D641),IF(tagflag!B641=\"NOTAG\",rawrtf!A641,SUBSTITUTE(rawrtf!A641,\"TFPTAG\"&tagflag!D641,\"\"))),\"\")","v":""}]
[{"$f":"IF(tagflag!A642=1,IF(strflag!A642=1,SUBSTITUTE(IF(tagflag!B642=\"NOTAG\",rawrtf!A642,SUBSTITUTE(rawrtf!A642,\"TFPTAG\"&tagflag!D642,\"\")),\"TFPSTR\"&strflag!B642,strflag!D642),IF(tagflag!B642=\"NOTAG\",rawrtf!A642,SUBSTITUTE(rawrtf!A642,\"TFPTAG\"&tagflag!D642,\"\"))),\"\")","v":""}]
[{"$f":"IF(tagflag!A643=1,IF(strflag!A643=1,SUBSTITUTE(IF(tagflag!B643=\"NOTAG\",rawrtf!A643,SUBSTITUTE(rawrtf!A643,\"TFPTAG\"&tagflag!D643,\"\")),\"TFPSTR\"&strflag!B643,strflag!D643),IF(tagflag!B643=\"NOTAG\",rawrtf!A643,SUBSTITUTE(rawrtf!A643,\"TFPTAG\"&tagflag!D643,\"\"))),\"\")","v":""}]
[{"$f":"IF(tagflag!A644=1,IF(strflag!A644=1,SUBSTITUTE(IF(tagflag!B644=\"NOTAG\",rawrtf!A644,SUBSTITUTE(rawrtf!A644,\"TFPTAG\"&tagflag!D644,\"\")),\"TFPSTR\"&strflag!B644,strflag!D644),IF(tagflag!B644=\"NOTAG\",rawrtf!A644,SUBSTITUTE(rawrtf!A644,\"TFPTAG\"&tagflag!D644,\"\"))),\"\")","v":""}]
[{"$f":"IF(tagflag!A645=1,IF(strflag!A645=1,SUBSTITUTE(IF(tagflag!B645=\"NOTAG\",rawrtf!A645,SUBSTITUTE(rawrtf!A645,\"TFPTAG\"&tagflag!D645,\"\")),\"TFPSTR\"&strflag!B645,strflag!D645),IF(tagflag!B645=\"NOTAG\",rawrtf!A645,SUBSTITUTE(rawrtf!A645,\"TFPTAG\"&tagflag!D645,\"\"))),\"\")","v":""}]
[{"$f":"IF(tagflag!A646=1,IF(strflag!A646=1,SUBSTITUTE(IF(tagflag!B646=\"NOTAG\",rawrtf!A646,SUBSTITUTE(rawrtf!A646,\"TFPTAG\"&tagflag!D646,\"\")),\"TFPSTR\"&strflag!B646,strflag!D646),IF(tagflag!B646=\"NOTAG\",rawrtf!A646,SUBSTITUTE(rawrtf!A646,\"TFPTAG\"&tagflag!D646,\"\"))),\"\")","v":""}]
[{"$f":"IF(tagflag!A647=1,IF(strflag!A647=1,SUBSTITUTE(IF(tagflag!B647=\"NOTAG\",rawrtf!A647,SUBSTITUTE(rawrtf!A647,\"TFPTAG\"&tagflag!D647,\"\")),\"TFPSTR\"&strflag!B647,strflag!D647),IF(tagflag!B647=\"NOTAG\",rawrtf!A647,SUBSTITUTE(rawrtf!A647,\"TFPTAG\"&tagflag!D647,\"\"))),\"\")","v":""}]
[{"$f":"IF(tagflag!A648=1,IF(strflag!A648=1,SUBSTITUTE(IF(tagflag!B648=\"NOTAG\",rawrtf!A648,SUBSTITUTE(rawrtf!A648,\"TFPTAG\"&tagflag!D648,\"\")),\"TFPSTR\"&strflag!B648,strflag!D648),IF(tagflag!B648=\"NOTAG\",rawrtf!A648,SUBSTITUTE(rawrtf!A648,\"TFPTAG\"&tagflag!D648,\"\"))),\"\")","v":""}]
[{"$f":"IF(tagflag!A649=1,IF(strflag!A649=1,SUBSTITUTE(IF(tagflag!B649=\"NOTAG\",rawrtf!A649,SUBSTITUTE(rawrtf!A649,\"TFPTAG\"&tagflag!D649,\"\")),\"TFPSTR\"&strflag!B649,strflag!D649),IF(tagflag!B649=\"NOTAG\",rawrtf!A649,SUBSTITUTE(rawrtf!A649,\"TFPTAG\"&tagflag!D649,\"\"))),\"\")","v":""}]
[{"$f":"IF(tagflag!A650=1,IF(strflag!A650=1,SUBSTITUTE(IF(tagflag!B650=\"NOTAG\",rawrtf!A650,SUBSTITUTE(rawrtf!A650,\"TFPTAG\"&tagflag!D650,\"\")),\"TFPSTR\"&strflag!B650,strflag!D650),IF(tagflag!B650=\"NOTAG\",rawrtf!A650,SUBSTITUTE(rawrtf!A650,\"TFPTAG\"&tagflag!D650,\"\"))),\"\")","v":""}]
[{"$f":"IF(tagflag!A651=1,IF(strflag!A651=1,SUBSTITUTE(IF(tagflag!B651=\"NOTAG\",rawrtf!A651,SUBSTITUTE(rawrtf!A651,\"TFPTAG\"&tagflag!D651,\"\")),\"TFPSTR\"&strflag!B651,strflag!D651),IF(tagflag!B651=\"NOTAG\",rawrtf!A651,SUBSTITUTE(rawrtf!A651,\"TFPTAG\"&tagflag!D651,\"\"))),\"\")","v":""}]
[{"$f":"IF(tagflag!A652=1,IF(strflag!A652=1,SUBSTITUTE(IF(tagflag!B652=\"NOTAG\",rawrtf!A652,SUBSTITUTE(rawrtf!A652,\"TFPTAG\"&tagflag!D652,\"\")),\"TFPSTR\"&strflag!B652,strflag!D652),IF(tagflag!B652=\"NOTAG\",rawrtf!A652,SUBSTITUTE(rawrtf!A652,\"TFPTAG\"&tagflag!D652,\"\"))),\"\")","v":""}]
[{"$f":"IF(tagflag!A653=1,IF(strflag!A653=1,SUBSTITUTE(IF(tagflag!B653=\"NOTAG\",rawrtf!A653,SUBSTITUTE(rawrtf!A653,\"TFPTAG\"&tagflag!D653,\"\")),\"TFPSTR\"&strflag!B653,strflag!D653),IF(tagflag!B653=\"NOTAG\",rawrtf!A653,SUBSTITUTE(rawrtf!A653,\"TFPTAG\"&tagflag!D653,\"\"))),\"\")","v":""}]
[{"$f":"IF(tagflag!A654=1,IF(strflag!A654=1,SUBSTITUTE(IF(tagflag!B654=\"NOTAG\",rawrtf!A654,SUBSTITUTE(rawrtf!A654,\"TFPTAG\"&tagflag!D654,\"\")),\"TFPSTR\"&strflag!B654,strflag!D654),IF(tagflag!B654=\"NOTAG\",rawrtf!A654,SUBSTITUTE(rawrtf!A654,\"TFPTAG\"&tagflag!D654,\"\"))),\"\")","v":""}]
[{"$f":"IF(tagflag!A655=1,IF(strflag!A655=1,SUBSTITUTE(IF(tagflag!B655=\"NOTAG\",rawrtf!A655,SUBSTITUTE(rawrtf!A655,\"TFPTAG\"&tagflag!D655,\"\")),\"TFPSTR\"&strflag!B655,strflag!D655),IF(tagflag!B655=\"NOTAG\",rawrtf!A655,SUBSTITUTE(rawrtf!A655,\"TFPTAG\"&tagflag!D655,\"\"))),\"\")","v":""}]
[{"$f":"IF(tagflag!A656=1,IF(strflag!A656=1,SUBSTITUTE(IF(tagflag!B656=\"NOTAG\",rawrtf!A656,SUBSTITUTE(rawrtf!A656,\"TFPTAG\"&tagflag!D656,\"\")),\"TFPSTR\"&strflag!B656,strflag!D656),IF(tagflag!B656=\"NOTAG\",rawrtf!A656,SUBSTITUTE(rawrtf!A656,\"TFPTAG\"&tagflag!D656,\"\"))),\"\")","v":""}]
[{"$f":"IF(tagflag!A657=1,IF(strflag!A657=1,SUBSTITUTE(IF(tagflag!B657=\"NOTAG\",rawrtf!A657,SUBSTITUTE(rawrtf!A657,\"TFPTAG\"&tagflag!D657,\"\")),\"TFPSTR\"&strflag!B657,strflag!D657),IF(tagflag!B657=\"NOTAG\",rawrtf!A657,SUBSTITUTE(rawrtf!A657,\"TFPTAG\"&tagflag!D657,\"\"))),\"\")","v":""}]
[{"$f":"IF(tagflag!A658=1,IF(strflag!A658=1,SUBSTITUTE(IF(tagflag!B658=\"NOTAG\",rawrtf!A658,SUBSTITUTE(rawrtf!A658,\"TFPTAG\"&tagflag!D658,\"\")),\"TFPSTR\"&strflag!B658,strflag!D658),IF(tagflag!B658=\"NOTAG\",rawrtf!A658,SUBSTITUTE(rawrtf!A658,\"TFPTAG\"&tagflag!D658,\"\"))),\"\")","v":""}]
[{"$f":"IF(tagflag!A659=1,IF(strflag!A659=1,SUBSTITUTE(IF(tagflag!B659=\"NOTAG\",rawrtf!A659,SUBSTITUTE(rawrtf!A659,\"TFPTAG\"&tagflag!D659,\"\")),\"TFPSTR\"&strflag!B659,strflag!D659),IF(tagflag!B659=\"NOTAG\",rawrtf!A659,SUBSTITUTE(rawrtf!A659,\"TFPTAG\"&tagflag!D659,\"\"))),\"\")","v":""}]
[{"$f":"IF(tagflag!A660=1,IF(strflag!A660=1,SUBSTITUTE(IF(tagflag!B660=\"NOTAG\",rawrtf!A660,SUBSTITUTE(rawrtf!A660,\"TFPTAG\"&tagflag!D660,\"\")),\"TFPSTR\"&strflag!B660,strflag!D660),IF(tagflag!B660=\"NOTAG\",rawrtf!A660,SUBSTITUTE(rawrtf!A660,\"TFPTAG\"&tagflag!D660,\"\"))),\"\")","v":""}]
[{"$f":"IF(tagflag!A661=1,IF(strflag!A661=1,SUBSTITUTE(IF(tagflag!B661=\"NOTAG\",rawrtf!A661,SUBSTITUTE(rawrtf!A661,\"TFPTAG\"&tagflag!D661,\"\")),\"TFPSTR\"&strflag!B661,strflag!D661),IF(tagflag!B661=\"NOTAG\",rawrtf!A661,SUBSTITUTE(rawrtf!A661,\"TFPTAG\"&tagflag!D661,\"\"))),\"\")","v":""}]
[{"$f":"IF(tagflag!A662=1,IF(strflag!A662=1,SUBSTITUTE(IF(tagflag!B662=\"NOTAG\",rawrtf!A662,SUBSTITUTE(rawrtf!A662,\"TFPTAG\"&tagflag!D662,\"\")),\"TFPSTR\"&strflag!B662,strflag!D662),IF(tagflag!B662=\"NOTAG\",rawrtf!A662,SUBSTITUTE(rawrtf!A662,\"TFPTAG\"&tagflag!D662,\"\"))),\"\")","v":""}]
[{"$f":"IF(tagflag!A663=1,IF(strflag!A663=1,SUBSTITUTE(IF(tagflag!B663=\"NOTAG\",rawrtf!A663,SUBSTITUTE(rawrtf!A663,\"TFPTAG\"&tagflag!D663,\"\")),\"TFPSTR\"&strflag!B663,strflag!D663),IF(tagflag!B663=\"NOTAG\",rawrtf!A663,SUBSTITUTE(rawrtf!A663,\"TFPTAG\"&tagflag!D663,\"\"))),\"\")","v":""}]
[{"$f":"IF(tagflag!A664=1,IF(strflag!A664=1,SUBSTITUTE(IF(tagflag!B664=\"NOTAG\",rawrtf!A664,SUBSTITUTE(rawrtf!A664,\"TFPTAG\"&tagflag!D664,\"\")),\"TFPSTR\"&strflag!B664,strflag!D664),IF(tagflag!B664=\"NOTAG\",rawrtf!A664,SUBSTITUTE(rawrtf!A664,\"TFPTAG\"&tagflag!D664,\"\"))),\"\")","v":""}]
[{"$f":"IF(tagflag!A665=1,IF(strflag!A665=1,SUBSTITUTE(IF(tagflag!B665=\"NOTAG\",rawrtf!A665,SUBSTITUTE(rawrtf!A665,\"TFPTAG\"&tagflag!D665,\"\")),\"TFPSTR\"&strflag!B665,strflag!D665),IF(tagflag!B665=\"NOTAG\",rawrtf!A665,SUBSTITUTE(rawrtf!A665,\"TFPTAG\"&tagflag!D665,\"\"))),\"\")","v":""}]
[{"$f":"IF(tagflag!A666=1,IF(strflag!A666=1,SUBSTITUTE(IF(tagflag!B666=\"NOTAG\",rawrtf!A666,SUBSTITUTE(rawrtf!A666,\"TFPTAG\"&tagflag!D666,\"\")),\"TFPSTR\"&strflag!B666,strflag!D666),IF(tagflag!B666=\"NOTAG\",rawrtf!A666,SUBSTITUTE(rawrtf!A666,\"TFPTAG\"&tagflag!D666,\"\"))),\"\")","v":""}]
[{"$f":"IF(tagflag!A667=1,IF(strflag!A667=1,SUBSTITUTE(IF(tagflag!B667=\"NOTAG\",rawrtf!A667,SUBSTITUTE(rawrtf!A667,\"TFPTAG\"&tagflag!D667,\"\")),\"TFPSTR\"&strflag!B667,strflag!D667),IF(tagflag!B667=\"NOTAG\",rawrtf!A667,SUBSTITUTE(rawrtf!A667,\"TFPTAG\"&tagflag!D667,\"\"))),\"\")","v":""}]
[{"$f":"IF(tagflag!A668=1,IF(strflag!A668=1,SUBSTITUTE(IF(tagflag!B668=\"NOTAG\",rawrtf!A668,SUBSTITUTE(rawrtf!A668,\"TFPTAG\"&tagflag!D668,\"\")),\"TFPSTR\"&strflag!B668,strflag!D668),IF(tagflag!B668=\"NOTAG\",rawrtf!A668,SUBSTITUTE(rawrtf!A668,\"TFPTAG\"&tagflag!D668,\"\"))),\"\")","v":""}]
[{"$f":"IF(tagflag!A669=1,IF(strflag!A669=1,SUBSTITUTE(IF(tagflag!B669=\"NOTAG\",rawrtf!A669,SUBSTITUTE(rawrtf!A669,\"TFPTAG\"&tagflag!D669,\"\")),\"TFPSTR\"&strflag!B669,strflag!D669),IF(tagflag!B669=\"NOTAG\",rawrtf!A669,SUBSTITUTE(rawrtf!A669,\"TFPTAG\"&tagflag!D669,\"\"))),\"\")","v":""}]
[{"$f":"IF(tagflag!A670=1,IF(strflag!A670=1,SUBSTITUTE(IF(tagflag!B670=\"NOTAG\",rawrtf!A670,SUBSTITUTE(rawrtf!A670,\"TFPTAG\"&tagflag!D670,\"\")),\"TFPSTR\"&strflag!B670,strflag!D670),IF(tagflag!B670=\"NOTAG\",rawrtf!A670,SUBSTITUTE(rawrtf!A670,\"TFPTAG\"&tagflag!D670,\"\"))),\"\")","v":""}]
[{"$f":"IF(tagflag!A671=1,IF(strflag!A671=1,SUBSTITUTE(IF(tagflag!B671=\"NOTAG\",rawrtf!A671,SUBSTITUTE(rawrtf!A671,\"TFPTAG\"&tagflag!D671,\"\")),\"TFPSTR\"&strflag!B671,strflag!D671),IF(tagflag!B671=\"NOTAG\",rawrtf!A671,SUBSTITUTE(rawrtf!A671,\"TFPTAG\"&tagflag!D671,\"\"))),\"\")","v":""}]
[{"$f":"IF(tagflag!A672=1,IF(strflag!A672=1,SUBSTITUTE(IF(tagflag!B672=\"NOTAG\",rawrtf!A672,SUBSTITUTE(rawrtf!A672,\"TFPTAG\"&tagflag!D672,\"\")),\"TFPSTR\"&strflag!B672,strflag!D672),IF(tagflag!B672=\"NOTAG\",rawrtf!A672,SUBSTITUTE(rawrtf!A672,\"TFPTAG\"&tagflag!D672,\"\"))),\"\")","v":""}]
[{"$f":"IF(tagflag!A673=1,IF(strflag!A673=1,SUBSTITUTE(IF(tagflag!B673=\"NOTAG\",rawrtf!A673,SUBSTITUTE(rawrtf!A673,\"TFPTAG\"&tagflag!D673,\"\")),\"TFPSTR\"&strflag!B673,strflag!D673),IF(tagflag!B673=\"NOTAG\",rawrtf!A673,SUBSTITUTE(rawrtf!A673,\"TFPTAG\"&tagflag!D673,\"\"))),\"\")","v":""}]
[{"$f":"IF(tagflag!A674=1,IF(strflag!A674=1,SUBSTITUTE(IF(tagflag!B674=\"NOTAG\",rawrtf!A674,SUBSTITUTE(rawrtf!A674,\"TFPTAG\"&tagflag!D674,\"\")),\"TFPSTR\"&strflag!B674,strflag!D674),IF(tagflag!B674=\"NOTAG\",rawrtf!A674,SUBSTITUTE(rawrtf!A674,\"TFPTAG\"&tagflag!D674,\"\"))),\"\")","v":""}]
[{"$f":"IF(tagflag!A675=1,IF(strflag!A675=1,SUBSTITUTE(IF(tagflag!B675=\"NOTAG\",rawrtf!A675,SUBSTITUTE(rawrtf!A675,\"TFPTAG\"&tagflag!D675,\"\")),\"TFPSTR\"&strflag!B675,strflag!D675),IF(tagflag!B675=\"NOTAG\",rawrtf!A675,SUBSTITUTE(rawrtf!A675,\"TFPTAG\"&tagflag!D675,\"\"))),\"\")","v":""}]
[{"$f":"IF(tagflag!A676=1,IF(strflag!A676=1,SUBSTITUTE(IF(tagflag!B676=\"NOTAG\",rawrtf!A676,SUBSTITUTE(rawrtf!A676,\"TFPTAG\"&tagflag!D676,\"\")),\"TFPSTR\"&strflag!B676,strflag!D676),IF(tagflag!B676=\"NOTAG\",rawrtf!A676,SUBSTITUTE(rawrtf!A676,\"TFPTAG\"&tagflag!D676,\"\"))),\"\")","v":""}]
[{"$f":"IF(tagflag!A677=1,IF(strflag!A677=1,SUBSTITUTE(IF(tagflag!B677=\"NOTAG\",rawrtf!A677,SUBSTITUTE(rawrtf!A677,\"TFPTAG\"&tagflag!D677,\"\")),\"TFPSTR\"&strflag!B677,strflag!D677),IF(tagflag!B677=\"NOTAG\",rawrtf!A677,SUBSTITUTE(rawrtf!A677,\"TFPTAG\"&tagflag!D677,\"\"))),\"\")","v":""}]
[{"$f":"IF(tagflag!A678=1,IF(strflag!A678=1,SUBSTITUTE(IF(tagflag!B678=\"NOTAG\",rawrtf!A678,SUBSTITUTE(rawrtf!A678,\"TFPTAG\"&tagflag!D678,\"\")),\"TFPSTR\"&strflag!B678,strflag!D678),IF(tagflag!B678=\"NOTAG\",rawrtf!A678,SUBSTITUTE(rawrtf!A678,\"TFPTAG\"&tagflag!D678,\"\"))),\"\")","v":""}]
[{"$f":"IF(tagflag!A679=1,IF(strflag!A679=1,SUBSTITUTE(IF(tagflag!B679=\"NOTAG\",rawrtf!A679,SUBSTITUTE(rawrtf!A679,\"TFPTAG\"&tagflag!D679,\"\")),\"TFPSTR\"&strflag!B679,strflag!D679),IF(tagflag!B679=\"NOTAG\",rawrtf!A679,SUBSTITUTE(rawrtf!A679,\"TFPTAG\"&tagflag!D679,\"\"))),\"\")","v":""}]
[{"$f":"IF(tagflag!A680=1,IF(strflag!A680=1,SUBSTITUTE(IF(tagflag!B680=\"NOTAG\",rawrtf!A680,SUBSTITUTE(rawrtf!A680,\"TFPTAG\"&tagflag!D680,\"\")),\"TFPSTR\"&strflag!B680,strflag!D680),IF(tagflag!B680=\"NOTAG\",rawrtf!A680,SUBSTITUTE(rawrtf!A680,\"TFPTAG\"&tagflag!D680,\"\"))),\"\")","v":""}]
[{"$f":"IF(tagflag!A681=1,IF(strflag!A681=1,SUBSTITUTE(IF(tagflag!B681=\"NOTAG\",rawrtf!A681,SUBSTITUTE(rawrtf!A681,\"TFPTAG\"&tagflag!D681,\"\")),\"TFPSTR\"&strflag!B681,strflag!D681),IF(tagflag!B681=\"NOTAG\",rawrtf!A681,SUBSTITUTE(rawrtf!A681,\"TFPTAG\"&tagflag!D681,\"\"))),\"\")","v":""}]
[{"$f":"IF(tagflag!A682=1,IF(strflag!A682=1,SUBSTITUTE(IF(tagflag!B682=\"NOTAG\",rawrtf!A682,SUBSTITUTE(rawrtf!A682,\"TFPTAG\"&tagflag!D682,\"\")),\"TFPSTR\"&strflag!B682,strflag!D682),IF(tagflag!B682=\"NOTAG\",rawrtf!A682,SUBSTITUTE(rawrtf!A682,\"TFPTAG\"&tagflag!D682,\"\"))),\"\")","v":"\\par }\\pard\\plain \\s1\\ql \\li360\\ri0\\sb240\\sa60\\keepn\\widctlpar\\aspalpha\\aspnum\\faauto\\outlinelevel0\\adjustright\\rin0\\lin360\\itap0 \\b\\f1\\fs32\\lang2057\\langfe1033\\kerning32\\cgrid\\langnp2057\\langfenp1033 {Budget"}]
[{"$f":"IF(tagflag!A683=1,IF(strflag!A683=1,SUBSTITUTE(IF(tagflag!B683=\"NOTAG\",rawrtf!A683,SUBSTITUTE(rawrtf!A683,\"TFPTAG\"&tagflag!D683,\"\")),\"TFPSTR\"&strflag!B683,strflag!D683),IF(tagflag!B683=\"NOTAG\",rawrtf!A683,SUBSTITUTE(rawrtf!A683,\"TFPTAG\"&tagflag!D683,\"\"))),\"\")","v":"\\par }\\pard\\plain \\s5\\ql \\li357\\ri0\\sb120\\sa240\\keepn\\widctlpar\\brdrb\\brdrs\\brdrw10\\brsp20 \\aspalpha\\aspnum\\faauto\\outlinelevel4\\adjustright\\rin0\\lin357\\itap0 \\b\\f29\\fs20\\lang2057\\langfe1033\\cgrid\\langnp2057\\langfenp1033 {TOTAL BUDGET (Pounds)                                     £0"}]
[{"$f":"IF(tagflag!A684=1,IF(strflag!A684=1,SUBSTITUTE(IF(tagflag!B684=\"NOTAG\",rawrtf!A684,SUBSTITUTE(rawrtf!A684,\"TFPTAG\"&tagflag!D684,\"\")),\"TFPSTR\"&strflag!B684,strflag!D684),IF(tagflag!B684=\"NOTAG\",rawrtf!A684,SUBSTITUTE(rawrtf!A684,\"TFPTAG\"&tagflag!D684,\"\"))),\"\")","v":""}]
[{"$f":"IF(tagflag!A685=1,IF(strflag!A685=1,SUBSTITUTE(IF(tagflag!B685=\"NOTAG\",rawrtf!A685,SUBSTITUTE(rawrtf!A685,\"TFPTAG\"&tagflag!D685,\"\")),\"TFPSTR\"&strflag!B685,strflag!D685),IF(tagflag!B685=\"NOTAG\",rawrtf!A685,SUBSTITUTE(rawrtf!A685,\"TFPTAG\"&tagflag!D685,\"\"))),\"\")","v":""}]
[{"$f":"IF(tagflag!A686=1,IF(strflag!A686=1,SUBSTITUTE(IF(tagflag!B686=\"NOTAG\",rawrtf!A686,SUBSTITUTE(rawrtf!A686,\"TFPTAG\"&tagflag!D686,\"\")),\"TFPSTR\"&strflag!B686,strflag!D686),IF(tagflag!B686=\"NOTAG\",rawrtf!A686,SUBSTITUTE(rawrtf!A686,\"TFPTAG\"&tagflag!D686,\"\"))),\"\")","v":""}]
[{"$f":"IF(tagflag!A687=1,IF(strflag!A687=1,SUBSTITUTE(IF(tagflag!B687=\"NOTAG\",rawrtf!A687,SUBSTITUTE(rawrtf!A687,\"TFPTAG\"&tagflag!D687,\"\")),\"TFPSTR\"&strflag!B687,strflag!D687),IF(tagflag!B687=\"NOTAG\",rawrtf!A687,SUBSTITUTE(rawrtf!A687,\"TFPTAG\"&tagflag!D687,\"\"))),\"\")","v":""}]
[{"$f":"IF(tagflag!A688=1,IF(strflag!A688=1,SUBSTITUTE(IF(tagflag!B688=\"NOTAG\",rawrtf!A688,SUBSTITUTE(rawrtf!A688,\"TFPTAG\"&tagflag!D688,\"\")),\"TFPSTR\"&strflag!B688,strflag!D688),IF(tagflag!B688=\"NOTAG\",rawrtf!A688,SUBSTITUTE(rawrtf!A688,\"TFPTAG\"&tagflag!D688,\"\"))),\"\")","v":""}]
[{"$f":"IF(tagflag!A689=1,IF(strflag!A689=1,SUBSTITUTE(IF(tagflag!B689=\"NOTAG\",rawrtf!A689,SUBSTITUTE(rawrtf!A689,\"TFPTAG\"&tagflag!D689,\"\")),\"TFPSTR\"&strflag!B689,strflag!D689),IF(tagflag!B689=\"NOTAG\",rawrtf!A689,SUBSTITUTE(rawrtf!A689,\"TFPTAG\"&tagflag!D689,\"\"))),\"\")","v":""}]
[{"$f":"IF(tagflag!A690=1,IF(strflag!A690=1,SUBSTITUTE(IF(tagflag!B690=\"NOTAG\",rawrtf!A690,SUBSTITUTE(rawrtf!A690,\"TFPTAG\"&tagflag!D690,\"\")),\"TFPSTR\"&strflag!B690,strflag!D690),IF(tagflag!B690=\"NOTAG\",rawrtf!A690,SUBSTITUTE(rawrtf!A690,\"TFPTAG\"&tagflag!D690,\"\"))),\"\")","v":""}]
[{"$f":"IF(tagflag!A691=1,IF(strflag!A691=1,SUBSTITUTE(IF(tagflag!B691=\"NOTAG\",rawrtf!A691,SUBSTITUTE(rawrtf!A691,\"TFPTAG\"&tagflag!D691,\"\")),\"TFPSTR\"&strflag!B691,strflag!D691),IF(tagflag!B691=\"NOTAG\",rawrtf!A691,SUBSTITUTE(rawrtf!A691,\"TFPTAG\"&tagflag!D691,\"\"))),\"\")","v":""}]
[{"$f":"IF(tagflag!A692=1,IF(strflag!A692=1,SUBSTITUTE(IF(tagflag!B692=\"NOTAG\",rawrtf!A692,SUBSTITUTE(rawrtf!A692,\"TFPTAG\"&tagflag!D692,\"\")),\"TFPSTR\"&strflag!B692,strflag!D692),IF(tagflag!B692=\"NOTAG\",rawrtf!A692,SUBSTITUTE(rawrtf!A692,\"TFPTAG\"&tagflag!D692,\"\"))),\"\")","v":""}]
[{"$f":"IF(tagflag!A693=1,IF(strflag!A693=1,SUBSTITUTE(IF(tagflag!B693=\"NOTAG\",rawrtf!A693,SUBSTITUTE(rawrtf!A693,\"TFPTAG\"&tagflag!D693,\"\")),\"TFPSTR\"&strflag!B693,strflag!D693),IF(tagflag!B693=\"NOTAG\",rawrtf!A693,SUBSTITUTE(rawrtf!A693,\"TFPTAG\"&tagflag!D693,\"\"))),\"\")","v":""}]
[{"$f":"IF(tagflag!A694=1,IF(strflag!A694=1,SUBSTITUTE(IF(tagflag!B694=\"NOTAG\",rawrtf!A694,SUBSTITUTE(rawrtf!A694,\"TFPTAG\"&tagflag!D694,\"\")),\"TFPSTR\"&strflag!B694,strflag!D694),IF(tagflag!B694=\"NOTAG\",rawrtf!A694,SUBSTITUTE(rawrtf!A694,\"TFPTAG\"&tagflag!D694,\"\"))),\"\")","v":""}]
[{"$f":"IF(tagflag!A695=1,IF(strflag!A695=1,SUBSTITUTE(IF(tagflag!B695=\"NOTAG\",rawrtf!A695,SUBSTITUTE(rawrtf!A695,\"TFPTAG\"&tagflag!D695,\"\")),\"TFPSTR\"&strflag!B695,strflag!D695),IF(tagflag!B695=\"NOTAG\",rawrtf!A695,SUBSTITUTE(rawrtf!A695,\"TFPTAG\"&tagflag!D695,\"\"))),\"\")","v":""}]
[{"$f":"IF(tagflag!A696=1,IF(strflag!A696=1,SUBSTITUTE(IF(tagflag!B696=\"NOTAG\",rawrtf!A696,SUBSTITUTE(rawrtf!A696,\"TFPTAG\"&tagflag!D696,\"\")),\"TFPSTR\"&strflag!B696,strflag!D696),IF(tagflag!B696=\"NOTAG\",rawrtf!A696,SUBSTITUTE(rawrtf!A696,\"TFPTAG\"&tagflag!D696,\"\"))),\"\")","v":""}]
[{"$f":"IF(tagflag!A697=1,IF(strflag!A697=1,SUBSTITUTE(IF(tagflag!B697=\"NOTAG\",rawrtf!A697,SUBSTITUTE(rawrtf!A697,\"TFPTAG\"&tagflag!D697,\"\")),\"TFPSTR\"&strflag!B697,strflag!D697),IF(tagflag!B697=\"NOTAG\",rawrtf!A697,SUBSTITUTE(rawrtf!A697,\"TFPTAG\"&tagflag!D697,\"\"))),\"\")","v":""}]
[{"$f":"IF(tagflag!A698=1,IF(strflag!A698=1,SUBSTITUTE(IF(tagflag!B698=\"NOTAG\",rawrtf!A698,SUBSTITUTE(rawrtf!A698,\"TFPTAG\"&tagflag!D698,\"\")),\"TFPSTR\"&strflag!B698,strflag!D698),IF(tagflag!B698=\"NOTAG\",rawrtf!A698,SUBSTITUTE(rawrtf!A698,\"TFPTAG\"&tagflag!D698,\"\"))),\"\")","v":""}]
[{"$f":"IF(tagflag!A699=1,IF(strflag!A699=1,SUBSTITUTE(IF(tagflag!B699=\"NOTAG\",rawrtf!A699,SUBSTITUTE(rawrtf!A699,\"TFPTAG\"&tagflag!D699,\"\")),\"TFPSTR\"&strflag!B699,strflag!D699),IF(tagflag!B699=\"NOTAG\",rawrtf!A699,SUBSTITUTE(rawrtf!A699,\"TFPTAG\"&tagflag!D699,\"\"))),\"\")","v":""}]
[{"$f":"IF(tagflag!A700=1,IF(strflag!A700=1,SUBSTITUTE(IF(tagflag!B700=\"NOTAG\",rawrtf!A700,SUBSTITUTE(rawrtf!A700,\"TFPTAG\"&tagflag!D700,\"\")),\"TFPSTR\"&strflag!B700,strflag!D700),IF(tagflag!B700=\"NOTAG\",rawrtf!A700,SUBSTITUTE(rawrtf!A700,\"TFPTAG\"&tagflag!D700,\"\"))),\"\")","v":""}]
[{"$f":"IF(tagflag!A701=1,IF(strflag!A701=1,SUBSTITUTE(IF(tagflag!B701=\"NOTAG\",rawrtf!A701,SUBSTITUTE(rawrtf!A701,\"TFPTAG\"&tagflag!D701,\"\")),\"TFPSTR\"&strflag!B701,strflag!D701),IF(tagflag!B701=\"NOTAG\",rawrtf!A701,SUBSTITUTE(rawrtf!A701,\"TFPTAG\"&tagflag!D701,\"\"))),\"\")","v":""}]
[{"$f":"IF(tagflag!A702=1,IF(strflag!A702=1,SUBSTITUTE(IF(tagflag!B702=\"NOTAG\",rawrtf!A702,SUBSTITUTE(rawrtf!A702,\"TFPTAG\"&tagflag!D702,\"\")),\"TFPSTR\"&strflag!B702,strflag!D702),IF(tagflag!B702=\"NOTAG\",rawrtf!A702,SUBSTITUTE(rawrtf!A702,\"TFPTAG\"&tagflag!D702,\"\"))),\"\")","v":""}]
[{"$f":"IF(tagflag!A703=1,IF(strflag!A703=1,SUBSTITUTE(IF(tagflag!B703=\"NOTAG\",rawrtf!A703,SUBSTITUTE(rawrtf!A703,\"TFPTAG\"&tagflag!D703,\"\")),\"TFPSTR\"&strflag!B703,strflag!D703),IF(tagflag!B703=\"NOTAG\",rawrtf!A703,SUBSTITUTE(rawrtf!A703,\"TFPTAG\"&tagflag!D703,\"\"))),\"\")","v":""}]
[{"$f":"IF(tagflag!A704=1,IF(strflag!A704=1,SUBSTITUTE(IF(tagflag!B704=\"NOTAG\",rawrtf!A704,SUBSTITUTE(rawrtf!A704,\"TFPTAG\"&tagflag!D704,\"\")),\"TFPSTR\"&strflag!B704,strflag!D704),IF(tagflag!B704=\"NOTAG\",rawrtf!A704,SUBSTITUTE(rawrtf!A704,\"TFPTAG\"&tagflag!D704,\"\"))),\"\")","v":""}]
[{"$f":"IF(tagflag!A705=1,IF(strflag!A705=1,SUBSTITUTE(IF(tagflag!B705=\"NOTAG\",rawrtf!A705,SUBSTITUTE(rawrtf!A705,\"TFPTAG\"&tagflag!D705,\"\")),\"TFPSTR\"&strflag!B705,strflag!D705),IF(tagflag!B705=\"NOTAG\",rawrtf!A705,SUBSTITUTE(rawrtf!A705,\"TFPTAG\"&tagflag!D705,\"\"))),\"\")","v":""}]
[{"$f":"IF(tagflag!A706=1,IF(strflag!A706=1,SUBSTITUTE(IF(tagflag!B706=\"NOTAG\",rawrtf!A706,SUBSTITUTE(rawrtf!A706,\"TFPTAG\"&tagflag!D706,\"\")),\"TFPSTR\"&strflag!B706,strflag!D706),IF(tagflag!B706=\"NOTAG\",rawrtf!A706,SUBSTITUTE(rawrtf!A706,\"TFPTAG\"&tagflag!D706,\"\"))),\"\")","v":""}]
[{"$f":"IF(tagflag!A707=1,IF(strflag!A707=1,SUBSTITUTE(IF(tagflag!B707=\"NOTAG\",rawrtf!A707,SUBSTITUTE(rawrtf!A707,\"TFPTAG\"&tagflag!D707,\"\")),\"TFPSTR\"&strflag!B707,strflag!D707),IF(tagflag!B707=\"NOTAG\",rawrtf!A707,SUBSTITUTE(rawrtf!A707,\"TFPTAG\"&tagflag!D707,\"\"))),\"\")","v":""}]
[{"$f":"IF(tagflag!A708=1,IF(strflag!A708=1,SUBSTITUTE(IF(tagflag!B708=\"NOTAG\",rawrtf!A708,SUBSTITUTE(rawrtf!A708,\"TFPTAG\"&tagflag!D708,\"\")),\"TFPSTR\"&strflag!B708,strflag!D708),IF(tagflag!B708=\"NOTAG\",rawrtf!A708,SUBSTITUTE(rawrtf!A708,\"TFPTAG\"&tagflag!D708,\"\"))),\"\")","v":""}]
[{"$f":"IF(tagflag!A709=1,IF(strflag!A709=1,SUBSTITUTE(IF(tagflag!B709=\"NOTAG\",rawrtf!A709,SUBSTITUTE(rawrtf!A709,\"TFPTAG\"&tagflag!D709,\"\")),\"TFPSTR\"&strflag!B709,strflag!D709),IF(tagflag!B709=\"NOTAG\",rawrtf!A709,SUBSTITUTE(rawrtf!A709,\"TFPTAG\"&tagflag!D709,\"\"))),\"\")","v":""}]
[{"$f":"IF(tagflag!A710=1,IF(strflag!A710=1,SUBSTITUTE(IF(tagflag!B710=\"NOTAG\",rawrtf!A710,SUBSTITUTE(rawrtf!A710,\"TFPTAG\"&tagflag!D710,\"\")),\"TFPSTR\"&strflag!B710,strflag!D710),IF(tagflag!B710=\"NOTAG\",rawrtf!A710,SUBSTITUTE(rawrtf!A710,\"TFPTAG\"&tagflag!D710,\"\"))),\"\")","v":""}]
[{"$f":"IF(tagflag!A711=1,IF(strflag!A711=1,SUBSTITUTE(IF(tagflag!B711=\"NOTAG\",rawrtf!A711,SUBSTITUTE(rawrtf!A711,\"TFPTAG\"&tagflag!D711,\"\")),\"TFPSTR\"&strflag!B711,strflag!D711),IF(tagflag!B711=\"NOTAG\",rawrtf!A711,SUBSTITUTE(rawrtf!A711,\"TFPTAG\"&tagflag!D711,\"\"))),\"\")","v":""}]
[{"$f":"IF(tagflag!A712=1,IF(strflag!A712=1,SUBSTITUTE(IF(tagflag!B712=\"NOTAG\",rawrtf!A712,SUBSTITUTE(rawrtf!A712,\"TFPTAG\"&tagflag!D712,\"\")),\"TFPSTR\"&strflag!B712,strflag!D712),IF(tagflag!B712=\"NOTAG\",rawrtf!A712,SUBSTITUTE(rawrtf!A712,\"TFPTAG\"&tagflag!D712,\"\"))),\"\")","v":""}]
[{"$f":"IF(tagflag!A713=1,IF(strflag!A713=1,SUBSTITUTE(IF(tagflag!B713=\"NOTAG\",rawrtf!A713,SUBSTITUTE(rawrtf!A713,\"TFPTAG\"&tagflag!D713,\"\")),\"TFPSTR\"&strflag!B713,strflag!D713),IF(tagflag!B713=\"NOTAG\",rawrtf!A713,SUBSTITUTE(rawrtf!A713,\"TFPTAG\"&tagflag!D713,\"\"))),\"\")","v":""}]
[{"$f":"IF(tagflag!A714=1,IF(strflag!A714=1,SUBSTITUTE(IF(tagflag!B714=\"NOTAG\",rawrtf!A714,SUBSTITUTE(rawrtf!A714,\"TFPTAG\"&tagflag!D714,\"\")),\"TFPSTR\"&strflag!B714,strflag!D714),IF(tagflag!B714=\"NOTAG\",rawrtf!A714,SUBSTITUTE(rawrtf!A714,\"TFPTAG\"&tagflag!D714,\"\"))),\"\")","v":""}]
[{"$f":"IF(tagflag!A715=1,IF(strflag!A715=1,SUBSTITUTE(IF(tagflag!B715=\"NOTAG\",rawrtf!A715,SUBSTITUTE(rawrtf!A715,\"TFPTAG\"&tagflag!D715,\"\")),\"TFPSTR\"&strflag!B715,strflag!D715),IF(tagflag!B715=\"NOTAG\",rawrtf!A715,SUBSTITUTE(rawrtf!A715,\"TFPTAG\"&tagflag!D715,\"\"))),\"\")","v":""}]
[{"$f":"IF(tagflag!A716=1,IF(strflag!A716=1,SUBSTITUTE(IF(tagflag!B716=\"NOTAG\",rawrtf!A716,SUBSTITUTE(rawrtf!A716,\"TFPTAG\"&tagflag!D716,\"\")),\"TFPSTR\"&strflag!B716,strflag!D716),IF(tagflag!B716=\"NOTAG\",rawrtf!A716,SUBSTITUTE(rawrtf!A716,\"TFPTAG\"&tagflag!D716,\"\"))),\"\")","v":""}]
[{"$f":"IF(tagflag!A717=1,IF(strflag!A717=1,SUBSTITUTE(IF(tagflag!B717=\"NOTAG\",rawrtf!A717,SUBSTITUTE(rawrtf!A717,\"TFPTAG\"&tagflag!D717,\"\")),\"TFPSTR\"&strflag!B717,strflag!D717),IF(tagflag!B717=\"NOTAG\",rawrtf!A717,SUBSTITUTE(rawrtf!A717,\"TFPTAG\"&tagflag!D717,\"\"))),\"\")","v":""}]
[{"$f":"IF(tagflag!A718=1,IF(strflag!A718=1,SUBSTITUTE(IF(tagflag!B718=\"NOTAG\",rawrtf!A718,SUBSTITUTE(rawrtf!A718,\"TFPTAG\"&tagflag!D718,\"\")),\"TFPSTR\"&strflag!B718,strflag!D718),IF(tagflag!B718=\"NOTAG\",rawrtf!A718,SUBSTITUTE(rawrtf!A718,\"TFPTAG\"&tagflag!D718,\"\"))),\"\")","v":""}]
[{"$f":"IF(tagflag!A719=1,IF(strflag!A719=1,SUBSTITUTE(IF(tagflag!B719=\"NOTAG\",rawrtf!A719,SUBSTITUTE(rawrtf!A719,\"TFPTAG\"&tagflag!D719,\"\")),\"TFPSTR\"&strflag!B719,strflag!D719),IF(tagflag!B719=\"NOTAG\",rawrtf!A719,SUBSTITUTE(rawrtf!A719,\"TFPTAG\"&tagflag!D719,\"\"))),\"\")","v":""}]
[{"$f":"IF(tagflag!A720=1,IF(strflag!A720=1,SUBSTITUTE(IF(tagflag!B720=\"NOTAG\",rawrtf!A720,SUBSTITUTE(rawrtf!A720,\"TFPTAG\"&tagflag!D720,\"\")),\"TFPSTR\"&strflag!B720,strflag!D720),IF(tagflag!B720=\"NOTAG\",rawrtf!A720,SUBSTITUTE(rawrtf!A720,\"TFPTAG\"&tagflag!D720,\"\"))),\"\")","v":""}]
[{"$f":"IF(tagflag!A721=1,IF(strflag!A721=1,SUBSTITUTE(IF(tagflag!B721=\"NOTAG\",rawrtf!A721,SUBSTITUTE(rawrtf!A721,\"TFPTAG\"&tagflag!D721,\"\")),\"TFPSTR\"&strflag!B721,strflag!D721),IF(tagflag!B721=\"NOTAG\",rawrtf!A721,SUBSTITUTE(rawrtf!A721,\"TFPTAG\"&tagflag!D721,\"\"))),\"\")","v":""}]
[{"$f":"IF(tagflag!A722=1,IF(strflag!A722=1,SUBSTITUTE(IF(tagflag!B722=\"NOTAG\",rawrtf!A722,SUBSTITUTE(rawrtf!A722,\"TFPTAG\"&tagflag!D722,\"\")),\"TFPSTR\"&strflag!B722,strflag!D722),IF(tagflag!B722=\"NOTAG\",rawrtf!A722,SUBSTITUTE(rawrtf!A722,\"TFPTAG\"&tagflag!D722,\"\"))),\"\")","v":""}]
[{"$f":"IF(tagflag!A723=1,IF(strflag!A723=1,SUBSTITUTE(IF(tagflag!B723=\"NOTAG\",rawrtf!A723,SUBSTITUTE(rawrtf!A723,\"TFPTAG\"&tagflag!D723,\"\")),\"TFPSTR\"&strflag!B723,strflag!D723),IF(tagflag!B723=\"NOTAG\",rawrtf!A723,SUBSTITUTE(rawrtf!A723,\"TFPTAG\"&tagflag!D723,\"\"))),\"\")","v":""}]
[{"$f":"IF(tagflag!A724=1,IF(strflag!A724=1,SUBSTITUTE(IF(tagflag!B724=\"NOTAG\",rawrtf!A724,SUBSTITUTE(rawrtf!A724,\"TFPTAG\"&tagflag!D724,\"\")),\"TFPSTR\"&strflag!B724,strflag!D724),IF(tagflag!B724=\"NOTAG\",rawrtf!A724,SUBSTITUTE(rawrtf!A724,\"TFPTAG\"&tagflag!D724,\"\"))),\"\")","v":""}]
[{"$f":"IF(tagflag!A725=1,IF(strflag!A725=1,SUBSTITUTE(IF(tagflag!B725=\"NOTAG\",rawrtf!A725,SUBSTITUTE(rawrtf!A725,\"TFPTAG\"&tagflag!D725,\"\")),\"TFPSTR\"&strflag!B725,strflag!D725),IF(tagflag!B725=\"NOTAG\",rawrtf!A725,SUBSTITUTE(rawrtf!A725,\"TFPTAG\"&tagflag!D725,\"\"))),\"\")","v":""}]
[{"$f":"IF(tagflag!A726=1,IF(strflag!A726=1,SUBSTITUTE(IF(tagflag!B726=\"NOTAG\",rawrtf!A726,SUBSTITUTE(rawrtf!A726,\"TFPTAG\"&tagflag!D726,\"\")),\"TFPSTR\"&strflag!B726,strflag!D726),IF(tagflag!B726=\"NOTAG\",rawrtf!A726,SUBSTITUTE(rawrtf!A726,\"TFPTAG\"&tagflag!D726,\"\"))),\"\")","v":""}]
[{"$f":"IF(tagflag!A727=1,IF(strflag!A727=1,SUBSTITUTE(IF(tagflag!B727=\"NOTAG\",rawrtf!A727,SUBSTITUTE(rawrtf!A727,\"TFPTAG\"&tagflag!D727,\"\")),\"TFPSTR\"&strflag!B727,strflag!D727),IF(tagflag!B727=\"NOTAG\",rawrtf!A727,SUBSTITUTE(rawrtf!A727,\"TFPTAG\"&tagflag!D727,\"\"))),\"\")","v":""}]
[{"$f":"IF(tagflag!A728=1,IF(strflag!A728=1,SUBSTITUTE(IF(tagflag!B728=\"NOTAG\",rawrtf!A728,SUBSTITUTE(rawrtf!A728,\"TFPTAG\"&tagflag!D728,\"\")),\"TFPSTR\"&strflag!B728,strflag!D728),IF(tagflag!B728=\"NOTAG\",rawrtf!A728,SUBSTITUTE(rawrtf!A728,\"TFPTAG\"&tagflag!D728,\"\"))),\"\")","v":""}]
[{"$f":"IF(tagflag!A729=1,IF(strflag!A729=1,SUBSTITUTE(IF(tagflag!B729=\"NOTAG\",rawrtf!A729,SUBSTITUTE(rawrtf!A729,\"TFPTAG\"&tagflag!D729,\"\")),\"TFPSTR\"&strflag!B729,strflag!D729),IF(tagflag!B729=\"NOTAG\",rawrtf!A729,SUBSTITUTE(rawrtf!A729,\"TFPTAG\"&tagflag!D729,\"\"))),\"\")","v":""}]
[{"$f":"IF(tagflag!A730=1,IF(strflag!A730=1,SUBSTITUTE(IF(tagflag!B730=\"NOTAG\",rawrtf!A730,SUBSTITUTE(rawrtf!A730,\"TFPTAG\"&tagflag!D730,\"\")),\"TFPSTR\"&strflag!B730,strflag!D730),IF(tagflag!B730=\"NOTAG\",rawrtf!A730,SUBSTITUTE(rawrtf!A730,\"TFPTAG\"&tagflag!D730,\"\"))),\"\")","v":""}]
[{"$f":"IF(tagflag!A731=1,IF(strflag!A731=1,SUBSTITUTE(IF(tagflag!B731=\"NOTAG\",rawrtf!A731,SUBSTITUTE(rawrtf!A731,\"TFPTAG\"&tagflag!D731,\"\")),\"TFPSTR\"&strflag!B731,strflag!D731),IF(tagflag!B731=\"NOTAG\",rawrtf!A731,SUBSTITUTE(rawrtf!A731,\"TFPTAG\"&tagflag!D731,\"\"))),\"\")","v":""}]
[{"$f":"IF(tagflag!A732=1,IF(strflag!A732=1,SUBSTITUTE(IF(tagflag!B732=\"NOTAG\",rawrtf!A732,SUBSTITUTE(rawrtf!A732,\"TFPTAG\"&tagflag!D732,\"\")),\"TFPSTR\"&strflag!B732,strflag!D732),IF(tagflag!B732=\"NOTAG\",rawrtf!A732,SUBSTITUTE(rawrtf!A732,\"TFPTAG\"&tagflag!D732,\"\"))),\"\")","v":""}]
[{"$f":"IF(tagflag!A733=1,IF(strflag!A733=1,SUBSTITUTE(IF(tagflag!B733=\"NOTAG\",rawrtf!A733,SUBSTITUTE(rawrtf!A733,\"TFPTAG\"&tagflag!D733,\"\")),\"TFPSTR\"&strflag!B733,strflag!D733),IF(tagflag!B733=\"NOTAG\",rawrtf!A733,SUBSTITUTE(rawrtf!A733,\"TFPTAG\"&tagflag!D733,\"\"))),\"\")","v":""}]
[{"$f":"IF(tagflag!A734=1,IF(strflag!A734=1,SUBSTITUTE(IF(tagflag!B734=\"NOTAG\",rawrtf!A734,SUBSTITUTE(rawrtf!A734,\"TFPTAG\"&tagflag!D734,\"\")),\"TFPSTR\"&strflag!B734,strflag!D734),IF(tagflag!B734=\"NOTAG\",rawrtf!A734,SUBSTITUTE(rawrtf!A734,\"TFPTAG\"&tagflag!D734,\"\"))),\"\")","v":""}]
[{"$f":"IF(tagflag!A735=1,IF(strflag!A735=1,SUBSTITUTE(IF(tagflag!B735=\"NOTAG\",rawrtf!A735,SUBSTITUTE(rawrtf!A735,\"TFPTAG\"&tagflag!D735,\"\")),\"TFPSTR\"&strflag!B735,strflag!D735),IF(tagflag!B735=\"NOTAG\",rawrtf!A735,SUBSTITUTE(rawrtf!A735,\"TFPTAG\"&tagflag!D735,\"\"))),\"\")","v":""}]
[{"$f":"IF(tagflag!A736=1,IF(strflag!A736=1,SUBSTITUTE(IF(tagflag!B736=\"NOTAG\",rawrtf!A736,SUBSTITUTE(rawrtf!A736,\"TFPTAG\"&tagflag!D736,\"\")),\"TFPSTR\"&strflag!B736,strflag!D736),IF(tagflag!B736=\"NOTAG\",rawrtf!A736,SUBSTITUTE(rawrtf!A736,\"TFPTAG\"&tagflag!D736,\"\"))),\"\")","v":""}]
[{"$f":"IF(tagflag!A737=1,IF(strflag!A737=1,SUBSTITUTE(IF(tagflag!B737=\"NOTAG\",rawrtf!A737,SUBSTITUTE(rawrtf!A737,\"TFPTAG\"&tagflag!D737,\"\")),\"TFPSTR\"&strflag!B737,strflag!D737),IF(tagflag!B737=\"NOTAG\",rawrtf!A737,SUBSTITUTE(rawrtf!A737,\"TFPTAG\"&tagflag!D737,\"\"))),\"\")","v":""}]
[{"$f":"IF(tagflag!A738=1,IF(strflag!A738=1,SUBSTITUTE(IF(tagflag!B738=\"NOTAG\",rawrtf!A738,SUBSTITUTE(rawrtf!A738,\"TFPTAG\"&tagflag!D738,\"\")),\"TFPSTR\"&strflag!B738,strflag!D738),IF(tagflag!B738=\"NOTAG\",rawrtf!A738,SUBSTITUTE(rawrtf!A738,\"TFPTAG\"&tagflag!D738,\"\"))),\"\")","v":""}]
[{"$f":"IF(tagflag!A739=1,IF(strflag!A739=1,SUBSTITUTE(IF(tagflag!B739=\"NOTAG\",rawrtf!A739,SUBSTITUTE(rawrtf!A739,\"TFPTAG\"&tagflag!D739,\"\")),\"TFPSTR\"&strflag!B739,strflag!D739),IF(tagflag!B739=\"NOTAG\",rawrtf!A739,SUBSTITUTE(rawrtf!A739,\"TFPTAG\"&tagflag!D739,\"\"))),\"\")","v":""}]
[{"$f":"IF(tagflag!A740=1,IF(strflag!A740=1,SUBSTITUTE(IF(tagflag!B740=\"NOTAG\",rawrtf!A740,SUBSTITUTE(rawrtf!A740,\"TFPTAG\"&tagflag!D740,\"\")),\"TFPSTR\"&strflag!B740,strflag!D740),IF(tagflag!B740=\"NOTAG\",rawrtf!A740,SUBSTITUTE(rawrtf!A740,\"TFPTAG\"&tagflag!D740,\"\"))),\"\")","v":""}]
[{"$f":"IF(tagflag!A741=1,IF(strflag!A741=1,SUBSTITUTE(IF(tagflag!B741=\"NOTAG\",rawrtf!A741,SUBSTITUTE(rawrtf!A741,\"TFPTAG\"&tagflag!D741,\"\")),\"TFPSTR\"&strflag!B741,strflag!D741),IF(tagflag!B741=\"NOTAG\",rawrtf!A741,SUBSTITUTE(rawrtf!A741,\"TFPTAG\"&tagflag!D741,\"\"))),\"\")","v":""}]
[{"$f":"IF(tagflag!A742=1,IF(strflag!A742=1,SUBSTITUTE(IF(tagflag!B742=\"NOTAG\",rawrtf!A742,SUBSTITUTE(rawrtf!A742,\"TFPTAG\"&tagflag!D742,\"\")),\"TFPSTR\"&strflag!B742,strflag!D742),IF(tagflag!B742=\"NOTAG\",rawrtf!A742,SUBSTITUTE(rawrtf!A742,\"TFPTAG\"&tagflag!D742,\"\"))),\"\")","v":""}]
[{"$f":"IF(tagflag!A743=1,IF(strflag!A743=1,SUBSTITUTE(IF(tagflag!B743=\"NOTAG\",rawrtf!A743,SUBSTITUTE(rawrtf!A743,\"TFPTAG\"&tagflag!D743,\"\")),\"TFPSTR\"&strflag!B743,strflag!D743),IF(tagflag!B743=\"NOTAG\",rawrtf!A743,SUBSTITUTE(rawrtf!A743,\"TFPTAG\"&tagflag!D743,\"\"))),\"\")","v":""}]
[{"$f":"IF(tagflag!A744=1,IF(strflag!A744=1,SUBSTITUTE(IF(tagflag!B744=\"NOTAG\",rawrtf!A744,SUBSTITUTE(rawrtf!A744,\"TFPTAG\"&tagflag!D744,\"\")),\"TFPSTR\"&strflag!B744,strflag!D744),IF(tagflag!B744=\"NOTAG\",rawrtf!A744,SUBSTITUTE(rawrtf!A744,\"TFPTAG\"&tagflag!D744,\"\"))),\"\")","v":""}]
[{"$f":"IF(tagflag!A745=1,IF(strflag!A745=1,SUBSTITUTE(IF(tagflag!B745=\"NOTAG\",rawrtf!A745,SUBSTITUTE(rawrtf!A745,\"TFPTAG\"&tagflag!D745,\"\")),\"TFPSTR\"&strflag!B745,strflag!D745),IF(tagflag!B745=\"NOTAG\",rawrtf!A745,SUBSTITUTE(rawrtf!A745,\"TFPTAG\"&tagflag!D745,\"\"))),\"\")","v":""}]
[{"$f":"IF(tagflag!A746=1,IF(strflag!A746=1,SUBSTITUTE(IF(tagflag!B746=\"NOTAG\",rawrtf!A746,SUBSTITUTE(rawrtf!A746,\"TFPTAG\"&tagflag!D746,\"\")),\"TFPSTR\"&strflag!B746,strflag!D746),IF(tagflag!B746=\"NOTAG\",rawrtf!A746,SUBSTITUTE(rawrtf!A746,\"TFPTAG\"&tagflag!D746,\"\"))),\"\")","v":""}]
[{"$f":"IF(tagflag!A747=1,IF(strflag!A747=1,SUBSTITUTE(IF(tagflag!B747=\"NOTAG\",rawrtf!A747,SUBSTITUTE(rawrtf!A747,\"TFPTAG\"&tagflag!D747,\"\")),\"TFPSTR\"&strflag!B747,strflag!D747),IF(tagflag!B747=\"NOTAG\",rawrtf!A747,SUBSTITUTE(rawrtf!A747,\"TFPTAG\"&tagflag!D747,\"\"))),\"\")","v":""}]
[{"$f":"IF(tagflag!A748=1,IF(strflag!A748=1,SUBSTITUTE(IF(tagflag!B748=\"NOTAG\",rawrtf!A748,SUBSTITUTE(rawrtf!A748,\"TFPTAG\"&tagflag!D748,\"\")),\"TFPSTR\"&strflag!B748,strflag!D748),IF(tagflag!B748=\"NOTAG\",rawrtf!A748,SUBSTITUTE(rawrtf!A748,\"TFPTAG\"&tagflag!D748,\"\"))),\"\")","v":""}]
[{"$f":"IF(tagflag!A749=1,IF(strflag!A749=1,SUBSTITUTE(IF(tagflag!B749=\"NOTAG\",rawrtf!A749,SUBSTITUTE(rawrtf!A749,\"TFPTAG\"&tagflag!D749,\"\")),\"TFPSTR\"&strflag!B749,strflag!D749),IF(tagflag!B749=\"NOTAG\",rawrtf!A749,SUBSTITUTE(rawrtf!A749,\"TFPTAG\"&tagflag!D749,\"\"))),\"\")","v":""}]
[{"$f":"IF(tagflag!A750=1,IF(strflag!A750=1,SUBSTITUTE(IF(tagflag!B750=\"NOTAG\",rawrtf!A750,SUBSTITUTE(rawrtf!A750,\"TFPTAG\"&tagflag!D750,\"\")),\"TFPSTR\"&strflag!B750,strflag!D750),IF(tagflag!B750=\"NOTAG\",rawrtf!A750,SUBSTITUTE(rawrtf!A750,\"TFPTAG\"&tagflag!D750,\"\"))),\"\")","v":""}]
[{"$f":"IF(tagflag!A751=1,IF(strflag!A751=1,SUBSTITUTE(IF(tagflag!B751=\"NOTAG\",rawrtf!A751,SUBSTITUTE(rawrtf!A751,\"TFPTAG\"&tagflag!D751,\"\")),\"TFPSTR\"&strflag!B751,strflag!D751),IF(tagflag!B751=\"NOTAG\",rawrtf!A751,SUBSTITUTE(rawrtf!A751,\"TFPTAG\"&tagflag!D751,\"\"))),\"\")","v":""}]
[{"$f":"IF(tagflag!A752=1,IF(strflag!A752=1,SUBSTITUTE(IF(tagflag!B752=\"NOTAG\",rawrtf!A752,SUBSTITUTE(rawrtf!A752,\"TFPTAG\"&tagflag!D752,\"\")),\"TFPSTR\"&strflag!B752,strflag!D752),IF(tagflag!B752=\"NOTAG\",rawrtf!A752,SUBSTITUTE(rawrtf!A752,\"TFPTAG\"&tagflag!D752,\"\"))),\"\")","v":""}]
[{"$f":"IF(tagflag!A753=1,IF(strflag!A753=1,SUBSTITUTE(IF(tagflag!B753=\"NOTAG\",rawrtf!A753,SUBSTITUTE(rawrtf!A753,\"TFPTAG\"&tagflag!D753,\"\")),\"TFPSTR\"&strflag!B753,strflag!D753),IF(tagflag!B753=\"NOTAG\",rawrtf!A753,SUBSTITUTE(rawrtf!A753,\"TFPTAG\"&tagflag!D753,\"\"))),\"\")","v":""}]
[{"$f":"IF(tagflag!A754=1,IF(strflag!A754=1,SUBSTITUTE(IF(tagflag!B754=\"NOTAG\",rawrtf!A754,SUBSTITUTE(rawrtf!A754,\"TFPTAG\"&tagflag!D754,\"\")),\"TFPSTR\"&strflag!B754,strflag!D754),IF(tagflag!B754=\"NOTAG\",rawrtf!A754,SUBSTITUTE(rawrtf!A754,\"TFPTAG\"&tagflag!D754,\"\"))),\"\")","v":""}]
[{"$f":"IF(tagflag!A755=1,IF(strflag!A755=1,SUBSTITUTE(IF(tagflag!B755=\"NOTAG\",rawrtf!A755,SUBSTITUTE(rawrtf!A755,\"TFPTAG\"&tagflag!D755,\"\")),\"TFPSTR\"&strflag!B755,strflag!D755),IF(tagflag!B755=\"NOTAG\",rawrtf!A755,SUBSTITUTE(rawrtf!A755,\"TFPTAG\"&tagflag!D755,\"\"))),\"\")","v":""}]
[{"$f":"IF(tagflag!A756=1,IF(strflag!A756=1,SUBSTITUTE(IF(tagflag!B756=\"NOTAG\",rawrtf!A756,SUBSTITUTE(rawrtf!A756,\"TFPTAG\"&tagflag!D756,\"\")),\"TFPSTR\"&strflag!B756,strflag!D756),IF(tagflag!B756=\"NOTAG\",rawrtf!A756,SUBSTITUTE(rawrtf!A756,\"TFPTAG\"&tagflag!D756,\"\"))),\"\")","v":""}]
[{"$f":"IF(tagflag!A757=1,IF(strflag!A757=1,SUBSTITUTE(IF(tagflag!B757=\"NOTAG\",rawrtf!A757,SUBSTITUTE(rawrtf!A757,\"TFPTAG\"&tagflag!D757,\"\")),\"TFPSTR\"&strflag!B757,strflag!D757),IF(tagflag!B757=\"NOTAG\",rawrtf!A757,SUBSTITUTE(rawrtf!A757,\"TFPTAG\"&tagflag!D757,\"\"))),\"\")","v":""}]
[{"$f":"IF(tagflag!A758=1,IF(strflag!A758=1,SUBSTITUTE(IF(tagflag!B758=\"NOTAG\",rawrtf!A758,SUBSTITUTE(rawrtf!A758,\"TFPTAG\"&tagflag!D758,\"\")),\"TFPSTR\"&strflag!B758,strflag!D758),IF(tagflag!B758=\"NOTAG\",rawrtf!A758,SUBSTITUTE(rawrtf!A758,\"TFPTAG\"&tagflag!D758,\"\"))),\"\")","v":""}]
[{"$f":"IF(tagflag!A759=1,IF(strflag!A759=1,SUBSTITUTE(IF(tagflag!B759=\"NOTAG\",rawrtf!A759,SUBSTITUTE(rawrtf!A759,\"TFPTAG\"&tagflag!D759,\"\")),\"TFPSTR\"&strflag!B759,strflag!D759),IF(tagflag!B759=\"NOTAG\",rawrtf!A759,SUBSTITUTE(rawrtf!A759,\"TFPTAG\"&tagflag!D759,\"\"))),\"\")","v":""}]
[{"$f":"IF(tagflag!A760=1,IF(strflag!A760=1,SUBSTITUTE(IF(tagflag!B760=\"NOTAG\",rawrtf!A760,SUBSTITUTE(rawrtf!A760,\"TFPTAG\"&tagflag!D760,\"\")),\"TFPSTR\"&strflag!B760,strflag!D760),IF(tagflag!B760=\"NOTAG\",rawrtf!A760,SUBSTITUTE(rawrtf!A760,\"TFPTAG\"&tagflag!D760,\"\"))),\"\")","v":""}]
[{"$f":"IF(tagflag!A761=1,IF(strflag!A761=1,SUBSTITUTE(IF(tagflag!B761=\"NOTAG\",rawrtf!A761,SUBSTITUTE(rawrtf!A761,\"TFPTAG\"&tagflag!D761,\"\")),\"TFPSTR\"&strflag!B761,strflag!D761),IF(tagflag!B761=\"NOTAG\",rawrtf!A761,SUBSTITUTE(rawrtf!A761,\"TFPTAG\"&tagflag!D761,\"\"))),\"\")","v":""}]
[{"$f":"IF(tagflag!A762=1,IF(strflag!A762=1,SUBSTITUTE(IF(tagflag!B762=\"NOTAG\",rawrtf!A762,SUBSTITUTE(rawrtf!A762,\"TFPTAG\"&tagflag!D762,\"\")),\"TFPSTR\"&strflag!B762,strflag!D762),IF(tagflag!B762=\"NOTAG\",rawrtf!A762,SUBSTITUTE(rawrtf!A762,\"TFPTAG\"&tagflag!D762,\"\"))),\"\")","v":""}]
[{"$f":"IF(tagflag!A763=1,IF(strflag!A763=1,SUBSTITUTE(IF(tagflag!B763=\"NOTAG\",rawrtf!A763,SUBSTITUTE(rawrtf!A763,\"TFPTAG\"&tagflag!D763,\"\")),\"TFPSTR\"&strflag!B763,strflag!D763),IF(tagflag!B763=\"NOTAG\",rawrtf!A763,SUBSTITUTE(rawrtf!A763,\"TFPTAG\"&tagflag!D763,\"\"))),\"\")","v":""}]
[{"$f":"IF(tagflag!A764=1,IF(strflag!A764=1,SUBSTITUTE(IF(tagflag!B764=\"NOTAG\",rawrtf!A764,SUBSTITUTE(rawrtf!A764,\"TFPTAG\"&tagflag!D764,\"\")),\"TFPSTR\"&strflag!B764,strflag!D764),IF(tagflag!B764=\"NOTAG\",rawrtf!A764,SUBSTITUTE(rawrtf!A764,\"TFPTAG\"&tagflag!D764,\"\"))),\"\")","v":""}]
[{"$f":"IF(tagflag!A765=1,IF(strflag!A765=1,SUBSTITUTE(IF(tagflag!B765=\"NOTAG\",rawrtf!A765,SUBSTITUTE(rawrtf!A765,\"TFPTAG\"&tagflag!D765,\"\")),\"TFPSTR\"&strflag!B765,strflag!D765),IF(tagflag!B765=\"NOTAG\",rawrtf!A765,SUBSTITUTE(rawrtf!A765,\"TFPTAG\"&tagflag!D765,\"\"))),\"\")","v":""}]
[{"$f":"IF(tagflag!A766=1,IF(strflag!A766=1,SUBSTITUTE(IF(tagflag!B766=\"NOTAG\",rawrtf!A766,SUBSTITUTE(rawrtf!A766,\"TFPTAG\"&tagflag!D766,\"\")),\"TFPSTR\"&strflag!B766,strflag!D766),IF(tagflag!B766=\"NOTAG\",rawrtf!A766,SUBSTITUTE(rawrtf!A766,\"TFPTAG\"&tagflag!D766,\"\"))),\"\")","v":""}]
[{"$f":"IF(tagflag!A767=1,IF(strflag!A767=1,SUBSTITUTE(IF(tagflag!B767=\"NOTAG\",rawrtf!A767,SUBSTITUTE(rawrtf!A767,\"TFPTAG\"&tagflag!D767,\"\")),\"TFPSTR\"&strflag!B767,strflag!D767),IF(tagflag!B767=\"NOTAG\",rawrtf!A767,SUBSTITUTE(rawrtf!A767,\"TFPTAG\"&tagflag!D767,\"\"))),\"\")","v":""}]
[{"$f":"IF(tagflag!A768=1,IF(strflag!A768=1,SUBSTITUTE(IF(tagflag!B768=\"NOTAG\",rawrtf!A768,SUBSTITUTE(rawrtf!A768,\"TFPTAG\"&tagflag!D768,\"\")),\"TFPSTR\"&strflag!B768,strflag!D768),IF(tagflag!B768=\"NOTAG\",rawrtf!A768,SUBSTITUTE(rawrtf!A768,\"TFPTAG\"&tagflag!D768,\"\"))),\"\")","v":"\\par }}"}]
[{"$f":"IF(tagflag!A769=1,IF(strflag!A769=1,SUBSTITUTE(IF(tagflag!B769=\"NOTAG\",rawrtf!A769,SUBSTITUTE(rawrtf!A769,\"TFPTAG\"&tagflag!D769,\"\")),\"TFPSTR\"&strflag!B769,strflag!D769),IF(tagflag!B769=\"NOTAG\",rawrtf!A769,SUBSTITUTE(rawrtf!A769,\"TFPTAG\"&tagflag!D769,\"\"))),\"\")","v":0}]
[{"$f":"IF(tagflag!A770=1,IF(strflag!A770=1,SUBSTITUTE(IF(tagflag!B770=\"NOTAG\",rawrtf!A770,SUBSTITUTE(rawrtf!A770,\"TFPTAG\"&tagflag!D770,\"\")),\"TFPSTR\"&strflag!B770,strflag!D770),IF(tagflag!B770=\"NOTAG\",rawrtf!A770,SUBSTITUTE(rawrtf!A770,\"TFPTAG\"&tagflag!D770,\"\"))),\"\")","v":0}]
[{"$f":"IF(tagflag!A771=1,IF(strflag!A771=1,SUBSTITUTE(IF(tagflag!B771=\"NOTAG\",rawrtf!A771,SUBSTITUTE(rawrtf!A771,\"TFPTAG\"&tagflag!D771,\"\")),\"TFPSTR\"&strflag!B771,strflag!D771),IF(tagflag!B771=\"NOTAG\",rawrtf!A771,SUBSTITUTE(rawrtf!A771,\"TFPTAG\"&tagflag!D771,\"\"))),\"\")","v":0}]
[{"$f":"IF(tagflag!A772=1,IF(strflag!A772=1,SUBSTITUTE(IF(tagflag!B772=\"NOTAG\",rawrtf!A772,SUBSTITUTE(rawrtf!A772,\"TFPTAG\"&tagflag!D772,\"\")),\"TFPSTR\"&strflag!B772,strflag!D772),IF(tagflag!B772=\"NOTAG\",rawrtf!A772,SUBSTITUTE(rawrtf!A772,\"TFPTAG\"&tagflag!D772,\"\"))),\"\")","v":0}]
[{"$f":"IF(tagflag!A773=1,IF(strflag!A773=1,SUBSTITUTE(IF(tagflag!B773=\"NOTAG\",rawrtf!A773,SUBSTITUTE(rawrtf!A773,\"TFPTAG\"&tagflag!D773,\"\")),\"TFPSTR\"&strflag!B773,strflag!D773),IF(tagflag!B773=\"NOTAG\",rawrtf!A773,SUBSTITUTE(rawrtf!A773,\"TFPTAG\"&tagflag!D773,\"\"))),\"\")","v":0}]
[{"$f":"IF(tagflag!A774=1,IF(strflag!A774=1,SUBSTITUTE(IF(tagflag!B774=\"NOTAG\",rawrtf!A774,SUBSTITUTE(rawrtf!A774,\"TFPTAG\"&tagflag!D774,\"\")),\"TFPSTR\"&strflag!B774,strflag!D774),IF(tagflag!B774=\"NOTAG\",rawrtf!A774,SUBSTITUTE(rawrtf!A774,\"TFPTAG\"&tagflag!D774,\"\"))),\"\")","v":0}]
[{"$f":"IF(tagflag!A775=1,IF(strflag!A775=1,SUBSTITUTE(IF(tagflag!B775=\"NOTAG\",rawrtf!A775,SUBSTITUTE(rawrtf!A775,\"TFPTAG\"&tagflag!D775,\"\")),\"TFPSTR\"&strflag!B775,strflag!D775),IF(tagflag!B775=\"NOTAG\",rawrtf!A775,SUBSTITUTE(rawrtf!A775,\"TFPTAG\"&tagflag!D775,\"\"))),\"\")","v":0}]
[{"$f":"IF(tagflag!A776=1,IF(strflag!A776=1,SUBSTITUTE(IF(tagflag!B776=\"NOTAG\",rawrtf!A776,SUBSTITUTE(rawrtf!A776,\"TFPTAG\"&tagflag!D776,\"\")),\"TFPSTR\"&strflag!B776,strflag!D776),IF(tagflag!B776=\"NOTAG\",rawrtf!A776,SUBSTITUTE(rawrtf!A776,\"TFPTAG\"&tagflag!D776,\"\"))),\"\")","v":0}]
[{"$f":"IF(tagflag!A777=1,IF(strflag!A777=1,SUBSTITUTE(IF(tagflag!B777=\"NOTAG\",rawrtf!A777,SUBSTITUTE(rawrtf!A777,\"TFPTAG\"&tagflag!D777,\"\")),\"TFPSTR\"&strflag!B777,strflag!D777),IF(tagflag!B777=\"NOTAG\",rawrtf!A777,SUBSTITUTE(rawrtf!A777,\"TFPTAG\"&tagflag!D777,\"\"))),\"\")","v":0}]
[{"$f":"IF(tagflag!A778=1,IF(strflag!A778=1,SUBSTITUTE(IF(tagflag!B778=\"NOTAG\",rawrtf!A778,SUBSTITUTE(rawrtf!A778,\"TFPTAG\"&tagflag!D778,\"\")),\"TFPSTR\"&strflag!B778,strflag!D778),IF(tagflag!B778=\"NOTAG\",rawrtf!A778,SUBSTITUTE(rawrtf!A778,\"TFPTAG\"&tagflag!D778,\"\"))),\"\")","v":0}]
[{"$f":"IF(tagflag!A779=1,IF(strflag!A779=1,SUBSTITUTE(IF(tagflag!B779=\"NOTAG\",rawrtf!A779,SUBSTITUTE(rawrtf!A779,\"TFPTAG\"&tagflag!D779,\"\")),\"TFPSTR\"&strflag!B779,strflag!D779),IF(tagflag!B779=\"NOTAG\",rawrtf!A779,SUBSTITUTE(rawrtf!A779,\"TFPTAG\"&tagflag!D779,\"\"))),\"\")","v":0}]
[{"$f":"IF(tagflag!A780=1,IF(strflag!A780=1,SUBSTITUTE(IF(tagflag!B780=\"NOTAG\",rawrtf!A780,SUBSTITUTE(rawrtf!A780,\"TFPTAG\"&tagflag!D780,\"\")),\"TFPSTR\"&strflag!B780,strflag!D780),IF(tagflag!B780=\"NOTAG\",rawrtf!A780,SUBSTITUTE(rawrtf!A780,\"TFPTAG\"&tagflag!D780,\"\"))),\"\")","v":0}]
[{"$f":"IF(tagflag!A781=1,IF(strflag!A781=1,SUBSTITUTE(IF(tagflag!B781=\"NOTAG\",rawrtf!A781,SUBSTITUTE(rawrtf!A781,\"TFPTAG\"&tagflag!D781,\"\")),\"TFPSTR\"&strflag!B781,strflag!D781),IF(tagflag!B781=\"NOTAG\",rawrtf!A781,SUBSTITUTE(rawrtf!A781,\"TFPTAG\"&tagflag!D781,\"\"))),\"\")","v":0}]
[{"$f":"IF(tagflag!A782=1,IF(strflag!A782=1,SUBSTITUTE(IF(tagflag!B782=\"NOTAG\",rawrtf!A782,SUBSTITUTE(rawrtf!A782,\"TFPTAG\"&tagflag!D782,\"\")),\"TFPSTR\"&strflag!B782,strflag!D782),IF(tagflag!B782=\"NOTAG\",rawrtf!A782,SUBSTITUTE(rawrtf!A782,\"TFPTAG\"&tagflag!D782,\"\"))),\"\")","v":0}]
[{"$f":"IF(tagflag!A783=1,IF(strflag!A783=1,SUBSTITUTE(IF(tagflag!B783=\"NOTAG\",rawrtf!A783,SUBSTITUTE(rawrtf!A783,\"TFPTAG\"&tagflag!D783,\"\")),\"TFPSTR\"&strflag!B783,strflag!D783),IF(tagflag!B783=\"NOTAG\",rawrtf!A783,SUBSTITUTE(rawrtf!A783,\"TFPTAG\"&tagflag!D783,\"\"))),\"\")","v":0}]
[{"$f":"IF(tagflag!A784=1,IF(strflag!A784=1,SUBSTITUTE(IF(tagflag!B784=\"NOTAG\",rawrtf!A784,SUBSTITUTE(rawrtf!A784,\"TFPTAG\"&tagflag!D784,\"\")),\"TFPSTR\"&strflag!B784,strflag!D784),IF(tagflag!B784=\"NOTAG\",rawrtf!A784,SUBSTITUTE(rawrtf!A784,\"TFPTAG\"&tagflag!D784,\"\"))),\"\")","v":0}]
[{"$f":"IF(tagflag!A785=1,IF(strflag!A785=1,SUBSTITUTE(IF(tagflag!B785=\"NOTAG\",rawrtf!A785,SUBSTITUTE(rawrtf!A785,\"TFPTAG\"&tagflag!D785,\"\")),\"TFPSTR\"&strflag!B785,strflag!D785),IF(tagflag!B785=\"NOTAG\",rawrtf!A785,SUBSTITUTE(rawrtf!A785,\"TFPTAG\"&tagflag!D785,\"\"))),\"\")","v":0}]
[{"$f":"IF(tagflag!A786=1,IF(strflag!A786=1,SUBSTITUTE(IF(tagflag!B786=\"NOTAG\",rawrtf!A786,SUBSTITUTE(rawrtf!A786,\"TFPTAG\"&tagflag!D786,\"\")),\"TFPSTR\"&strflag!B786,strflag!D786),IF(tagflag!B786=\"NOTAG\",rawrtf!A786,SUBSTITUTE(rawrtf!A786,\"TFPTAG\"&tagflag!D786,\"\"))),\"\")","v":0}]
[{"$f":"IF(tagflag!A787=1,IF(strflag!A787=1,SUBSTITUTE(IF(tagflag!B787=\"NOTAG\",rawrtf!A787,SUBSTITUTE(rawrtf!A787,\"TFPTAG\"&tagflag!D787,\"\")),\"TFPSTR\"&strflag!B787,strflag!D787),IF(tagflag!B787=\"NOTAG\",rawrtf!A787,SUBSTITUTE(rawrtf!A787,\"TFPTAG\"&tagflag!D787,\"\"))),\"\")","v":0}]
[{"$f":"IF(tagflag!A788=1,IF(strflag!A788=1,SUBSTITUTE(IF(tagflag!B788=\"NOTAG\",rawrtf!A788,SUBSTITUTE(rawrtf!A788,\"TFPTAG\"&tagflag!D788,\"\")),\"TFPSTR\"&strflag!B788,strflag!D788),IF(tagflag!B788=\"NOTAG\",rawrtf!A788,SUBSTITUTE(rawrtf!A788,\"TFPTAG\"&tagflag!D788,\"\"))),\"\")","v":0}]
[{"$f":"IF(tagflag!A789=1,IF(strflag!A789=1,SUBSTITUTE(IF(tagflag!B789=\"NOTAG\",rawrtf!A789,SUBSTITUTE(rawrtf!A789,\"TFPTAG\"&tagflag!D789,\"\")),\"TFPSTR\"&strflag!B789,strflag!D789),IF(tagflag!B789=\"NOTAG\",rawrtf!A789,SUBSTITUTE(rawrtf!A789,\"TFPTAG\"&tagflag!D789,\"\"))),\"\")","v":0}]
[{"$f":"IF(tagflag!A790=1,IF(strflag!A790=1,SUBSTITUTE(IF(tagflag!B790=\"NOTAG\",rawrtf!A790,SUBSTITUTE(rawrtf!A790,\"TFPTAG\"&tagflag!D790,\"\")),\"TFPSTR\"&strflag!B790,strflag!D790),IF(tagflag!B790=\"NOTAG\",rawrtf!A790,SUBSTITUTE(rawrtf!A790,\"TFPTAG\"&tagflag!D790,\"\"))),\"\")","v":0}]
[{"$f":"IF(tagflag!A791=1,IF(strflag!A791=1,SUBSTITUTE(IF(tagflag!B791=\"NOTAG\",rawrtf!A791,SUBSTITUTE(rawrtf!A791,\"TFPTAG\"&tagflag!D791,\"\")),\"TFPSTR\"&strflag!B791,strflag!D791),IF(tagflag!B791=\"NOTAG\",rawrtf!A791,SUBSTITUTE(rawrtf!A791,\"TFPTAG\"&tagflag!D791,\"\"))),\"\")","v":0}]
[{"$f":"IF(tagflag!A792=1,IF(strflag!A792=1,SUBSTITUTE(IF(tagflag!B792=\"NOTAG\",rawrtf!A792,SUBSTITUTE(rawrtf!A792,\"TFPTAG\"&tagflag!D792,\"\")),\"TFPSTR\"&strflag!B792,strflag!D792),IF(tagflag!B792=\"NOTAG\",rawrtf!A792,SUBSTITUTE(rawrtf!A792,\"TFPTAG\"&tagflag!D792,\"\"))),\"\")","v":0}]
[{"$f":"IF(tagflag!A793=1,IF(strflag!A793=1,SUBSTITUTE(IF(tagflag!B793=\"NOTAG\",rawrtf!A793,SUBSTITUTE(rawrtf!A793,\"TFPTAG\"&tagflag!D793,\"\")),\"TFPSTR\"&strflag!B793,strflag!D793),IF(tagflag!B793=\"NOTAG\",rawrtf!A793,SUBSTITUTE(rawrtf!A793,\"TFPTAG\"&tagflag!D793,\"\"))),\"\")","v":0}]
[{"$f":"IF(tagflag!A794=1,IF(strflag!A794=1,SUBSTITUTE(IF(tagflag!B794=\"NOTAG\",rawrtf!A794,SUBSTITUTE(rawrtf!A794,\"TFPTAG\"&tagflag!D794,\"\")),\"TFPSTR\"&strflag!B794,strflag!D794),IF(tagflag!B794=\"NOTAG\",rawrtf!A794,SUBSTITUTE(rawrtf!A794,\"TFPTAG\"&tagflag!D794,\"\"))),\"\")","v":0}]
[{"$f":"IF(tagflag!A795=1,IF(strflag!A795=1,SUBSTITUTE(IF(tagflag!B795=\"NOTAG\",rawrtf!A795,SUBSTITUTE(rawrtf!A795,\"TFPTAG\"&tagflag!D795,\"\")),\"TFPSTR\"&strflag!B795,strflag!D795),IF(tagflag!B795=\"NOTAG\",rawrtf!A795,SUBSTITUTE(rawrtf!A795,\"TFPTAG\"&tagflag!D795,\"\"))),\"\")","v":0}]
[{"$f":"IF(tagflag!A796=1,IF(strflag!A796=1,SUBSTITUTE(IF(tagflag!B796=\"NOTAG\",rawrtf!A796,SUBSTITUTE(rawrtf!A796,\"TFPTAG\"&tagflag!D796,\"\")),\"TFPSTR\"&strflag!B796,strflag!D796),IF(tagflag!B796=\"NOTAG\",rawrtf!A796,SUBSTITUTE(rawrtf!A796,\"TFPTAG\"&tagflag!D796,\"\"))),\"\")","v":0}]
[{"$f":"IF(tagflag!A797=1,IF(strflag!A797=1,SUBSTITUTE(IF(tagflag!B797=\"NOTAG\",rawrtf!A797,SUBSTITUTE(rawrtf!A797,\"TFPTAG\"&tagflag!D797,\"\")),\"TFPSTR\"&strflag!B797,strflag!D797),IF(tagflag!B797=\"NOTAG\",rawrtf!A797,SUBSTITUTE(rawrtf!A797,\"TFPTAG\"&tagflag!D797,\"\"))),\"\")","v":0}]
[{"$f":"IF(tagflag!A798=1,IF(strflag!A798=1,SUBSTITUTE(IF(tagflag!B798=\"NOTAG\",rawrtf!A798,SUBSTITUTE(rawrtf!A798,\"TFPTAG\"&tagflag!D798,\"\")),\"TFPSTR\"&strflag!B798,strflag!D798),IF(tagflag!B798=\"NOTAG\",rawrtf!A798,SUBSTITUTE(rawrtf!A798,\"TFPTAG\"&tagflag!D798,\"\"))),\"\")","v":0}]
[{"$f":"IF(tagflag!A799=1,IF(strflag!A799=1,SUBSTITUTE(IF(tagflag!B799=\"NOTAG\",rawrtf!A799,SUBSTITUTE(rawrtf!A799,\"TFPTAG\"&tagflag!D799,\"\")),\"TFPSTR\"&strflag!B799,strflag!D799),IF(tagflag!B799=\"NOTAG\",rawrtf!A799,SUBSTITUTE(rawrtf!A799,\"TFPTAG\"&tagflag!D799,\"\"))),\"\")","v":0}]
[{"$f":"IF(tagflag!A800=1,IF(strflag!A800=1,SUBSTITUTE(IF(tagflag!B800=\"NOTAG\",rawrtf!A800,SUBSTITUTE(rawrtf!A800,\"TFPTAG\"&tagflag!D800,\"\")),\"TFPSTR\"&strflag!B800,strflag!D800),IF(tagflag!B800=\"NOTAG\",rawrtf!A800,SUBSTITUTE(rawrtf!A800,\"TFPTAG\"&tagflag!D800,\"\"))),\"\")","v":0}]
[{"$f":"IF(tagflag!A801=1,IF(strflag!A801=1,SUBSTITUTE(IF(tagflag!B801=\"NOTAG\",rawrtf!A801,SUBSTITUTE(rawrtf!A801,\"TFPTAG\"&tagflag!D801,\"\")),\"TFPSTR\"&strflag!B801,strflag!D801),IF(tagflag!B801=\"NOTAG\",rawrtf!A801,SUBSTITUTE(rawrtf!A801,\"TFPTAG\"&tagflag!D801,\"\"))),\"\")","v":0}]
[{"$f":"IF(tagflag!A802=1,IF(strflag!A802=1,SUBSTITUTE(IF(tagflag!B802=\"NOTAG\",rawrtf!A802,SUBSTITUTE(rawrtf!A802,\"TFPTAG\"&tagflag!D802,\"\")),\"TFPSTR\"&strflag!B802,strflag!D802),IF(tagflag!B802=\"NOTAG\",rawrtf!A802,SUBSTITUTE(rawrtf!A802,\"TFPTAG\"&tagflag!D802,\"\"))),\"\")","v":0}]
[{"$f":"IF(tagflag!A803=1,IF(strflag!A803=1,SUBSTITUTE(IF(tagflag!B803=\"NOTAG\",rawrtf!A803,SUBSTITUTE(rawrtf!A803,\"TFPTAG\"&tagflag!D803,\"\")),\"TFPSTR\"&strflag!B803,strflag!D803),IF(tagflag!B803=\"NOTAG\",rawrtf!A803,SUBSTITUTE(rawrtf!A803,\"TFPTAG\"&tagflag!D803,\"\"))),\"\")","v":0}]
[{"$f":"IF(tagflag!A804=1,IF(strflag!A804=1,SUBSTITUTE(IF(tagflag!B804=\"NOTAG\",rawrtf!A804,SUBSTITUTE(rawrtf!A804,\"TFPTAG\"&tagflag!D804,\"\")),\"TFPSTR\"&strflag!B804,strflag!D804),IF(tagflag!B804=\"NOTAG\",rawrtf!A804,SUBSTITUTE(rawrtf!A804,\"TFPTAG\"&tagflag!D804,\"\"))),\"\")","v":0}]
[{"$f":"IF(tagflag!A805=1,IF(strflag!A805=1,SUBSTITUTE(IF(tagflag!B805=\"NOTAG\",rawrtf!A805,SUBSTITUTE(rawrtf!A805,\"TFPTAG\"&tagflag!D805,\"\")),\"TFPSTR\"&strflag!B805,strflag!D805),IF(tagflag!B805=\"NOTAG\",rawrtf!A805,SUBSTITUTE(rawrtf!A805,\"TFPTAG\"&tagflag!D805,\"\"))),\"\")","v":0}]
[{"$f":"IF(tagflag!A806=1,IF(strflag!A806=1,SUBSTITUTE(IF(tagflag!B806=\"NOTAG\",rawrtf!A806,SUBSTITUTE(rawrtf!A806,\"TFPTAG\"&tagflag!D806,\"\")),\"TFPSTR\"&strflag!B806,strflag!D806),IF(tagflag!B806=\"NOTAG\",rawrtf!A806,SUBSTITUTE(rawrtf!A806,\"TFPTAG\"&tagflag!D806,\"\"))),\"\")","v":0}]
[{"$f":"IF(tagflag!A807=1,IF(strflag!A807=1,SUBSTITUTE(IF(tagflag!B807=\"NOTAG\",rawrtf!A807,SUBSTITUTE(rawrtf!A807,\"TFPTAG\"&tagflag!D807,\"\")),\"TFPSTR\"&strflag!B807,strflag!D807),IF(tagflag!B807=\"NOTAG\",rawrtf!A807,SUBSTITUTE(rawrtf!A807,\"TFPTAG\"&tagflag!D807,\"\"))),\"\")","v":0}]
[{"$f":"IF(tagflag!A808=1,IF(strflag!A808=1,SUBSTITUTE(IF(tagflag!B808=\"NOTAG\",rawrtf!A808,SUBSTITUTE(rawrtf!A808,\"TFPTAG\"&tagflag!D808,\"\")),\"TFPSTR\"&strflag!B808,strflag!D808),IF(tagflag!B808=\"NOTAG\",rawrtf!A808,SUBSTITUTE(rawrtf!A808,\"TFPTAG\"&tagflag!D808,\"\"))),\"\")","v":0}]
[{"$f":"IF(tagflag!A809=1,IF(strflag!A809=1,SUBSTITUTE(IF(tagflag!B809=\"NOTAG\",rawrtf!A809,SUBSTITUTE(rawrtf!A809,\"TFPTAG\"&tagflag!D809,\"\")),\"TFPSTR\"&strflag!B809,strflag!D809),IF(tagflag!B809=\"NOTAG\",rawrtf!A809,SUBSTITUTE(rawrtf!A809,\"TFPTAG\"&tagflag!D809,\"\"))),\"\")","v":0}]
[{"$f":"IF(tagflag!A810=1,IF(strflag!A810=1,SUBSTITUTE(IF(tagflag!B810=\"NOTAG\",rawrtf!A810,SUBSTITUTE(rawrtf!A810,\"TFPTAG\"&tagflag!D810,\"\")),\"TFPSTR\"&strflag!B810,strflag!D810),IF(tagflag!B810=\"NOTAG\",rawrtf!A810,SUBSTITUTE(rawrtf!A810,\"TFPTAG\"&tagflag!D810,\"\"))),\"\")","v":0}]
[{"$f":"IF(tagflag!A811=1,IF(strflag!A811=1,SUBSTITUTE(IF(tagflag!B811=\"NOTAG\",rawrtf!A811,SUBSTITUTE(rawrtf!A811,\"TFPTAG\"&tagflag!D811,\"\")),\"TFPSTR\"&strflag!B811,strflag!D811),IF(tagflag!B811=\"NOTAG\",rawrtf!A811,SUBSTITUTE(rawrtf!A811,\"TFPTAG\"&tagflag!D811,\"\"))),\"\")","v":0}]
[{"$f":"IF(tagflag!A812=1,IF(strflag!A812=1,SUBSTITUTE(IF(tagflag!B812=\"NOTAG\",rawrtf!A812,SUBSTITUTE(rawrtf!A812,\"TFPTAG\"&tagflag!D812,\"\")),\"TFPSTR\"&strflag!B812,strflag!D812),IF(tagflag!B812=\"NOTAG\",rawrtf!A812,SUBSTITUTE(rawrtf!A812,\"TFPTAG\"&tagflag!D812,\"\"))),\"\")","v":0}]
[{"$f":"IF(tagflag!A813=1,IF(strflag!A813=1,SUBSTITUTE(IF(tagflag!B813=\"NOTAG\",rawrtf!A813,SUBSTITUTE(rawrtf!A813,\"TFPTAG\"&tagflag!D813,\"\")),\"TFPSTR\"&strflag!B813,strflag!D813),IF(tagflag!B813=\"NOTAG\",rawrtf!A813,SUBSTITUTE(rawrtf!A813,\"TFPTAG\"&tagflag!D813,\"\"))),\"\")","v":0}]
[{"$f":"IF(tagflag!A814=1,IF(strflag!A814=1,SUBSTITUTE(IF(tagflag!B814=\"NOTAG\",rawrtf!A814,SUBSTITUTE(rawrtf!A814,\"TFPTAG\"&tagflag!D814,\"\")),\"TFPSTR\"&strflag!B814,strflag!D814),IF(tagflag!B814=\"NOTAG\",rawrtf!A814,SUBSTITUTE(rawrtf!A814,\"TFPTAG\"&tagflag!D814,\"\"))),\"\")","v":0}]
[{"$f":"IF(tagflag!A815=1,IF(strflag!A815=1,SUBSTITUTE(IF(tagflag!B815=\"NOTAG\",rawrtf!A815,SUBSTITUTE(rawrtf!A815,\"TFPTAG\"&tagflag!D815,\"\")),\"TFPSTR\"&strflag!B815,strflag!D815),IF(tagflag!B815=\"NOTAG\",rawrtf!A815,SUBSTITUTE(rawrtf!A815,\"TFPTAG\"&tagflag!D815,\"\"))),\"\")","v":0}]
[{"$f":"IF(tagflag!A816=1,IF(strflag!A816=1,SUBSTITUTE(IF(tagflag!B816=\"NOTAG\",rawrtf!A816,SUBSTITUTE(rawrtf!A816,\"TFPTAG\"&tagflag!D816,\"\")),\"TFPSTR\"&strflag!B816,strflag!D816),IF(tagflag!B816=\"NOTAG\",rawrtf!A816,SUBSTITUTE(rawrtf!A816,\"TFPTAG\"&tagflag!D816,\"\"))),\"\")","v":0}]
[{"$f":"IF(tagflag!A817=1,IF(strflag!A817=1,SUBSTITUTE(IF(tagflag!B817=\"NOTAG\",rawrtf!A817,SUBSTITUTE(rawrtf!A817,\"TFPTAG\"&tagflag!D817,\"\")),\"TFPSTR\"&strflag!B817,strflag!D817),IF(tagflag!B817=\"NOTAG\",rawrtf!A817,SUBSTITUTE(rawrtf!A817,\"TFPTAG\"&tagflag!D817,\"\"))),\"\")","v":0}]
[{"$f":"IF(tagflag!A818=1,IF(strflag!A818=1,SUBSTITUTE(IF(tagflag!B818=\"NOTAG\",rawrtf!A818,SUBSTITUTE(rawrtf!A818,\"TFPTAG\"&tagflag!D818,\"\")),\"TFPSTR\"&strflag!B818,strflag!D818),IF(tagflag!B818=\"NOTAG\",rawrtf!A818,SUBSTITUTE(rawrtf!A818,\"TFPTAG\"&tagflag!D818,\"\"))),\"\")","v":0}]
[{"$f":"IF(tagflag!A819=1,IF(strflag!A819=1,SUBSTITUTE(IF(tagflag!B819=\"NOTAG\",rawrtf!A819,SUBSTITUTE(rawrtf!A819,\"TFPTAG\"&tagflag!D819,\"\")),\"TFPSTR\"&strflag!B819,strflag!D819),IF(tagflag!B819=\"NOTAG\",rawrtf!A819,SUBSTITUTE(rawrtf!A819,\"TFPTAG\"&tagflag!D819,\"\"))),\"\")","v":0}]
[{"$f":"IF(tagflag!A820=1,IF(strflag!A820=1,SUBSTITUTE(IF(tagflag!B820=\"NOTAG\",rawrtf!A820,SUBSTITUTE(rawrtf!A820,\"TFPTAG\"&tagflag!D820,\"\")),\"TFPSTR\"&strflag!B820,strflag!D820),IF(tagflag!B820=\"NOTAG\",rawrtf!A820,SUBSTITUTE(rawrtf!A820,\"TFPTAG\"&tagflag!D820,\"\"))),\"\")","v":0}]
[{"$f":"IF(tagflag!A821=1,IF(strflag!A821=1,SUBSTITUTE(IF(tagflag!B821=\"NOTAG\",rawrtf!A821,SUBSTITUTE(rawrtf!A821,\"TFPTAG\"&tagflag!D821,\"\")),\"TFPSTR\"&strflag!B821,strflag!D821),IF(tagflag!B821=\"NOTAG\",rawrtf!A821,SUBSTITUTE(rawrtf!A821,\"TFPTAG\"&tagflag!D821,\"\"))),\"\")","v":0}]
[{"$f":"IF(tagflag!A822=1,IF(strflag!A822=1,SUBSTITUTE(IF(tagflag!B822=\"NOTAG\",rawrtf!A822,SUBSTITUTE(rawrtf!A822,\"TFPTAG\"&tagflag!D822,\"\")),\"TFPSTR\"&strflag!B822,strflag!D822),IF(tagflag!B822=\"NOTAG\",rawrtf!A822,SUBSTITUTE(rawrtf!A822,\"TFPTAG\"&tagflag!D822,\"\"))),\"\")","v":0}]
[{"$f":"IF(tagflag!A823=1,IF(strflag!A823=1,SUBSTITUTE(IF(tagflag!B823=\"NOTAG\",rawrtf!A823,SUBSTITUTE(rawrtf!A823,\"TFPTAG\"&tagflag!D823,\"\")),\"TFPSTR\"&strflag!B823,strflag!D823),IF(tagflag!B823=\"NOTAG\",rawrtf!A823,SUBSTITUTE(rawrtf!A823,\"TFPTAG\"&tagflag!D823,\"\"))),\"\")","v":0}]
[{"$f":"IF(tagflag!A824=1,IF(strflag!A824=1,SUBSTITUTE(IF(tagflag!B824=\"NOTAG\",rawrtf!A824,SUBSTITUTE(rawrtf!A824,\"TFPTAG\"&tagflag!D824,\"\")),\"TFPSTR\"&strflag!B824,strflag!D824),IF(tagflag!B824=\"NOTAG\",rawrtf!A824,SUBSTITUTE(rawrtf!A824,\"TFPTAG\"&tagflag!D824,\"\"))),\"\")","v":0}]
[{"$f":"IF(tagflag!A825=1,IF(strflag!A825=1,SUBSTITUTE(IF(tagflag!B825=\"NOTAG\",rawrtf!A825,SUBSTITUTE(rawrtf!A825,\"TFPTAG\"&tagflag!D825,\"\")),\"TFPSTR\"&strflag!B825,strflag!D825),IF(tagflag!B825=\"NOTAG\",rawrtf!A825,SUBSTITUTE(rawrtf!A825,\"TFPTAG\"&tagflag!D825,\"\"))),\"\")","v":0}]
[{"$f":"IF(tagflag!A826=1,IF(strflag!A826=1,SUBSTITUTE(IF(tagflag!B826=\"NOTAG\",rawrtf!A826,SUBSTITUTE(rawrtf!A826,\"TFPTAG\"&tagflag!D826,\"\")),\"TFPSTR\"&strflag!B826,strflag!D826),IF(tagflag!B826=\"NOTAG\",rawrtf!A826,SUBSTITUTE(rawrtf!A826,\"TFPTAG\"&tagflag!D826,\"\"))),\"\")","v":0}]
[{"$f":"IF(tagflag!A827=1,IF(strflag!A827=1,SUBSTITUTE(IF(tagflag!B827=\"NOTAG\",rawrtf!A827,SUBSTITUTE(rawrtf!A827,\"TFPTAG\"&tagflag!D827,\"\")),\"TFPSTR\"&strflag!B827,strflag!D827),IF(tagflag!B827=\"NOTAG\",rawrtf!A827,SUBSTITUTE(rawrtf!A827,\"TFPTAG\"&tagflag!D827,\"\"))),\"\")","v":0}]
[{"$f":"IF(tagflag!A828=1,IF(strflag!A828=1,SUBSTITUTE(IF(tagflag!B828=\"NOTAG\",rawrtf!A828,SUBSTITUTE(rawrtf!A828,\"TFPTAG\"&tagflag!D828,\"\")),\"TFPSTR\"&strflag!B828,strflag!D828),IF(tagflag!B828=\"NOTAG\",rawrtf!A828,SUBSTITUTE(rawrtf!A828,\"TFPTAG\"&tagflag!D828,\"\"))),\"\")","v":0}]
[{"$f":"IF(tagflag!A829=1,IF(strflag!A829=1,SUBSTITUTE(IF(tagflag!B829=\"NOTAG\",rawrtf!A829,SUBSTITUTE(rawrtf!A829,\"TFPTAG\"&tagflag!D829,\"\")),\"TFPSTR\"&strflag!B829,strflag!D829),IF(tagflag!B829=\"NOTAG\",rawrtf!A829,SUBSTITUTE(rawrtf!A829,\"TFPTAG\"&tagflag!D829,\"\"))),\"\")","v":0}]
[{"$f":"IF(tagflag!A830=1,IF(strflag!A830=1,SUBSTITUTE(IF(tagflag!B830=\"NOTAG\",rawrtf!A830,SUBSTITUTE(rawrtf!A830,\"TFPTAG\"&tagflag!D830,\"\")),\"TFPSTR\"&strflag!B830,strflag!D830),IF(tagflag!B830=\"NOTAG\",rawrtf!A830,SUBSTITUTE(rawrtf!A830,\"TFPTAG\"&tagflag!D830,\"\"))),\"\")","v":0}]
[{"$f":"IF(tagflag!A831=1,IF(strflag!A831=1,SUBSTITUTE(IF(tagflag!B831=\"NOTAG\",rawrtf!A831,SUBSTITUTE(rawrtf!A831,\"TFPTAG\"&tagflag!D831,\"\")),\"TFPSTR\"&strflag!B831,strflag!D831),IF(tagflag!B831=\"NOTAG\",rawrtf!A831,SUBSTITUTE(rawrtf!A831,\"TFPTAG\"&tagflag!D831,\"\"))),\"\")","v":0}]
[{"$f":"IF(tagflag!A832=1,IF(strflag!A832=1,SUBSTITUTE(IF(tagflag!B832=\"NOTAG\",rawrtf!A832,SUBSTITUTE(rawrtf!A832,\"TFPTAG\"&tagflag!D832,\"\")),\"TFPSTR\"&strflag!B832,strflag!D832),IF(tagflag!B832=\"NOTAG\",rawrtf!A832,SUBSTITUTE(rawrtf!A832,\"TFPTAG\"&tagflag!D832,\"\"))),\"\")","v":0}]
[{"$f":"IF(tagflag!A833=1,IF(strflag!A833=1,SUBSTITUTE(IF(tagflag!B833=\"NOTAG\",rawrtf!A833,SUBSTITUTE(rawrtf!A833,\"TFPTAG\"&tagflag!D833,\"\")),\"TFPSTR\"&strflag!B833,strflag!D833),IF(tagflag!B833=\"NOTAG\",rawrtf!A833,SUBSTITUTE(rawrtf!A833,\"TFPTAG\"&tagflag!D833,\"\"))),\"\")","v":0}]
[{"$f":"IF(tagflag!A834=1,IF(strflag!A834=1,SUBSTITUTE(IF(tagflag!B834=\"NOTAG\",rawrtf!A834,SUBSTITUTE(rawrtf!A834,\"TFPTAG\"&tagflag!D834,\"\")),\"TFPSTR\"&strflag!B834,strflag!D834),IF(tagflag!B834=\"NOTAG\",rawrtf!A834,SUBSTITUTE(rawrtf!A834,\"TFPTAG\"&tagflag!D834,\"\"))),\"\")","v":0}]
[{"$f":"IF(tagflag!A835=1,IF(strflag!A835=1,SUBSTITUTE(IF(tagflag!B835=\"NOTAG\",rawrtf!A835,SUBSTITUTE(rawrtf!A835,\"TFPTAG\"&tagflag!D835,\"\")),\"TFPSTR\"&strflag!B835,strflag!D835),IF(tagflag!B835=\"NOTAG\",rawrtf!A835,SUBSTITUTE(rawrtf!A835,\"TFPTAG\"&tagflag!D835,\"\"))),\"\")","v":0}]
[{"$f":"IF(tagflag!A836=1,IF(strflag!A836=1,SUBSTITUTE(IF(tagflag!B836=\"NOTAG\",rawrtf!A836,SUBSTITUTE(rawrtf!A836,\"TFPTAG\"&tagflag!D836,\"\")),\"TFPSTR\"&strflag!B836,strflag!D836),IF(tagflag!B836=\"NOTAG\",rawrtf!A836,SUBSTITUTE(rawrtf!A836,\"TFPTAG\"&tagflag!D836,\"\"))),\"\")","v":0}]
[{"$f":"IF(tagflag!A837=1,IF(strflag!A837=1,SUBSTITUTE(IF(tagflag!B837=\"NOTAG\",rawrtf!A837,SUBSTITUTE(rawrtf!A837,\"TFPTAG\"&tagflag!D837,\"\")),\"TFPSTR\"&strflag!B837,strflag!D837),IF(tagflag!B837=\"NOTAG\",rawrtf!A837,SUBSTITUTE(rawrtf!A837,\"TFPTAG\"&tagflag!D837,\"\"))),\"\")","v":0}]
[{"$f":"IF(tagflag!A838=1,IF(strflag!A838=1,SUBSTITUTE(IF(tagflag!B838=\"NOTAG\",rawrtf!A838,SUBSTITUTE(rawrtf!A838,\"TFPTAG\"&tagflag!D838,\"\")),\"TFPSTR\"&strflag!B838,strflag!D838),IF(tagflag!B838=\"NOTAG\",rawrtf!A838,SUBSTITUTE(rawrtf!A838,\"TFPTAG\"&tagflag!D838,\"\"))),\"\")","v":0}]
[{"$f":"IF(tagflag!A839=1,IF(strflag!A839=1,SUBSTITUTE(IF(tagflag!B839=\"NOTAG\",rawrtf!A839,SUBSTITUTE(rawrtf!A839,\"TFPTAG\"&tagflag!D839,\"\")),\"TFPSTR\"&strflag!B839,strflag!D839),IF(tagflag!B839=\"NOTAG\",rawrtf!A839,SUBSTITUTE(rawrtf!A839,\"TFPTAG\"&tagflag!D839,\"\"))),\"\")","v":0}]
[{"$f":"IF(tagflag!A840=1,IF(strflag!A840=1,SUBSTITUTE(IF(tagflag!B840=\"NOTAG\",rawrtf!A840,SUBSTITUTE(rawrtf!A840,\"TFPTAG\"&tagflag!D840,\"\")),\"TFPSTR\"&strflag!B840,strflag!D840),IF(tagflag!B840=\"NOTAG\",rawrtf!A840,SUBSTITUTE(rawrtf!A840,\"TFPTAG\"&tagflag!D840,\"\"))),\"\")","v":0}]
[{"$f":"IF(tagflag!A841=1,IF(strflag!A841=1,SUBSTITUTE(IF(tagflag!B841=\"NOTAG\",rawrtf!A841,SUBSTITUTE(rawrtf!A841,\"TFPTAG\"&tagflag!D841,\"\")),\"TFPSTR\"&strflag!B841,strflag!D841),IF(tagflag!B841=\"NOTAG\",rawrtf!A841,SUBSTITUTE(rawrtf!A841,\"TFPTAG\"&tagflag!D841,\"\"))),\"\")","v":0}]
[{"$f":"IF(tagflag!A842=1,IF(strflag!A842=1,SUBSTITUTE(IF(tagflag!B842=\"NOTAG\",rawrtf!A842,SUBSTITUTE(rawrtf!A842,\"TFPTAG\"&tagflag!D842,\"\")),\"TFPSTR\"&strflag!B842,strflag!D842),IF(tagflag!B842=\"NOTAG\",rawrtf!A842,SUBSTITUTE(rawrtf!A842,\"TFPTAG\"&tagflag!D842,\"\"))),\"\")","v":0}]
[{"$f":"IF(tagflag!A843=1,IF(strflag!A843=1,SUBSTITUTE(IF(tagflag!B843=\"NOTAG\",rawrtf!A843,SUBSTITUTE(rawrtf!A843,\"TFPTAG\"&tagflag!D843,\"\")),\"TFPSTR\"&strflag!B843,strflag!D843),IF(tagflag!B843=\"NOTAG\",rawrtf!A843,SUBSTITUTE(rawrtf!A843,\"TFPTAG\"&tagflag!D843,\"\"))),\"\")","v":0}]
[{"$f":"IF(tagflag!A844=1,IF(strflag!A844=1,SUBSTITUTE(IF(tagflag!B844=\"NOTAG\",rawrtf!A844,SUBSTITUTE(rawrtf!A844,\"TFPTAG\"&tagflag!D844,\"\")),\"TFPSTR\"&strflag!B844,strflag!D844),IF(tagflag!B844=\"NOTAG\",rawrtf!A844,SUBSTITUTE(rawrtf!A844,\"TFPTAG\"&tagflag!D844,\"\"))),\"\")","v":0}]
[{"$f":"IF(tagflag!A845=1,IF(strflag!A845=1,SUBSTITUTE(IF(tagflag!B845=\"NOTAG\",rawrtf!A845,SUBSTITUTE(rawrtf!A845,\"TFPTAG\"&tagflag!D845,\"\")),\"TFPSTR\"&strflag!B845,strflag!D845),IF(tagflag!B845=\"NOTAG\",rawrtf!A845,SUBSTITUTE(rawrtf!A845,\"TFPTAG\"&tagflag!D845,\"\"))),\"\")","v":0}]
[{"$f":"IF(tagflag!A846=1,IF(strflag!A846=1,SUBSTITUTE(IF(tagflag!B846=\"NOTAG\",rawrtf!A846,SUBSTITUTE(rawrtf!A846,\"TFPTAG\"&tagflag!D846,\"\")),\"TFPSTR\"&strflag!B846,strflag!D846),IF(tagflag!B846=\"NOTAG\",rawrtf!A846,SUBSTITUTE(rawrtf!A846,\"TFPTAG\"&tagflag!D846,\"\"))),\"\")","v":0}]
[{"$f":"IF(tagflag!A847=1,IF(strflag!A847=1,SUBSTITUTE(IF(tagflag!B847=\"NOTAG\",rawrtf!A847,SUBSTITUTE(rawrtf!A847,\"TFPTAG\"&tagflag!D847,\"\")),\"TFPSTR\"&strflag!B847,strflag!D847),IF(tagflag!B847=\"NOTAG\",rawrtf!A847,SUBSTITUTE(rawrtf!A847,\"TFPTAG\"&tagflag!D847,\"\"))),\"\")","v":0}]
[{"$f":"IF(tagflag!A848=1,IF(strflag!A848=1,SUBSTITUTE(IF(tagflag!B848=\"NOTAG\",rawrtf!A848,SUBSTITUTE(rawrtf!A848,\"TFPTAG\"&tagflag!D848,\"\")),\"TFPSTR\"&strflag!B848,strflag!D848),IF(tagflag!B848=\"NOTAG\",rawrtf!A848,SUBSTITUTE(rawrtf!A848,\"TFPTAG\"&tagflag!D848,\"\"))),\"\")","v":0}]
[{"$f":"IF(tagflag!A849=1,IF(strflag!A849=1,SUBSTITUTE(IF(tagflag!B849=\"NOTAG\",rawrtf!A849,SUBSTITUTE(rawrtf!A849,\"TFPTAG\"&tagflag!D849,\"\")),\"TFPSTR\"&strflag!B849,strflag!D849),IF(tagflag!B849=\"NOTAG\",rawrtf!A849,SUBSTITUTE(rawrtf!A849,\"TFPTAG\"&tagflag!D849,\"\"))),\"\")","v":0}]
[{"$f":"IF(tagflag!A850=1,IF(strflag!A850=1,SUBSTITUTE(IF(tagflag!B850=\"NOTAG\",rawrtf!A850,SUBSTITUTE(rawrtf!A850,\"TFPTAG\"&tagflag!D850,\"\")),\"TFPSTR\"&strflag!B850,strflag!D850),IF(tagflag!B850=\"NOTAG\",rawrtf!A850,SUBSTITUTE(rawrtf!A850,\"TFPTAG\"&tagflag!D850,\"\"))),\"\")","v":0}]
[{"$f":"IF(tagflag!A851=1,IF(strflag!A851=1,SUBSTITUTE(IF(tagflag!B851=\"NOTAG\",rawrtf!A851,SUBSTITUTE(rawrtf!A851,\"TFPTAG\"&tagflag!D851,\"\")),\"TFPSTR\"&strflag!B851,strflag!D851),IF(tagflag!B851=\"NOTAG\",rawrtf!A851,SUBSTITUTE(rawrtf!A851,\"TFPTAG\"&tagflag!D851,\"\"))),\"\")","v":0}]
[{"$f":"IF(tagflag!A852=1,IF(strflag!A852=1,SUBSTITUTE(IF(tagflag!B852=\"NOTAG\",rawrtf!A852,SUBSTITUTE(rawrtf!A852,\"TFPTAG\"&tagflag!D852,\"\")),\"TFPSTR\"&strflag!B852,strflag!D852),IF(tagflag!B852=\"NOTAG\",rawrtf!A852,SUBSTITUTE(rawrtf!A852,\"TFPTAG\"&tagflag!D852,\"\"))),\"\")","v":0}]
[{"$f":"IF(tagflag!A853=1,IF(strflag!A853=1,SUBSTITUTE(IF(tagflag!B853=\"NOTAG\",rawrtf!A853,SUBSTITUTE(rawrtf!A853,\"TFPTAG\"&tagflag!D853,\"\")),\"TFPSTR\"&strflag!B853,strflag!D853),IF(tagflag!B853=\"NOTAG\",rawrtf!A853,SUBSTITUTE(rawrtf!A853,\"TFPTAG\"&tagflag!D853,\"\"))),\"\")","v":0}]
[{"$f":"IF(tagflag!A854=1,IF(strflag!A854=1,SUBSTITUTE(IF(tagflag!B854=\"NOTAG\",rawrtf!A854,SUBSTITUTE(rawrtf!A854,\"TFPTAG\"&tagflag!D854,\"\")),\"TFPSTR\"&strflag!B854,strflag!D854),IF(tagflag!B854=\"NOTAG\",rawrtf!A854,SUBSTITUTE(rawrtf!A854,\"TFPTAG\"&tagflag!D854,\"\"))),\"\")","v":0}]
[{"$f":"IF(tagflag!A855=1,IF(strflag!A855=1,SUBSTITUTE(IF(tagflag!B855=\"NOTAG\",rawrtf!A855,SUBSTITUTE(rawrtf!A855,\"TFPTAG\"&tagflag!D855,\"\")),\"TFPSTR\"&strflag!B855,strflag!D855),IF(tagflag!B855=\"NOTAG\",rawrtf!A855,SUBSTITUTE(rawrtf!A855,\"TFPTAG\"&tagflag!D855,\"\"))),\"\")","v":0}]
[{"$f":"IF(tagflag!A856=1,IF(strflag!A856=1,SUBSTITUTE(IF(tagflag!B856=\"NOTAG\",rawrtf!A856,SUBSTITUTE(rawrtf!A856,\"TFPTAG\"&tagflag!D856,\"\")),\"TFPSTR\"&strflag!B856,strflag!D856),IF(tagflag!B856=\"NOTAG\",rawrtf!A856,SUBSTITUTE(rawrtf!A856,\"TFPTAG\"&tagflag!D856,\"\"))),\"\")","v":0}]
[{"$f":"IF(tagflag!A857=1,IF(strflag!A857=1,SUBSTITUTE(IF(tagflag!B857=\"NOTAG\",rawrtf!A857,SUBSTITUTE(rawrtf!A857,\"TFPTAG\"&tagflag!D857,\"\")),\"TFPSTR\"&strflag!B857,strflag!D857),IF(tagflag!B857=\"NOTAG\",rawrtf!A857,SUBSTITUTE(rawrtf!A857,\"TFPTAG\"&tagflag!D857,\"\"))),\"\")","v":0}]
[{"$f":"IF(tagflag!A858=1,IF(strflag!A858=1,SUBSTITUTE(IF(tagflag!B858=\"NOTAG\",rawrtf!A858,SUBSTITUTE(rawrtf!A858,\"TFPTAG\"&tagflag!D858,\"\")),\"TFPSTR\"&strflag!B858,strflag!D858),IF(tagflag!B858=\"NOTAG\",rawrtf!A858,SUBSTITUTE(rawrtf!A858,\"TFPTAG\"&tagflag!D858,\"\"))),\"\")","v":0}]
[{"$f":"IF(tagflag!A859=1,IF(strflag!A859=1,SUBSTITUTE(IF(tagflag!B859=\"NOTAG\",rawrtf!A859,SUBSTITUTE(rawrtf!A859,\"TFPTAG\"&tagflag!D859,\"\")),\"TFPSTR\"&strflag!B859,strflag!D859),IF(tagflag!B859=\"NOTAG\",rawrtf!A859,SUBSTITUTE(rawrtf!A859,\"TFPTAG\"&tagflag!D859,\"\"))),\"\")","v":0}]
[{"$f":"IF(tagflag!A860=1,IF(strflag!A860=1,SUBSTITUTE(IF(tagflag!B860=\"NOTAG\",rawrtf!A860,SUBSTITUTE(rawrtf!A860,\"TFPTAG\"&tagflag!D860,\"\")),\"TFPSTR\"&strflag!B860,strflag!D860),IF(tagflag!B860=\"NOTAG\",rawrtf!A860,SUBSTITUTE(rawrtf!A860,\"TFPTAG\"&tagflag!D860,\"\"))),\"\")","v":0}]
[{"$f":"IF(tagflag!A861=1,IF(strflag!A861=1,SUBSTITUTE(IF(tagflag!B861=\"NOTAG\",rawrtf!A861,SUBSTITUTE(rawrtf!A861,\"TFPTAG\"&tagflag!D861,\"\")),\"TFPSTR\"&strflag!B861,strflag!D861),IF(tagflag!B861=\"NOTAG\",rawrtf!A861,SUBSTITUTE(rawrtf!A861,\"TFPTAG\"&tagflag!D861,\"\"))),\"\")","v":0}]
[{"$f":"IF(tagflag!A862=1,IF(strflag!A862=1,SUBSTITUTE(IF(tagflag!B862=\"NOTAG\",rawrtf!A862,SUBSTITUTE(rawrtf!A862,\"TFPTAG\"&tagflag!D862,\"\")),\"TFPSTR\"&strflag!B862,strflag!D862),IF(tagflag!B862=\"NOTAG\",rawrtf!A862,SUBSTITUTE(rawrtf!A862,\"TFPTAG\"&tagflag!D862,\"\"))),\"\")","v":0}]
[{"$f":"IF(tagflag!A863=1,IF(strflag!A863=1,SUBSTITUTE(IF(tagflag!B863=\"NOTAG\",rawrtf!A863,SUBSTITUTE(rawrtf!A863,\"TFPTAG\"&tagflag!D863,\"\")),\"TFPSTR\"&strflag!B863,strflag!D863),IF(tagflag!B863=\"NOTAG\",rawrtf!A863,SUBSTITUTE(rawrtf!A863,\"TFPTAG\"&tagflag!D863,\"\"))),\"\")","v":0}]
[{"$f":"IF(tagflag!A864=1,IF(strflag!A864=1,SUBSTITUTE(IF(tagflag!B864=\"NOTAG\",rawrtf!A864,SUBSTITUTE(rawrtf!A864,\"TFPTAG\"&tagflag!D864,\"\")),\"TFPSTR\"&strflag!B864,strflag!D864),IF(tagflag!B864=\"NOTAG\",rawrtf!A864,SUBSTITUTE(rawrtf!A864,\"TFPTAG\"&tagflag!D864,\"\"))),\"\")","v":0}]
[{"$f":"IF(tagflag!A865=1,IF(strflag!A865=1,SUBSTITUTE(IF(tagflag!B865=\"NOTAG\",rawrtf!A865,SUBSTITUTE(rawrtf!A865,\"TFPTAG\"&tagflag!D865,\"\")),\"TFPSTR\"&strflag!B865,strflag!D865),IF(tagflag!B865=\"NOTAG\",rawrtf!A865,SUBSTITUTE(rawrtf!A865,\"TFPTAG\"&tagflag!D865,\"\"))),\"\")","v":0}]
[{"$f":"IF(tagflag!A866=1,IF(strflag!A866=1,SUBSTITUTE(IF(tagflag!B866=\"NOTAG\",rawrtf!A866,SUBSTITUTE(rawrtf!A866,\"TFPTAG\"&tagflag!D866,\"\")),\"TFPSTR\"&strflag!B866,strflag!D866),IF(tagflag!B866=\"NOTAG\",rawrtf!A866,SUBSTITUTE(rawrtf!A866,\"TFPTAG\"&tagflag!D866,\"\"))),\"\")","v":0}]
[{"$f":"IF(tagflag!A867=1,IF(strflag!A867=1,SUBSTITUTE(IF(tagflag!B867=\"NOTAG\",rawrtf!A867,SUBSTITUTE(rawrtf!A867,\"TFPTAG\"&tagflag!D867,\"\")),\"TFPSTR\"&strflag!B867,strflag!D867),IF(tagflag!B867=\"NOTAG\",rawrtf!A867,SUBSTITUTE(rawrtf!A867,\"TFPTAG\"&tagflag!D867,\"\"))),\"\")","v":0}]
[{"$f":"IF(tagflag!A868=1,IF(strflag!A868=1,SUBSTITUTE(IF(tagflag!B868=\"NOTAG\",rawrtf!A868,SUBSTITUTE(rawrtf!A868,\"TFPTAG\"&tagflag!D868,\"\")),\"TFPSTR\"&strflag!B868,strflag!D868),IF(tagflag!B868=\"NOTAG\",rawrtf!A868,SUBSTITUTE(rawrtf!A868,\"TFPTAG\"&tagflag!D868,\"\"))),\"\")","v":0}]
[{"$f":"IF(tagflag!A869=1,IF(strflag!A869=1,SUBSTITUTE(IF(tagflag!B869=\"NOTAG\",rawrtf!A869,SUBSTITUTE(rawrtf!A869,\"TFPTAG\"&tagflag!D869,\"\")),\"TFPSTR\"&strflag!B869,strflag!D869),IF(tagflag!B869=\"NOTAG\",rawrtf!A869,SUBSTITUTE(rawrtf!A869,\"TFPTAG\"&tagflag!D869,\"\"))),\"\")","v":0}]
[{"$f":"IF(tagflag!A870=1,IF(strflag!A870=1,SUBSTITUTE(IF(tagflag!B870=\"NOTAG\",rawrtf!A870,SUBSTITUTE(rawrtf!A870,\"TFPTAG\"&tagflag!D870,\"\")),\"TFPSTR\"&strflag!B870,strflag!D870),IF(tagflag!B870=\"NOTAG\",rawrtf!A870,SUBSTITUTE(rawrtf!A870,\"TFPTAG\"&tagflag!D870,\"\"))),\"\")","v":0}]
[{"$f":"IF(tagflag!A871=1,IF(strflag!A871=1,SUBSTITUTE(IF(tagflag!B871=\"NOTAG\",rawrtf!A871,SUBSTITUTE(rawrtf!A871,\"TFPTAG\"&tagflag!D871,\"\")),\"TFPSTR\"&strflag!B871,strflag!D871),IF(tagflag!B871=\"NOTAG\",rawrtf!A871,SUBSTITUTE(rawrtf!A871,\"TFPTAG\"&tagflag!D871,\"\"))),\"\")","v":0}]
[{"$f":"IF(tagflag!A872=1,IF(strflag!A872=1,SUBSTITUTE(IF(tagflag!B872=\"NOTAG\",rawrtf!A872,SUBSTITUTE(rawrtf!A872,\"TFPTAG\"&tagflag!D872,\"\")),\"TFPSTR\"&strflag!B872,strflag!D872),IF(tagflag!B872=\"NOTAG\",rawrtf!A872,SUBSTITUTE(rawrtf!A872,\"TFPTAG\"&tagflag!D872,\"\"))),\"\")","v":0}]
[{"$f":"IF(tagflag!A873=1,IF(strflag!A873=1,SUBSTITUTE(IF(tagflag!B873=\"NOTAG\",rawrtf!A873,SUBSTITUTE(rawrtf!A873,\"TFPTAG\"&tagflag!D873,\"\")),\"TFPSTR\"&strflag!B873,strflag!D873),IF(tagflag!B873=\"NOTAG\",rawrtf!A873,SUBSTITUTE(rawrtf!A873,\"TFPTAG\"&tagflag!D873,\"\"))),\"\")","v":0}]
[{"$f":"IF(tagflag!A874=1,IF(strflag!A874=1,SUBSTITUTE(IF(tagflag!B874=\"NOTAG\",rawrtf!A874,SUBSTITUTE(rawrtf!A874,\"TFPTAG\"&tagflag!D874,\"\")),\"TFPSTR\"&strflag!B874,strflag!D874),IF(tagflag!B874=\"NOTAG\",rawrtf!A874,SUBSTITUTE(rawrtf!A874,\"TFPTAG\"&tagflag!D874,\"\"))),\"\")","v":0}]
[{"$f":"IF(tagflag!A875=1,IF(strflag!A875=1,SUBSTITUTE(IF(tagflag!B875=\"NOTAG\",rawrtf!A875,SUBSTITUTE(rawrtf!A875,\"TFPTAG\"&tagflag!D875,\"\")),\"TFPSTR\"&strflag!B875,strflag!D875),IF(tagflag!B875=\"NOTAG\",rawrtf!A875,SUBSTITUTE(rawrtf!A875,\"TFPTAG\"&tagflag!D875,\"\"))),\"\")","v":0}]
[{"$f":"IF(tagflag!A876=1,IF(strflag!A876=1,SUBSTITUTE(IF(tagflag!B876=\"NOTAG\",rawrtf!A876,SUBSTITUTE(rawrtf!A876,\"TFPTAG\"&tagflag!D876,\"\")),\"TFPSTR\"&strflag!B876,strflag!D876),IF(tagflag!B876=\"NOTAG\",rawrtf!A876,SUBSTITUTE(rawrtf!A876,\"TFPTAG\"&tagflag!D876,\"\"))),\"\")","v":0}]
[{"$f":"IF(tagflag!A877=1,IF(strflag!A877=1,SUBSTITUTE(IF(tagflag!B877=\"NOTAG\",rawrtf!A877,SUBSTITUTE(rawrtf!A877,\"TFPTAG\"&tagflag!D877,\"\")),\"TFPSTR\"&strflag!B877,strflag!D877),IF(tagflag!B877=\"NOTAG\",rawrtf!A877,SUBSTITUTE(rawrtf!A877,\"TFPTAG\"&tagflag!D877,\"\"))),\"\")","v":0}]
[{"$f":"IF(tagflag!A878=1,IF(strflag!A878=1,SUBSTITUTE(IF(tagflag!B878=\"NOTAG\",rawrtf!A878,SUBSTITUTE(rawrtf!A878,\"TFPTAG\"&tagflag!D878,\"\")),\"TFPSTR\"&strflag!B878,strflag!D878),IF(tagflag!B878=\"NOTAG\",rawrtf!A878,SUBSTITUTE(rawrtf!A878,\"TFPTAG\"&tagflag!D878,\"\"))),\"\")","v":0}]
[{"$f":"IF(tagflag!A879=1,IF(strflag!A879=1,SUBSTITUTE(IF(tagflag!B879=\"NOTAG\",rawrtf!A879,SUBSTITUTE(rawrtf!A879,\"TFPTAG\"&tagflag!D879,\"\")),\"TFPSTR\"&strflag!B879,strflag!D879),IF(tagflag!B879=\"NOTAG\",rawrtf!A879,SUBSTITUTE(rawrtf!A879,\"TFPTAG\"&tagflag!D879,\"\"))),\"\")","v":0}]
[{"$f":"IF(tagflag!A880=1,IF(strflag!A880=1,SUBSTITUTE(IF(tagflag!B880=\"NOTAG\",rawrtf!A880,SUBSTITUTE(rawrtf!A880,\"TFPTAG\"&tagflag!D880,\"\")),\"TFPSTR\"&strflag!B880,strflag!D880),IF(tagflag!B880=\"NOTAG\",rawrtf!A880,SUBSTITUTE(rawrtf!A880,\"TFPTAG\"&tagflag!D880,\"\"))),\"\")","v":0}]
[{"$f":"IF(tagflag!A881=1,IF(strflag!A881=1,SUBSTITUTE(IF(tagflag!B881=\"NOTAG\",rawrtf!A881,SUBSTITUTE(rawrtf!A881,\"TFPTAG\"&tagflag!D881,\"\")),\"TFPSTR\"&strflag!B881,strflag!D881),IF(tagflag!B881=\"NOTAG\",rawrtf!A881,SUBSTITUTE(rawrtf!A881,\"TFPTAG\"&tagflag!D881,\"\"))),\"\")","v":0}]
[{"$f":"IF(tagflag!A882=1,IF(strflag!A882=1,SUBSTITUTE(IF(tagflag!B882=\"NOTAG\",rawrtf!A882,SUBSTITUTE(rawrtf!A882,\"TFPTAG\"&tagflag!D882,\"\")),\"TFPSTR\"&strflag!B882,strflag!D882),IF(tagflag!B882=\"NOTAG\",rawrtf!A882,SUBSTITUTE(rawrtf!A882,\"TFPTAG\"&tagflag!D882,\"\"))),\"\")","v":0}]
[{"$f":"IF(tagflag!A883=1,IF(strflag!A883=1,SUBSTITUTE(IF(tagflag!B883=\"NOTAG\",rawrtf!A883,SUBSTITUTE(rawrtf!A883,\"TFPTAG\"&tagflag!D883,\"\")),\"TFPSTR\"&strflag!B883,strflag!D883),IF(tagflag!B883=\"NOTAG\",rawrtf!A883,SUBSTITUTE(rawrtf!A883,\"TFPTAG\"&tagflag!D883,\"\"))),\"\")","v":0}]
[{"$f":"IF(tagflag!A884=1,IF(strflag!A884=1,SUBSTITUTE(IF(tagflag!B884=\"NOTAG\",rawrtf!A884,SUBSTITUTE(rawrtf!A884,\"TFPTAG\"&tagflag!D884,\"\")),\"TFPSTR\"&strflag!B884,strflag!D884),IF(tagflag!B884=\"NOTAG\",rawrtf!A884,SUBSTITUTE(rawrtf!A884,\"TFPTAG\"&tagflag!D884,\"\"))),\"\")","v":0}]
[{"$f":"IF(tagflag!A885=1,IF(strflag!A885=1,SUBSTITUTE(IF(tagflag!B885=\"NOTAG\",rawrtf!A885,SUBSTITUTE(rawrtf!A885,\"TFPTAG\"&tagflag!D885,\"\")),\"TFPSTR\"&strflag!B885,strflag!D885),IF(tagflag!B885=\"NOTAG\",rawrtf!A885,SUBSTITUTE(rawrtf!A885,\"TFPTAG\"&tagflag!D885,\"\"))),\"\")","v":0}]
[{"$f":"IF(tagflag!A886=1,IF(strflag!A886=1,SUBSTITUTE(IF(tagflag!B886=\"NOTAG\",rawrtf!A886,SUBSTITUTE(rawrtf!A886,\"TFPTAG\"&tagflag!D886,\"\")),\"TFPSTR\"&strflag!B886,strflag!D886),IF(tagflag!B886=\"NOTAG\",rawrtf!A886,SUBSTITUTE(rawrtf!A886,\"TFPTAG\"&tagflag!D886,\"\"))),\"\")","v":0}]
[{"$f":"IF(tagflag!A887=1,IF(strflag!A887=1,SUBSTITUTE(IF(tagflag!B887=\"NOTAG\",rawrtf!A887,SUBSTITUTE(rawrtf!A887,\"TFPTAG\"&tagflag!D887,\"\")),\"TFPSTR\"&strflag!B887,strflag!D887),IF(tagflag!B887=\"NOTAG\",rawrtf!A887,SUBSTITUTE(rawrtf!A887,\"TFPTAG\"&tagflag!D887,\"\"))),\"\")","v":0}]
[{"$f":"IF(tagflag!A888=1,IF(strflag!A888=1,SUBSTITUTE(IF(tagflag!B888=\"NOTAG\",rawrtf!A888,SUBSTITUTE(rawrtf!A888,\"TFPTAG\"&tagflag!D888,\"\")),\"TFPSTR\"&strflag!B888,strflag!D888),IF(tagflag!B888=\"NOTAG\",rawrtf!A888,SUBSTITUTE(rawrtf!A888,\"TFPTAG\"&tagflag!D888,\"\"))),\"\")","v":0}]
[{"$f":"IF(tagflag!A889=1,IF(strflag!A889=1,SUBSTITUTE(IF(tagflag!B889=\"NOTAG\",rawrtf!A889,SUBSTITUTE(rawrtf!A889,\"TFPTAG\"&tagflag!D889,\"\")),\"TFPSTR\"&strflag!B889,strflag!D889),IF(tagflag!B889=\"NOTAG\",rawrtf!A889,SUBSTITUTE(rawrtf!A889,\"TFPTAG\"&tagflag!D889,\"\"))),\"\")","v":0}]
[{"$f":"IF(tagflag!A890=1,IF(strflag!A890=1,SUBSTITUTE(IF(tagflag!B890=\"NOTAG\",rawrtf!A890,SUBSTITUTE(rawrtf!A890,\"TFPTAG\"&tagflag!D890,\"\")),\"TFPSTR\"&strflag!B890,strflag!D890),IF(tagflag!B890=\"NOTAG\",rawrtf!A890,SUBSTITUTE(rawrtf!A890,\"TFPTAG\"&tagflag!D890,\"\"))),\"\")","v":0}]
[{"$f":"IF(tagflag!A891=1,IF(strflag!A891=1,SUBSTITUTE(IF(tagflag!B891=\"NOTAG\",rawrtf!A891,SUBSTITUTE(rawrtf!A891,\"TFPTAG\"&tagflag!D891,\"\")),\"TFPSTR\"&strflag!B891,strflag!D891),IF(tagflag!B891=\"NOTAG\",rawrtf!A891,SUBSTITUTE(rawrtf!A891,\"TFPTAG\"&tagflag!D891,\"\"))),\"\")","v":0}]
[{"$f":"IF(tagflag!A892=1,IF(strflag!A892=1,SUBSTITUTE(IF(tagflag!B892=\"NOTAG\",rawrtf!A892,SUBSTITUTE(rawrtf!A892,\"TFPTAG\"&tagflag!D892,\"\")),\"TFPSTR\"&strflag!B892,strflag!D892),IF(tagflag!B892=\"NOTAG\",rawrtf!A892,SUBSTITUTE(rawrtf!A892,\"TFPTAG\"&tagflag!D892,\"\"))),\"\")","v":0}]
[{"$f":"IF(tagflag!A893=1,IF(strflag!A893=1,SUBSTITUTE(IF(tagflag!B893=\"NOTAG\",rawrtf!A893,SUBSTITUTE(rawrtf!A893,\"TFPTAG\"&tagflag!D893,\"\")),\"TFPSTR\"&strflag!B893,strflag!D893),IF(tagflag!B893=\"NOTAG\",rawrtf!A893,SUBSTITUTE(rawrtf!A893,\"TFPTAG\"&tagflag!D893,\"\"))),\"\")","v":0}]
[{"$f":"IF(tagflag!A894=1,IF(strflag!A894=1,SUBSTITUTE(IF(tagflag!B894=\"NOTAG\",rawrtf!A894,SUBSTITUTE(rawrtf!A894,\"TFPTAG\"&tagflag!D894,\"\")),\"TFPSTR\"&strflag!B894,strflag!D894),IF(tagflag!B894=\"NOTAG\",rawrtf!A894,SUBSTITUTE(rawrtf!A894,\"TFPTAG\"&tagflag!D894,\"\"))),\"\")","v":0}]
[{"$f":"IF(tagflag!A895=1,IF(strflag!A895=1,SUBSTITUTE(IF(tagflag!B895=\"NOTAG\",rawrtf!A895,SUBSTITUTE(rawrtf!A895,\"TFPTAG\"&tagflag!D895,\"\")),\"TFPSTR\"&strflag!B895,strflag!D895),IF(tagflag!B895=\"NOTAG\",rawrtf!A895,SUBSTITUTE(rawrtf!A895,\"TFPTAG\"&tagflag!D895,\"\"))),\"\")","v":0}]
[{"$f":"IF(tagflag!A896=1,IF(strflag!A896=1,SUBSTITUTE(IF(tagflag!B896=\"NOTAG\",rawrtf!A896,SUBSTITUTE(rawrtf!A896,\"TFPTAG\"&tagflag!D896,\"\")),\"TFPSTR\"&strflag!B896,strflag!D896),IF(tagflag!B896=\"NOTAG\",rawrtf!A896,SUBSTITUTE(rawrtf!A896,\"TFPTAG\"&tagflag!D896,\"\"))),\"\")","v":0}]
[{"$f":"IF(tagflag!A897=1,IF(strflag!A897=1,SUBSTITUTE(IF(tagflag!B897=\"NOTAG\",rawrtf!A897,SUBSTITUTE(rawrtf!A897,\"TFPTAG\"&tagflag!D897,\"\")),\"TFPSTR\"&strflag!B897,strflag!D897),IF(tagflag!B897=\"NOTAG\",rawrtf!A897,SUBSTITUTE(rawrtf!A897,\"TFPTAG\"&tagflag!D897,\"\"))),\"\")","v":0}]
[{"$f":"IF(tagflag!A898=1,IF(strflag!A898=1,SUBSTITUTE(IF(tagflag!B898=\"NOTAG\",rawrtf!A898,SUBSTITUTE(rawrtf!A898,\"TFPTAG\"&tagflag!D898,\"\")),\"TFPSTR\"&strflag!B898,strflag!D898),IF(tagflag!B898=\"NOTAG\",rawrtf!A898,SUBSTITUTE(rawrtf!A898,\"TFPTAG\"&tagflag!D898,\"\"))),\"\")","v":0}]
[{"$f":"IF(tagflag!A899=1,IF(strflag!A899=1,SUBSTITUTE(IF(tagflag!B899=\"NOTAG\",rawrtf!A899,SUBSTITUTE(rawrtf!A899,\"TFPTAG\"&tagflag!D899,\"\")),\"TFPSTR\"&strflag!B899,strflag!D899),IF(tagflag!B899=\"NOTAG\",rawrtf!A899,SUBSTITUTE(rawrtf!A899,\"TFPTAG\"&tagflag!D899,\"\"))),\"\")","v":0}]
[{"$f":"IF(tagflag!A900=1,IF(strflag!A900=1,SUBSTITUTE(IF(tagflag!B900=\"NOTAG\",rawrtf!A900,SUBSTITUTE(rawrtf!A900,\"TFPTAG\"&tagflag!D900,\"\")),\"TFPSTR\"&strflag!B900,strflag!D900),IF(tagflag!B900=\"NOTAG\",rawrtf!A900,SUBSTITUTE(rawrtf!A900,\"TFPTAG\"&tagflag!D900,\"\"))),\"\")","v":0}]
[{"$f":"IF(tagflag!A901=1,IF(strflag!A901=1,SUBSTITUTE(IF(tagflag!B901=\"NOTAG\",rawrtf!A901,SUBSTITUTE(rawrtf!A901,\"TFPTAG\"&tagflag!D901,\"\")),\"TFPSTR\"&strflag!B901,strflag!D901),IF(tagflag!B901=\"NOTAG\",rawrtf!A901,SUBSTITUTE(rawrtf!A901,\"TFPTAG\"&tagflag!D901,\"\"))),\"\")","v":0}]
[{"$f":"IF(tagflag!A902=1,IF(strflag!A902=1,SUBSTITUTE(IF(tagflag!B902=\"NOTAG\",rawrtf!A902,SUBSTITUTE(rawrtf!A902,\"TFPTAG\"&tagflag!D902,\"\")),\"TFPSTR\"&strflag!B902,strflag!D902),IF(tagflag!B902=\"NOTAG\",rawrtf!A902,SUBSTITUTE(rawrtf!A902,\"TFPTAG\"&tagflag!D902,\"\"))),\"\")","v":0}]
[{"$f":"IF(tagflag!A903=1,IF(strflag!A903=1,SUBSTITUTE(IF(tagflag!B903=\"NOTAG\",rawrtf!A903,SUBSTITUTE(rawrtf!A903,\"TFPTAG\"&tagflag!D903,\"\")),\"TFPSTR\"&strflag!B903,strflag!D903),IF(tagflag!B903=\"NOTAG\",rawrtf!A903,SUBSTITUTE(rawrtf!A903,\"TFPTAG\"&tagflag!D903,\"\"))),\"\")","v":0}]
[{"$f":"IF(tagflag!A904=1,IF(strflag!A904=1,SUBSTITUTE(IF(tagflag!B904=\"NOTAG\",rawrtf!A904,SUBSTITUTE(rawrtf!A904,\"TFPTAG\"&tagflag!D904,\"\")),\"TFPSTR\"&strflag!B904,strflag!D904),IF(tagflag!B904=\"NOTAG\",rawrtf!A904,SUBSTITUTE(rawrtf!A904,\"TFPTAG\"&tagflag!D904,\"\"))),\"\")","v":0}]
[{"$f":"IF(tagflag!A905=1,IF(strflag!A905=1,SUBSTITUTE(IF(tagflag!B905=\"NOTAG\",rawrtf!A905,SUBSTITUTE(rawrtf!A905,\"TFPTAG\"&tagflag!D905,\"\")),\"TFPSTR\"&strflag!B905,strflag!D905),IF(tagflag!B905=\"NOTAG\",rawrtf!A905,SUBSTITUTE(rawrtf!A905,\"TFPTAG\"&tagflag!D905,\"\"))),\"\")","v":0}]
[{"$f":"IF(tagflag!A906=1,IF(strflag!A906=1,SUBSTITUTE(IF(tagflag!B906=\"NOTAG\",rawrtf!A906,SUBSTITUTE(rawrtf!A906,\"TFPTAG\"&tagflag!D906,\"\")),\"TFPSTR\"&strflag!B906,strflag!D906),IF(tagflag!B906=\"NOTAG\",rawrtf!A906,SUBSTITUTE(rawrtf!A906,\"TFPTAG\"&tagflag!D906,\"\"))),\"\")","v":0}]
[{"$f":"IF(tagflag!A907=1,IF(strflag!A907=1,SUBSTITUTE(IF(tagflag!B907=\"NOTAG\",rawrtf!A907,SUBSTITUTE(rawrtf!A907,\"TFPTAG\"&tagflag!D907,\"\")),\"TFPSTR\"&strflag!B907,strflag!D907),IF(tagflag!B907=\"NOTAG\",rawrtf!A907,SUBSTITUTE(rawrtf!A907,\"TFPTAG\"&tagflag!D907,\"\"))),\"\")","v":0}]
[{"$f":"IF(tagflag!A908=1,IF(strflag!A908=1,SUBSTITUTE(IF(tagflag!B908=\"NOTAG\",rawrtf!A908,SUBSTITUTE(rawrtf!A908,\"TFPTAG\"&tagflag!D908,\"\")),\"TFPSTR\"&strflag!B908,strflag!D908),IF(tagflag!B908=\"NOTAG\",rawrtf!A908,SUBSTITUTE(rawrtf!A908,\"TFPTAG\"&tagflag!D908,\"\"))),\"\")","v":0}]
[{"$f":"IF(tagflag!A909=1,IF(strflag!A909=1,SUBSTITUTE(IF(tagflag!B909=\"NOTAG\",rawrtf!A909,SUBSTITUTE(rawrtf!A909,\"TFPTAG\"&tagflag!D909,\"\")),\"TFPSTR\"&strflag!B909,strflag!D909),IF(tagflag!B909=\"NOTAG\",rawrtf!A909,SUBSTITUTE(rawrtf!A909,\"TFPTAG\"&tagflag!D909,\"\"))),\"\")","v":0}]
[{"$f":"IF(tagflag!A910=1,IF(strflag!A910=1,SUBSTITUTE(IF(tagflag!B910=\"NOTAG\",rawrtf!A910,SUBSTITUTE(rawrtf!A910,\"TFPTAG\"&tagflag!D910,\"\")),\"TFPSTR\"&strflag!B910,strflag!D910),IF(tagflag!B910=\"NOTAG\",rawrtf!A910,SUBSTITUTE(rawrtf!A910,\"TFPTAG\"&tagflag!D910,\"\"))),\"\")","v":0}]
[{"$f":"IF(tagflag!A911=1,IF(strflag!A911=1,SUBSTITUTE(IF(tagflag!B911=\"NOTAG\",rawrtf!A911,SUBSTITUTE(rawrtf!A911,\"TFPTAG\"&tagflag!D911,\"\")),\"TFPSTR\"&strflag!B911,strflag!D911),IF(tagflag!B911=\"NOTAG\",rawrtf!A911,SUBSTITUTE(rawrtf!A911,\"TFPTAG\"&tagflag!D911,\"\"))),\"\")","v":0}]
[{"$f":"IF(tagflag!A912=1,IF(strflag!A912=1,SUBSTITUTE(IF(tagflag!B912=\"NOTAG\",rawrtf!A912,SUBSTITUTE(rawrtf!A912,\"TFPTAG\"&tagflag!D912,\"\")),\"TFPSTR\"&strflag!B912,strflag!D912),IF(tagflag!B912=\"NOTAG\",rawrtf!A912,SUBSTITUTE(rawrtf!A912,\"TFPTAG\"&tagflag!D912,\"\"))),\"\")","v":0}]
[{"$f":"IF(tagflag!A913=1,IF(strflag!A913=1,SUBSTITUTE(IF(tagflag!B913=\"NOTAG\",rawrtf!A913,SUBSTITUTE(rawrtf!A913,\"TFPTAG\"&tagflag!D913,\"\")),\"TFPSTR\"&strflag!B913,strflag!D913),IF(tagflag!B913=\"NOTAG\",rawrtf!A913,SUBSTITUTE(rawrtf!A913,\"TFPTAG\"&tagflag!D913,\"\"))),\"\")","v":0}]
[{"$f":"IF(tagflag!A914=1,IF(strflag!A914=1,SUBSTITUTE(IF(tagflag!B914=\"NOTAG\",rawrtf!A914,SUBSTITUTE(rawrtf!A914,\"TFPTAG\"&tagflag!D914,\"\")),\"TFPSTR\"&strflag!B914,strflag!D914),IF(tagflag!B914=\"NOTAG\",rawrtf!A914,SUBSTITUTE(rawrtf!A914,\"TFPTAG\"&tagflag!D914,\"\"))),\"\")","v":0}]
[{"$f":"IF(tagflag!A915=1,IF(strflag!A915=1,SUBSTITUTE(IF(tagflag!B915=\"NOTAG\",rawrtf!A915,SUBSTITUTE(rawrtf!A915,\"TFPTAG\"&tagflag!D915,\"\")),\"TFPSTR\"&strflag!B915,strflag!D915),IF(tagflag!B915=\"NOTAG\",rawrtf!A915,SUBSTITUTE(rawrtf!A915,\"TFPTAG\"&tagflag!D915,\"\"))),\"\")","v":0}]
[{"$f":"IF(tagflag!A916=1,IF(strflag!A916=1,SUBSTITUTE(IF(tagflag!B916=\"NOTAG\",rawrtf!A916,SUBSTITUTE(rawrtf!A916,\"TFPTAG\"&tagflag!D916,\"\")),\"TFPSTR\"&strflag!B916,strflag!D916),IF(tagflag!B916=\"NOTAG\",rawrtf!A916,SUBSTITUTE(rawrtf!A916,\"TFPTAG\"&tagflag!D916,\"\"))),\"\")","v":0}]
[{"$f":"IF(tagflag!A917=1,IF(strflag!A917=1,SUBSTITUTE(IF(tagflag!B917=\"NOTAG\",rawrtf!A917,SUBSTITUTE(rawrtf!A917,\"TFPTAG\"&tagflag!D917,\"\")),\"TFPSTR\"&strflag!B917,strflag!D917),IF(tagflag!B917=\"NOTAG\",rawrtf!A917,SUBSTITUTE(rawrtf!A917,\"TFPTAG\"&tagflag!D917,\"\"))),\"\")","v":0}]
[{"$f":"IF(tagflag!A918=1,IF(strflag!A918=1,SUBSTITUTE(IF(tagflag!B918=\"NOTAG\",rawrtf!A918,SUBSTITUTE(rawrtf!A918,\"TFPTAG\"&tagflag!D918,\"\")),\"TFPSTR\"&strflag!B918,strflag!D918),IF(tagflag!B918=\"NOTAG\",rawrtf!A918,SUBSTITUTE(rawrtf!A918,\"TFPTAG\"&tagflag!D918,\"\"))),\"\")","v":0}]
[{"$f":"IF(tagflag!A919=1,IF(strflag!A919=1,SUBSTITUTE(IF(tagflag!B919=\"NOTAG\",rawrtf!A919,SUBSTITUTE(rawrtf!A919,\"TFPTAG\"&tagflag!D919,\"\")),\"TFPSTR\"&strflag!B919,strflag!D919),IF(tagflag!B919=\"NOTAG\",rawrtf!A919,SUBSTITUTE(rawrtf!A919,\"TFPTAG\"&tagflag!D919,\"\"))),\"\")","v":0}]
[{"$f":"IF(tagflag!A920=1,IF(strflag!A920=1,SUBSTITUTE(IF(tagflag!B920=\"NOTAG\",rawrtf!A920,SUBSTITUTE(rawrtf!A920,\"TFPTAG\"&tagflag!D920,\"\")),\"TFPSTR\"&strflag!B920,strflag!D920),IF(tagflag!B920=\"NOTAG\",rawrtf!A920,SUBSTITUTE(rawrtf!A920,\"TFPTAG\"&tagflag!D920,\"\"))),\"\")","v":0}]
[{"$f":"IF(tagflag!A921=1,IF(strflag!A921=1,SUBSTITUTE(IF(tagflag!B921=\"NOTAG\",rawrtf!A921,SUBSTITUTE(rawrtf!A921,\"TFPTAG\"&tagflag!D921,\"\")),\"TFPSTR\"&strflag!B921,strflag!D921),IF(tagflag!B921=\"NOTAG\",rawrtf!A921,SUBSTITUTE(rawrtf!A921,\"TFPTAG\"&tagflag!D921,\"\"))),\"\")","v":0}]
[{"$f":"IF(tagflag!A922=1,IF(strflag!A922=1,SUBSTITUTE(IF(tagflag!B922=\"NOTAG\",rawrtf!A922,SUBSTITUTE(rawrtf!A922,\"TFPTAG\"&tagflag!D922,\"\")),\"TFPSTR\"&strflag!B922,strflag!D922),IF(tagflag!B922=\"NOTAG\",rawrtf!A922,SUBSTITUTE(rawrtf!A922,\"TFPTAG\"&tagflag!D922,\"\"))),\"\")","v":0}]
[{"$f":"IF(tagflag!A923=1,IF(strflag!A923=1,SUBSTITUTE(IF(tagflag!B923=\"NOTAG\",rawrtf!A923,SUBSTITUTE(rawrtf!A923,\"TFPTAG\"&tagflag!D923,\"\")),\"TFPSTR\"&strflag!B923,strflag!D923),IF(tagflag!B923=\"NOTAG\",rawrtf!A923,SUBSTITUTE(rawrtf!A923,\"TFPTAG\"&tagflag!D923,\"\"))),\"\")","v":0}]
[{"$f":"IF(tagflag!A924=1,IF(strflag!A924=1,SUBSTITUTE(IF(tagflag!B924=\"NOTAG\",rawrtf!A924,SUBSTITUTE(rawrtf!A924,\"TFPTAG\"&tagflag!D924,\"\")),\"TFPSTR\"&strflag!B924,strflag!D924),IF(tagflag!B924=\"NOTAG\",rawrtf!A924,SUBSTITUTE(rawrtf!A924,\"TFPTAG\"&tagflag!D924,\"\"))),\"\")","v":0}]
[{"$f":"IF(tagflag!A925=1,IF(strflag!A925=1,SUBSTITUTE(IF(tagflag!B925=\"NOTAG\",rawrtf!A925,SUBSTITUTE(rawrtf!A925,\"TFPTAG\"&tagflag!D925,\"\")),\"TFPSTR\"&strflag!B925,strflag!D925),IF(tagflag!B925=\"NOTAG\",rawrtf!A925,SUBSTITUTE(rawrtf!A925,\"TFPTAG\"&tagflag!D925,\"\"))),\"\")","v":0}]
[{"$f":"IF(tagflag!A926=1,IF(strflag!A926=1,SUBSTITUTE(IF(tagflag!B926=\"NOTAG\",rawrtf!A926,SUBSTITUTE(rawrtf!A926,\"TFPTAG\"&tagflag!D926,\"\")),\"TFPSTR\"&strflag!B926,strflag!D926),IF(tagflag!B926=\"NOTAG\",rawrtf!A926,SUBSTITUTE(rawrtf!A926,\"TFPTAG\"&tagflag!D926,\"\"))),\"\")","v":0}]
[{"$f":"IF(tagflag!A927=1,IF(strflag!A927=1,SUBSTITUTE(IF(tagflag!B927=\"NOTAG\",rawrtf!A927,SUBSTITUTE(rawrtf!A927,\"TFPTAG\"&tagflag!D927,\"\")),\"TFPSTR\"&strflag!B927,strflag!D927),IF(tagflag!B927=\"NOTAG\",rawrtf!A927,SUBSTITUTE(rawrtf!A927,\"TFPTAG\"&tagflag!D927,\"\"))),\"\")","v":0}]
[{"$f":"IF(tagflag!A928=1,IF(strflag!A928=1,SUBSTITUTE(IF(tagflag!B928=\"NOTAG\",rawrtf!A928,SUBSTITUTE(rawrtf!A928,\"TFPTAG\"&tagflag!D928,\"\")),\"TFPSTR\"&strflag!B928,strflag!D928),IF(tagflag!B928=\"NOTAG\",rawrtf!A928,SUBSTITUTE(rawrtf!A928,\"TFPTAG\"&tagflag!D928,\"\"))),\"\")","v":0}]
[{"$f":"IF(tagflag!A929=1,IF(strflag!A929=1,SUBSTITUTE(IF(tagflag!B929=\"NOTAG\",rawrtf!A929,SUBSTITUTE(rawrtf!A929,\"TFPTAG\"&tagflag!D929,\"\")),\"TFPSTR\"&strflag!B929,strflag!D929),IF(tagflag!B929=\"NOTAG\",rawrtf!A929,SUBSTITUTE(rawrtf!A929,\"TFPTAG\"&tagflag!D929,\"\"))),\"\")","v":0}]
[{"$f":"IF(tagflag!A930=1,IF(strflag!A930=1,SUBSTITUTE(IF(tagflag!B930=\"NOTAG\",rawrtf!A930,SUBSTITUTE(rawrtf!A930,\"TFPTAG\"&tagflag!D930,\"\")),\"TFPSTR\"&strflag!B930,strflag!D930),IF(tagflag!B930=\"NOTAG\",rawrtf!A930,SUBSTITUTE(rawrtf!A930,\"TFPTAG\"&tagflag!D930,\"\"))),\"\")","v":0}]
[{"$f":"IF(tagflag!A931=1,IF(strflag!A931=1,SUBSTITUTE(IF(tagflag!B931=\"NOTAG\",rawrtf!A931,SUBSTITUTE(rawrtf!A931,\"TFPTAG\"&tagflag!D931,\"\")),\"TFPSTR\"&strflag!B931,strflag!D931),IF(tagflag!B931=\"NOTAG\",rawrtf!A931,SUBSTITUTE(rawrtf!A931,\"TFPTAG\"&tagflag!D931,\"\"))),\"\")","v":0}]
[{"$f":"IF(tagflag!A932=1,IF(strflag!A932=1,SUBSTITUTE(IF(tagflag!B932=\"NOTAG\",rawrtf!A932,SUBSTITUTE(rawrtf!A932,\"TFPTAG\"&tagflag!D932,\"\")),\"TFPSTR\"&strflag!B932,strflag!D932),IF(tagflag!B932=\"NOTAG\",rawrtf!A932,SUBSTITUTE(rawrtf!A932,\"TFPTAG\"&tagflag!D932,\"\"))),\"\")","v":0}]
[{"$f":"IF(tagflag!A933=1,IF(strflag!A933=1,SUBSTITUTE(IF(tagflag!B933=\"NOTAG\",rawrtf!A933,SUBSTITUTE(rawrtf!A933,\"TFPTAG\"&tagflag!D933,\"\")),\"TFPSTR\"&strflag!B933,strflag!D933),IF(tagflag!B933=\"NOTAG\",rawrtf!A933,SUBSTITUTE(rawrtf!A933,\"TFPTAG\"&tagflag!D933,\"\"))),\"\")","v":0}]
[{"$f":"IF(tagflag!A934=1,IF(strflag!A934=1,SUBSTITUTE(IF(tagflag!B934=\"NOTAG\",rawrtf!A934,SUBSTITUTE(rawrtf!A934,\"TFPTAG\"&tagflag!D934,\"\")),\"TFPSTR\"&strflag!B934,strflag!D934),IF(tagflag!B934=\"NOTAG\",rawrtf!A934,SUBSTITUTE(rawrtf!A934,\"TFPTAG\"&tagflag!D934,\"\"))),\"\")","v":0}]
[{"$f":"IF(tagflag!A935=1,IF(strflag!A935=1,SUBSTITUTE(IF(tagflag!B935=\"NOTAG\",rawrtf!A935,SUBSTITUTE(rawrtf!A935,\"TFPTAG\"&tagflag!D935,\"\")),\"TFPSTR\"&strflag!B935,strflag!D935),IF(tagflag!B935=\"NOTAG\",rawrtf!A935,SUBSTITUTE(rawrtf!A935,\"TFPTAG\"&tagflag!D935,\"\"))),\"\")","v":0}]
[{"$f":"IF(tagflag!A936=1,IF(strflag!A936=1,SUBSTITUTE(IF(tagflag!B936=\"NOTAG\",rawrtf!A936,SUBSTITUTE(rawrtf!A936,\"TFPTAG\"&tagflag!D936,\"\")),\"TFPSTR\"&strflag!B936,strflag!D936),IF(tagflag!B936=\"NOTAG\",rawrtf!A936,SUBSTITUTE(rawrtf!A936,\"TFPTAG\"&tagflag!D936,\"\"))),\"\")","v":0}]
[{"$f":"IF(tagflag!A937=1,IF(strflag!A937=1,SUBSTITUTE(IF(tagflag!B937=\"NOTAG\",rawrtf!A937,SUBSTITUTE(rawrtf!A937,\"TFPTAG\"&tagflag!D937,\"\")),\"TFPSTR\"&strflag!B937,strflag!D937),IF(tagflag!B937=\"NOTAG\",rawrtf!A937,SUBSTITUTE(rawrtf!A937,\"TFPTAG\"&tagflag!D937,\"\"))),\"\")","v":0}]
[{"$f":"IF(tagflag!A938=1,IF(strflag!A938=1,SUBSTITUTE(IF(tagflag!B938=\"NOTAG\",rawrtf!A938,SUBSTITUTE(rawrtf!A938,\"TFPTAG\"&tagflag!D938,\"\")),\"TFPSTR\"&strflag!B938,strflag!D938),IF(tagflag!B938=\"NOTAG\",rawrtf!A938,SUBSTITUTE(rawrtf!A938,\"TFPTAG\"&tagflag!D938,\"\"))),\"\")","v":0}]
[{"$f":"IF(tagflag!A939=1,IF(strflag!A939=1,SUBSTITUTE(IF(tagflag!B939=\"NOTAG\",rawrtf!A939,SUBSTITUTE(rawrtf!A939,\"TFPTAG\"&tagflag!D939,\"\")),\"TFPSTR\"&strflag!B939,strflag!D939),IF(tagflag!B939=\"NOTAG\",rawrtf!A939,SUBSTITUTE(rawrtf!A939,\"TFPTAG\"&tagflag!D939,\"\"))),\"\")","v":0}]
[{"$f":"IF(tagflag!A940=1,IF(strflag!A940=1,SUBSTITUTE(IF(tagflag!B940=\"NOTAG\",rawrtf!A940,SUBSTITUTE(rawrtf!A940,\"TFPTAG\"&tagflag!D940,\"\")),\"TFPSTR\"&strflag!B940,strflag!D940),IF(tagflag!B940=\"NOTAG\",rawrtf!A940,SUBSTITUTE(rawrtf!A940,\"TFPTAG\"&tagflag!D940,\"\"))),\"\")","v":0}]
[{"$f":"IF(tagflag!A941=1,IF(strflag!A941=1,SUBSTITUTE(IF(tagflag!B941=\"NOTAG\",rawrtf!A941,SUBSTITUTE(rawrtf!A941,\"TFPTAG\"&tagflag!D941,\"\")),\"TFPSTR\"&strflag!B941,strflag!D941),IF(tagflag!B941=\"NOTAG\",rawrtf!A941,SUBSTITUTE(rawrtf!A941,\"TFPTAG\"&tagflag!D941,\"\"))),\"\")","v":0}]
[{"$f":"IF(tagflag!A942=1,IF(strflag!A942=1,SUBSTITUTE(IF(tagflag!B942=\"NOTAG\",rawrtf!A942,SUBSTITUTE(rawrtf!A942,\"TFPTAG\"&tagflag!D942,\"\")),\"TFPSTR\"&strflag!B942,strflag!D942),IF(tagflag!B942=\"NOTAG\",rawrtf!A942,SUBSTITUTE(rawrtf!A942,\"TFPTAG\"&tagflag!D942,\"\"))),\"\")","v":0}]
[{"$f":"IF(tagflag!A943=1,IF(strflag!A943=1,SUBSTITUTE(IF(tagflag!B943=\"NOTAG\",rawrtf!A943,SUBSTITUTE(rawrtf!A943,\"TFPTAG\"&tagflag!D943,\"\")),\"TFPSTR\"&strflag!B943,strflag!D943),IF(tagflag!B943=\"NOTAG\",rawrtf!A943,SUBSTITUTE(rawrtf!A943,\"TFPTAG\"&tagflag!D943,\"\"))),\"\")","v":0}]
[{"$f":"IF(tagflag!A944=1,IF(strflag!A944=1,SUBSTITUTE(IF(tagflag!B944=\"NOTAG\",rawrtf!A944,SUBSTITUTE(rawrtf!A944,\"TFPTAG\"&tagflag!D944,\"\")),\"TFPSTR\"&strflag!B944,strflag!D944),IF(tagflag!B944=\"NOTAG\",rawrtf!A944,SUBSTITUTE(rawrtf!A944,\"TFPTAG\"&tagflag!D944,\"\"))),\"\")","v":0}]
[{"$f":"IF(tagflag!A945=1,IF(strflag!A945=1,SUBSTITUTE(IF(tagflag!B945=\"NOTAG\",rawrtf!A945,SUBSTITUTE(rawrtf!A945,\"TFPTAG\"&tagflag!D945,\"\")),\"TFPSTR\"&strflag!B945,strflag!D945),IF(tagflag!B945=\"NOTAG\",rawrtf!A945,SUBSTITUTE(rawrtf!A945,\"TFPTAG\"&tagflag!D945,\"\"))),\"\")","v":0}]
[{"$f":"IF(tagflag!A946=1,IF(strflag!A946=1,SUBSTITUTE(IF(tagflag!B946=\"NOTAG\",rawrtf!A946,SUBSTITUTE(rawrtf!A946,\"TFPTAG\"&tagflag!D946,\"\")),\"TFPSTR\"&strflag!B946,strflag!D946),IF(tagflag!B946=\"NOTAG\",rawrtf!A946,SUBSTITUTE(rawrtf!A946,\"TFPTAG\"&tagflag!D946,\"\"))),\"\")","v":0}]
[{"$f":"IF(tagflag!A947=1,IF(strflag!A947=1,SUBSTITUTE(IF(tagflag!B947=\"NOTAG\",rawrtf!A947,SUBSTITUTE(rawrtf!A947,\"TFPTAG\"&tagflag!D947,\"\")),\"TFPSTR\"&strflag!B947,strflag!D947),IF(tagflag!B947=\"NOTAG\",rawrtf!A947,SUBSTITUTE(rawrtf!A947,\"TFPTAG\"&tagflag!D947,\"\"))),\"\")","v":0}]
[{"$f":"IF(tagflag!A948=1,IF(strflag!A948=1,SUBSTITUTE(IF(tagflag!B948=\"NOTAG\",rawrtf!A948,SUBSTITUTE(rawrtf!A948,\"TFPTAG\"&tagflag!D948,\"\")),\"TFPSTR\"&strflag!B948,strflag!D948),IF(tagflag!B948=\"NOTAG\",rawrtf!A948,SUBSTITUTE(rawrtf!A948,\"TFPTAG\"&tagflag!D948,\"\"))),\"\")","v":0}]
[{"$f":"IF(tagflag!A949=1,IF(strflag!A949=1,SUBSTITUTE(IF(tagflag!B949=\"NOTAG\",rawrtf!A949,SUBSTITUTE(rawrtf!A949,\"TFPTAG\"&tagflag!D949,\"\")),\"TFPSTR\"&strflag!B949,strflag!D949),IF(tagflag!B949=\"NOTAG\",rawrtf!A949,SUBSTITUTE(rawrtf!A949,\"TFPTAG\"&tagflag!D949,\"\"))),\"\")","v":0}]
[{"$f":"IF(tagflag!A950=1,IF(strflag!A950=1,SUBSTITUTE(IF(tagflag!B950=\"NOTAG\",rawrtf!A950,SUBSTITUTE(rawrtf!A950,\"TFPTAG\"&tagflag!D950,\"\")),\"TFPSTR\"&strflag!B950,strflag!D950),IF(tagflag!B950=\"NOTAG\",rawrtf!A950,SUBSTITUTE(rawrtf!A950,\"TFPTAG\"&tagflag!D950,\"\"))),\"\")","v":0}]
[{"$f":"IF(tagflag!A951=1,IF(strflag!A951=1,SUBSTITUTE(IF(tagflag!B951=\"NOTAG\",rawrtf!A951,SUBSTITUTE(rawrtf!A951,\"TFPTAG\"&tagflag!D951,\"\")),\"TFPSTR\"&strflag!B951,strflag!D951),IF(tagflag!B951=\"NOTAG\",rawrtf!A951,SUBSTITUTE(rawrtf!A951,\"TFPTAG\"&tagflag!D951,\"\"))),\"\")","v":0}]
[{"$f":"IF(tagflag!A952=1,IF(strflag!A952=1,SUBSTITUTE(IF(tagflag!B952=\"NOTAG\",rawrtf!A952,SUBSTITUTE(rawrtf!A952,\"TFPTAG\"&tagflag!D952,\"\")),\"TFPSTR\"&strflag!B952,strflag!D952),IF(tagflag!B952=\"NOTAG\",rawrtf!A952,SUBSTITUTE(rawrtf!A952,\"TFPTAG\"&tagflag!D952,\"\"))),\"\")","v":0}]
[{"$f":"IF(tagflag!A953=1,IF(strflag!A953=1,SUBSTITUTE(IF(tagflag!B953=\"NOTAG\",rawrtf!A953,SUBSTITUTE(rawrtf!A953,\"TFPTAG\"&tagflag!D953,\"\")),\"TFPSTR\"&strflag!B953,strflag!D953),IF(tagflag!B953=\"NOTAG\",rawrtf!A953,SUBSTITUTE(rawrtf!A953,\"TFPTAG\"&tagflag!D953,\"\"))),\"\")","v":0}]
[{"$f":"IF(tagflag!A954=1,IF(strflag!A954=1,SUBSTITUTE(IF(tagflag!B954=\"NOTAG\",rawrtf!A954,SUBSTITUTE(rawrtf!A954,\"TFPTAG\"&tagflag!D954,\"\")),\"TFPSTR\"&strflag!B954,strflag!D954),IF(tagflag!B954=\"NOTAG\",rawrtf!A954,SUBSTITUTE(rawrtf!A954,\"TFPTAG\"&tagflag!D954,\"\"))),\"\")","v":0}]
[{"$f":"IF(tagflag!A955=1,IF(strflag!A955=1,SUBSTITUTE(IF(tagflag!B955=\"NOTAG\",rawrtf!A955,SUBSTITUTE(rawrtf!A955,\"TFPTAG\"&tagflag!D955,\"\")),\"TFPSTR\"&strflag!B955,strflag!D955),IF(tagflag!B955=\"NOTAG\",rawrtf!A955,SUBSTITUTE(rawrtf!A955,\"TFPTAG\"&tagflag!D955,\"\"))),\"\")","v":0}]
[{"$f":"IF(tagflag!A956=1,IF(strflag!A956=1,SUBSTITUTE(IF(tagflag!B956=\"NOTAG\",rawrtf!A956,SUBSTITUTE(rawrtf!A956,\"TFPTAG\"&tagflag!D956,\"\")),\"TFPSTR\"&strflag!B956,strflag!D956),IF(tagflag!B956=\"NOTAG\",rawrtf!A956,SUBSTITUTE(rawrtf!A956,\"TFPTAG\"&tagflag!D956,\"\"))),\"\")","v":0}]
[{"$f":"IF(tagflag!A957=1,IF(strflag!A957=1,SUBSTITUTE(IF(tagflag!B957=\"NOTAG\",rawrtf!A957,SUBSTITUTE(rawrtf!A957,\"TFPTAG\"&tagflag!D957,\"\")),\"TFPSTR\"&strflag!B957,strflag!D957),IF(tagflag!B957=\"NOTAG\",rawrtf!A957,SUBSTITUTE(rawrtf!A957,\"TFPTAG\"&tagflag!D957,\"\"))),\"\")","v":0}]
[{"$f":"IF(tagflag!A958=1,IF(strflag!A958=1,SUBSTITUTE(IF(tagflag!B958=\"NOTAG\",rawrtf!A958,SUBSTITUTE(rawrtf!A958,\"TFPTAG\"&tagflag!D958,\"\")),\"TFPSTR\"&strflag!B958,strflag!D958),IF(tagflag!B958=\"NOTAG\",rawrtf!A958,SUBSTITUTE(rawrtf!A958,\"TFPTAG\"&tagflag!D958,\"\"))),\"\")","v":0}]
[{"$f":"IF(tagflag!A959=1,IF(strflag!A959=1,SUBSTITUTE(IF(tagflag!B959=\"NOTAG\",rawrtf!A959,SUBSTITUTE(rawrtf!A959,\"TFPTAG\"&tagflag!D959,\"\")),\"TFPSTR\"&strflag!B959,strflag!D959),IF(tagflag!B959=\"NOTAG\",rawrtf!A959,SUBSTITUTE(rawrtf!A959,\"TFPTAG\"&tagflag!D959,\"\"))),\"\")","v":0}]
[{"$f":"IF(tagflag!A960=1,IF(strflag!A960=1,SUBSTITUTE(IF(tagflag!B960=\"NOTAG\",rawrtf!A960,SUBSTITUTE(rawrtf!A960,\"TFPTAG\"&tagflag!D960,\"\")),\"TFPSTR\"&strflag!B960,strflag!D960),IF(tagflag!B960=\"NOTAG\",rawrtf!A960,SUBSTITUTE(rawrtf!A960,\"TFPTAG\"&tagflag!D960,\"\"))),\"\")","v":0}]
[{"$f":"IF(tagflag!A961=1,IF(strflag!A961=1,SUBSTITUTE(IF(tagflag!B961=\"NOTAG\",rawrtf!A961,SUBSTITUTE(rawrtf!A961,\"TFPTAG\"&tagflag!D961,\"\")),\"TFPSTR\"&strflag!B961,strflag!D961),IF(tagflag!B961=\"NOTAG\",rawrtf!A961,SUBSTITUTE(rawrtf!A961,\"TFPTAG\"&tagflag!D961,\"\"))),\"\")","v":0}]
[{"$f":"IF(tagflag!A962=1,IF(strflag!A962=1,SUBSTITUTE(IF(tagflag!B962=\"NOTAG\",rawrtf!A962,SUBSTITUTE(rawrtf!A962,\"TFPTAG\"&tagflag!D962,\"\")),\"TFPSTR\"&strflag!B962,strflag!D962),IF(tagflag!B962=\"NOTAG\",rawrtf!A962,SUBSTITUTE(rawrtf!A962,\"TFPTAG\"&tagflag!D962,\"\"))),\"\")","v":0}]
[{"$f":"IF(tagflag!A963=1,IF(strflag!A963=1,SUBSTITUTE(IF(tagflag!B963=\"NOTAG\",rawrtf!A963,SUBSTITUTE(rawrtf!A963,\"TFPTAG\"&tagflag!D963,\"\")),\"TFPSTR\"&strflag!B963,strflag!D963),IF(tagflag!B963=\"NOTAG\",rawrtf!A963,SUBSTITUTE(rawrtf!A963,\"TFPTAG\"&tagflag!D963,\"\"))),\"\")","v":0}]
[{"$f":"IF(tagflag!A964=1,IF(strflag!A964=1,SUBSTITUTE(IF(tagflag!B964=\"NOTAG\",rawrtf!A964,SUBSTITUTE(rawrtf!A964,\"TFPTAG\"&tagflag!D964,\"\")),\"TFPSTR\"&strflag!B964,strflag!D964),IF(tagflag!B964=\"NOTAG\",rawrtf!A964,SUBSTITUTE(rawrtf!A964,\"TFPTAG\"&tagflag!D964,\"\"))),\"\")","v":0}]
[{"$f":"IF(tagflag!A965=1,IF(strflag!A965=1,SUBSTITUTE(IF(tagflag!B965=\"NOTAG\",rawrtf!A965,SUBSTITUTE(rawrtf!A965,\"TFPTAG\"&tagflag!D965,\"\")),\"TFPSTR\"&strflag!B965,strflag!D965),IF(tagflag!B965=\"NOTAG\",rawrtf!A965,SUBSTITUTE(rawrtf!A965,\"TFPTAG\"&tagflag!D965,\"\"))),\"\")","v":0}]
[{"$f":"IF(tagflag!A966=1,IF(strflag!A966=1,SUBSTITUTE(IF(tagflag!B966=\"NOTAG\",rawrtf!A966,SUBSTITUTE(rawrtf!A966,\"TFPTAG\"&tagflag!D966,\"\")),\"TFPSTR\"&strflag!B966,strflag!D966),IF(tagflag!B966=\"NOTAG\",rawrtf!A966,SUBSTITUTE(rawrtf!A966,\"TFPTAG\"&tagflag!D966,\"\"))),\"\")","v":0}]
[{"$f":"IF(tagflag!A967=1,IF(strflag!A967=1,SUBSTITUTE(IF(tagflag!B967=\"NOTAG\",rawrtf!A967,SUBSTITUTE(rawrtf!A967,\"TFPTAG\"&tagflag!D967,\"\")),\"TFPSTR\"&strflag!B967,strflag!D967),IF(tagflag!B967=\"NOTAG\",rawrtf!A967,SUBSTITUTE(rawrtf!A967,\"TFPTAG\"&tagflag!D967,\"\"))),\"\")","v":0}]
[{"$f":"IF(tagflag!A968=1,IF(strflag!A968=1,SUBSTITUTE(IF(tagflag!B968=\"NOTAG\",rawrtf!A968,SUBSTITUTE(rawrtf!A968,\"TFPTAG\"&tagflag!D968,\"\")),\"TFPSTR\"&strflag!B968,strflag!D968),IF(tagflag!B968=\"NOTAG\",rawrtf!A968,SUBSTITUTE(rawrtf!A968,\"TFPTAG\"&tagflag!D968,\"\"))),\"\")","v":0}]
[{"$f":"IF(tagflag!A969=1,IF(strflag!A969=1,SUBSTITUTE(IF(tagflag!B969=\"NOTAG\",rawrtf!A969,SUBSTITUTE(rawrtf!A969,\"TFPTAG\"&tagflag!D969,\"\")),\"TFPSTR\"&strflag!B969,strflag!D969),IF(tagflag!B969=\"NOTAG\",rawrtf!A969,SUBSTITUTE(rawrtf!A969,\"TFPTAG\"&tagflag!D969,\"\"))),\"\")","v":0}]
[{"$f":"IF(tagflag!A970=1,IF(strflag!A970=1,SUBSTITUTE(IF(tagflag!B970=\"NOTAG\",rawrtf!A970,SUBSTITUTE(rawrtf!A970,\"TFPTAG\"&tagflag!D970,\"\")),\"TFPSTR\"&strflag!B970,strflag!D970),IF(tagflag!B970=\"NOTAG\",rawrtf!A970,SUBSTITUTE(rawrtf!A970,\"TFPTAG\"&tagflag!D970,\"\"))),\"\")","v":0}]
[{"$f":"IF(tagflag!A971=1,IF(strflag!A971=1,SUBSTITUTE(IF(tagflag!B971=\"NOTAG\",rawrtf!A971,SUBSTITUTE(rawrtf!A971,\"TFPTAG\"&tagflag!D971,\"\")),\"TFPSTR\"&strflag!B971,strflag!D971),IF(tagflag!B971=\"NOTAG\",rawrtf!A971,SUBSTITUTE(rawrtf!A971,\"TFPTAG\"&tagflag!D971,\"\"))),\"\")","v":0}]
[{"$f":"IF(tagflag!A972=1,IF(strflag!A972=1,SUBSTITUTE(IF(tagflag!B972=\"NOTAG\",rawrtf!A972,SUBSTITUTE(rawrtf!A972,\"TFPTAG\"&tagflag!D972,\"\")),\"TFPSTR\"&strflag!B972,strflag!D972),IF(tagflag!B972=\"NOTAG\",rawrtf!A972,SUBSTITUTE(rawrtf!A972,\"TFPTAG\"&tagflag!D972,\"\"))),\"\")","v":0}]
[{"$f":"IF(tagflag!A973=1,IF(strflag!A973=1,SUBSTITUTE(IF(tagflag!B973=\"NOTAG\",rawrtf!A973,SUBSTITUTE(rawrtf!A973,\"TFPTAG\"&tagflag!D973,\"\")),\"TFPSTR\"&strflag!B973,strflag!D973),IF(tagflag!B973=\"NOTAG\",rawrtf!A973,SUBSTITUTE(rawrtf!A973,\"TFPTAG\"&tagflag!D973,\"\"))),\"\")","v":0}]
[{"$f":"IF(tagflag!A974=1,IF(strflag!A974=1,SUBSTITUTE(IF(tagflag!B974=\"NOTAG\",rawrtf!A974,SUBSTITUTE(rawrtf!A974,\"TFPTAG\"&tagflag!D974,\"\")),\"TFPSTR\"&strflag!B974,strflag!D974),IF(tagflag!B974=\"NOTAG\",rawrtf!A974,SUBSTITUTE(rawrtf!A974,\"TFPTAG\"&tagflag!D974,\"\"))),\"\")","v":0}]
[{"$f":"IF(tagflag!A975=1,IF(strflag!A975=1,SUBSTITUTE(IF(tagflag!B975=\"NOTAG\",rawrtf!A975,SUBSTITUTE(rawrtf!A975,\"TFPTAG\"&tagflag!D975,\"\")),\"TFPSTR\"&strflag!B975,strflag!D975),IF(tagflag!B975=\"NOTAG\",rawrtf!A975,SUBSTITUTE(rawrtf!A975,\"TFPTAG\"&tagflag!D975,\"\"))),\"\")","v":0}]
[{"$f":"IF(tagflag!A976=1,IF(strflag!A976=1,SUBSTITUTE(IF(tagflag!B976=\"NOTAG\",rawrtf!A976,SUBSTITUTE(rawrtf!A976,\"TFPTAG\"&tagflag!D976,\"\")),\"TFPSTR\"&strflag!B976,strflag!D976),IF(tagflag!B976=\"NOTAG\",rawrtf!A976,SUBSTITUTE(rawrtf!A976,\"TFPTAG\"&tagflag!D976,\"\"))),\"\")","v":0}]
[{"$f":"IF(tagflag!A977=1,IF(strflag!A977=1,SUBSTITUTE(IF(tagflag!B977=\"NOTAG\",rawrtf!A977,SUBSTITUTE(rawrtf!A977,\"TFPTAG\"&tagflag!D977,\"\")),\"TFPSTR\"&strflag!B977,strflag!D977),IF(tagflag!B977=\"NOTAG\",rawrtf!A977,SUBSTITUTE(rawrtf!A977,\"TFPTAG\"&tagflag!D977,\"\"))),\"\")","v":0}]
[{"$f":"IF(tagflag!A978=1,IF(strflag!A978=1,SUBSTITUTE(IF(tagflag!B978=\"NOTAG\",rawrtf!A978,SUBSTITUTE(rawrtf!A978,\"TFPTAG\"&tagflag!D978,\"\")),\"TFPSTR\"&strflag!B978,strflag!D978),IF(tagflag!B978=\"NOTAG\",rawrtf!A978,SUBSTITUTE(rawrtf!A978,\"TFPTAG\"&tagflag!D978,\"\"))),\"\")","v":0}]
[{"$f":"IF(tagflag!A979=1,IF(strflag!A979=1,SUBSTITUTE(IF(tagflag!B979=\"NOTAG\",rawrtf!A979,SUBSTITUTE(rawrtf!A979,\"TFPTAG\"&tagflag!D979,\"\")),\"TFPSTR\"&strflag!B979,strflag!D979),IF(tagflag!B979=\"NOTAG\",rawrtf!A979,SUBSTITUTE(rawrtf!A979,\"TFPTAG\"&tagflag!D979,\"\"))),\"\")","v":0}]
[{"$f":"IF(tagflag!A980=1,IF(strflag!A980=1,SUBSTITUTE(IF(tagflag!B980=\"NOTAG\",rawrtf!A980,SUBSTITUTE(rawrtf!A980,\"TFPTAG\"&tagflag!D980,\"\")),\"TFPSTR\"&strflag!B980,strflag!D980),IF(tagflag!B980=\"NOTAG\",rawrtf!A980,SUBSTITUTE(rawrtf!A980,\"TFPTAG\"&tagflag!D980,\"\"))),\"\")","v":0}]
[{"$f":"IF(tagflag!A981=1,IF(strflag!A981=1,SUBSTITUTE(IF(tagflag!B981=\"NOTAG\",rawrtf!A981,SUBSTITUTE(rawrtf!A981,\"TFPTAG\"&tagflag!D981,\"\")),\"TFPSTR\"&strflag!B981,strflag!D981),IF(tagflag!B981=\"NOTAG\",rawrtf!A981,SUBSTITUTE(rawrtf!A981,\"TFPTAG\"&tagflag!D981,\"\"))),\"\")","v":0}]
[{"$f":"IF(tagflag!A982=1,IF(strflag!A982=1,SUBSTITUTE(IF(tagflag!B982=\"NOTAG\",rawrtf!A982,SUBSTITUTE(rawrtf!A982,\"TFPTAG\"&tagflag!D982,\"\")),\"TFPSTR\"&strflag!B982,strflag!D982),IF(tagflag!B982=\"NOTAG\",rawrtf!A982,SUBSTITUTE(rawrtf!A982,\"TFPTAG\"&tagflag!D982,\"\"))),\"\")","v":0}]
[{"$f":"IF(tagflag!A983=1,IF(strflag!A983=1,SUBSTITUTE(IF(tagflag!B983=\"NOTAG\",rawrtf!A983,SUBSTITUTE(rawrtf!A983,\"TFPTAG\"&tagflag!D983,\"\")),\"TFPSTR\"&strflag!B983,strflag!D983),IF(tagflag!B983=\"NOTAG\",rawrtf!A983,SUBSTITUTE(rawrtf!A983,\"TFPTAG\"&tagflag!D983,\"\"))),\"\")","v":0}]
[{"$f":"IF(tagflag!A984=1,IF(strflag!A984=1,SUBSTITUTE(IF(tagflag!B984=\"NOTAG\",rawrtf!A984,SUBSTITUTE(rawrtf!A984,\"TFPTAG\"&tagflag!D984,\"\")),\"TFPSTR\"&strflag!B984,strflag!D984),IF(tagflag!B984=\"NOTAG\",rawrtf!A984,SUBSTITUTE(rawrtf!A984,\"TFPTAG\"&tagflag!D984,\"\"))),\"\")","v":0}]
[{"$f":"IF(tagflag!A985=1,IF(strflag!A985=1,SUBSTITUTE(IF(tagflag!B985=\"NOTAG\",rawrtf!A985,SUBSTITUTE(rawrtf!A985,\"TFPTAG\"&tagflag!D985,\"\")),\"TFPSTR\"&strflag!B985,strflag!D985),IF(tagflag!B985=\"NOTAG\",rawrtf!A985,SUBSTITUTE(rawrtf!A985,\"TFPTAG\"&tagflag!D985,\"\"))),\"\")","v":0}]
[{"$f":"IF(tagflag!A986=1,IF(strflag!A986=1,SUBSTITUTE(IF(tagflag!B986=\"NOTAG\",rawrtf!A986,SUBSTITUTE(rawrtf!A986,\"TFPTAG\"&tagflag!D986,\"\")),\"TFPSTR\"&strflag!B986,strflag!D986),IF(tagflag!B986=\"NOTAG\",rawrtf!A986,SUBSTITUTE(rawrtf!A986,\"TFPTAG\"&tagflag!D986,\"\"))),\"\")","v":0}]
[{"$f":"IF(tagflag!A987=1,IF(strflag!A987=1,SUBSTITUTE(IF(tagflag!B987=\"NOTAG\",rawrtf!A987,SUBSTITUTE(rawrtf!A987,\"TFPTAG\"&tagflag!D987,\"\")),\"TFPSTR\"&strflag!B987,strflag!D987),IF(tagflag!B987=\"NOTAG\",rawrtf!A987,SUBSTITUTE(rawrtf!A987,\"TFPTAG\"&tagflag!D987,\"\"))),\"\")","v":0}]
[{"$f":"IF(tagflag!A988=1,IF(strflag!A988=1,SUBSTITUTE(IF(tagflag!B988=\"NOTAG\",rawrtf!A988,SUBSTITUTE(rawrtf!A988,\"TFPTAG\"&tagflag!D988,\"\")),\"TFPSTR\"&strflag!B988,strflag!D988),IF(tagflag!B988=\"NOTAG\",rawrtf!A988,SUBSTITUTE(rawrtf!A988,\"TFPTAG\"&tagflag!D988,\"\"))),\"\")","v":0}]
[{"$f":"IF(tagflag!A989=1,IF(strflag!A989=1,SUBSTITUTE(IF(tagflag!B989=\"NOTAG\",rawrtf!A989,SUBSTITUTE(rawrtf!A989,\"TFPTAG\"&tagflag!D989,\"\")),\"TFPSTR\"&strflag!B989,strflag!D989),IF(tagflag!B989=\"NOTAG\",rawrtf!A989,SUBSTITUTE(rawrtf!A989,\"TFPTAG\"&tagflag!D989,\"\"))),\"\")","v":0}]
[{"$f":"IF(tagflag!A990=1,IF(strflag!A990=1,SUBSTITUTE(IF(tagflag!B990=\"NOTAG\",rawrtf!A990,SUBSTITUTE(rawrtf!A990,\"TFPTAG\"&tagflag!D990,\"\")),\"TFPSTR\"&strflag!B990,strflag!D990),IF(tagflag!B990=\"NOTAG\",rawrtf!A990,SUBSTITUTE(rawrtf!A990,\"TFPTAG\"&tagflag!D990,\"\"))),\"\")","v":0}]
[{"$f":"IF(tagflag!A991=1,IF(strflag!A991=1,SUBSTITUTE(IF(tagflag!B991=\"NOTAG\",rawrtf!A991,SUBSTITUTE(rawrtf!A991,\"TFPTAG\"&tagflag!D991,\"\")),\"TFPSTR\"&strflag!B991,strflag!D991),IF(tagflag!B991=\"NOTAG\",rawrtf!A991,SUBSTITUTE(rawrtf!A991,\"TFPTAG\"&tagflag!D991,\"\"))),\"\")","v":0}]
[{"$f":"IF(tagflag!A992=1,IF(strflag!A992=1,SUBSTITUTE(IF(tagflag!B992=\"NOTAG\",rawrtf!A992,SUBSTITUTE(rawrtf!A992,\"TFPTAG\"&tagflag!D992,\"\")),\"TFPSTR\"&strflag!B992,strflag!D992),IF(tagflag!B992=\"NOTAG\",rawrtf!A992,SUBSTITUTE(rawrtf!A992,\"TFPTAG\"&tagflag!D992,\"\"))),\"\")","v":0}]
[{"$f":"IF(tagflag!A993=1,IF(strflag!A993=1,SUBSTITUTE(IF(tagflag!B993=\"NOTAG\",rawrtf!A993,SUBSTITUTE(rawrtf!A993,\"TFPTAG\"&tagflag!D993,\"\")),\"TFPSTR\"&strflag!B993,strflag!D993),IF(tagflag!B993=\"NOTAG\",rawrtf!A993,SUBSTITUTE(rawrtf!A993,\"TFPTAG\"&tagflag!D993,\"\"))),\"\")","v":0}]
[{"$f":"IF(tagflag!A994=1,IF(strflag!A994=1,SUBSTITUTE(IF(tagflag!B994=\"NOTAG\",rawrtf!A994,SUBSTITUTE(rawrtf!A994,\"TFPTAG\"&tagflag!D994,\"\")),\"TFPSTR\"&strflag!B994,strflag!D994),IF(tagflag!B994=\"NOTAG\",rawrtf!A994,SUBSTITUTE(rawrtf!A994,\"TFPTAG\"&tagflag!D994,\"\"))),\"\")","v":0}]
[{"$f":"IF(tagflag!A995=1,IF(strflag!A995=1,SUBSTITUTE(IF(tagflag!B995=\"NOTAG\",rawrtf!A995,SUBSTITUTE(rawrtf!A995,\"TFPTAG\"&tagflag!D995,\"\")),\"TFPSTR\"&strflag!B995,strflag!D995),IF(tagflag!B995=\"NOTAG\",rawrtf!A995,SUBSTITUTE(rawrtf!A995,\"TFPTAG\"&tagflag!D995,\"\"))),\"\")","v":0}]
[{"$f":"IF(tagflag!A996=1,IF(strflag!A996=1,SUBSTITUTE(IF(tagflag!B996=\"NOTAG\",rawrtf!A996,SUBSTITUTE(rawrtf!A996,\"TFPTAG\"&tagflag!D996,\"\")),\"TFPSTR\"&strflag!B996,strflag!D996),IF(tagflag!B996=\"NOTAG\",rawrtf!A996,SUBSTITUTE(rawrtf!A996,\"TFPTAG\"&tagflag!D996,\"\"))),\"\")","v":0}]
[{"$f":"IF(tagflag!A997=1,IF(strflag!A997=1,SUBSTITUTE(IF(tagflag!B997=\"NOTAG\",rawrtf!A997,SUBSTITUTE(rawrtf!A997,\"TFPTAG\"&tagflag!D997,\"\")),\"TFPSTR\"&strflag!B997,strflag!D997),IF(tagflag!B997=\"NOTAG\",rawrtf!A997,SUBSTITUTE(rawrtf!A997,\"TFPTAG\"&tagflag!D997,\"\"))),\"\")","v":0}]
[{"$f":"IF(tagflag!A998=1,IF(strflag!A998=1,SUBSTITUTE(IF(tagflag!B998=\"NOTAG\",rawrtf!A998,SUBSTITUTE(rawrtf!A998,\"TFPTAG\"&tagflag!D998,\"\")),\"TFPSTR\"&strflag!B998,strflag!D998),IF(tagflag!B998=\"NOTAG\",rawrtf!A998,SUBSTITUTE(rawrtf!A998,\"TFPTAG\"&tagflag!D998,\"\"))),\"\")","v":0}]
[{"$f":"IF(tagflag!A999=1,IF(strflag!A999=1,SUBSTITUTE(IF(tagflag!B999=\"NOTAG\",rawrtf!A999,SUBSTITUTE(rawrtf!A999,\"TFPTAG\"&tagflag!D999,\"\")),\"TFPSTR\"&strflag!B999,strflag!D999),IF(tagflag!B999=\"NOTAG\",rawrtf!A999,SUBSTITUTE(rawrtf!A999,\"TFPTAG\"&tagflag!D999,\"\"))),\"\")","v":0}]
[{"$f":"IF(tagflag!A1000=1,IF(strflag!A1000=1,SUBSTITUTE(IF(tagflag!B1000=\"NOTAG\",rawrtf!A1000,SUBSTITUTE(rawrtf!A1000,\"TFPTAG\"&tagflag!D1000,\"\")),\"TFPSTR\"&strflag!B1000,strflag!D1000),IF(tagflag!B1000=\"NOTAG\",rawrtf!A1000,SUBSTITUTE(rawrtf!A1000,\"TFPTAG\"&tagflag!D1000,\"\"))),\"\")","v":0}]